{"text_format":"1","workbook":"xlsx","n_sheets":4,"sheets":["申請者リスト","様式２","様式３","様式６"],"not_rendered":{"charts":0,"images":0,"macros":1,"external_links":0,"defined_names":4,"comments":0,"pivot_tables":0},"unopened":[],"bounds":{"document_bytes":16777216,"sheet_cells":100000,"rows_first":2000,"rows_last":500,"rows_between":2000,"halvings":0,"cell_chars":16384,"cell_head_chars":4096},"cells_cut":0,"cells_raw":0,"read":"whole","date_system":"1900"}

{"sheet":"申請者リスト","index":0,"n_rows":2004,"n_cols":21,"rows_kept":2004,"cut":false,"hidden":false,"merged":[]}
["「埼玉県高校生専門資格等取得表彰申請書」提出者リスト（Ver.5.1）"]
[]
["Ｎｏ","学校コード","整理番号","学校名","ふりがな","生徒氏名","学科","学年","生年月日","NO.","種目","資格・検定試験等の名称","級・合格等","主催団体等","取得年月日","ランク","得点"]
[1,null,null,null,null,null,null,null,null,null,null,null,null,null,null,null,null,null,null,null,"男"]
[2,null,null,null,null,null,null,null,null,null,null,null,null,null,null,null,null,null,null,null,"女"]
[3]
[4]
[5]
[6]
[7]
[8]
[9]
[10]
[11]
[12]
[13]
[14]
[15]
[16]
[17]
[18]
[19]
[20]
[21]
[22]
[23]
[24]
[25]
[26]
[27]
[28]
[29]
[30]
[31]
[32]
[33]
[34]
[35]
[36]
[37]
[38]
[39]
[40]
[41]
[42]
[43]
[44]
[45]
[46]
[47]
[48]
[49]
[50]
[51]
[52]
[53]
[54]
[55]
[56]
[57]
[58]
[59]
[60]
[61]
[62]
[63]
[64]
[65]
[66]
[67]
[68]
[69]
[70]
[71]
[72]
[73]
[74]
[75]
[76]
[77]
[78]
[79]
[80]
[81]
[82]
[83]
[84]
[85]
[86]
[87]
[88]
[89]
[90]
[91]
[92]
[93]
[94]
[95]
[96]
[97]
[98]
[99]
[100]
[101]
[102]
[103]
[104]
[105]
[106]
[107]
[108]
[109]
[110]
[111]
[112]
[113]
[114]
[115]
[116]
[117]
[118]
[119]
[120]
[121]
[122]
[123]
[124]
[125]
[126]
[127]
[128]
[129]
[130]
[131]
[132]
[133]
[134]
[135]
[136]
[137]
[138]
[139]
[140]
[141]
[142]
[143]
[144]
[145]
[146]
[147]
[148]
[149]
[150]
[151]
[152]
[153]
[154]
[155]
[156]
[157]
[158]
[159]
[160]
[161]
[162]
[163]
[164]
[165]
[166]
[167]
[168]
[169]
[170]
[171]
[172]
[173]
[174]
[175]
[176]
[177]
[178]
[179]
[180]
[181]
[182]
[183]
[184]
[185]
[186]
[187]
[188]
[189]
[190]
[191]
[192]
[193]
[194]
[195]
[196]
[197]
[198]
[199]
[200]
[201]
[202]
[203]
[204]
[205]
[206]
[207]
[208]
[209]
[210]
[211]
[212]
[213]
[214]
[215]
[216]
[217]
[218]
[219]
[220]
[221]
[222]
[223]
[224]
[225]
[226]
[227]
[228]
[229]
[230]
[231]
[232]
[233]
[234]
[235]
[236]
[237]
[238]
[239]
[240]
[241]
[242]
[243]
[244]
[245]
[246]
[247]
[248]
[249]
[250]
[251]
[252]
[253]
[254]
[255]
[256]
[257]
[258]
[259]
[260]
[261]
[262]
[263]
[264]
[265]
[266]
[267]
[268]
[269]
[270]
[271]
[272]
[273]
[274]
[275]
[276]
[277]
[278]
[279]
[280]
[281]
[282]
[283]
[284]
[285]
[286]
[287]
[288]
[289]
[290]
[291]
[292]
[293]
[294]
[295]
[296]
[297]
[298]
[299]
[300]
[301]
[302]
[303]
[304]
[305]
[306]
[307]
[308]
[309]
[310]
[311]
[312]
[313]
[314]
[315]
[316]
[317]
[318]
[319]
[320]
[321]
[322]
[323]
[324]
[325]
[326]
[327]
[328]
[329]
[330]
[331]
[332]
[333]
[334]
[335]
[336]
[337]
[338]
[339]
[340]
[341]
[342]
[343]
[344]
[345]
[346]
[347]
[348]
[349]
[350]
[351]
[352]
[353]
[354]
[355]
[356]
[357]
[358]
[359]
[360]
[361]
[362]
[363]
[364]
[365]
[366]
[367]
[368]
[369]
[370]
[371]
[372]
[373]
[374]
[375]
[376]
[377]
[378]
[379]
[380]
[381]
[382]
[383]
[384]
[385]
[386]
[387]
[388]
[389]
[390]
[391]
[392]
[393]
[394]
[395]
[396]
[397]
[398]
[399]
[400]
[401]
[402]
[403]
[404]
[405]
[406]
[407]
[408]
[409]
[410]
[411]
[412]
[413]
[414]
[415]
[416]
[417]
[418]
[419]
[420]
[421]
[422]
[423]
[424]
[425]
[426]
[427]
[428]
[429]
[430]
[431]
[432]
[433]
[434]
[435]
[436]
[437]
[438]
[439]
[440]
[441]
[442]
[443]
[444]
[445]
[446]
[447]
[448]
[449]
[450]
[451]
[452]
[453]
[454]
[455]
[456]
[457]
[458]
[459]
[460]
[461]
[462]
[463]
[464]
[465]
[466]
[467]
[468]
[469]
[470]
[471]
[472]
[473]
[474]
[475]
[476]
[477]
[478]
[479]
[480]
[481]
[482]
[483]
[484]
[485]
[486]
[487]
[488]
[489]
[490]
[491]
[492]
[493]
[494]
[495]
[496]
[497]
[498]
[499]
[500]
[501]
[502]
[503]
[504]
[505]
[506]
[507]
[508]
[509]
[510]
[511]
[512]
[513]
[514]
[515]
[516]
[517]
[518]
[519]
[520]
[521]
[522]
[523]
[524]
[525]
[526]
[527]
[528]
[529]
[530]
[531]
[532]
[533]
[534]
[535]
[536]
[537]
[538]
[539]
[540]
[541]
[542]
[543]
[544]
[545]
[546]
[547]
[548]
[549]
[550]
[551]
[552]
[553]
[554]
[555]
[556]
[557]
[558]
[559]
[560]
[561]
[562]
[563]
[564]
[565]
[566]
[567]
[568]
[569]
[570]
[571]
[572]
[573]
[574]
[575]
[576]
[577]
[578]
[579]
[580]
[581]
[582]
[583]
[584]
[585]
[586]
[587]
[588]
[589]
[590]
[591]
[592]
[593]
[594]
[595]
[596]
[597]
[598]
[599]
[600]
[601]
[602]
[603]
[604]
[605]
[606]
[607]
[608]
[609]
[610]
[611]
[612]
[613]
[614]
[615]
[616]
[617]
[618]
[619]
[620]
[621]
[622]
[623]
[624]
[625]
[626]
[627]
[628]
[629]
[630]
[631]
[632]
[633]
[634]
[635]
[636]
[637]
[638]
[639]
[640]
[641]
[642]
[643]
[644]
[645]
[646]
[647]
[648]
[649]
[650]
[651]
[652]
[653]
[654]
[655]
[656]
[657]
[658]
[659]
[660]
[661]
[662]
[663]
[664]
[665]
[666]
[667]
[668]
[669]
[670]
[671]
[672]
[673]
[674]
[675]
[676]
[677]
[678]
[679]
[680]
[681]
[682]
[683]
[684]
[685]
[686]
[687]
[688]
[689]
[690]
[691]
[692]
[693]
[694]
[695]
[696]
[697]
[698]
[699]
[700]
[701]
[702]
[703]
[704]
[705]
[706]
[707]
[708]
[709]
[710]
[711]
[712]
[713]
[714]
[715]
[716]
[717]
[718]
[719]
[720]
[721]
[722]
[723]
[724]
[725]
[726]
[727]
[728]
[729]
[730]
[731]
[732]
[733]
[734]
[735]
[736]
[737]
[738]
[739]
[740]
[741]
[742]
[743]
[744]
[745]
[746]
[747]
[748]
[749]
[750]
[751]
[752]
[753]
[754]
[755]
[756]
[757]
[758]
[759]
[760]
[761]
[762]
[763]
[764]
[765]
[766]
[767]
[768]
[769]
[770]
[771]
[772]
[773]
[774]
[775]
[776]
[777]
[778]
[779]
[780]
[781]
[782]
[783]
[784]
[785]
[786]
[787]
[788]
[789]
[790]
[791]
[792]
[793]
[794]
[795]
[796]
[797]
[798]
[799]
[800]
[801]
[802]
[803]
[804]
[805]
[806]
[807]
[808]
[809]
[810]
[811]
[812]
[813]
[814]
[815]
[816]
[817]
[818]
[819]
[820]
[821]
[822]
[823]
[824]
[825]
[826]
[827]
[828]
[829]
[830]
[831]
[832]
[833]
[834]
[835]
[836]
[837]
[838]
[839]
[840]
[841]
[842]
[843]
[844]
[845]
[846]
[847]
[848]
[849]
[850]
[851]
[852]
[853]
[854]
[855]
[856]
[857]
[858]
[859]
[860]
[861]
[862]
[863]
[864]
[865]
[866]
[867]
[868]
[869]
[870]
[871]
[872]
[873]
[874]
[875]
[876]
[877]
[878]
[879]
[880]
[881]
[882]
[883]
[884]
[885]
[886]
[887]
[888]
[889]
[890]
[891]
[892]
[893]
[894]
[895]
[896]
[897]
[898]
[899]
[900]
[901]
[902]
[903]
[904]
[905]
[906]
[907]
[908]
[909]
[910]
[911]
[912]
[913]
[914]
[915]
[916]
[917]
[918]
[919]
[920]
[921]
[922]
[923]
[924]
[925]
[926]
[927]
[928]
[929]
[930]
[931]
[932]
[933]
[934]
[935]
[936]
[937]
[938]
[939]
[940]
[941]
[942]
[943]
[944]
[945]
[946]
[947]
[948]
[949]
[950]
[951]
[952]
[953]
[954]
[955]
[956]
[957]
[958]
[959]
[960]
[961]
[962]
[963]
[964]
[965]
[966]
[967]
[968]
[969]
[970]
[971]
[972]
[973]
[974]
[975]
[976]
[977]
[978]
[979]
[980]
[981]
[982]
[983]
[984]
[985]
[986]
[987]
[988]
[989]
[990]
[991]
[992]
[993]
[994]
[995]
[996]
[997]
[998]
[999]
[1000]
[1001]
[1002]
[1003]
[1004]
[1005]
[1006]
[1007]
[1008]
[1009]
[1010]
[1011]
[1012]
[1013]
[1014]
[1015]
[1016]
[1017]
[1018]
[1019]
[1020]
[1021]
[1022]
[1023]
[1024]
[1025]
[1026]
[1027]
[1028]
[1029]
[1030]
[1031]
[1032]
[1033]
[1034]
[1035]
[1036]
[1037]
[1038]
[1039]
[1040]
[1041]
[1042]
[1043]
[1044]
[1045]
[1046]
[1047]
[1048]
[1049]
[1050]
[1051]
[1052]
[1053]
[1054]
[1055]
[1056]
[1057]
[1058]
[1059]
[1060]
[1061]
[1062]
[1063]
[1064]
[1065]
[1066]
[1067]
[1068]
[1069]
[1070]
[1071]
[1072]
[1073]
[1074]
[1075]
[1076]
[1077]
[1078]
[1079]
[1080]
[1081]
[1082]
[1083]
[1084]
[1085]
[1086]
[1087]
[1088]
[1089]
[1090]
[1091]
[1092]
[1093]
[1094]
[1095]
[1096]
[1097]
[1098]
[1099]
[1100]
[1101]
[1102]
[1103]
[1104]
[1105]
[1106]
[1107]
[1108]
[1109]
[1110]
[1111]
[1112]
[1113]
[1114]
[1115]
[1116]
[1117]
[1118]
[1119]
[1120]
[1121]
[1122]
[1123]
[1124]
[1125]
[1126]
[1127]
[1128]
[1129]
[1130]
[1131]
[1132]
[1133]
[1134]
[1135]
[1136]
[1137]
[1138]
[1139]
[1140]
[1141]
[1142]
[1143]
[1144]
[1145]
[1146]
[1147]
[1148]
[1149]
[1150]
[1151]
[1152]
[1153]
[1154]
[1155]
[1156]
[1157]
[1158]
[1159]
[1160]
[1161]
[1162]
[1163]
[1164]
[1165]
[1166]
[1167]
[1168]
[1169]
[1170]
[1171]
[1172]
[1173]
[1174]
[1175]
[1176]
[1177]
[1178]
[1179]
[1180]
[1181]
[1182]
[1183]
[1184]
[1185]
[1186]
[1187]
[1188]
[1189]
[1190]
[1191]
[1192]
[1193]
[1194]
[1195]
[1196]
[1197]
[1198]
[1199]
[1200]
[1201]
[1202]
[1203]
[1204]
[1205]
[1206]
[1207]
[1208]
[1209]
[1210]
[1211]
[1212]
[1213]
[1214]
[1215]
[1216]
[1217]
[1218]
[1219]
[1220]
[1221]
[1222]
[1223]
[1224]
[1225]
[1226]
[1227]
[1228]
[1229]
[1230]
[1231]
[1232]
[1233]
[1234]
[1235]
[1236]
[1237]
[1238]
[1239]
[1240]
[1241]
[1242]
[1243]
[1244]
[1245]
[1246]
[1247]
[1248]
[1249]
[1250]
[1251]
[1252]
[1253]
[1254]
[1255]
[1256]
[1257]
[1258]
[1259]
[1260]
[1261]
[1262]
[1263]
[1264]
[1265]
[1266]
[1267]
[1268]
[1269]
[1270]
[1271]
[1272]
[1273]
[1274]
[1275]
[1276]
[1277]
[1278]
[1279]
[1280]
[1281]
[1282]
[1283]
[1284]
[1285]
[1286]
[1287]
[1288]
[1289]
[1290]
[1291]
[1292]
[1293]
[1294]
[1295]
[1296]
[1297]
[1298]
[1299]
[1300]
[1301]
[1302]
[1303]
[1304]
[1305]
[1306]
[1307]
[1308]
[1309]
[1310]
[1311]
[1312]
[1313]
[1314]
[1315]
[1316]
[1317]
[1318]
[1319]
[1320]
[1321]
[1322]
[1323]
[1324]
[1325]
[1326]
[1327]
[1328]
[1329]
[1330]
[1331]
[1332]
[1333]
[1334]
[1335]
[1336]
[1337]
[1338]
[1339]
[1340]
[1341]
[1342]
[1343]
[1344]
[1345]
[1346]
[1347]
[1348]
[1349]
[1350]
[1351]
[1352]
[1353]
[1354]
[1355]
[1356]
[1357]
[1358]
[1359]
[1360]
[1361]
[1362]
[1363]
[1364]
[1365]
[1366]
[1367]
[1368]
[1369]
[1370]
[1371]
[1372]
[1373]
[1374]
[1375]
[1376]
[1377]
[1378]
[1379]
[1380]
[1381]
[1382]
[1383]
[1384]
[1385]
[1386]
[1387]
[1388]
[1389]
[1390]
[1391]
[1392]
[1393]
[1394]
[1395]
[1396]
[1397]
[1398]
[1399]
[1400]
[1401]
[1402]
[1403]
[1404]
[1405]
[1406]
[1407]
[1408]
[1409]
[1410]
[1411]
[1412]
[1413]
[1414]
[1415]
[1416]
[1417]
[1418]
[1419]
[1420]
[1421]
[1422]
[1423]
[1424]
[1425]
[1426]
[1427]
[1428]
[1429]
[1430]
[1431]
[1432]
[1433]
[1434]
[1435]
[1436]
[1437]
[1438]
[1439]
[1440]
[1441]
[1442]
[1443]
[1444]
[1445]
[1446]
[1447]
[1448]
[1449]
[1450]
[1451]
[1452]
[1453]
[1454]
[1455]
[1456]
[1457]
[1458]
[1459]
[1460]
[1461]
[1462]
[1463]
[1464]
[1465]
[1466]
[1467]
[1468]
[1469]
[1470]
[1471]
[1472]
[1473]
[1474]
[1475]
[1476]
[1477]
[1478]
[1479]
[1480]
[1481]
[1482]
[1483]
[1484]
[1485]
[1486]
[1487]
[1488]
[1489]
[1490]
[1491]
[1492]
[1493]
[1494]
[1495]
[1496]
[1497]
[1498]
[1499]
[1500]
[1501]
[1502]
[1503]
[1504]
[1505]
[1506]
[1507]
[1508]
[1509]
[1510]
[1511]
[1512]
[1513]
[1514]
[1515]
[1516]
[1517]
[1518]
[1519]
[1520]
[1521]
[1522]
[1523]
[1524]
[1525]
[1526]
[1527]
[1528]
[1529]
[1530]
[1531]
[1532]
[1533]
[1534]
[1535]
[1536]
[1537]
[1538]
[1539]
[1540]
[1541]
[1542]
[1543]
[1544]
[1545]
[1546]
[1547]
[1548]
[1549]
[1550]
[1551]
[1552]
[1553]
[1554]
[1555]
[1556]
[1557]
[1558]
[1559]
[1560]
[1561]
[1562]
[1563]
[1564]
[1565]
[1566]
[1567]
[1568]
[1569]
[1570]
[1571]
[1572]
[1573]
[1574]
[1575]
[1576]
[1577]
[1578]
[1579]
[1580]
[1581]
[1582]
[1583]
[1584]
[1585]
[1586]
[1587]
[1588]
[1589]
[1590]
[1591]
[1592]
[1593]
[1594]
[1595]
[1596]
[1597]
[1598]
[1599]
[1600]
[1601]
[1602]
[1603]
[1604]
[1605]
[1606]
[1607]
[1608]
[1609]
[1610]
[1611]
[1612]
[1613]
[1614]
[1615]
[1616]
[1617]
[1618]
[1619]
[1620]
[1621]
[1622]
[1623]
[1624]
[1625]
[1626]
[1627]
[1628]
[1629]
[1630]
[1631]
[1632]
[1633]
[1634]
[1635]
[1636]
[1637]
[1638]
[1639]
[1640]
[1641]
[1642]
[1643]
[1644]
[1645]
[1646]
[1647]
[1648]
[1649]
[1650]
[1651]
[1652]
[1653]
[1654]
[1655]
[1656]
[1657]
[1658]
[1659]
[1660]
[1661]
[1662]
[1663]
[1664]
[1665]
[1666]
[1667]
[1668]
[1669]
[1670]
[1671]
[1672]
[1673]
[1674]
[1675]
[1676]
[1677]
[1678]
[1679]
[1680]
[1681]
[1682]
[1683]
[1684]
[1685]
[1686]
[1687]
[1688]
[1689]
[1690]
[1691]
[1692]
[1693]
[1694]
[1695]
[1696]
[1697]
[1698]
[1699]
[1700]
[1701]
[1702]
[1703]
[1704]
[1705]
[1706]
[1707]
[1708]
[1709]
[1710]
[1711]
[1712]
[1713]
[1714]
[1715]
[1716]
[1717]
[1718]
[1719]
[1720]
[1721]
[1722]
[1723]
[1724]
[1725]
[1726]
[1727]
[1728]
[1729]
[1730]
[1731]
[1732]
[1733]
[1734]
[1735]
[1736]
[1737]
[1738]
[1739]
[1740]
[1741]
[1742]
[1743]
[1744]
[1745]
[1746]
[1747]
[1748]
[1749]
[1750]
[1751]
[1752]
[1753]
[1754]
[1755]
[1756]
[1757]
[1758]
[1759]
[1760]
[1761]
[1762]
[1763]
[1764]
[1765]
[1766]
[1767]
[1768]
[1769]
[1770]
[1771]
[1772]
[1773]
[1774]
[1775]
[1776]
[1777]
[1778]
[1779]
[1780]
[1781]
[1782]
[1783]
[1784]
[1785]
[1786]
[1787]
[1788]
[1789]
[1790]
[1791]
[1792]
[1793]
[1794]
[1795]
[1796]
[1797]
[1798]
[1799]
[1800]
[1801]
[1802]
[1803]
[1804]
[1805]
[1806]
[1807]
[1808]
[1809]
[1810]
[1811]
[1812]
[1813]
[1814]
[1815]
[1816]
[1817]
[1818]
[1819]
[1820]
[1821]
[1822]
[1823]
[1824]
[1825]
[1826]
[1827]
[1828]
[1829]
[1830]
[1831]
[1832]
[1833]
[1834]
[1835]
[1836]
[1837]
[1838]
[1839]
[1840]
[1841]
[1842]
[1843]
[1844]
[1845]
[1846]
[1847]
[1848]
[1849]
[1850]
[1851]
[1852]
[1853]
[1854]
[1855]
[1856]
[1857]
[1858]
[1859]
[1860]
[1861]
[1862]
[1863]
[1864]
[1865]
[1866]
[1867]
[1868]
[1869]
[1870]
[1871]
[1872]
[1873]
[1874]
[1875]
[1876]
[1877]
[1878]
[1879]
[1880]
[1881]
[1882]
[1883]
[1884]
[1885]
[1886]
[1887]
[1888]
[1889]
[1890]
[1891]
[1892]
[1893]
[1894]
[1895]
[1896]
[1897]
[1898]
[1899]
[1900]
[1901]
[1902]
[1903]
[1904]
[1905]
[1906]
[1907]
[1908]
[1909]
[1910]
[1911]
[1912]
[1913]
[1914]
[1915]
[1916]
[1917]
[1918]
[1919]
[1920]
[1921]
[1922]
[1923]
[1924]
[1925]
[1926]
[1927]
[1928]
[1929]
[1930]
[1931]
[1932]
[1933]
[1934]
[1935]
[1936]
[1937]
[1938]
[1939]
[1940]
[1941]
[1942]
[1943]
[1944]
[1945]
[1946]
[1947]
[1948]
[1949]
[1950]
[1951]
[1952]
[1953]
[1954]
[1955]
[1956]
[1957]
[1958]
[1959]
[1960]
[1961]
[1962]
[1963]
[1964]
[1965]
[1966]
[1967]
[1968]
[1969]
[1970]
[1971]
[1972]
[1973]
[1974]
[1975]
[1976]
[1977]
[1978]
[1979]
[1980]
[1981]
[1982]
[1983]
[1984]
[1985]
[1986]
[1987]
[1988]
[1989]
[1990]
[1991]
[1992]
[1993]
[1994]
[1995]
[1996]
[1997]
[1998]
[1999]
[2000]
[null,null,null,null,null,null,null,null,null,null,null,null,null,null,null,"合計",{"$f":"SUM(Q4:Q2003)","v":0}]

{"sheet":"様式２","index":1,"n_rows":22,"n_cols":6,"rows_kept":22,"cut":false,"hidden":false,"merged":[[10,0,12,5],[14,0,14,5],[2,4,2,5],[3,0,3,1],[4,4,4,5],[5,4,5,5],[6,4,6,5],[8,0,8,5]]}
["（様式２）"]
[null,null,null,null,"第","第　　　　　　　号"]
[null,null,null,null,"令和　　年　　月　　日"]
["埼　玉　県　知　事"]
[null,null,null,"学 校 名","学校"]
[null,null,null,"学校長名","　　　　　　　"]
[null,null,null,"記入者名","　　"]
[]
["埼玉県高校生専門資格等取得表彰の推薦について（申請）"]
[]
["　標記の件について、埼玉県高校生専門資格等取得表彰制度実施要項第８条の規定により別添のとおり推薦します。\n  なお、集計の結果は下記のとおりです。　　"]
[]
[]
[]
["記"]
[]
[null,"１　　　年","２　　　年","３　　　年","４　　　年","合　　　計"]
["計",{"$f":"COUNTIF(様式３!$B$10:$B$24,\"1\")+COUNTIF(様式３!$B$40:$B$54,\"1\")+\nCOUNTIF(様式３!$B$70:$B$84,\"1\")+COUNTIF(様式３!$B$100:$B$114,\"1\")+\nCOUNTIF(様式３!$B$130:$B$144,\"1\")+COUNTIF(様式３!$B$160:$B$174,\"1\")+\nCOUNTIF(様式３!$B$190:$B$204,\"1\")+COUNTIF(様式３!$B$220:$B$234,\"1\")+\nCOUNTIF(様式３!$B$250:$B$264,\"1\")+COUNTIF(様式３!$B$280:$B$294,\"1\")+\nCOUNTIF(様式３!$B$310:$B$324,\"1\")+COUNTIF(様式３!$B$340:$B$354,\"1\")+\nCOUNTIF(様式３!$B$370:$B$384,\"1\")+COUNTIF(様式３!$B$400:$B$414,\"1\")+\nCOUNTIF(様式３!$B$430:$B$444,\"1\")+COUNTIF(様式３!$B$460:$B$474,\"1\")","v":0},{"$f":"COUNTIF(様式３!$B$10:$B$24,\"2\")+COUNTIF(様式３!$B$40:$B$54,\"2\")+\nCOUNTIF(様式３!$B$70:$B$84,\"2\")+COUNTIF(様式３!$B$100:$B$114,\"2\")+\nCOUNTIF(様式３!$B$130:$B$144,\"2\")+COUNTIF(様式３!$B$160:$B$174,\"2\")+\nCOUNTIF(様式３!$B$190:$B$204,\"2\")+COUNTIF(様式３!$B$220:$B$234,\"2\")+\nCOUNTIF(様式３!$B$250:$B$264,\"2\")+COUNTIF(様式３!$B$280:$B$294,\"2\")+\nCOUNTIF(様式３!$B$310:$B$324,\"2\")+COUNTIF(様式３!$B$340:$B$354,\"2\")+\nCOUNTIF(様式３!$B$370:$B$384,\"2\")+COUNTIF(様式３!$B$400:$B$414,\"2\")+\nCOUNTIF(様式３!$B$430:$B$444,\"2\")+COUNTIF(様式３!$B$460:$B$474,\"2\")","v":0},{"$f":"COUNTIF(様式３!$B$10:$B$24,\"3\")+COUNTIF(様式３!$B$40:$B$54,\"3\")+\nCOUNTIF(様式３!$B$70:$B$84,\"3\")+COUNTIF(様式３!$B$100:$B$114,\"3\")+\nCOUNTIF(様式３!$B$130:$B$144,\"3\")+COUNTIF(様式３!$B$160:$B$174,\"3\")+\nCOUNTIF(様式３!$B$190:$B$204,\"3\")+COUNTIF(様式３!$B$220:$B$234,\"3\")+\nCOUNTIF(様式３!$B$250:$B$264,\"3\")+COUNTIF(様式３!$B$280:$B$294,\"3\")+\nCOUNTIF(様式３!$B$310:$B$324,\"3\")+COUNTIF(様式３!$B$340:$B$354,\"3\")+\nCOUNTIF(様式３!$B$370:$B$384,\"3\")+COUNTIF(様式３!$B$400:$B$414,\"3\")+\nCOUNTIF(様式３!$B$430:$B$444,\"3\")+COUNTIF(様式３!$B$460:$B$474,\"3\")","v":0},{"$f":"COUNTIF(様式３!$B$10:$B$24,\"4\")+COUNTIF(様式３!$B$40:$B$54,\"4\")+\nCOUNTIF(様式３!$B$70:$B$84,\"4\")+COUNTIF(様式３!$B$100:$B$114,\"4\")+\nCOUNTIF(様式３!$B$130:$B$144,\"4\")+COUNTIF(様式３!$B$160:$B$174,\"4\")+\nCOUNTIF(様式３!$B$190:$B$204,\"4\")+COUNTIF(様式３!$B$220:$B$234,\"4\")+\nCOUNTIF(様式３!$B$250:$B$264,\"4\")+COUNTIF(様式３!$B$280:$B$294,\"4\")+\nCOUNTIF(様式３!$B$310:$B$324,\"4\")+COUNTIF(様式３!$B$340:$B$354,\"4\")+\nCOUNTIF(様式３!$B$370:$B$384,\"4\")+COUNTIF(様式３!$B$400:$B$414,\"4\")+\nCOUNTIF(様式３!$B$430:$B$444,\"4\")+COUNTIF(様式３!$B$460:$B$474,\"4\")","v":0},{"$f":"SUM(B18:E18)","v":0}]
["Ａ　ランク",{"$f":"COUNTIFS(申請者リスト!$H$4:$H$2003,1,申請者リスト!$P$4:$P$2003,\"A\")","v":0},{"$f":"COUNTIFS(申請者リスト!$H$4:$H$2003,2,申請者リスト!$P$4:$P$2003,\"A\")","v":0},{"$f":"COUNTIFS(申請者リスト!$H$4:$H$2003,3,申請者リスト!$P$4:$P$2003,\"A\")","v":0},{"$f":"COUNTIFS(申請者リスト!$H$4:$H$2003,,申請者リスト!$P$4:$P$2003,\"A\")","v":0},{"$f":"SUM(B19:E19)","v":0}]
["Ｂ　ランク",{"$f":"COUNTIFS(申請者リスト!$H$4:$H$2003,1,申請者リスト!$P$4:$P$2003,\"B\")","v":0},{"$f":"COUNTIFS(申請者リスト!$H$4:$H$2003,2,申請者リスト!$P$4:$P$2003,\"B\")","v":0},{"$f":"COUNTIFS(申請者リスト!$H$4:$H$2003,3,申請者リスト!$P$4:$P$2003,\"B\")","v":0},{"$f":"COUNTIFS(申請者リスト!$H$4:$H$2003,,申請者リスト!$P$4:$P$2003,\"B\")","v":0},{"$f":"SUM(B20:E20)","v":0}]
["Ｃ　ランク",{"$f":"COUNTIFS(申請者リスト!$H$4:$H$2003,1,申請者リスト!$P$4:$P$2003,\"C\")","v":0},{"$f":"COUNTIFS(申請者リスト!$H$4:$H$2003,2,申請者リスト!$P$4:$P$2003,\"C\")","v":0},{"$f":"COUNTIFS(申請者リスト!$H$4:$H$2003,3,申請者リスト!$P$4:$P$2003,\"C\")","v":0},{"$f":"COUNTIFS(申請者リスト!$H$4:$H$2003,,申請者リスト!$P$4:$P$2003,\"C\")","v":0},{"$f":"SUM(B21:E21)","v":0}]
["Ｄ　ランク",{"$f":"COUNTIFS(申請者リスト!$H$4:$H$2003,1,申請者リスト!$P$4:$P$2003,\"D\")","v":0},{"$f":"COUNTIFS(申請者リスト!$H$4:$H$2003,2,申請者リスト!$P$4:$P$2003,\"D\")","v":0},{"$f":"COUNTIFS(申請者リスト!$H$4:$H$2003,3,申請者リスト!$P$4:$P$2003,\"D\")","v":0},{"$f":"COUNTIFS(申請者リスト!$H$4:$H$2003,,申請者リスト!$P$4:$P$2003,\"D\")","v":0},{"$f":"SUM(B22:E22)","v":0}]

{"sheet":"様式３","index":2,"n_rows":479,"n_cols":16,"rows_kept":479,"cut":false,"hidden":false,"merged":[[2,0,2,14],[4,9,4,13],[6,0,8,0],[6,1,8,1],[6,2,8,2],[6,3,8,3],[6,4,8,8],[6,9,6,12],[6,13,8,13],[6,14,8,14],[32,0,32,14],[34,9,34,13],[36,0,38,0],[36,1,38,1],[36,2,38,2],[36,3,38,3],[36,4,38,8],[36,9,36,12],[36,13,38,13],[36,14,38,14],[62,0,62,14],[64,9,64,13],[66,0,68,0],[66,1,68,1],[66,2,68,2],[66,3,68,3],[66,4,68,8],[66,9,66,12],[66,13,68,13],[66,14,68,14],[92,0,92,14],[94,9,94,13],[96,0,98,0],[96,1,98,1],[96,2,98,2],[96,3,98,3],[96,4,98,8],[96,9,96,12],[96,13,98,13],[96,14,98,14],[122,0,122,14],[124,9,124,13],[126,0,128,0],[126,1,128,1],[126,2,128,2],[126,3,128,3],[126,4,128,8],[126,9,126,12],[126,13,128,13],[126,14,128,14],[152,0,152,14],[154,9,154,13],[156,0,158,0],[156,1,158,1],[156,2,158,2],[156,3,158,3],[156,4,158,8],[156,9,156,12],[156,13,158,13],[156,14,158,14],[182,0,182,14],[184,9,184,13],[186,0,188,0],[186,1,188,1],[186,2,188,2],[186,3,188,3],[186,4,188,8],[186,9,186,12],[186,13,188,13],[186,14,188,14],[212,0,212,14],[214,9,214,13],[216,0,218,0],[216,1,218,1],[216,2,218,2],[216,3,218,3],[216,4,218,8],[216,9,216,12],[216,13,218,13],[216,14,218,14],[242,0,242,14],[244,9,244,13],[246,0,248,0],[246,1,248,1],[246,2,248,2],[246,3,248,3],[246,4,248,8],[246,9,246,12],[246,13,248,13],[246,14,248,14],[272,0,272,14],[274,9,274,13],[276,0,278,0],[276,1,278,1],[276,2,278,2],[276,3,278,3],[276,4,278,8],[276,9,276,12],[276,13,278,13],[276,14,278,14],[302,0,302,14],[304,9,304,13],[306,0,308,0],[306,1,308,1],[306,2,308,2],[306,3,308,3],[306,4,308,8],[306,9,306,12],[306,13,308,13],[306,14,308,14],[332,0,332,14],[334,9,334,13],[336,0,338,0],[336,1,338,1],[336,2,338,2],[336,3,338,3],[336,4,338,8],[336,9,336,12],[336,13,338,13],[336,14,338,14],[362,0,362,14],[364,9,364,13],[366,0,368,0],[366,1,368,1],[366,2,368,2],[366,3,368,3],[366,4,368,8],[366,9,366,12],[366,13,368,13],[366,14,368,14],[392,0,392,14],[394,9,394,13],[396,0,398,0],[396,1,398,1],[396,2,398,2],[396,3,398,3],[396,4,398,8],[396,9,396,12],[396,13,398,13],[396,14,398,14],[422,0,422,14],[424,9,424,13],[426,0,428,0],[426,1,428,1],[426,2,428,2],[426,3,428,3],[426,4,428,8],[426,9,426,12],[426,13,428,13],[426,14,428,14],[452,0,452,14],[454,9,454,13],[456,0,458,0],[456,1,458,1],[456,2,458,2],[456,3,458,3],[456,4,458,8],[456,9,456,12],[456,13,458,13],[456,14,458,14]]}
["（様式３）",null,null,null,null,null,null,null,null,null,"(",null,"枚中",1,"枚目）","このシートの保護は解除したままにしてください。"]
[]
["埼玉県高校生専門資格等取得表彰推薦名簿"]
[]
[null,null,null,null,null,null,"学  校  名　　　　　　　　　　",null,null,null,null,null,null,null,"学校"]
[]
["Ｎｏ","学　年　　　　　　　　　　　　　　　　　　　","学　科","整理番号","生　年　月　日",null,null,null,null,"資格・試験等ﾗﾝｸ",null,null,null,"得点合計","備　考"]
[null,null,null,null,null,null,null,null,null,"A","B","C","D"]
[null,null,null,null,null,null,null,null,null,6,3,2,1]
[1,null,null,null,{"$f":"IFERROR(YEAR(VLOOKUP($D10,申請者リスト!$C$4:$Q$2003,7,FALSE)),\"\")","v":""},"・",{"$f":"IFERROR(MONTH(VLOOKUP($D10,申請者リスト!$C$4:$Q$2003,7,FALSE)),\"\")","v":""},"・",{"$f":"IFERROR(DAY(VLOOKUP($D10,申請者リスト!$C$4:$Q$2003,7,FALSE)),\"\")","v":""},{"$f":"COUNTIFS(申請者リスト!$C$4:$C$2003,様式３!$D10,申請者リスト!$P$4:$P$2003,J$8)","v":0},{"$f":"COUNTIFS(申請者リスト!$C$4:$C$2003,様式３!$D10,申請者リスト!$P$4:$P$2003,K$8)","v":0},{"$f":"COUNTIFS(申請者リスト!$C$4:$C$2003,様式３!$D10,申請者リスト!$P$4:$P$2003,L$8)","v":0},{"$f":"COUNTIFS(申請者リスト!$C$4:$C$2003,様式３!$D10,申請者リスト!$P$4:$P$2003,M$8)","v":0},{"$f":"J10*$J$9+K10*$K$9+L10*$L$9+M10*$M$9","v":0}]
[{"$f":"+A10+1","v":2},null,null,null,{"$f":"IFERROR(YEAR(VLOOKUP($D11,申請者リスト!$C$4:$Q$2003,7,FALSE)),\"\")","v":""},"・",{"$f":"IFERROR(MONTH(VLOOKUP($D11,申請者リスト!$C$4:$Q$2003,7,FALSE)),\"\")","v":""},"・",{"$f":"IFERROR(DAY(VLOOKUP($D11,申請者リスト!$C$4:$Q$2003,7,FALSE)),\"\")","v":""},{"$f":"COUNTIFS(申請者リスト!$C$4:$C$2003,様式３!$D11,申請者リスト!$P$4:$P$2003,J$8)","v":0},{"$f":"COUNTIFS(申請者リスト!$C$4:$C$2003,様式３!$D11,申請者リスト!$P$4:$P$2003,K$8)","v":0},{"$f":"COUNTIFS(申請者リスト!$C$4:$C$2003,様式３!$D11,申請者リスト!$P$4:$P$2003,L$8)","v":0},{"$f":"COUNTIFS(申請者リスト!$C$4:$C$2003,様式３!$D11,申請者リスト!$P$4:$P$2003,M$8)","v":0},{"$f":"J11*$J$9+K11*$K$9+L11*$L$9+M11*$M$9","v":0}]
[{"$f":"+A11+1","v":3},null,null,null,{"$f":"IFERROR(YEAR(VLOOKUP($D12,申請者リスト!$C$4:$Q$2003,7,FALSE)),\"\")","v":""},"・",{"$f":"IFERROR(MONTH(VLOOKUP($D12,申請者リスト!$C$4:$Q$2003,7,FALSE)),\"\")","v":""},"・",{"$f":"IFERROR(DAY(VLOOKUP($D12,申請者リスト!$C$4:$Q$2003,7,FALSE)),\"\")","v":""},{"$f":"COUNTIFS(申請者リスト!$C$4:$C$2003,様式３!$D12,申請者リスト!$P$4:$P$2003,J$8)","v":0},{"$f":"COUNTIFS(申請者リスト!$C$4:$C$2003,様式３!$D12,申請者リスト!$P$4:$P$2003,K$8)","v":0},{"$f":"COUNTIFS(申請者リスト!$C$4:$C$2003,様式３!$D12,申請者リスト!$P$4:$P$2003,L$8)","v":0},{"$f":"COUNTIFS(申請者リスト!$C$4:$C$2003,様式３!$D12,申請者リスト!$P$4:$P$2003,M$8)","v":0},0]
[4,null,null,null,{"$f":"IFERROR(YEAR(VLOOKUP($D13,申請者リスト!$C$4:$Q$2003,7,FALSE)),\"\")","v":""},"・",{"$f":"IFERROR(MONTH(VLOOKUP($D13,申請者リスト!$C$4:$Q$2003,7,FALSE)),\"\")","v":""},"・",{"$f":"IFERROR(DAY(VLOOKUP($D13,申請者リスト!$C$4:$Q$2003,7,FALSE)),\"\")","v":""},{"$f":"COUNTIFS(申請者リスト!$C$4:$C$2003,様式３!$D13,申請者リスト!$P$4:$P$2003,J$8)","v":0},{"$f":"COUNTIFS(申請者リスト!$C$4:$C$2003,様式３!$D13,申請者リスト!$P$4:$P$2003,K$8)","v":0},{"$f":"COUNTIFS(申請者リスト!$C$4:$C$2003,様式３!$D13,申請者リスト!$P$4:$P$2003,L$8)","v":0},{"$f":"COUNTIFS(申請者リスト!$C$4:$C$2003,様式３!$D13,申請者リスト!$P$4:$P$2003,M$8)","v":0},0]
[5,null,null,null,{"$f":"IFERROR(YEAR(VLOOKUP($D14,申請者リスト!$C$4:$Q$2003,7,FALSE)),\"\")","v":""},"・",{"$f":"IFERROR(MONTH(VLOOKUP($D14,申請者リスト!$C$4:$Q$2003,7,FALSE)),\"\")","v":""},"・",{"$f":"IFERROR(DAY(VLOOKUP($D14,申請者リスト!$C$4:$Q$2003,7,FALSE)),\"\")","v":""},{"$f":"COUNTIFS(申請者リスト!$C$4:$C$2003,様式３!$D14,申請者リスト!$P$4:$P$2003,J$8)","v":0},{"$f":"COUNTIFS(申請者リスト!$C$4:$C$2003,様式３!$D14,申請者リスト!$P$4:$P$2003,K$8)","v":0},{"$f":"COUNTIFS(申請者リスト!$C$4:$C$2003,様式３!$D14,申請者リスト!$P$4:$P$2003,L$8)","v":0},{"$f":"COUNTIFS(申請者リスト!$C$4:$C$2003,様式３!$D14,申請者リスト!$P$4:$P$2003,M$8)","v":0},0]
[6,null,null,null,{"$f":"IFERROR(YEAR(VLOOKUP($D15,申請者リスト!$C$4:$Q$2003,7,FALSE)),\"\")","v":""},"・",{"$f":"IFERROR(MONTH(VLOOKUP($D15,申請者リスト!$C$4:$Q$2003,7,FALSE)),\"\")","v":""},"・",{"$f":"IFERROR(DAY(VLOOKUP($D15,申請者リスト!$C$4:$Q$2003,7,FALSE)),\"\")","v":""},{"$f":"COUNTIFS(申請者リスト!$C$4:$C$2003,様式３!$D15,申請者リスト!$P$4:$P$2003,J$8)","v":0},{"$f":"COUNTIFS(申請者リスト!$C$4:$C$2003,様式３!$D15,申請者リスト!$P$4:$P$2003,K$8)","v":0},{"$f":"COUNTIFS(申請者リスト!$C$4:$C$2003,様式３!$D15,申請者リスト!$P$4:$P$2003,L$8)","v":0},{"$f":"COUNTIFS(申請者リスト!$C$4:$C$2003,様式３!$D15,申請者リスト!$P$4:$P$2003,M$8)","v":0},0]
[7,null,null,null,{"$f":"IFERROR(YEAR(VLOOKUP($D16,申請者リスト!$C$4:$Q$2003,7,FALSE)),\"\")","v":""},"・",{"$f":"IFERROR(MONTH(VLOOKUP($D16,申請者リスト!$C$4:$Q$2003,7,FALSE)),\"\")","v":""},"・",{"$f":"IFERROR(DAY(VLOOKUP($D16,申請者リスト!$C$4:$Q$2003,7,FALSE)),\"\")","v":""},{"$f":"COUNTIFS(申請者リスト!$C$4:$C$2003,様式３!$D16,申請者リスト!$P$4:$P$2003,J$8)","v":0},{"$f":"COUNTIFS(申請者リスト!$C$4:$C$2003,様式３!$D16,申請者リスト!$P$4:$P$2003,K$8)","v":0},{"$f":"COUNTIFS(申請者リスト!$C$4:$C$2003,様式３!$D16,申請者リスト!$P$4:$P$2003,L$8)","v":0},{"$f":"COUNTIFS(申請者リスト!$C$4:$C$2003,様式３!$D16,申請者リスト!$P$4:$P$2003,M$8)","v":0},0]
[8,null,null,null,{"$f":"IFERROR(YEAR(VLOOKUP($D17,申請者リスト!$C$4:$Q$2003,7,FALSE)),\"\")","v":""},"・",{"$f":"IFERROR(MONTH(VLOOKUP($D17,申請者リスト!$C$4:$Q$2003,7,FALSE)),\"\")","v":""},"・",{"$f":"IFERROR(DAY(VLOOKUP($D17,申請者リスト!$C$4:$Q$2003,7,FALSE)),\"\")","v":""},{"$f":"COUNTIFS(申請者リスト!$C$4:$C$2003,様式３!$D17,申請者リスト!$P$4:$P$2003,J$8)","v":0},{"$f":"COUNTIFS(申請者リスト!$C$4:$C$2003,様式３!$D17,申請者リスト!$P$4:$P$2003,K$8)","v":0},{"$f":"COUNTIFS(申請者リスト!$C$4:$C$2003,様式３!$D17,申請者リスト!$P$4:$P$2003,L$8)","v":0},{"$f":"COUNTIFS(申請者リスト!$C$4:$C$2003,様式３!$D17,申請者リスト!$P$4:$P$2003,M$8)","v":0},0]
[9,null,null,null,{"$f":"IFERROR(YEAR(VLOOKUP($D18,申請者リスト!$C$4:$Q$2003,7,FALSE)),\"\")","v":""},"・",{"$f":"IFERROR(MONTH(VLOOKUP($D18,申請者リスト!$C$4:$Q$2003,7,FALSE)),\"\")","v":""},"・",{"$f":"IFERROR(DAY(VLOOKUP($D18,申請者リスト!$C$4:$Q$2003,7,FALSE)),\"\")","v":""},{"$f":"COUNTIFS(申請者リスト!$C$4:$C$2003,様式３!$D18,申請者リスト!$P$4:$P$2003,J$8)","v":0},{"$f":"COUNTIFS(申請者リスト!$C$4:$C$2003,様式３!$D18,申請者リスト!$P$4:$P$2003,K$8)","v":0},{"$f":"COUNTIFS(申請者リスト!$C$4:$C$2003,様式３!$D18,申請者リスト!$P$4:$P$2003,L$8)","v":0},{"$f":"COUNTIFS(申請者リスト!$C$4:$C$2003,様式３!$D18,申請者リスト!$P$4:$P$2003,M$8)","v":0},0]
[10,null,null,null,{"$f":"IFERROR(YEAR(VLOOKUP($D19,申請者リスト!$C$4:$Q$2003,7,FALSE)),\"\")","v":""},"・",{"$f":"IFERROR(MONTH(VLOOKUP($D19,申請者リスト!$C$4:$Q$2003,7,FALSE)),\"\")","v":""},"・",{"$f":"IFERROR(DAY(VLOOKUP($D19,申請者リスト!$C$4:$Q$2003,7,FALSE)),\"\")","v":""},{"$f":"COUNTIFS(申請者リスト!$C$4:$C$2003,様式３!$D19,申請者リスト!$P$4:$P$2003,J$8)","v":0},{"$f":"COUNTIFS(申請者リスト!$C$4:$C$2003,様式３!$D19,申請者リスト!$P$4:$P$2003,K$8)","v":0},{"$f":"COUNTIFS(申請者リスト!$C$4:$C$2003,様式３!$D19,申請者リスト!$P$4:$P$2003,L$8)","v":0},{"$f":"COUNTIFS(申請者リスト!$C$4:$C$2003,様式３!$D19,申請者リスト!$P$4:$P$2003,M$8)","v":0},0]
[11,null,null,null,{"$f":"IFERROR(YEAR(VLOOKUP($D20,申請者リスト!$C$4:$Q$2003,7,FALSE)),\"\")","v":""},"・",{"$f":"IFERROR(MONTH(VLOOKUP($D20,申請者リスト!$C$4:$Q$2003,7,FALSE)),\"\")","v":""},"・",{"$f":"IFERROR(DAY(VLOOKUP($D20,申請者リスト!$C$4:$Q$2003,7,FALSE)),\"\")","v":""},{"$f":"COUNTIFS(申請者リスト!$C$4:$C$2003,様式３!$D20,申請者リスト!$P$4:$P$2003,J$8)","v":0},{"$f":"COUNTIFS(申請者リスト!$C$4:$C$2003,様式３!$D20,申請者リスト!$P$4:$P$2003,K$8)","v":0},{"$f":"COUNTIFS(申請者リスト!$C$4:$C$2003,様式３!$D20,申請者リスト!$P$4:$P$2003,L$8)","v":0},{"$f":"COUNTIFS(申請者リスト!$C$4:$C$2003,様式３!$D20,申請者リスト!$P$4:$P$2003,M$8)","v":0},0]
[12,null,null,null,{"$f":"IFERROR(YEAR(VLOOKUP($D21,申請者リスト!$C$4:$Q$2003,7,FALSE)),\"\")","v":""},"・",{"$f":"IFERROR(MONTH(VLOOKUP($D21,申請者リスト!$C$4:$Q$2003,7,FALSE)),\"\")","v":""},"・",{"$f":"IFERROR(DAY(VLOOKUP($D21,申請者リスト!$C$4:$Q$2003,7,FALSE)),\"\")","v":""},{"$f":"COUNTIFS(申請者リスト!$C$4:$C$2003,様式３!$D21,申請者リスト!$P$4:$P$2003,J$8)","v":0},{"$f":"COUNTIFS(申請者リスト!$C$4:$C$2003,様式３!$D21,申請者リスト!$P$4:$P$2003,K$8)","v":0},{"$f":"COUNTIFS(申請者リスト!$C$4:$C$2003,様式３!$D21,申請者リスト!$P$4:$P$2003,L$8)","v":0},{"$f":"COUNTIFS(申請者リスト!$C$4:$C$2003,様式３!$D21,申請者リスト!$P$4:$P$2003,M$8)","v":0},0]
[13,null,null,null,{"$f":"IFERROR(YEAR(VLOOKUP($D22,申請者リスト!$C$4:$Q$2003,7,FALSE)),\"\")","v":""},"・",{"$f":"IFERROR(MONTH(VLOOKUP($D22,申請者リスト!$C$4:$Q$2003,7,FALSE)),\"\")","v":""},"・",{"$f":"IFERROR(DAY(VLOOKUP($D22,申請者リスト!$C$4:$Q$2003,7,FALSE)),\"\")","v":""},{"$f":"COUNTIFS(申請者リスト!$C$4:$C$2003,様式３!$D22,申請者リスト!$P$4:$P$2003,J$8)","v":0},{"$f":"COUNTIFS(申請者リスト!$C$4:$C$2003,様式３!$D22,申請者リスト!$P$4:$P$2003,K$8)","v":0},{"$f":"COUNTIFS(申請者リスト!$C$4:$C$2003,様式３!$D22,申請者リスト!$P$4:$P$2003,L$8)","v":0},{"$f":"COUNTIFS(申請者リスト!$C$4:$C$2003,様式３!$D22,申請者リスト!$P$4:$P$2003,M$8)","v":0},0]
[14,null,null,null,{"$f":"IFERROR(YEAR(VLOOKUP($D23,申請者リスト!$C$4:$Q$2003,7,FALSE)),\"\")","v":""},"・",{"$f":"IFERROR(MONTH(VLOOKUP($D23,申請者リスト!$C$4:$Q$2003,7,FALSE)),\"\")","v":""},"・",{"$f":"IFERROR(DAY(VLOOKUP($D23,申請者リスト!$C$4:$Q$2003,7,FALSE)),\"\")","v":""},{"$f":"COUNTIFS(申請者リスト!$C$4:$C$2003,様式３!$D23,申請者リスト!$P$4:$P$2003,J$8)","v":0},{"$f":"COUNTIFS(申請者リスト!$C$4:$C$2003,様式３!$D23,申請者リスト!$P$4:$P$2003,K$8)","v":0},{"$f":"COUNTIFS(申請者リスト!$C$4:$C$2003,様式３!$D23,申請者リスト!$P$4:$P$2003,L$8)","v":0},{"$f":"COUNTIFS(申請者リスト!$C$4:$C$2003,様式３!$D23,申請者リスト!$P$4:$P$2003,M$8)","v":0},0]
[15,null,null,null,{"$f":"IFERROR(YEAR(VLOOKUP($D24,申請者リスト!$C$4:$Q$2003,7,FALSE)),\"\")","v":""},"・",{"$f":"IFERROR(MONTH(VLOOKUP($D24,申請者リスト!$C$4:$Q$2003,7,FALSE)),\"\")","v":""},"・",{"$f":"IFERROR(DAY(VLOOKUP($D24,申請者リスト!$C$4:$Q$2003,7,FALSE)),\"\")","v":""},{"$f":"COUNTIFS(申請者リスト!$C$4:$C$2003,様式３!$D24,申請者リスト!$P$4:$P$2003,J$8)","v":0},{"$f":"COUNTIFS(申請者リスト!$C$4:$C$2003,様式３!$D24,申請者リスト!$P$4:$P$2003,K$8)","v":0},{"$f":"COUNTIFS(申請者リスト!$C$4:$C$2003,様式３!$D24,申請者リスト!$P$4:$P$2003,L$8)","v":0},{"$f":"COUNTIFS(申請者リスト!$C$4:$C$2003,様式３!$D24,申請者リスト!$P$4:$P$2003,M$8)","v":0},0]
["※１","学科の欄には、大学科名を記入する。"]
["※２","整理番号は、様式１の整理番号（担当者が付記）と一致させる。"]
[null,"なお、整理番号については、各学校の大学科ごとに１～を割り振ること。"]
["※３","資格・試験等ランクの欄には、取得個数を記入する。"]
["※４","得点合計欄には、得点の合計を記入する。"]
[]
["（様式３）",null,null,null,null,null,null,null,null,null,"(",{"$f":"$L$1","v":0},"枚中",{"$f":"+N1+1","v":2},"枚目）"]
[]
["埼玉県高校生専門資格等取得表彰推薦名簿"]
[]
[null,null,null,null,null,null,"学  校  名　　　　　　　　　　",null,null,{"$f":"$J$5","v":0},null,null,null,null,"学校"]
[]
["Ｎｏ","学　年　　　　　　　　　　　　　　　　　　　","学　科","整理番号","生　年　月　日",null,null,null,null,"資格・試験等ﾗﾝｸ",null,null,null,"得点合計","備　考"]
[null,null,null,null,null,null,null,null,null,"A","B","C","D"]
[null,null,null,null,null,null,null,null,null,6,3,2,1]
[{"$f":"+A24+1","v":16},null,null,null,{"$f":"IFERROR(YEAR(VLOOKUP($D40,申請者リスト!$C$4:$Q$2003,7,FALSE)),\"\")","v":""},"・",{"$f":"IFERROR(MONTH(VLOOKUP($D40,申請者リスト!$C$4:$Q$2003,7,FALSE)),\"\")","v":""},"・",{"$f":"IFERROR(DAY(VLOOKUP($D40,申請者リスト!$C$4:$Q$2003,7,FALSE)),\"\")","v":""},{"$f":"COUNTIFS(申請者リスト!$C$4:$C$2003,様式３!$D40,申請者リスト!$P$4:$P$2003,J$8)","v":0},{"$f":"COUNTIFS(申請者リスト!$C$4:$C$2003,様式３!$D40,申請者リスト!$P$4:$P$2003,K$8)","v":0},{"$f":"COUNTIFS(申請者リスト!$C$4:$C$2003,様式３!$D40,申請者リスト!$P$4:$P$2003,L$8)","v":0},{"$f":"COUNTIFS(申請者リスト!$C$4:$C$2003,様式３!$D40,申請者リスト!$P$4:$P$2003,M$8)","v":0},{"$f":"J40*$J$9+K40*$K$9+L40*$L$9+M40*$M$9","v":0}]
[{"$f":"+A40+1","v":17},null,null,null,{"$f":"IFERROR(YEAR(VLOOKUP($D41,申請者リスト!$C$4:$Q$2003,7,FALSE)),\"\")","v":""},"・",{"$f":"IFERROR(MONTH(VLOOKUP($D41,申請者リスト!$C$4:$Q$2003,7,FALSE)),\"\")","v":""},"・",{"$f":"IFERROR(DAY(VLOOKUP($D41,申請者リスト!$C$4:$Q$2003,7,FALSE)),\"\")","v":""},{"$f":"COUNTIFS(申請者リスト!$C$4:$C$2003,様式３!$D41,申請者リスト!$P$4:$P$2003,J$8)","v":0},{"$f":"COUNTIFS(申請者リスト!$C$4:$C$2003,様式３!$D41,申請者リスト!$P$4:$P$2003,K$8)","v":0},{"$f":"COUNTIFS(申請者リスト!$C$4:$C$2003,様式３!$D41,申請者リスト!$P$4:$P$2003,L$8)","v":0},{"$f":"COUNTIFS(申請者リスト!$C$4:$C$2003,様式３!$D41,申請者リスト!$P$4:$P$2003,M$8)","v":0},{"$f":"J41*$J$9+K41*$K$9+L41*$L$9+M41*$M$9","v":0}]
[{"$f":"+A41+1","v":18},null,null,null,{"$f":"IFERROR(YEAR(VLOOKUP($D42,申請者リスト!$C$4:$Q$2003,7,FALSE)),\"\")","v":""},"・",{"$f":"IFERROR(MONTH(VLOOKUP($D42,申請者リスト!$C$4:$Q$2003,7,FALSE)),\"\")","v":""},"・",{"$f":"IFERROR(DAY(VLOOKUP($D42,申請者リスト!$C$4:$Q$2003,7,FALSE)),\"\")","v":""},{"$f":"COUNTIFS(申請者リスト!$C$4:$C$2003,様式３!$D42,申請者リスト!$P$4:$P$2003,J$8)","v":0},{"$f":"COUNTIFS(申請者リスト!$C$4:$C$2003,様式３!$D42,申請者リスト!$P$4:$P$2003,K$8)","v":0},{"$f":"COUNTIFS(申請者リスト!$C$4:$C$2003,様式３!$D42,申請者リスト!$P$4:$P$2003,L$8)","v":0},{"$f":"COUNTIFS(申請者リスト!$C$4:$C$2003,様式３!$D42,申請者リスト!$P$4:$P$2003,M$8)","v":0},0]
[19,null,null,null,{"$f":"IFERROR(YEAR(VLOOKUP($D43,申請者リスト!$C$4:$Q$2003,7,FALSE)),\"\")","v":""},"・",{"$f":"IFERROR(MONTH(VLOOKUP($D43,申請者リスト!$C$4:$Q$2003,7,FALSE)),\"\")","v":""},"・",{"$f":"IFERROR(DAY(VLOOKUP($D43,申請者リスト!$C$4:$Q$2003,7,FALSE)),\"\")","v":""},{"$f":"COUNTIFS(申請者リスト!$C$4:$C$2003,様式３!$D43,申請者リスト!$P$4:$P$2003,J$8)","v":0},{"$f":"COUNTIFS(申請者リスト!$C$4:$C$2003,様式３!$D43,申請者リスト!$P$4:$P$2003,K$8)","v":0},{"$f":"COUNTIFS(申請者リスト!$C$4:$C$2003,様式３!$D43,申請者リスト!$P$4:$P$2003,L$8)","v":0},{"$f":"COUNTIFS(申請者リスト!$C$4:$C$2003,様式３!$D43,申請者リスト!$P$4:$P$2003,M$8)","v":0},0]
[20,null,null,null,{"$f":"IFERROR(YEAR(VLOOKUP($D44,申請者リスト!$C$4:$Q$2003,7,FALSE)),\"\")","v":""},"・",{"$f":"IFERROR(MONTH(VLOOKUP($D44,申請者リスト!$C$4:$Q$2003,7,FALSE)),\"\")","v":""},"・",{"$f":"IFERROR(DAY(VLOOKUP($D44,申請者リスト!$C$4:$Q$2003,7,FALSE)),\"\")","v":""},{"$f":"COUNTIFS(申請者リスト!$C$4:$C$2003,様式３!$D44,申請者リスト!$P$4:$P$2003,J$8)","v":0},{"$f":"COUNTIFS(申請者リスト!$C$4:$C$2003,様式３!$D44,申請者リスト!$P$4:$P$2003,K$8)","v":0},{"$f":"COUNTIFS(申請者リスト!$C$4:$C$2003,様式３!$D44,申請者リスト!$P$4:$P$2003,L$8)","v":0},{"$f":"COUNTIFS(申請者リスト!$C$4:$C$2003,様式３!$D44,申請者リスト!$P$4:$P$2003,M$8)","v":0},0]
[21,null,null,null,{"$f":"IFERROR(YEAR(VLOOKUP($D45,申請者リスト!$C$4:$Q$2003,7,FALSE)),\"\")","v":""},"・",{"$f":"IFERROR(MONTH(VLOOKUP($D45,申請者リスト!$C$4:$Q$2003,7,FALSE)),\"\")","v":""},"・",{"$f":"IFERROR(DAY(VLOOKUP($D45,申請者リスト!$C$4:$Q$2003,7,FALSE)),\"\")","v":""},{"$f":"COUNTIFS(申請者リスト!$C$4:$C$2003,様式３!$D45,申請者リスト!$P$4:$P$2003,J$8)","v":0},{"$f":"COUNTIFS(申請者リスト!$C$4:$C$2003,様式３!$D45,申請者リスト!$P$4:$P$2003,K$8)","v":0},{"$f":"COUNTIFS(申請者リスト!$C$4:$C$2003,様式３!$D45,申請者リスト!$P$4:$P$2003,L$8)","v":0},{"$f":"COUNTIFS(申請者リスト!$C$4:$C$2003,様式３!$D45,申請者リスト!$P$4:$P$2003,M$8)","v":0},0]
[22,null,null,null,{"$f":"IFERROR(YEAR(VLOOKUP($D46,申請者リスト!$C$4:$Q$2003,7,FALSE)),\"\")","v":""},"・",{"$f":"IFERROR(MONTH(VLOOKUP($D46,申請者リスト!$C$4:$Q$2003,7,FALSE)),\"\")","v":""},"・",{"$f":"IFERROR(DAY(VLOOKUP($D46,申請者リスト!$C$4:$Q$2003,7,FALSE)),\"\")","v":""},{"$f":"COUNTIFS(申請者リスト!$C$4:$C$2003,様式３!$D46,申請者リスト!$P$4:$P$2003,J$8)","v":0},{"$f":"COUNTIFS(申請者リスト!$C$4:$C$2003,様式３!$D46,申請者リスト!$P$4:$P$2003,K$8)","v":0},{"$f":"COUNTIFS(申請者リスト!$C$4:$C$2003,様式３!$D46,申請者リスト!$P$4:$P$2003,L$8)","v":0},{"$f":"COUNTIFS(申請者リスト!$C$4:$C$2003,様式３!$D46,申請者リスト!$P$4:$P$2003,M$8)","v":0},0]
[23,null,null,null,{"$f":"IFERROR(YEAR(VLOOKUP($D47,申請者リスト!$C$4:$Q$2003,7,FALSE)),\"\")","v":""},"・",{"$f":"IFERROR(MONTH(VLOOKUP($D47,申請者リスト!$C$4:$Q$2003,7,FALSE)),\"\")","v":""},"・",{"$f":"IFERROR(DAY(VLOOKUP($D47,申請者リスト!$C$4:$Q$2003,7,FALSE)),\"\")","v":""},{"$f":"COUNTIFS(申請者リスト!$C$4:$C$2003,様式３!$D47,申請者リスト!$P$4:$P$2003,J$8)","v":0},{"$f":"COUNTIFS(申請者リスト!$C$4:$C$2003,様式３!$D47,申請者リスト!$P$4:$P$2003,K$8)","v":0},{"$f":"COUNTIFS(申請者リスト!$C$4:$C$2003,様式３!$D47,申請者リスト!$P$4:$P$2003,L$8)","v":0},{"$f":"COUNTIFS(申請者リスト!$C$4:$C$2003,様式３!$D47,申請者リスト!$P$4:$P$2003,M$8)","v":0},0]
[24,null,null,null,{"$f":"IFERROR(YEAR(VLOOKUP($D48,申請者リスト!$C$4:$Q$2003,7,FALSE)),\"\")","v":""},"・",{"$f":"IFERROR(MONTH(VLOOKUP($D48,申請者リスト!$C$4:$Q$2003,7,FALSE)),\"\")","v":""},"・",{"$f":"IFERROR(DAY(VLOOKUP($D48,申請者リスト!$C$4:$Q$2003,7,FALSE)),\"\")","v":""},{"$f":"COUNTIFS(申請者リスト!$C$4:$C$2003,様式３!$D48,申請者リスト!$P$4:$P$2003,J$8)","v":0},{"$f":"COUNTIFS(申請者リスト!$C$4:$C$2003,様式３!$D48,申請者リスト!$P$4:$P$2003,K$8)","v":0},{"$f":"COUNTIFS(申請者リスト!$C$4:$C$2003,様式３!$D48,申請者リスト!$P$4:$P$2003,L$8)","v":0},{"$f":"COUNTIFS(申請者リスト!$C$4:$C$2003,様式３!$D48,申請者リスト!$P$4:$P$2003,M$8)","v":0},0]
[25,null,null,null,{"$f":"IFERROR(YEAR(VLOOKUP($D49,申請者リスト!$C$4:$Q$2003,7,FALSE)),\"\")","v":""},"・",{"$f":"IFERROR(MONTH(VLOOKUP($D49,申請者リスト!$C$4:$Q$2003,7,FALSE)),\"\")","v":""},"・",{"$f":"IFERROR(DAY(VLOOKUP($D49,申請者リスト!$C$4:$Q$2003,7,FALSE)),\"\")","v":""},{"$f":"COUNTIFS(申請者リスト!$C$4:$C$2003,様式３!$D49,申請者リスト!$P$4:$P$2003,J$8)","v":0},{"$f":"COUNTIFS(申請者リスト!$C$4:$C$2003,様式３!$D49,申請者リスト!$P$4:$P$2003,K$8)","v":0},{"$f":"COUNTIFS(申請者リスト!$C$4:$C$2003,様式３!$D49,申請者リスト!$P$4:$P$2003,L$8)","v":0},{"$f":"COUNTIFS(申請者リスト!$C$4:$C$2003,様式３!$D49,申請者リスト!$P$4:$P$2003,M$8)","v":0},0]
[26,null,null,null,{"$f":"IFERROR(YEAR(VLOOKUP($D50,申請者リスト!$C$4:$Q$2003,7,FALSE)),\"\")","v":""},"・",{"$f":"IFERROR(MONTH(VLOOKUP($D50,申請者リスト!$C$4:$Q$2003,7,FALSE)),\"\")","v":""},"・",{"$f":"IFERROR(DAY(VLOOKUP($D50,申請者リスト!$C$4:$Q$2003,7,FALSE)),\"\")","v":""},{"$f":"COUNTIFS(申請者リスト!$C$4:$C$2003,様式３!$D50,申請者リスト!$P$4:$P$2003,J$8)","v":0},{"$f":"COUNTIFS(申請者リスト!$C$4:$C$2003,様式３!$D50,申請者リスト!$P$4:$P$2003,K$8)","v":0},{"$f":"COUNTIFS(申請者リスト!$C$4:$C$2003,様式３!$D50,申請者リスト!$P$4:$P$2003,L$8)","v":0},{"$f":"COUNTIFS(申請者リスト!$C$4:$C$2003,様式３!$D50,申請者リスト!$P$4:$P$2003,M$8)","v":0},0]
[27,null,null,null,{"$f":"IFERROR(YEAR(VLOOKUP($D51,申請者リスト!$C$4:$Q$2003,7,FALSE)),\"\")","v":""},"・",{"$f":"IFERROR(MONTH(VLOOKUP($D51,申請者リスト!$C$4:$Q$2003,7,FALSE)),\"\")","v":""},"・",{"$f":"IFERROR(DAY(VLOOKUP($D51,申請者リスト!$C$4:$Q$2003,7,FALSE)),\"\")","v":""},{"$f":"COUNTIFS(申請者リスト!$C$4:$C$2003,様式３!$D51,申請者リスト!$P$4:$P$2003,J$8)","v":0},{"$f":"COUNTIFS(申請者リスト!$C$4:$C$2003,様式３!$D51,申請者リスト!$P$4:$P$2003,K$8)","v":0},{"$f":"COUNTIFS(申請者リスト!$C$4:$C$2003,様式３!$D51,申請者リスト!$P$4:$P$2003,L$8)","v":0},{"$f":"COUNTIFS(申請者リスト!$C$4:$C$2003,様式３!$D51,申請者リスト!$P$4:$P$2003,M$8)","v":0},0]
[28,null,null,null,{"$f":"IFERROR(YEAR(VLOOKUP($D52,申請者リスト!$C$4:$Q$2003,7,FALSE)),\"\")","v":""},"・",{"$f":"IFERROR(MONTH(VLOOKUP($D52,申請者リスト!$C$4:$Q$2003,7,FALSE)),\"\")","v":""},"・",{"$f":"IFERROR(DAY(VLOOKUP($D52,申請者リスト!$C$4:$Q$2003,7,FALSE)),\"\")","v":""},{"$f":"COUNTIFS(申請者リスト!$C$4:$C$2003,様式３!$D52,申請者リスト!$P$4:$P$2003,J$8)","v":0},{"$f":"COUNTIFS(申請者リスト!$C$4:$C$2003,様式３!$D52,申請者リスト!$P$4:$P$2003,K$8)","v":0},{"$f":"COUNTIFS(申請者リスト!$C$4:$C$2003,様式３!$D52,申請者リスト!$P$4:$P$2003,L$8)","v":0},{"$f":"COUNTIFS(申請者リスト!$C$4:$C$2003,様式３!$D52,申請者リスト!$P$4:$P$2003,M$8)","v":0},0]
[29,null,null,null,{"$f":"IFERROR(YEAR(VLOOKUP($D53,申請者リスト!$C$4:$Q$2003,7,FALSE)),\"\")","v":""},"・",{"$f":"IFERROR(MONTH(VLOOKUP($D53,申請者リスト!$C$4:$Q$2003,7,FALSE)),\"\")","v":""},"・",{"$f":"IFERROR(DAY(VLOOKUP($D53,申請者リスト!$C$4:$Q$2003,7,FALSE)),\"\")","v":""},{"$f":"COUNTIFS(申請者リスト!$C$4:$C$2003,様式３!$D53,申請者リスト!$P$4:$P$2003,J$8)","v":0},{"$f":"COUNTIFS(申請者リスト!$C$4:$C$2003,様式３!$D53,申請者リスト!$P$4:$P$2003,K$8)","v":0},{"$f":"COUNTIFS(申請者リスト!$C$4:$C$2003,様式３!$D53,申請者リスト!$P$4:$P$2003,L$8)","v":0},{"$f":"COUNTIFS(申請者リスト!$C$4:$C$2003,様式３!$D53,申請者リスト!$P$4:$P$2003,M$8)","v":0},0]
[30,null,null,null,{"$f":"IFERROR(YEAR(VLOOKUP($D54,申請者リスト!$C$4:$Q$2003,7,FALSE)),\"\")","v":""},"・",{"$f":"IFERROR(MONTH(VLOOKUP($D54,申請者リスト!$C$4:$Q$2003,7,FALSE)),\"\")","v":""},"・",{"$f":"IFERROR(DAY(VLOOKUP($D54,申請者リスト!$C$4:$Q$2003,7,FALSE)),\"\")","v":""},{"$f":"COUNTIFS(申請者リスト!$C$4:$C$2003,様式３!$D54,申請者リスト!$P$4:$P$2003,J$8)","v":0},{"$f":"COUNTIFS(申請者リスト!$C$4:$C$2003,様式３!$D54,申請者リスト!$P$4:$P$2003,K$8)","v":0},{"$f":"COUNTIFS(申請者リスト!$C$4:$C$2003,様式３!$D54,申請者リスト!$P$4:$P$2003,L$8)","v":0},{"$f":"COUNTIFS(申請者リスト!$C$4:$C$2003,様式３!$D54,申請者リスト!$P$4:$P$2003,M$8)","v":0},0]
["※１","学科の欄には、大学科名を記入する。"]
["※２","整理番号は、様式１の整理番号（担当者が付記）と一致させる。"]
[null,"なお、整理番号については、各学校の大学科ごとに１～を割り振ること。"]
["※３","資格・試験等ランクの欄には、取得個数を記入する。"]
["※４","得点合計欄には、得点の合計を記入する。"]
[]
["（様式３）",null,null,null,null,null,null,null,null,null,"(",{"$f":"$L$1","v":0},"枚中",{"$f":"+N31+1","v":3},"枚目）"]
[]
["埼玉県高校生専門資格等取得表彰推薦名簿"]
[]
[null,null,null,null,null,null,"学  校  名　　　　　　　　　　",null,null,{"$f":"$J$5","v":0},null,null,null,null,"学校"]
[]
["Ｎｏ","学　年　　　　　　　　　　　　　　　　　　　","学　科","整理番号","生　年　月　日",null,null,null,null,"資格・試験等ﾗﾝｸ",null,null,null,"得点合計","備　考"]
[null,null,null,null,null,null,null,null,null,"A","B","C","D"]
[null,null,null,null,null,null,null,null,null,6,3,2,1]
[{"$f":"+A54+1","v":31},null,null,null,{"$f":"IFERROR(YEAR(VLOOKUP($D70,申請者リスト!$C$4:$Q$2003,7,FALSE)),\"\")","v":""},"・",{"$f":"IFERROR(MONTH(VLOOKUP($D70,申請者リスト!$C$4:$Q$2003,7,FALSE)),\"\")","v":""},"・",{"$f":"IFERROR(DAY(VLOOKUP($D70,申請者リスト!$C$4:$Q$2003,7,FALSE)),\"\")","v":""},{"$f":"COUNTIFS(申請者リスト!$C$4:$C$2003,様式３!$D70,申請者リスト!$P$4:$P$2003,J$8)","v":0},{"$f":"COUNTIFS(申請者リスト!$C$4:$C$2003,様式３!$D70,申請者リスト!$P$4:$P$2003,K$8)","v":0},{"$f":"COUNTIFS(申請者リスト!$C$4:$C$2003,様式３!$D70,申請者リスト!$P$4:$P$2003,L$8)","v":0},{"$f":"COUNTIFS(申請者リスト!$C$4:$C$2003,様式３!$D70,申請者リスト!$P$4:$P$2003,M$8)","v":0},{"$f":"J70*$J$9+K70*$K$9+L70*$L$9+M70*$M$9","v":0}]
[{"$f":"+A70+1","v":32},null,null,null,{"$f":"IFERROR(YEAR(VLOOKUP($D71,申請者リスト!$C$4:$Q$2003,7,FALSE)),\"\")","v":""},"・",{"$f":"IFERROR(MONTH(VLOOKUP($D71,申請者リスト!$C$4:$Q$2003,7,FALSE)),\"\")","v":""},"・",{"$f":"IFERROR(DAY(VLOOKUP($D71,申請者リスト!$C$4:$Q$2003,7,FALSE)),\"\")","v":""},{"$f":"COUNTIFS(申請者リスト!$C$4:$C$2003,様式３!$D71,申請者リスト!$P$4:$P$2003,J$8)","v":0},{"$f":"COUNTIFS(申請者リスト!$C$4:$C$2003,様式３!$D71,申請者リスト!$P$4:$P$2003,K$8)","v":0},{"$f":"COUNTIFS(申請者リスト!$C$4:$C$2003,様式３!$D71,申請者リスト!$P$4:$P$2003,L$8)","v":0},{"$f":"COUNTIFS(申請者リスト!$C$4:$C$2003,様式３!$D71,申請者リスト!$P$4:$P$2003,M$8)","v":0},{"$f":"J71*$J$9+K71*$K$9+L71*$L$9+M71*$M$9","v":0}]
[{"$f":"+A71+1","v":33},null,null,null,{"$f":"IFERROR(YEAR(VLOOKUP($D72,申請者リスト!$C$4:$Q$2003,7,FALSE)),\"\")","v":""},"・",{"$f":"IFERROR(MONTH(VLOOKUP($D72,申請者リスト!$C$4:$Q$2003,7,FALSE)),\"\")","v":""},"・",{"$f":"IFERROR(DAY(VLOOKUP($D72,申請者リスト!$C$4:$Q$2003,7,FALSE)),\"\")","v":""},{"$f":"COUNTIFS(申請者リスト!$C$4:$C$2003,様式３!$D72,申請者リスト!$P$4:$P$2003,J$8)","v":0},{"$f":"COUNTIFS(申請者リスト!$C$4:$C$2003,様式３!$D72,申請者リスト!$P$4:$P$2003,K$8)","v":0},{"$f":"COUNTIFS(申請者リスト!$C$4:$C$2003,様式３!$D72,申請者リスト!$P$4:$P$2003,L$8)","v":0},{"$f":"COUNTIFS(申請者リスト!$C$4:$C$2003,様式３!$D72,申請者リスト!$P$4:$P$2003,M$8)","v":0},0]
[34,null,null,null,{"$f":"IFERROR(YEAR(VLOOKUP($D73,申請者リスト!$C$4:$Q$2003,7,FALSE)),\"\")","v":""},"・",{"$f":"IFERROR(MONTH(VLOOKUP($D73,申請者リスト!$C$4:$Q$2003,7,FALSE)),\"\")","v":""},"・",{"$f":"IFERROR(DAY(VLOOKUP($D73,申請者リスト!$C$4:$Q$2003,7,FALSE)),\"\")","v":""},{"$f":"COUNTIFS(申請者リスト!$C$4:$C$2003,様式３!$D73,申請者リスト!$P$4:$P$2003,J$8)","v":0},{"$f":"COUNTIFS(申請者リスト!$C$4:$C$2003,様式３!$D73,申請者リスト!$P$4:$P$2003,K$8)","v":0},{"$f":"COUNTIFS(申請者リスト!$C$4:$C$2003,様式３!$D73,申請者リスト!$P$4:$P$2003,L$8)","v":0},{"$f":"COUNTIFS(申請者リスト!$C$4:$C$2003,様式３!$D73,申請者リスト!$P$4:$P$2003,M$8)","v":0},0]
[35,null,null,null,{"$f":"IFERROR(YEAR(VLOOKUP($D74,申請者リスト!$C$4:$Q$2003,7,FALSE)),\"\")","v":""},"・",{"$f":"IFERROR(MONTH(VLOOKUP($D74,申請者リスト!$C$4:$Q$2003,7,FALSE)),\"\")","v":""},"・",{"$f":"IFERROR(DAY(VLOOKUP($D74,申請者リスト!$C$4:$Q$2003,7,FALSE)),\"\")","v":""},{"$f":"COUNTIFS(申請者リスト!$C$4:$C$2003,様式３!$D74,申請者リスト!$P$4:$P$2003,J$8)","v":0},{"$f":"COUNTIFS(申請者リスト!$C$4:$C$2003,様式３!$D74,申請者リスト!$P$4:$P$2003,K$8)","v":0},{"$f":"COUNTIFS(申請者リスト!$C$4:$C$2003,様式３!$D74,申請者リスト!$P$4:$P$2003,L$8)","v":0},{"$f":"COUNTIFS(申請者リスト!$C$4:$C$2003,様式３!$D74,申請者リスト!$P$4:$P$2003,M$8)","v":0},0]
[36,null,null,null,{"$f":"IFERROR(YEAR(VLOOKUP($D75,申請者リスト!$C$4:$Q$2003,7,FALSE)),\"\")","v":""},"・",{"$f":"IFERROR(MONTH(VLOOKUP($D75,申請者リスト!$C$4:$Q$2003,7,FALSE)),\"\")","v":""},"・",{"$f":"IFERROR(DAY(VLOOKUP($D75,申請者リスト!$C$4:$Q$2003,7,FALSE)),\"\")","v":""},{"$f":"COUNTIFS(申請者リスト!$C$4:$C$2003,様式３!$D75,申請者リスト!$P$4:$P$2003,J$8)","v":0},{"$f":"COUNTIFS(申請者リスト!$C$4:$C$2003,様式３!$D75,申請者リスト!$P$4:$P$2003,K$8)","v":0},{"$f":"COUNTIFS(申請者リスト!$C$4:$C$2003,様式３!$D75,申請者リスト!$P$4:$P$2003,L$8)","v":0},{"$f":"COUNTIFS(申請者リスト!$C$4:$C$2003,様式３!$D75,申請者リスト!$P$4:$P$2003,M$8)","v":0},0]
[37,null,null,null,{"$f":"IFERROR(YEAR(VLOOKUP($D76,申請者リスト!$C$4:$Q$2003,7,FALSE)),\"\")","v":""},"・",{"$f":"IFERROR(MONTH(VLOOKUP($D76,申請者リスト!$C$4:$Q$2003,7,FALSE)),\"\")","v":""},"・",{"$f":"IFERROR(DAY(VLOOKUP($D76,申請者リスト!$C$4:$Q$2003,7,FALSE)),\"\")","v":""},{"$f":"COUNTIFS(申請者リスト!$C$4:$C$2003,様式３!$D76,申請者リスト!$P$4:$P$2003,J$8)","v":0},{"$f":"COUNTIFS(申請者リスト!$C$4:$C$2003,様式３!$D76,申請者リスト!$P$4:$P$2003,K$8)","v":0},{"$f":"COUNTIFS(申請者リスト!$C$4:$C$2003,様式３!$D76,申請者リスト!$P$4:$P$2003,L$8)","v":0},{"$f":"COUNTIFS(申請者リスト!$C$4:$C$2003,様式３!$D76,申請者リスト!$P$4:$P$2003,M$8)","v":0},0]
[38,null,null,null,{"$f":"IFERROR(YEAR(VLOOKUP($D77,申請者リスト!$C$4:$Q$2003,7,FALSE)),\"\")","v":""},"・",{"$f":"IFERROR(MONTH(VLOOKUP($D77,申請者リスト!$C$4:$Q$2003,7,FALSE)),\"\")","v":""},"・",{"$f":"IFERROR(DAY(VLOOKUP($D77,申請者リスト!$C$4:$Q$2003,7,FALSE)),\"\")","v":""},{"$f":"COUNTIFS(申請者リスト!$C$4:$C$2003,様式３!$D77,申請者リスト!$P$4:$P$2003,J$8)","v":0},{"$f":"COUNTIFS(申請者リスト!$C$4:$C$2003,様式３!$D77,申請者リスト!$P$4:$P$2003,K$8)","v":0},{"$f":"COUNTIFS(申請者リスト!$C$4:$C$2003,様式３!$D77,申請者リスト!$P$4:$P$2003,L$8)","v":0},{"$f":"COUNTIFS(申請者リスト!$C$4:$C$2003,様式３!$D77,申請者リスト!$P$4:$P$2003,M$8)","v":0},0]
[39,null,null,null,{"$f":"IFERROR(YEAR(VLOOKUP($D78,申請者リスト!$C$4:$Q$2003,7,FALSE)),\"\")","v":""},"・",{"$f":"IFERROR(MONTH(VLOOKUP($D78,申請者リスト!$C$4:$Q$2003,7,FALSE)),\"\")","v":""},"・",{"$f":"IFERROR(DAY(VLOOKUP($D78,申請者リスト!$C$4:$Q$2003,7,FALSE)),\"\")","v":""},{"$f":"COUNTIFS(申請者リスト!$C$4:$C$2003,様式３!$D78,申請者リスト!$P$4:$P$2003,J$8)","v":0},{"$f":"COUNTIFS(申請者リスト!$C$4:$C$2003,様式３!$D78,申請者リスト!$P$4:$P$2003,K$8)","v":0},{"$f":"COUNTIFS(申請者リスト!$C$4:$C$2003,様式３!$D78,申請者リスト!$P$4:$P$2003,L$8)","v":0},{"$f":"COUNTIFS(申請者リスト!$C$4:$C$2003,様式３!$D78,申請者リスト!$P$4:$P$2003,M$8)","v":0},0]
[40,null,null,null,{"$f":"IFERROR(YEAR(VLOOKUP($D79,申請者リスト!$C$4:$Q$2003,7,FALSE)),\"\")","v":""},"・",{"$f":"IFERROR(MONTH(VLOOKUP($D79,申請者リスト!$C$4:$Q$2003,7,FALSE)),\"\")","v":""},"・",{"$f":"IFERROR(DAY(VLOOKUP($D79,申請者リスト!$C$4:$Q$2003,7,FALSE)),\"\")","v":""},{"$f":"COUNTIFS(申請者リスト!$C$4:$C$2003,様式３!$D79,申請者リスト!$P$4:$P$2003,J$8)","v":0},{"$f":"COUNTIFS(申請者リスト!$C$4:$C$2003,様式３!$D79,申請者リスト!$P$4:$P$2003,K$8)","v":0},{"$f":"COUNTIFS(申請者リスト!$C$4:$C$2003,様式３!$D79,申請者リスト!$P$4:$P$2003,L$8)","v":0},{"$f":"COUNTIFS(申請者リスト!$C$4:$C$2003,様式３!$D79,申請者リスト!$P$4:$P$2003,M$8)","v":0},0]
[41,null,null,null,{"$f":"IFERROR(YEAR(VLOOKUP($D80,申請者リスト!$C$4:$Q$2003,7,FALSE)),\"\")","v":""},"・",{"$f":"IFERROR(MONTH(VLOOKUP($D80,申請者リスト!$C$4:$Q$2003,7,FALSE)),\"\")","v":""},"・",{"$f":"IFERROR(DAY(VLOOKUP($D80,申請者リスト!$C$4:$Q$2003,7,FALSE)),\"\")","v":""},{"$f":"COUNTIFS(申請者リスト!$C$4:$C$2003,様式３!$D80,申請者リスト!$P$4:$P$2003,J$8)","v":0},{"$f":"COUNTIFS(申請者リスト!$C$4:$C$2003,様式３!$D80,申請者リスト!$P$4:$P$2003,K$8)","v":0},{"$f":"COUNTIFS(申請者リスト!$C$4:$C$2003,様式３!$D80,申請者リスト!$P$4:$P$2003,L$8)","v":0},{"$f":"COUNTIFS(申請者リスト!$C$4:$C$2003,様式３!$D80,申請者リスト!$P$4:$P$2003,M$8)","v":0},0]
[42,null,null,null,{"$f":"IFERROR(YEAR(VLOOKUP($D81,申請者リスト!$C$4:$Q$2003,7,FALSE)),\"\")","v":""},"・",{"$f":"IFERROR(MONTH(VLOOKUP($D81,申請者リスト!$C$4:$Q$2003,7,FALSE)),\"\")","v":""},"・",{"$f":"IFERROR(DAY(VLOOKUP($D81,申請者リスト!$C$4:$Q$2003,7,FALSE)),\"\")","v":""},{"$f":"COUNTIFS(申請者リスト!$C$4:$C$2003,様式３!$D81,申請者リスト!$P$4:$P$2003,J$8)","v":0},{"$f":"COUNTIFS(申請者リスト!$C$4:$C$2003,様式３!$D81,申請者リスト!$P$4:$P$2003,K$8)","v":0},{"$f":"COUNTIFS(申請者リスト!$C$4:$C$2003,様式３!$D81,申請者リスト!$P$4:$P$2003,L$8)","v":0},{"$f":"COUNTIFS(申請者リスト!$C$4:$C$2003,様式３!$D81,申請者リスト!$P$4:$P$2003,M$8)","v":0},0]
[43,null,null,null,{"$f":"IFERROR(YEAR(VLOOKUP($D82,申請者リスト!$C$4:$Q$2003,7,FALSE)),\"\")","v":""},"・",{"$f":"IFERROR(MONTH(VLOOKUP($D82,申請者リスト!$C$4:$Q$2003,7,FALSE)),\"\")","v":""},"・",{"$f":"IFERROR(DAY(VLOOKUP($D82,申請者リスト!$C$4:$Q$2003,7,FALSE)),\"\")","v":""},{"$f":"COUNTIFS(申請者リスト!$C$4:$C$2003,様式３!$D82,申請者リスト!$P$4:$P$2003,J$8)","v":0},{"$f":"COUNTIFS(申請者リスト!$C$4:$C$2003,様式３!$D82,申請者リスト!$P$4:$P$2003,K$8)","v":0},{"$f":"COUNTIFS(申請者リスト!$C$4:$C$2003,様式３!$D82,申請者リスト!$P$4:$P$2003,L$8)","v":0},{"$f":"COUNTIFS(申請者リスト!$C$4:$C$2003,様式３!$D82,申請者リスト!$P$4:$P$2003,M$8)","v":0},0]
[44,null,null,null,{"$f":"IFERROR(YEAR(VLOOKUP($D83,申請者リスト!$C$4:$Q$2003,7,FALSE)),\"\")","v":""},"・",{"$f":"IFERROR(MONTH(VLOOKUP($D83,申請者リスト!$C$4:$Q$2003,7,FALSE)),\"\")","v":""},"・",{"$f":"IFERROR(DAY(VLOOKUP($D83,申請者リスト!$C$4:$Q$2003,7,FALSE)),\"\")","v":""},{"$f":"COUNTIFS(申請者リスト!$C$4:$C$2003,様式３!$D83,申請者リスト!$P$4:$P$2003,J$8)","v":0},{"$f":"COUNTIFS(申請者リスト!$C$4:$C$2003,様式３!$D83,申請者リスト!$P$4:$P$2003,K$8)","v":0},{"$f":"COUNTIFS(申請者リスト!$C$4:$C$2003,様式３!$D83,申請者リスト!$P$4:$P$2003,L$8)","v":0},{"$f":"COUNTIFS(申請者リスト!$C$4:$C$2003,様式３!$D83,申請者リスト!$P$4:$P$2003,M$8)","v":0},0]
[45,null,null,null,{"$f":"IFERROR(YEAR(VLOOKUP($D84,申請者リスト!$C$4:$Q$2003,7,FALSE)),\"\")","v":""},"・",{"$f":"IFERROR(MONTH(VLOOKUP($D84,申請者リスト!$C$4:$Q$2003,7,FALSE)),\"\")","v":""},"・",{"$f":"IFERROR(DAY(VLOOKUP($D84,申請者リスト!$C$4:$Q$2003,7,FALSE)),\"\")","v":""},{"$f":"COUNTIFS(申請者リスト!$C$4:$C$2003,様式３!$D84,申請者リスト!$P$4:$P$2003,J$8)","v":0},{"$f":"COUNTIFS(申請者リスト!$C$4:$C$2003,様式３!$D84,申請者リスト!$P$4:$P$2003,K$8)","v":0},{"$f":"COUNTIFS(申請者リスト!$C$4:$C$2003,様式３!$D84,申請者リスト!$P$4:$P$2003,L$8)","v":0},{"$f":"COUNTIFS(申請者リスト!$C$4:$C$2003,様式３!$D84,申請者リスト!$P$4:$P$2003,M$8)","v":0},0]
["※１","学科の欄には、大学科名を記入する。"]
["※２","整理番号は、様式１の整理番号（担当者が付記）と一致させる。"]
[null,"なお、整理番号については、各学校の大学科ごとに１～を割り振ること。"]
["※３","資格・試験等ランクの欄には、取得個数を記入する。"]
["※４","得点合計欄には、得点の合計を記入する。"]
[]
["（様式３）",null,null,null,null,null,null,null,null,null,"(",{"$f":"$L$1","v":0},"枚中",{"$f":"+N61+1","v":4},"枚目）"]
[]
["埼玉県高校生専門資格等取得表彰推薦名簿"]
[]
[null,null,null,null,null,null,"学  校  名　　　　　　　　　　",null,null,{"$f":"$J$5","v":0},null,null,null,null,"学校"]
[]
["Ｎｏ","学　年　　　　　　　　　　　　　　　　　　　","学　科","整理番号","生　年　月　日",null,null,null,null,"資格・試験等ﾗﾝｸ",null,null,null,"得点合計","備　考"]
[null,null,null,null,null,null,null,null,null,"A","B","C","D"]
[null,null,null,null,null,null,null,null,null,6,3,2,1]
[{"$f":"+A84+1","v":46},null,null,null,{"$f":"IFERROR(YEAR(VLOOKUP($D100,申請者リスト!$C$4:$Q$2003,7,FALSE)),\"\")","v":""},"・",{"$f":"IFERROR(MONTH(VLOOKUP($D100,申請者リスト!$C$4:$Q$2003,7,FALSE)),\"\")","v":""},"・",{"$f":"IFERROR(DAY(VLOOKUP($D100,申請者リスト!$C$4:$Q$2003,7,FALSE)),\"\")","v":""},{"$f":"COUNTIFS(申請者リスト!$C$4:$C$2003,様式３!$D100,申請者リスト!$P$4:$P$2003,J$8)","v":0},{"$f":"COUNTIFS(申請者リスト!$C$4:$C$2003,様式３!$D100,申請者リスト!$P$4:$P$2003,K$8)","v":0},{"$f":"COUNTIFS(申請者リスト!$C$4:$C$2003,様式３!$D100,申請者リスト!$P$4:$P$2003,L$8)","v":0},{"$f":"COUNTIFS(申請者リスト!$C$4:$C$2003,様式３!$D100,申請者リスト!$P$4:$P$2003,M$8)","v":0},{"$f":"J100*$J$9+K100*$K$9+L100*$L$9+M100*$M$9","v":0}]
[{"$f":"+A100+1","v":47},null,null,null,{"$f":"IFERROR(YEAR(VLOOKUP($D101,申請者リスト!$C$4:$Q$2003,7,FALSE)),\"\")","v":""},"・",{"$f":"IFERROR(MONTH(VLOOKUP($D101,申請者リスト!$C$4:$Q$2003,7,FALSE)),\"\")","v":""},"・",{"$f":"IFERROR(DAY(VLOOKUP($D101,申請者リスト!$C$4:$Q$2003,7,FALSE)),\"\")","v":""},{"$f":"COUNTIFS(申請者リスト!$C$4:$C$2003,様式３!$D101,申請者リスト!$P$4:$P$2003,J$8)","v":0},{"$f":"COUNTIFS(申請者リスト!$C$4:$C$2003,様式３!$D101,申請者リスト!$P$4:$P$2003,K$8)","v":0},{"$f":"COUNTIFS(申請者リスト!$C$4:$C$2003,様式３!$D101,申請者リスト!$P$4:$P$2003,L$8)","v":0},{"$f":"COUNTIFS(申請者リスト!$C$4:$C$2003,様式３!$D101,申請者リスト!$P$4:$P$2003,M$8)","v":0},{"$f":"J101*$J$9+K101*$K$9+L101*$L$9+M101*$M$9","v":0}]
[{"$f":"+A101+1","v":48},null,null,null,{"$f":"IFERROR(YEAR(VLOOKUP($D102,申請者リスト!$C$4:$Q$2003,7,FALSE)),\"\")","v":""},"・",{"$f":"IFERROR(MONTH(VLOOKUP($D102,申請者リスト!$C$4:$Q$2003,7,FALSE)),\"\")","v":""},"・",{"$f":"IFERROR(DAY(VLOOKUP($D102,申請者リスト!$C$4:$Q$2003,7,FALSE)),\"\")","v":""},{"$f":"COUNTIFS(申請者リスト!$C$4:$C$2003,様式３!$D102,申請者リスト!$P$4:$P$2003,J$8)","v":0},{"$f":"COUNTIFS(申請者リスト!$C$4:$C$2003,様式３!$D102,申請者リスト!$P$4:$P$2003,K$8)","v":0},{"$f":"COUNTIFS(申請者リスト!$C$4:$C$2003,様式３!$D102,申請者リスト!$P$4:$P$2003,L$8)","v":0},{"$f":"COUNTIFS(申請者リスト!$C$4:$C$2003,様式３!$D102,申請者リスト!$P$4:$P$2003,M$8)","v":0},0]
[49,null,null,null,{"$f":"IFERROR(YEAR(VLOOKUP($D103,申請者リスト!$C$4:$Q$2003,7,FALSE)),\"\")","v":""},"・",{"$f":"IFERROR(MONTH(VLOOKUP($D103,申請者リスト!$C$4:$Q$2003,7,FALSE)),\"\")","v":""},"・",{"$f":"IFERROR(DAY(VLOOKUP($D103,申請者リスト!$C$4:$Q$2003,7,FALSE)),\"\")","v":""},{"$f":"COUNTIFS(申請者リスト!$C$4:$C$2003,様式３!$D103,申請者リスト!$P$4:$P$2003,J$8)","v":0},{"$f":"COUNTIFS(申請者リスト!$C$4:$C$2003,様式３!$D103,申請者リスト!$P$4:$P$2003,K$8)","v":0},{"$f":"COUNTIFS(申請者リスト!$C$4:$C$2003,様式３!$D103,申請者リスト!$P$4:$P$2003,L$8)","v":0},{"$f":"COUNTIFS(申請者リスト!$C$4:$C$2003,様式３!$D103,申請者リスト!$P$4:$P$2003,M$8)","v":0},0]
[50,null,null,null,{"$f":"IFERROR(YEAR(VLOOKUP($D104,申請者リスト!$C$4:$Q$2003,7,FALSE)),\"\")","v":""},"・",{"$f":"IFERROR(MONTH(VLOOKUP($D104,申請者リスト!$C$4:$Q$2003,7,FALSE)),\"\")","v":""},"・",{"$f":"IFERROR(DAY(VLOOKUP($D104,申請者リスト!$C$4:$Q$2003,7,FALSE)),\"\")","v":""},{"$f":"COUNTIFS(申請者リスト!$C$4:$C$2003,様式３!$D104,申請者リスト!$P$4:$P$2003,J$8)","v":0},{"$f":"COUNTIFS(申請者リスト!$C$4:$C$2003,様式３!$D104,申請者リスト!$P$4:$P$2003,K$8)","v":0},{"$f":"COUNTIFS(申請者リスト!$C$4:$C$2003,様式３!$D104,申請者リスト!$P$4:$P$2003,L$8)","v":0},{"$f":"COUNTIFS(申請者リスト!$C$4:$C$2003,様式３!$D104,申請者リスト!$P$4:$P$2003,M$8)","v":0},0]
[51,null,null,null,{"$f":"IFERROR(YEAR(VLOOKUP($D105,申請者リスト!$C$4:$Q$2003,7,FALSE)),\"\")","v":""},"・",{"$f":"IFERROR(MONTH(VLOOKUP($D105,申請者リスト!$C$4:$Q$2003,7,FALSE)),\"\")","v":""},"・",{"$f":"IFERROR(DAY(VLOOKUP($D105,申請者リスト!$C$4:$Q$2003,7,FALSE)),\"\")","v":""},{"$f":"COUNTIFS(申請者リスト!$C$4:$C$2003,様式３!$D105,申請者リスト!$P$4:$P$2003,J$8)","v":0},{"$f":"COUNTIFS(申請者リスト!$C$4:$C$2003,様式３!$D105,申請者リスト!$P$4:$P$2003,K$8)","v":0},{"$f":"COUNTIFS(申請者リスト!$C$4:$C$2003,様式３!$D105,申請者リスト!$P$4:$P$2003,L$8)","v":0},{"$f":"COUNTIFS(申請者リスト!$C$4:$C$2003,様式３!$D105,申請者リスト!$P$4:$P$2003,M$8)","v":0},0]
[52,null,null,null,{"$f":"IFERROR(YEAR(VLOOKUP($D106,申請者リスト!$C$4:$Q$2003,7,FALSE)),\"\")","v":""},"・",{"$f":"IFERROR(MONTH(VLOOKUP($D106,申請者リスト!$C$4:$Q$2003,7,FALSE)),\"\")","v":""},"・",{"$f":"IFERROR(DAY(VLOOKUP($D106,申請者リスト!$C$4:$Q$2003,7,FALSE)),\"\")","v":""},{"$f":"COUNTIFS(申請者リスト!$C$4:$C$2003,様式３!$D106,申請者リスト!$P$4:$P$2003,J$8)","v":0},{"$f":"COUNTIFS(申請者リスト!$C$4:$C$2003,様式３!$D106,申請者リスト!$P$4:$P$2003,K$8)","v":0},{"$f":"COUNTIFS(申請者リスト!$C$4:$C$2003,様式３!$D106,申請者リスト!$P$4:$P$2003,L$8)","v":0},{"$f":"COUNTIFS(申請者リスト!$C$4:$C$2003,様式３!$D106,申請者リスト!$P$4:$P$2003,M$8)","v":0},0]
[53,null,null,null,{"$f":"IFERROR(YEAR(VLOOKUP($D107,申請者リスト!$C$4:$Q$2003,7,FALSE)),\"\")","v":""},"・",{"$f":"IFERROR(MONTH(VLOOKUP($D107,申請者リスト!$C$4:$Q$2003,7,FALSE)),\"\")","v":""},"・",{"$f":"IFERROR(DAY(VLOOKUP($D107,申請者リスト!$C$4:$Q$2003,7,FALSE)),\"\")","v":""},{"$f":"COUNTIFS(申請者リスト!$C$4:$C$2003,様式３!$D107,申請者リスト!$P$4:$P$2003,J$8)","v":0},{"$f":"COUNTIFS(申請者リスト!$C$4:$C$2003,様式３!$D107,申請者リスト!$P$4:$P$2003,K$8)","v":0},{"$f":"COUNTIFS(申請者リスト!$C$4:$C$2003,様式３!$D107,申請者リスト!$P$4:$P$2003,L$8)","v":0},{"$f":"COUNTIFS(申請者リスト!$C$4:$C$2003,様式３!$D107,申請者リスト!$P$4:$P$2003,M$8)","v":0},0]
[54,null,null,null,{"$f":"IFERROR(YEAR(VLOOKUP($D108,申請者リスト!$C$4:$Q$2003,7,FALSE)),\"\")","v":""},"・",{"$f":"IFERROR(MONTH(VLOOKUP($D108,申請者リスト!$C$4:$Q$2003,7,FALSE)),\"\")","v":""},"・",{"$f":"IFERROR(DAY(VLOOKUP($D108,申請者リスト!$C$4:$Q$2003,7,FALSE)),\"\")","v":""},{"$f":"COUNTIFS(申請者リスト!$C$4:$C$2003,様式３!$D108,申請者リスト!$P$4:$P$2003,J$8)","v":0},{"$f":"COUNTIFS(申請者リスト!$C$4:$C$2003,様式３!$D108,申請者リスト!$P$4:$P$2003,K$8)","v":0},{"$f":"COUNTIFS(申請者リスト!$C$4:$C$2003,様式３!$D108,申請者リスト!$P$4:$P$2003,L$8)","v":0},{"$f":"COUNTIFS(申請者リスト!$C$4:$C$2003,様式３!$D108,申請者リスト!$P$4:$P$2003,M$8)","v":0},0]
[55,null,null,null,{"$f":"IFERROR(YEAR(VLOOKUP($D109,申請者リスト!$C$4:$Q$2003,7,FALSE)),\"\")","v":""},"・",{"$f":"IFERROR(MONTH(VLOOKUP($D109,申請者リスト!$C$4:$Q$2003,7,FALSE)),\"\")","v":""},"・",{"$f":"IFERROR(DAY(VLOOKUP($D109,申請者リスト!$C$4:$Q$2003,7,FALSE)),\"\")","v":""},{"$f":"COUNTIFS(申請者リスト!$C$4:$C$2003,様式３!$D109,申請者リスト!$P$4:$P$2003,J$8)","v":0},{"$f":"COUNTIFS(申請者リスト!$C$4:$C$2003,様式３!$D109,申請者リスト!$P$4:$P$2003,K$8)","v":0},{"$f":"COUNTIFS(申請者リスト!$C$4:$C$2003,様式３!$D109,申請者リスト!$P$4:$P$2003,L$8)","v":0},{"$f":"COUNTIFS(申請者リスト!$C$4:$C$2003,様式３!$D109,申請者リスト!$P$4:$P$2003,M$8)","v":0},0]
[56,null,null,null,{"$f":"IFERROR(YEAR(VLOOKUP($D110,申請者リスト!$C$4:$Q$2003,7,FALSE)),\"\")","v":""},"・",{"$f":"IFERROR(MONTH(VLOOKUP($D110,申請者リスト!$C$4:$Q$2003,7,FALSE)),\"\")","v":""},"・",{"$f":"IFERROR(DAY(VLOOKUP($D110,申請者リスト!$C$4:$Q$2003,7,FALSE)),\"\")","v":""},{"$f":"COUNTIFS(申請者リスト!$C$4:$C$2003,様式３!$D110,申請者リスト!$P$4:$P$2003,J$8)","v":0},{"$f":"COUNTIFS(申請者リスト!$C$4:$C$2003,様式３!$D110,申請者リスト!$P$4:$P$2003,K$8)","v":0},{"$f":"COUNTIFS(申請者リスト!$C$4:$C$2003,様式３!$D110,申請者リスト!$P$4:$P$2003,L$8)","v":0},{"$f":"COUNTIFS(申請者リスト!$C$4:$C$2003,様式３!$D110,申請者リスト!$P$4:$P$2003,M$8)","v":0},0]
[57,null,null,null,{"$f":"IFERROR(YEAR(VLOOKUP($D111,申請者リスト!$C$4:$Q$2003,7,FALSE)),\"\")","v":""},"・",{"$f":"IFERROR(MONTH(VLOOKUP($D111,申請者リスト!$C$4:$Q$2003,7,FALSE)),\"\")","v":""},"・",{"$f":"IFERROR(DAY(VLOOKUP($D111,申請者リスト!$C$4:$Q$2003,7,FALSE)),\"\")","v":""},{"$f":"COUNTIFS(申請者リスト!$C$4:$C$2003,様式３!$D111,申請者リスト!$P$4:$P$2003,J$8)","v":0},{"$f":"COUNTIFS(申請者リスト!$C$4:$C$2003,様式３!$D111,申請者リスト!$P$4:$P$2003,K$8)","v":0},{"$f":"COUNTIFS(申請者リスト!$C$4:$C$2003,様式３!$D111,申請者リスト!$P$4:$P$2003,L$8)","v":0},{"$f":"COUNTIFS(申請者リスト!$C$4:$C$2003,様式３!$D111,申請者リスト!$P$4:$P$2003,M$8)","v":0},0]
[58,null,null,null,{"$f":"IFERROR(YEAR(VLOOKUP($D112,申請者リスト!$C$4:$Q$2003,7,FALSE)),\"\")","v":""},"・",{"$f":"IFERROR(MONTH(VLOOKUP($D112,申請者リスト!$C$4:$Q$2003,7,FALSE)),\"\")","v":""},"・",{"$f":"IFERROR(DAY(VLOOKUP($D112,申請者リスト!$C$4:$Q$2003,7,FALSE)),\"\")","v":""},{"$f":"COUNTIFS(申請者リスト!$C$4:$C$2003,様式３!$D112,申請者リスト!$P$4:$P$2003,J$8)","v":0},{"$f":"COUNTIFS(申請者リスト!$C$4:$C$2003,様式３!$D112,申請者リスト!$P$4:$P$2003,K$8)","v":0},{"$f":"COUNTIFS(申請者リスト!$C$4:$C$2003,様式３!$D112,申請者リスト!$P$4:$P$2003,L$8)","v":0},{"$f":"COUNTIFS(申請者リスト!$C$4:$C$2003,様式３!$D112,申請者リスト!$P$4:$P$2003,M$8)","v":0},0]
[59,null,null,null,{"$f":"IFERROR(YEAR(VLOOKUP($D113,申請者リスト!$C$4:$Q$2003,7,FALSE)),\"\")","v":""},"・",{"$f":"IFERROR(MONTH(VLOOKUP($D113,申請者リスト!$C$4:$Q$2003,7,FALSE)),\"\")","v":""},"・",{"$f":"IFERROR(DAY(VLOOKUP($D113,申請者リスト!$C$4:$Q$2003,7,FALSE)),\"\")","v":""},{"$f":"COUNTIFS(申請者リスト!$C$4:$C$2003,様式３!$D113,申請者リスト!$P$4:$P$2003,J$8)","v":0},{"$f":"COUNTIFS(申請者リスト!$C$4:$C$2003,様式３!$D113,申請者リスト!$P$4:$P$2003,K$8)","v":0},{"$f":"COUNTIFS(申請者リスト!$C$4:$C$2003,様式３!$D113,申請者リスト!$P$4:$P$2003,L$8)","v":0},{"$f":"COUNTIFS(申請者リスト!$C$4:$C$2003,様式３!$D113,申請者リスト!$P$4:$P$2003,M$8)","v":0},0]
[60,null,null,null,{"$f":"IFERROR(YEAR(VLOOKUP($D114,申請者リスト!$C$4:$Q$2003,7,FALSE)),\"\")","v":""},"・",{"$f":"IFERROR(MONTH(VLOOKUP($D114,申請者リスト!$C$4:$Q$2003,7,FALSE)),\"\")","v":""},"・",{"$f":"IFERROR(DAY(VLOOKUP($D114,申請者リスト!$C$4:$Q$2003,7,FALSE)),\"\")","v":""},{"$f":"COUNTIFS(申請者リスト!$C$4:$C$2003,様式３!$D114,申請者リスト!$P$4:$P$2003,J$8)","v":0},{"$f":"COUNTIFS(申請者リスト!$C$4:$C$2003,様式３!$D114,申請者リスト!$P$4:$P$2003,K$8)","v":0},{"$f":"COUNTIFS(申請者リスト!$C$4:$C$2003,様式３!$D114,申請者リスト!$P$4:$P$2003,L$8)","v":0},{"$f":"COUNTIFS(申請者リスト!$C$4:$C$2003,様式３!$D114,申請者リスト!$P$4:$P$2003,M$8)","v":0},0]
["※１","学科の欄には、大学科名を記入する。"]
["※２","整理番号は、様式１の整理番号（担当者が付記）と一致させる。"]
[null,"なお、整理番号については、各学校の大学科ごとに１～を割り振ること。"]
["※３","資格・試験等ランクの欄には、取得個数を記入する。"]
["※４","得点合計欄には、得点の合計を記入する。"]
[]
["（様式３）",null,null,null,null,null,null,null,null,null,"(",{"$f":"$L$1","v":0},"枚中",{"$f":"+N91+1","v":5},"枚目）"]
[]
["埼玉県高校生専門資格等取得表彰推薦名簿"]
[]
[null,null,null,null,null,null,"学  校  名　　　　　　　　　　",null,null,{"$f":"$J$5","v":0},null,null,null,null,"学校"]
[]
["Ｎｏ","学　年　　　　　　　　　　　　　　　　　　　","学　科","整理番号","生　年　月　日",null,null,null,null,"資格・試験等ﾗﾝｸ",null,null,null,"得点合計","備　考"]
[null,null,null,null,null,null,null,null,null,"A","B","C","D"]
[null,null,null,null,null,null,null,null,null,6,3,2,1]
[{"$f":"+A114+1","v":61},null,null,null,{"$f":"IFERROR(YEAR(VLOOKUP($D130,申請者リスト!$C$4:$Q$2003,7,FALSE)),\"\")","v":""},"・",{"$f":"IFERROR(MONTH(VLOOKUP($D130,申請者リスト!$C$4:$Q$2003,7,FALSE)),\"\")","v":""},"・",{"$f":"IFERROR(DAY(VLOOKUP($D130,申請者リスト!$C$4:$Q$2003,7,FALSE)),\"\")","v":""},{"$f":"COUNTIFS(申請者リスト!$C$4:$C$2003,様式３!$D130,申請者リスト!$P$4:$P$2003,J$8)","v":0},{"$f":"COUNTIFS(申請者リスト!$C$4:$C$2003,様式３!$D130,申請者リスト!$P$4:$P$2003,K$8)","v":0},{"$f":"COUNTIFS(申請者リスト!$C$4:$C$2003,様式３!$D130,申請者リスト!$P$4:$P$2003,L$8)","v":0},{"$f":"COUNTIFS(申請者リスト!$C$4:$C$2003,様式３!$D130,申請者リスト!$P$4:$P$2003,M$8)","v":0},{"$f":"J130*$J$9+K130*$K$9+L130*$L$9+M130*$M$9","v":0}]
[{"$f":"+A130+1","v":62},null,null,null,{"$f":"IFERROR(YEAR(VLOOKUP($D131,申請者リスト!$C$4:$Q$2003,7,FALSE)),\"\")","v":""},"・",{"$f":"IFERROR(MONTH(VLOOKUP($D131,申請者リスト!$C$4:$Q$2003,7,FALSE)),\"\")","v":""},"・",{"$f":"IFERROR(DAY(VLOOKUP($D131,申請者リスト!$C$4:$Q$2003,7,FALSE)),\"\")","v":""},{"$f":"COUNTIFS(申請者リスト!$C$4:$C$2003,様式３!$D131,申請者リスト!$P$4:$P$2003,J$8)","v":0},{"$f":"COUNTIFS(申請者リスト!$C$4:$C$2003,様式３!$D131,申請者リスト!$P$4:$P$2003,K$8)","v":0},{"$f":"COUNTIFS(申請者リスト!$C$4:$C$2003,様式３!$D131,申請者リスト!$P$4:$P$2003,L$8)","v":0},{"$f":"COUNTIFS(申請者リスト!$C$4:$C$2003,様式３!$D131,申請者リスト!$P$4:$P$2003,M$8)","v":0},{"$f":"J131*$J$9+K131*$K$9+L131*$L$9+M131*$M$9","v":0}]
[{"$f":"+A131+1","v":63},null,null,null,{"$f":"IFERROR(YEAR(VLOOKUP($D132,申請者リスト!$C$4:$Q$2003,7,FALSE)),\"\")","v":""},"・",{"$f":"IFERROR(MONTH(VLOOKUP($D132,申請者リスト!$C$4:$Q$2003,7,FALSE)),\"\")","v":""},"・",{"$f":"IFERROR(DAY(VLOOKUP($D132,申請者リスト!$C$4:$Q$2003,7,FALSE)),\"\")","v":""},{"$f":"COUNTIFS(申請者リスト!$C$4:$C$2003,様式３!$D132,申請者リスト!$P$4:$P$2003,J$8)","v":0},{"$f":"COUNTIFS(申請者リスト!$C$4:$C$2003,様式３!$D132,申請者リスト!$P$4:$P$2003,K$8)","v":0},{"$f":"COUNTIFS(申請者リスト!$C$4:$C$2003,様式３!$D132,申請者リスト!$P$4:$P$2003,L$8)","v":0},{"$f":"COUNTIFS(申請者リスト!$C$4:$C$2003,様式３!$D132,申請者リスト!$P$4:$P$2003,M$8)","v":0},0]
[64,null,null,null,{"$f":"IFERROR(YEAR(VLOOKUP($D133,申請者リスト!$C$4:$Q$2003,7,FALSE)),\"\")","v":""},"・",{"$f":"IFERROR(MONTH(VLOOKUP($D133,申請者リスト!$C$4:$Q$2003,7,FALSE)),\"\")","v":""},"・",{"$f":"IFERROR(DAY(VLOOKUP($D133,申請者リスト!$C$4:$Q$2003,7,FALSE)),\"\")","v":""},{"$f":"COUNTIFS(申請者リスト!$C$4:$C$2003,様式３!$D133,申請者リスト!$P$4:$P$2003,J$8)","v":0},{"$f":"COUNTIFS(申請者リスト!$C$4:$C$2003,様式３!$D133,申請者リスト!$P$4:$P$2003,K$8)","v":0},{"$f":"COUNTIFS(申請者リスト!$C$4:$C$2003,様式３!$D133,申請者リスト!$P$4:$P$2003,L$8)","v":0},{"$f":"COUNTIFS(申請者リスト!$C$4:$C$2003,様式３!$D133,申請者リスト!$P$4:$P$2003,M$8)","v":0},0]
[65,null,null,null,{"$f":"IFERROR(YEAR(VLOOKUP($D134,申請者リスト!$C$4:$Q$2003,7,FALSE)),\"\")","v":""},"・",{"$f":"IFERROR(MONTH(VLOOKUP($D134,申請者リスト!$C$4:$Q$2003,7,FALSE)),\"\")","v":""},"・",{"$f":"IFERROR(DAY(VLOOKUP($D134,申請者リスト!$C$4:$Q$2003,7,FALSE)),\"\")","v":""},{"$f":"COUNTIFS(申請者リスト!$C$4:$C$2003,様式３!$D134,申請者リスト!$P$4:$P$2003,J$8)","v":0},{"$f":"COUNTIFS(申請者リスト!$C$4:$C$2003,様式３!$D134,申請者リスト!$P$4:$P$2003,K$8)","v":0},{"$f":"COUNTIFS(申請者リスト!$C$4:$C$2003,様式３!$D134,申請者リスト!$P$4:$P$2003,L$8)","v":0},{"$f":"COUNTIFS(申請者リスト!$C$4:$C$2003,様式３!$D134,申請者リスト!$P$4:$P$2003,M$8)","v":0},0]
[66,null,null,null,{"$f":"IFERROR(YEAR(VLOOKUP($D135,申請者リスト!$C$4:$Q$2003,7,FALSE)),\"\")","v":""},"・",{"$f":"IFERROR(MONTH(VLOOKUP($D135,申請者リスト!$C$4:$Q$2003,7,FALSE)),\"\")","v":""},"・",{"$f":"IFERROR(DAY(VLOOKUP($D135,申請者リスト!$C$4:$Q$2003,7,FALSE)),\"\")","v":""},{"$f":"COUNTIFS(申請者リスト!$C$4:$C$2003,様式３!$D135,申請者リスト!$P$4:$P$2003,J$8)","v":0},{"$f":"COUNTIFS(申請者リスト!$C$4:$C$2003,様式３!$D135,申請者リスト!$P$4:$P$2003,K$8)","v":0},{"$f":"COUNTIFS(申請者リスト!$C$4:$C$2003,様式３!$D135,申請者リスト!$P$4:$P$2003,L$8)","v":0},{"$f":"COUNTIFS(申請者リスト!$C$4:$C$2003,様式３!$D135,申請者リスト!$P$4:$P$2003,M$8)","v":0},0]
[67,null,null,null,{"$f":"IFERROR(YEAR(VLOOKUP($D136,申請者リスト!$C$4:$Q$2003,7,FALSE)),\"\")","v":""},"・",{"$f":"IFERROR(MONTH(VLOOKUP($D136,申請者リスト!$C$4:$Q$2003,7,FALSE)),\"\")","v":""},"・",{"$f":"IFERROR(DAY(VLOOKUP($D136,申請者リスト!$C$4:$Q$2003,7,FALSE)),\"\")","v":""},{"$f":"COUNTIFS(申請者リスト!$C$4:$C$2003,様式３!$D136,申請者リスト!$P$4:$P$2003,J$8)","v":0},{"$f":"COUNTIFS(申請者リスト!$C$4:$C$2003,様式３!$D136,申請者リスト!$P$4:$P$2003,K$8)","v":0},{"$f":"COUNTIFS(申請者リスト!$C$4:$C$2003,様式３!$D136,申請者リスト!$P$4:$P$2003,L$8)","v":0},{"$f":"COUNTIFS(申請者リスト!$C$4:$C$2003,様式３!$D136,申請者リスト!$P$4:$P$2003,M$8)","v":0},0]
[68,null,null,null,{"$f":"IFERROR(YEAR(VLOOKUP($D137,申請者リスト!$C$4:$Q$2003,7,FALSE)),\"\")","v":""},"・",{"$f":"IFERROR(MONTH(VLOOKUP($D137,申請者リスト!$C$4:$Q$2003,7,FALSE)),\"\")","v":""},"・",{"$f":"IFERROR(DAY(VLOOKUP($D137,申請者リスト!$C$4:$Q$2003,7,FALSE)),\"\")","v":""},{"$f":"COUNTIFS(申請者リスト!$C$4:$C$2003,様式３!$D137,申請者リスト!$P$4:$P$2003,J$8)","v":0},{"$f":"COUNTIFS(申請者リスト!$C$4:$C$2003,様式３!$D137,申請者リスト!$P$4:$P$2003,K$8)","v":0},{"$f":"COUNTIFS(申請者リスト!$C$4:$C$2003,様式３!$D137,申請者リスト!$P$4:$P$2003,L$8)","v":0},{"$f":"COUNTIFS(申請者リスト!$C$4:$C$2003,様式３!$D137,申請者リスト!$P$4:$P$2003,M$8)","v":0},0]
[69,null,null,null,{"$f":"IFERROR(YEAR(VLOOKUP($D138,申請者リスト!$C$4:$Q$2003,7,FALSE)),\"\")","v":""},"・",{"$f":"IFERROR(MONTH(VLOOKUP($D138,申請者リスト!$C$4:$Q$2003,7,FALSE)),\"\")","v":""},"・",{"$f":"IFERROR(DAY(VLOOKUP($D138,申請者リスト!$C$4:$Q$2003,7,FALSE)),\"\")","v":""},{"$f":"COUNTIFS(申請者リスト!$C$4:$C$2003,様式３!$D138,申請者リスト!$P$4:$P$2003,J$8)","v":0},{"$f":"COUNTIFS(申請者リスト!$C$4:$C$2003,様式３!$D138,申請者リスト!$P$4:$P$2003,K$8)","v":0},{"$f":"COUNTIFS(申請者リスト!$C$4:$C$2003,様式３!$D138,申請者リスト!$P$4:$P$2003,L$8)","v":0},{"$f":"COUNTIFS(申請者リスト!$C$4:$C$2003,様式３!$D138,申請者リスト!$P$4:$P$2003,M$8)","v":0},0]
[70,null,null,null,{"$f":"IFERROR(YEAR(VLOOKUP($D139,申請者リスト!$C$4:$Q$2003,7,FALSE)),\"\")","v":""},"・",{"$f":"IFERROR(MONTH(VLOOKUP($D139,申請者リスト!$C$4:$Q$2003,7,FALSE)),\"\")","v":""},"・",{"$f":"IFERROR(DAY(VLOOKUP($D139,申請者リスト!$C$4:$Q$2003,7,FALSE)),\"\")","v":""},{"$f":"COUNTIFS(申請者リスト!$C$4:$C$2003,様式３!$D139,申請者リスト!$P$4:$P$2003,J$8)","v":0},{"$f":"COUNTIFS(申請者リスト!$C$4:$C$2003,様式３!$D139,申請者リスト!$P$4:$P$2003,K$8)","v":0},{"$f":"COUNTIFS(申請者リスト!$C$4:$C$2003,様式３!$D139,申請者リスト!$P$4:$P$2003,L$8)","v":0},{"$f":"COUNTIFS(申請者リスト!$C$4:$C$2003,様式３!$D139,申請者リスト!$P$4:$P$2003,M$8)","v":0},0]
[71,null,null,null,{"$f":"IFERROR(YEAR(VLOOKUP($D140,申請者リスト!$C$4:$Q$2003,7,FALSE)),\"\")","v":""},"・",{"$f":"IFERROR(MONTH(VLOOKUP($D140,申請者リスト!$C$4:$Q$2003,7,FALSE)),\"\")","v":""},"・",{"$f":"IFERROR(DAY(VLOOKUP($D140,申請者リスト!$C$4:$Q$2003,7,FALSE)),\"\")","v":""},{"$f":"COUNTIFS(申請者リスト!$C$4:$C$2003,様式３!$D140,申請者リスト!$P$4:$P$2003,J$8)","v":0},{"$f":"COUNTIFS(申請者リスト!$C$4:$C$2003,様式３!$D140,申請者リスト!$P$4:$P$2003,K$8)","v":0},{"$f":"COUNTIFS(申請者リスト!$C$4:$C$2003,様式３!$D140,申請者リスト!$P$4:$P$2003,L$8)","v":0},{"$f":"COUNTIFS(申請者リスト!$C$4:$C$2003,様式３!$D140,申請者リスト!$P$4:$P$2003,M$8)","v":0},0]
[72,null,null,null,{"$f":"IFERROR(YEAR(VLOOKUP($D141,申請者リスト!$C$4:$Q$2003,7,FALSE)),\"\")","v":""},"・",{"$f":"IFERROR(MONTH(VLOOKUP($D141,申請者リスト!$C$4:$Q$2003,7,FALSE)),\"\")","v":""},"・",{"$f":"IFERROR(DAY(VLOOKUP($D141,申請者リスト!$C$4:$Q$2003,7,FALSE)),\"\")","v":""},{"$f":"COUNTIFS(申請者リスト!$C$4:$C$2003,様式３!$D141,申請者リスト!$P$4:$P$2003,J$8)","v":0},{"$f":"COUNTIFS(申請者リスト!$C$4:$C$2003,様式３!$D141,申請者リスト!$P$4:$P$2003,K$8)","v":0},{"$f":"COUNTIFS(申請者リスト!$C$4:$C$2003,様式３!$D141,申請者リスト!$P$4:$P$2003,L$8)","v":0},{"$f":"COUNTIFS(申請者リスト!$C$4:$C$2003,様式３!$D141,申請者リスト!$P$4:$P$2003,M$8)","v":0},0]
[73,null,null,null,{"$f":"IFERROR(YEAR(VLOOKUP($D142,申請者リスト!$C$4:$Q$2003,7,FALSE)),\"\")","v":""},"・",{"$f":"IFERROR(MONTH(VLOOKUP($D142,申請者リスト!$C$4:$Q$2003,7,FALSE)),\"\")","v":""},"・",{"$f":"IFERROR(DAY(VLOOKUP($D142,申請者リスト!$C$4:$Q$2003,7,FALSE)),\"\")","v":""},{"$f":"COUNTIFS(申請者リスト!$C$4:$C$2003,様式３!$D142,申請者リスト!$P$4:$P$2003,J$8)","v":0},{"$f":"COUNTIFS(申請者リスト!$C$4:$C$2003,様式３!$D142,申請者リスト!$P$4:$P$2003,K$8)","v":0},{"$f":"COUNTIFS(申請者リスト!$C$4:$C$2003,様式３!$D142,申請者リスト!$P$4:$P$2003,L$8)","v":0},{"$f":"COUNTIFS(申請者リスト!$C$4:$C$2003,様式３!$D142,申請者リスト!$P$4:$P$2003,M$8)","v":0},0]
[74,null,null,null,{"$f":"IFERROR(YEAR(VLOOKUP($D143,申請者リスト!$C$4:$Q$2003,7,FALSE)),\"\")","v":""},"・",{"$f":"IFERROR(MONTH(VLOOKUP($D143,申請者リスト!$C$4:$Q$2003,7,FALSE)),\"\")","v":""},"・",{"$f":"IFERROR(DAY(VLOOKUP($D143,申請者リスト!$C$4:$Q$2003,7,FALSE)),\"\")","v":""},{"$f":"COUNTIFS(申請者リスト!$C$4:$C$2003,様式３!$D143,申請者リスト!$P$4:$P$2003,J$8)","v":0},{"$f":"COUNTIFS(申請者リスト!$C$4:$C$2003,様式３!$D143,申請者リスト!$P$4:$P$2003,K$8)","v":0},{"$f":"COUNTIFS(申請者リスト!$C$4:$C$2003,様式３!$D143,申請者リスト!$P$4:$P$2003,L$8)","v":0},{"$f":"COUNTIFS(申請者リスト!$C$4:$C$2003,様式３!$D143,申請者リスト!$P$4:$P$2003,M$8)","v":0},0]
[75,null,null,null,{"$f":"IFERROR(YEAR(VLOOKUP($D144,申請者リスト!$C$4:$Q$2003,7,FALSE)),\"\")","v":""},"・",{"$f":"IFERROR(MONTH(VLOOKUP($D144,申請者リスト!$C$4:$Q$2003,7,FALSE)),\"\")","v":""},"・",{"$f":"IFERROR(DAY(VLOOKUP($D144,申請者リスト!$C$4:$Q$2003,7,FALSE)),\"\")","v":""},{"$f":"COUNTIFS(申請者リスト!$C$4:$C$2003,様式３!$D144,申請者リスト!$P$4:$P$2003,J$8)","v":0},{"$f":"COUNTIFS(申請者リスト!$C$4:$C$2003,様式３!$D144,申請者リスト!$P$4:$P$2003,K$8)","v":0},{"$f":"COUNTIFS(申請者リスト!$C$4:$C$2003,様式３!$D144,申請者リスト!$P$4:$P$2003,L$8)","v":0},{"$f":"COUNTIFS(申請者リスト!$C$4:$C$2003,様式３!$D144,申請者リスト!$P$4:$P$2003,M$8)","v":0},0]
["※１","学科の欄には、大学科名を記入する。"]
["※２","整理番号は、様式１の整理番号（担当者が付記）と一致させる。"]
[null,"なお、整理番号については、各学校の大学科ごとに１～を割り振ること。"]
["※３","資格・試験等ランクの欄には、取得個数を記入する。"]
["※４","得点合計欄には、得点の合計を記入する。"]
[]
["（様式３）",null,null,null,null,null,null,null,null,null,"(",{"$f":"$L$1","v":0},"枚中",{"$f":"+N121+1","v":6},"枚目）"]
[]
["埼玉県高校生専門資格等取得表彰推薦名簿"]
[]
[null,null,null,null,null,null,"学  校  名　　　　　　　　　　",null,null,{"$f":"$J$5","v":0},null,null,null,null,"学校"]
[]
["Ｎｏ","学　年　　　　　　　　　　　　　　　　　　　","学　科","整理番号","生　年　月　日",null,null,null,null,"資格・試験等ﾗﾝｸ",null,null,null,"得点合計","備　考"]
[null,null,null,null,null,null,null,null,null,"A","B","C","D"]
[null,null,null,null,null,null,null,null,null,6,3,2,1]
[{"$f":"+A144+1","v":76},null,null,null,{"$f":"IFERROR(YEAR(VLOOKUP($D160,申請者リスト!$C$4:$Q$2003,7,FALSE)),\"\")","v":""},"・",{"$f":"IFERROR(MONTH(VLOOKUP($D160,申請者リスト!$C$4:$Q$2003,7,FALSE)),\"\")","v":""},"・",{"$f":"IFERROR(DAY(VLOOKUP($D160,申請者リスト!$C$4:$Q$2003,7,FALSE)),\"\")","v":""},{"$f":"COUNTIFS(申請者リスト!$C$4:$C$2003,様式３!$D160,申請者リスト!$P$4:$P$2003,J$8)","v":0},{"$f":"COUNTIFS(申請者リスト!$C$4:$C$2003,様式３!$D160,申請者リスト!$P$4:$P$2003,K$8)","v":0},{"$f":"COUNTIFS(申請者リスト!$C$4:$C$2003,様式３!$D160,申請者リスト!$P$4:$P$2003,L$8)","v":0},{"$f":"COUNTIFS(申請者リスト!$C$4:$C$2003,様式３!$D160,申請者リスト!$P$4:$P$2003,M$8)","v":0},{"$f":"J160*$J$9+K160*$K$9+L160*$L$9+M160*$M$9","v":0}]
[{"$f":"+A160+1","v":77},null,null,null,{"$f":"IFERROR(YEAR(VLOOKUP($D161,申請者リスト!$C$4:$Q$2003,7,FALSE)),\"\")","v":""},"・",{"$f":"IFERROR(MONTH(VLOOKUP($D161,申請者リスト!$C$4:$Q$2003,7,FALSE)),\"\")","v":""},"・",{"$f":"IFERROR(DAY(VLOOKUP($D161,申請者リスト!$C$4:$Q$2003,7,FALSE)),\"\")","v":""},{"$f":"COUNTIFS(申請者リスト!$C$4:$C$2003,様式３!$D161,申請者リスト!$P$4:$P$2003,J$8)","v":0},{"$f":"COUNTIFS(申請者リスト!$C$4:$C$2003,様式３!$D161,申請者リスト!$P$4:$P$2003,K$8)","v":0},{"$f":"COUNTIFS(申請者リスト!$C$4:$C$2003,様式３!$D161,申請者リスト!$P$4:$P$2003,L$8)","v":0},{"$f":"COUNTIFS(申請者リスト!$C$4:$C$2003,様式３!$D161,申請者リスト!$P$4:$P$2003,M$8)","v":0},{"$f":"J161*$J$9+K161*$K$9+L161*$L$9+M161*$M$9","v":0}]
[{"$f":"+A161+1","v":78},null,null,null,{"$f":"IFERROR(YEAR(VLOOKUP($D162,申請者リスト!$C$4:$Q$2003,7,FALSE)),\"\")","v":""},"・",{"$f":"IFERROR(MONTH(VLOOKUP($D162,申請者リスト!$C$4:$Q$2003,7,FALSE)),\"\")","v":""},"・",{"$f":"IFERROR(DAY(VLOOKUP($D162,申請者リスト!$C$4:$Q$2003,7,FALSE)),\"\")","v":""},{"$f":"COUNTIFS(申請者リスト!$C$4:$C$2003,様式３!$D162,申請者リスト!$P$4:$P$2003,J$8)","v":0},{"$f":"COUNTIFS(申請者リスト!$C$4:$C$2003,様式３!$D162,申請者リスト!$P$4:$P$2003,K$8)","v":0},{"$f":"COUNTIFS(申請者リスト!$C$4:$C$2003,様式３!$D162,申請者リスト!$P$4:$P$2003,L$8)","v":0},{"$f":"COUNTIFS(申請者リスト!$C$4:$C$2003,様式３!$D162,申請者リスト!$P$4:$P$2003,M$8)","v":0},0]
[79,null,null,null,{"$f":"IFERROR(YEAR(VLOOKUP($D163,申請者リスト!$C$4:$Q$2003,7,FALSE)),\"\")","v":""},"・",{"$f":"IFERROR(MONTH(VLOOKUP($D163,申請者リスト!$C$4:$Q$2003,7,FALSE)),\"\")","v":""},"・",{"$f":"IFERROR(DAY(VLOOKUP($D163,申請者リスト!$C$4:$Q$2003,7,FALSE)),\"\")","v":""},{"$f":"COUNTIFS(申請者リスト!$C$4:$C$2003,様式３!$D163,申請者リスト!$P$4:$P$2003,J$8)","v":0},{"$f":"COUNTIFS(申請者リスト!$C$4:$C$2003,様式３!$D163,申請者リスト!$P$4:$P$2003,K$8)","v":0},{"$f":"COUNTIFS(申請者リスト!$C$4:$C$2003,様式３!$D163,申請者リスト!$P$4:$P$2003,L$8)","v":0},{"$f":"COUNTIFS(申請者リスト!$C$4:$C$2003,様式３!$D163,申請者リスト!$P$4:$P$2003,M$8)","v":0},0]
[80,null,null,null,{"$f":"IFERROR(YEAR(VLOOKUP($D164,申請者リスト!$C$4:$Q$2003,7,FALSE)),\"\")","v":""},"・",{"$f":"IFERROR(MONTH(VLOOKUP($D164,申請者リスト!$C$4:$Q$2003,7,FALSE)),\"\")","v":""},"・",{"$f":"IFERROR(DAY(VLOOKUP($D164,申請者リスト!$C$4:$Q$2003,7,FALSE)),\"\")","v":""},{"$f":"COUNTIFS(申請者リスト!$C$4:$C$2003,様式３!$D164,申請者リスト!$P$4:$P$2003,J$8)","v":0},{"$f":"COUNTIFS(申請者リスト!$C$4:$C$2003,様式３!$D164,申請者リスト!$P$4:$P$2003,K$8)","v":0},{"$f":"COUNTIFS(申請者リスト!$C$4:$C$2003,様式３!$D164,申請者リスト!$P$4:$P$2003,L$8)","v":0},{"$f":"COUNTIFS(申請者リスト!$C$4:$C$2003,様式３!$D164,申請者リスト!$P$4:$P$2003,M$8)","v":0},0]
[81,null,null,null,{"$f":"IFERROR(YEAR(VLOOKUP($D165,申請者リスト!$C$4:$Q$2003,7,FALSE)),\"\")","v":""},"・",{"$f":"IFERROR(MONTH(VLOOKUP($D165,申請者リスト!$C$4:$Q$2003,7,FALSE)),\"\")","v":""},"・",{"$f":"IFERROR(DAY(VLOOKUP($D165,申請者リスト!$C$4:$Q$2003,7,FALSE)),\"\")","v":""},{"$f":"COUNTIFS(申請者リスト!$C$4:$C$2003,様式３!$D165,申請者リスト!$P$4:$P$2003,J$8)","v":0},{"$f":"COUNTIFS(申請者リスト!$C$4:$C$2003,様式３!$D165,申請者リスト!$P$4:$P$2003,K$8)","v":0},{"$f":"COUNTIFS(申請者リスト!$C$4:$C$2003,様式３!$D165,申請者リスト!$P$4:$P$2003,L$8)","v":0},{"$f":"COUNTIFS(申請者リスト!$C$4:$C$2003,様式３!$D165,申請者リスト!$P$4:$P$2003,M$8)","v":0},0]
[82,null,null,null,{"$f":"IFERROR(YEAR(VLOOKUP($D166,申請者リスト!$C$4:$Q$2003,7,FALSE)),\"\")","v":""},"・",{"$f":"IFERROR(MONTH(VLOOKUP($D166,申請者リスト!$C$4:$Q$2003,7,FALSE)),\"\")","v":""},"・",{"$f":"IFERROR(DAY(VLOOKUP($D166,申請者リスト!$C$4:$Q$2003,7,FALSE)),\"\")","v":""},{"$f":"COUNTIFS(申請者リスト!$C$4:$C$2003,様式３!$D166,申請者リスト!$P$4:$P$2003,J$8)","v":0},{"$f":"COUNTIFS(申請者リスト!$C$4:$C$2003,様式３!$D166,申請者リスト!$P$4:$P$2003,K$8)","v":0},{"$f":"COUNTIFS(申請者リスト!$C$4:$C$2003,様式３!$D166,申請者リスト!$P$4:$P$2003,L$8)","v":0},{"$f":"COUNTIFS(申請者リスト!$C$4:$C$2003,様式３!$D166,申請者リスト!$P$4:$P$2003,M$8)","v":0},0]
[83,null,null,null,{"$f":"IFERROR(YEAR(VLOOKUP($D167,申請者リスト!$C$4:$Q$2003,7,FALSE)),\"\")","v":""},"・",{"$f":"IFERROR(MONTH(VLOOKUP($D167,申請者リスト!$C$4:$Q$2003,7,FALSE)),\"\")","v":""},"・",{"$f":"IFERROR(DAY(VLOOKUP($D167,申請者リスト!$C$4:$Q$2003,7,FALSE)),\"\")","v":""},{"$f":"COUNTIFS(申請者リスト!$C$4:$C$2003,様式３!$D167,申請者リスト!$P$4:$P$2003,J$8)","v":0},{"$f":"COUNTIFS(申請者リスト!$C$4:$C$2003,様式３!$D167,申請者リスト!$P$4:$P$2003,K$8)","v":0},{"$f":"COUNTIFS(申請者リスト!$C$4:$C$2003,様式３!$D167,申請者リスト!$P$4:$P$2003,L$8)","v":0},{"$f":"COUNTIFS(申請者リスト!$C$4:$C$2003,様式３!$D167,申請者リスト!$P$4:$P$2003,M$8)","v":0},0]
[84,null,null,null,{"$f":"IFERROR(YEAR(VLOOKUP($D168,申請者リスト!$C$4:$Q$2003,7,FALSE)),\"\")","v":""},"・",{"$f":"IFERROR(MONTH(VLOOKUP($D168,申請者リスト!$C$4:$Q$2003,7,FALSE)),\"\")","v":""},"・",{"$f":"IFERROR(DAY(VLOOKUP($D168,申請者リスト!$C$4:$Q$2003,7,FALSE)),\"\")","v":""},{"$f":"COUNTIFS(申請者リスト!$C$4:$C$2003,様式３!$D168,申請者リスト!$P$4:$P$2003,J$8)","v":0},{"$f":"COUNTIFS(申請者リスト!$C$4:$C$2003,様式３!$D168,申請者リスト!$P$4:$P$2003,K$8)","v":0},{"$f":"COUNTIFS(申請者リスト!$C$4:$C$2003,様式３!$D168,申請者リスト!$P$4:$P$2003,L$8)","v":0},{"$f":"COUNTIFS(申請者リスト!$C$4:$C$2003,様式３!$D168,申請者リスト!$P$4:$P$2003,M$8)","v":0},0]
[85,null,null,null,{"$f":"IFERROR(YEAR(VLOOKUP($D169,申請者リスト!$C$4:$Q$2003,7,FALSE)),\"\")","v":""},"・",{"$f":"IFERROR(MONTH(VLOOKUP($D169,申請者リスト!$C$4:$Q$2003,7,FALSE)),\"\")","v":""},"・",{"$f":"IFERROR(DAY(VLOOKUP($D169,申請者リスト!$C$4:$Q$2003,7,FALSE)),\"\")","v":""},{"$f":"COUNTIFS(申請者リスト!$C$4:$C$2003,様式３!$D169,申請者リスト!$P$4:$P$2003,J$8)","v":0},{"$f":"COUNTIFS(申請者リスト!$C$4:$C$2003,様式３!$D169,申請者リスト!$P$4:$P$2003,K$8)","v":0},{"$f":"COUNTIFS(申請者リスト!$C$4:$C$2003,様式３!$D169,申請者リスト!$P$4:$P$2003,L$8)","v":0},{"$f":"COUNTIFS(申請者リスト!$C$4:$C$2003,様式３!$D169,申請者リスト!$P$4:$P$2003,M$8)","v":0},0]
[86,null,null,null,{"$f":"IFERROR(YEAR(VLOOKUP($D170,申請者リスト!$C$4:$Q$2003,7,FALSE)),\"\")","v":""},"・",{"$f":"IFERROR(MONTH(VLOOKUP($D170,申請者リスト!$C$4:$Q$2003,7,FALSE)),\"\")","v":""},"・",{"$f":"IFERROR(DAY(VLOOKUP($D170,申請者リスト!$C$4:$Q$2003,7,FALSE)),\"\")","v":""},{"$f":"COUNTIFS(申請者リスト!$C$4:$C$2003,様式３!$D170,申請者リスト!$P$4:$P$2003,J$8)","v":0},{"$f":"COUNTIFS(申請者リスト!$C$4:$C$2003,様式３!$D170,申請者リスト!$P$4:$P$2003,K$8)","v":0},{"$f":"COUNTIFS(申請者リスト!$C$4:$C$2003,様式３!$D170,申請者リスト!$P$4:$P$2003,L$8)","v":0},{"$f":"COUNTIFS(申請者リスト!$C$4:$C$2003,様式３!$D170,申請者リスト!$P$4:$P$2003,M$8)","v":0},0]
[87,null,null,null,{"$f":"IFERROR(YEAR(VLOOKUP($D171,申請者リスト!$C$4:$Q$2003,7,FALSE)),\"\")","v":""},"・",{"$f":"IFERROR(MONTH(VLOOKUP($D171,申請者リスト!$C$4:$Q$2003,7,FALSE)),\"\")","v":""},"・",{"$f":"IFERROR(DAY(VLOOKUP($D171,申請者リスト!$C$4:$Q$2003,7,FALSE)),\"\")","v":""},{"$f":"COUNTIFS(申請者リスト!$C$4:$C$2003,様式３!$D171,申請者リスト!$P$4:$P$2003,J$8)","v":0},{"$f":"COUNTIFS(申請者リスト!$C$4:$C$2003,様式３!$D171,申請者リスト!$P$4:$P$2003,K$8)","v":0},{"$f":"COUNTIFS(申請者リスト!$C$4:$C$2003,様式３!$D171,申請者リスト!$P$4:$P$2003,L$8)","v":0},{"$f":"COUNTIFS(申請者リスト!$C$4:$C$2003,様式３!$D171,申請者リスト!$P$4:$P$2003,M$8)","v":0},0]
[88,null,null,null,{"$f":"IFERROR(YEAR(VLOOKUP($D172,申請者リスト!$C$4:$Q$2003,7,FALSE)),\"\")","v":""},"・",{"$f":"IFERROR(MONTH(VLOOKUP($D172,申請者リスト!$C$4:$Q$2003,7,FALSE)),\"\")","v":""},"・",{"$f":"IFERROR(DAY(VLOOKUP($D172,申請者リスト!$C$4:$Q$2003,7,FALSE)),\"\")","v":""},{"$f":"COUNTIFS(申請者リスト!$C$4:$C$2003,様式３!$D172,申請者リスト!$P$4:$P$2003,J$8)","v":0},{"$f":"COUNTIFS(申請者リスト!$C$4:$C$2003,様式３!$D172,申請者リスト!$P$4:$P$2003,K$8)","v":0},{"$f":"COUNTIFS(申請者リスト!$C$4:$C$2003,様式３!$D172,申請者リスト!$P$4:$P$2003,L$8)","v":0},{"$f":"COUNTIFS(申請者リスト!$C$4:$C$2003,様式３!$D172,申請者リスト!$P$4:$P$2003,M$8)","v":0},0]
[89,null,null,null,{"$f":"IFERROR(YEAR(VLOOKUP($D173,申請者リスト!$C$4:$Q$2003,7,FALSE)),\"\")","v":""},"・",{"$f":"IFERROR(MONTH(VLOOKUP($D173,申請者リスト!$C$4:$Q$2003,7,FALSE)),\"\")","v":""},"・",{"$f":"IFERROR(DAY(VLOOKUP($D173,申請者リスト!$C$4:$Q$2003,7,FALSE)),\"\")","v":""},{"$f":"COUNTIFS(申請者リスト!$C$4:$C$2003,様式３!$D173,申請者リスト!$P$4:$P$2003,J$8)","v":0},{"$f":"COUNTIFS(申請者リスト!$C$4:$C$2003,様式３!$D173,申請者リスト!$P$4:$P$2003,K$8)","v":0},{"$f":"COUNTIFS(申請者リスト!$C$4:$C$2003,様式３!$D173,申請者リスト!$P$4:$P$2003,L$8)","v":0},{"$f":"COUNTIFS(申請者リスト!$C$4:$C$2003,様式３!$D173,申請者リスト!$P$4:$P$2003,M$8)","v":0},0]
[90,null,null,null,{"$f":"IFERROR(YEAR(VLOOKUP($D174,申請者リスト!$C$4:$Q$2003,7,FALSE)),\"\")","v":""},"・",{"$f":"IFERROR(MONTH(VLOOKUP($D174,申請者リスト!$C$4:$Q$2003,7,FALSE)),\"\")","v":""},"・",{"$f":"IFERROR(DAY(VLOOKUP($D174,申請者リスト!$C$4:$Q$2003,7,FALSE)),\"\")","v":""},{"$f":"COUNTIFS(申請者リスト!$C$4:$C$2003,様式３!$D174,申請者リスト!$P$4:$P$2003,J$8)","v":0},{"$f":"COUNTIFS(申請者リスト!$C$4:$C$2003,様式３!$D174,申請者リスト!$P$4:$P$2003,K$8)","v":0},{"$f":"COUNTIFS(申請者リスト!$C$4:$C$2003,様式３!$D174,申請者リスト!$P$4:$P$2003,L$8)","v":0},{"$f":"COUNTIFS(申請者リスト!$C$4:$C$2003,様式３!$D174,申請者リスト!$P$4:$P$2003,M$8)","v":0},0]
["※１","学科の欄には、大学科名を記入する。"]
["※２","整理番号は、様式１の整理番号（担当者が付記）と一致させる。"]
[null,"なお、整理番号については、各学校の大学科ごとに１～を割り振ること。"]
["※３","資格・試験等ランクの欄には、取得個数を記入する。"]
["※４","得点合計欄には、得点の合計を記入する。"]
[]
["（様式３）",null,null,null,null,null,null,null,null,null,"(",{"$f":"$L$1","v":0},"枚中",{"$f":"+N151+1","v":7},"枚目）"]
[]
["埼玉県高校生専門資格等取得表彰推薦名簿"]
[]
[null,null,null,null,null,null,"学  校  名　　　　　　　　　　",null,null,{"$f":"$J$5","v":0},null,null,null,null,"学校"]
[]
["Ｎｏ","学　年　　　　　　　　　　　　　　　　　　　","学　科","整理番号","生　年　月　日",null,null,null,null,"資格・試験等ﾗﾝｸ",null,null,null,"得点合計","備　考"]
[null,null,null,null,null,null,null,null,null,"A","B","C","D"]
[null,null,null,null,null,null,null,null,null,6,3,2,1]
[{"$f":"+A174+1","v":91},null,null,null,{"$f":"IFERROR(YEAR(VLOOKUP($D190,申請者リスト!$C$4:$Q$2003,7,FALSE)),\"\")","v":""},"・",{"$f":"IFERROR(MONTH(VLOOKUP($D190,申請者リスト!$C$4:$Q$2003,7,FALSE)),\"\")","v":""},"・",{"$f":"IFERROR(DAY(VLOOKUP($D190,申請者リスト!$C$4:$Q$2003,7,FALSE)),\"\")","v":""},{"$f":"COUNTIFS(申請者リスト!$C$4:$C$2003,様式３!$D190,申請者リスト!$P$4:$P$2003,J$8)","v":0},{"$f":"COUNTIFS(申請者リスト!$C$4:$C$2003,様式３!$D190,申請者リスト!$P$4:$P$2003,K$8)","v":0},{"$f":"COUNTIFS(申請者リスト!$C$4:$C$2003,様式３!$D190,申請者リスト!$P$4:$P$2003,L$8)","v":0},{"$f":"COUNTIFS(申請者リスト!$C$4:$C$2003,様式３!$D190,申請者リスト!$P$4:$P$2003,M$8)","v":0},{"$f":"J190*$J$9+K190*$K$9+L190*$L$9+M190*$M$9","v":0}]
[{"$f":"+A190+1","v":92},null,null,null,{"$f":"IFERROR(YEAR(VLOOKUP($D191,申請者リスト!$C$4:$Q$2003,7,FALSE)),\"\")","v":""},"・",{"$f":"IFERROR(MONTH(VLOOKUP($D191,申請者リスト!$C$4:$Q$2003,7,FALSE)),\"\")","v":""},"・",{"$f":"IFERROR(DAY(VLOOKUP($D191,申請者リスト!$C$4:$Q$2003,7,FALSE)),\"\")","v":""},{"$f":"COUNTIFS(申請者リスト!$C$4:$C$2003,様式３!$D191,申請者リスト!$P$4:$P$2003,J$8)","v":0},{"$f":"COUNTIFS(申請者リスト!$C$4:$C$2003,様式３!$D191,申請者リスト!$P$4:$P$2003,K$8)","v":0},{"$f":"COUNTIFS(申請者リスト!$C$4:$C$2003,様式３!$D191,申請者リスト!$P$4:$P$2003,L$8)","v":0},{"$f":"COUNTIFS(申請者リスト!$C$4:$C$2003,様式３!$D191,申請者リスト!$P$4:$P$2003,M$8)","v":0},{"$f":"J191*$J$9+K191*$K$9+L191*$L$9+M191*$M$9","v":0}]
[{"$f":"+A191+1","v":93},null,null,null,{"$f":"IFERROR(YEAR(VLOOKUP($D192,申請者リスト!$C$4:$Q$2003,7,FALSE)),\"\")","v":""},"・",{"$f":"IFERROR(MONTH(VLOOKUP($D192,申請者リスト!$C$4:$Q$2003,7,FALSE)),\"\")","v":""},"・",{"$f":"IFERROR(DAY(VLOOKUP($D192,申請者リスト!$C$4:$Q$2003,7,FALSE)),\"\")","v":""},{"$f":"COUNTIFS(申請者リスト!$C$4:$C$2003,様式３!$D192,申請者リスト!$P$4:$P$2003,J$8)","v":0},{"$f":"COUNTIFS(申請者リスト!$C$4:$C$2003,様式３!$D192,申請者リスト!$P$4:$P$2003,K$8)","v":0},{"$f":"COUNTIFS(申請者リスト!$C$4:$C$2003,様式３!$D192,申請者リスト!$P$4:$P$2003,L$8)","v":0},{"$f":"COUNTIFS(申請者リスト!$C$4:$C$2003,様式３!$D192,申請者リスト!$P$4:$P$2003,M$8)","v":0},0]
[94,null,null,null,{"$f":"IFERROR(YEAR(VLOOKUP($D193,申請者リスト!$C$4:$Q$2003,7,FALSE)),\"\")","v":""},"・",{"$f":"IFERROR(MONTH(VLOOKUP($D193,申請者リスト!$C$4:$Q$2003,7,FALSE)),\"\")","v":""},"・",{"$f":"IFERROR(DAY(VLOOKUP($D193,申請者リスト!$C$4:$Q$2003,7,FALSE)),\"\")","v":""},{"$f":"COUNTIFS(申請者リスト!$C$4:$C$2003,様式３!$D193,申請者リスト!$P$4:$P$2003,J$8)","v":0},{"$f":"COUNTIFS(申請者リスト!$C$4:$C$2003,様式３!$D193,申請者リスト!$P$4:$P$2003,K$8)","v":0},{"$f":"COUNTIFS(申請者リスト!$C$4:$C$2003,様式３!$D193,申請者リスト!$P$4:$P$2003,L$8)","v":0},{"$f":"COUNTIFS(申請者リスト!$C$4:$C$2003,様式３!$D193,申請者リスト!$P$4:$P$2003,M$8)","v":0},0]
[95,null,null,null,{"$f":"IFERROR(YEAR(VLOOKUP($D194,申請者リスト!$C$4:$Q$2003,7,FALSE)),\"\")","v":""},"・",{"$f":"IFERROR(MONTH(VLOOKUP($D194,申請者リスト!$C$4:$Q$2003,7,FALSE)),\"\")","v":""},"・",{"$f":"IFERROR(DAY(VLOOKUP($D194,申請者リスト!$C$4:$Q$2003,7,FALSE)),\"\")","v":""},{"$f":"COUNTIFS(申請者リスト!$C$4:$C$2003,様式３!$D194,申請者リスト!$P$4:$P$2003,J$8)","v":0},{"$f":"COUNTIFS(申請者リスト!$C$4:$C$2003,様式３!$D194,申請者リスト!$P$4:$P$2003,K$8)","v":0},{"$f":"COUNTIFS(申請者リスト!$C$4:$C$2003,様式３!$D194,申請者リスト!$P$4:$P$2003,L$8)","v":0},{"$f":"COUNTIFS(申請者リスト!$C$4:$C$2003,様式３!$D194,申請者リスト!$P$4:$P$2003,M$8)","v":0},0]
[96,null,null,null,{"$f":"IFERROR(YEAR(VLOOKUP($D195,申請者リスト!$C$4:$Q$2003,7,FALSE)),\"\")","v":""},"・",{"$f":"IFERROR(MONTH(VLOOKUP($D195,申請者リスト!$C$4:$Q$2003,7,FALSE)),\"\")","v":""},"・",{"$f":"IFERROR(DAY(VLOOKUP($D195,申請者リスト!$C$4:$Q$2003,7,FALSE)),\"\")","v":""},{"$f":"COUNTIFS(申請者リスト!$C$4:$C$2003,様式３!$D195,申請者リスト!$P$4:$P$2003,J$8)","v":0},{"$f":"COUNTIFS(申請者リスト!$C$4:$C$2003,様式３!$D195,申請者リスト!$P$4:$P$2003,K$8)","v":0},{"$f":"COUNTIFS(申請者リスト!$C$4:$C$2003,様式３!$D195,申請者リスト!$P$4:$P$2003,L$8)","v":0},{"$f":"COUNTIFS(申請者リスト!$C$4:$C$2003,様式３!$D195,申請者リスト!$P$4:$P$2003,M$8)","v":0},0]
[97,null,null,null,{"$f":"IFERROR(YEAR(VLOOKUP($D196,申請者リスト!$C$4:$Q$2003,7,FALSE)),\"\")","v":""},"・",{"$f":"IFERROR(MONTH(VLOOKUP($D196,申請者リスト!$C$4:$Q$2003,7,FALSE)),\"\")","v":""},"・",{"$f":"IFERROR(DAY(VLOOKUP($D196,申請者リスト!$C$4:$Q$2003,7,FALSE)),\"\")","v":""},{"$f":"COUNTIFS(申請者リスト!$C$4:$C$2003,様式３!$D196,申請者リスト!$P$4:$P$2003,J$8)","v":0},{"$f":"COUNTIFS(申請者リスト!$C$4:$C$2003,様式３!$D196,申請者リスト!$P$4:$P$2003,K$8)","v":0},{"$f":"COUNTIFS(申請者リスト!$C$4:$C$2003,様式３!$D196,申請者リスト!$P$4:$P$2003,L$8)","v":0},{"$f":"COUNTIFS(申請者リスト!$C$4:$C$2003,様式３!$D196,申請者リスト!$P$4:$P$2003,M$8)","v":0},0]
[98,null,null,null,{"$f":"IFERROR(YEAR(VLOOKUP($D197,申請者リスト!$C$4:$Q$2003,7,FALSE)),\"\")","v":""},"・",{"$f":"IFERROR(MONTH(VLOOKUP($D197,申請者リスト!$C$4:$Q$2003,7,FALSE)),\"\")","v":""},"・",{"$f":"IFERROR(DAY(VLOOKUP($D197,申請者リスト!$C$4:$Q$2003,7,FALSE)),\"\")","v":""},{"$f":"COUNTIFS(申請者リスト!$C$4:$C$2003,様式３!$D197,申請者リスト!$P$4:$P$2003,J$8)","v":0},{"$f":"COUNTIFS(申請者リスト!$C$4:$C$2003,様式３!$D197,申請者リスト!$P$4:$P$2003,K$8)","v":0},{"$f":"COUNTIFS(申請者リスト!$C$4:$C$2003,様式３!$D197,申請者リスト!$P$4:$P$2003,L$8)","v":0},{"$f":"COUNTIFS(申請者リスト!$C$4:$C$2003,様式３!$D197,申請者リスト!$P$4:$P$2003,M$8)","v":0},0]
[99,null,null,null,{"$f":"IFERROR(YEAR(VLOOKUP($D198,申請者リスト!$C$4:$Q$2003,7,FALSE)),\"\")","v":""},"・",{"$f":"IFERROR(MONTH(VLOOKUP($D198,申請者リスト!$C$4:$Q$2003,7,FALSE)),\"\")","v":""},"・",{"$f":"IFERROR(DAY(VLOOKUP($D198,申請者リスト!$C$4:$Q$2003,7,FALSE)),\"\")","v":""},{"$f":"COUNTIFS(申請者リスト!$C$4:$C$2003,様式３!$D198,申請者リスト!$P$4:$P$2003,J$8)","v":0},{"$f":"COUNTIFS(申請者リスト!$C$4:$C$2003,様式３!$D198,申請者リスト!$P$4:$P$2003,K$8)","v":0},{"$f":"COUNTIFS(申請者リスト!$C$4:$C$2003,様式３!$D198,申請者リスト!$P$4:$P$2003,L$8)","v":0},{"$f":"COUNTIFS(申請者リスト!$C$4:$C$2003,様式３!$D198,申請者リスト!$P$4:$P$2003,M$8)","v":0},0]
[100,null,null,null,{"$f":"IFERROR(YEAR(VLOOKUP($D199,申請者リスト!$C$4:$Q$2003,7,FALSE)),\"\")","v":""},"・",{"$f":"IFERROR(MONTH(VLOOKUP($D199,申請者リスト!$C$4:$Q$2003,7,FALSE)),\"\")","v":""},"・",{"$f":"IFERROR(DAY(VLOOKUP($D199,申請者リスト!$C$4:$Q$2003,7,FALSE)),\"\")","v":""},{"$f":"COUNTIFS(申請者リスト!$C$4:$C$2003,様式３!$D199,申請者リスト!$P$4:$P$2003,J$8)","v":0},{"$f":"COUNTIFS(申請者リスト!$C$4:$C$2003,様式３!$D199,申請者リスト!$P$4:$P$2003,K$8)","v":0},{"$f":"COUNTIFS(申請者リスト!$C$4:$C$2003,様式３!$D199,申請者リスト!$P$4:$P$2003,L$8)","v":0},{"$f":"COUNTIFS(申請者リスト!$C$4:$C$2003,様式３!$D199,申請者リスト!$P$4:$P$2003,M$8)","v":0},0]
[101,null,null,null,{"$f":"IFERROR(YEAR(VLOOKUP($D200,申請者リスト!$C$4:$Q$2003,7,FALSE)),\"\")","v":""},"・",{"$f":"IFERROR(MONTH(VLOOKUP($D200,申請者リスト!$C$4:$Q$2003,7,FALSE)),\"\")","v":""},"・",{"$f":"IFERROR(DAY(VLOOKUP($D200,申請者リスト!$C$4:$Q$2003,7,FALSE)),\"\")","v":""},{"$f":"COUNTIFS(申請者リスト!$C$4:$C$2003,様式３!$D200,申請者リスト!$P$4:$P$2003,J$8)","v":0},{"$f":"COUNTIFS(申請者リスト!$C$4:$C$2003,様式３!$D200,申請者リスト!$P$4:$P$2003,K$8)","v":0},{"$f":"COUNTIFS(申請者リスト!$C$4:$C$2003,様式３!$D200,申請者リスト!$P$4:$P$2003,L$8)","v":0},{"$f":"COUNTIFS(申請者リスト!$C$4:$C$2003,様式３!$D200,申請者リスト!$P$4:$P$2003,M$8)","v":0},0]
[102,null,null,null,{"$f":"IFERROR(YEAR(VLOOKUP($D201,申請者リスト!$C$4:$Q$2003,7,FALSE)),\"\")","v":""},"・",{"$f":"IFERROR(MONTH(VLOOKUP($D201,申請者リスト!$C$4:$Q$2003,7,FALSE)),\"\")","v":""},"・",{"$f":"IFERROR(DAY(VLOOKUP($D201,申請者リスト!$C$4:$Q$2003,7,FALSE)),\"\")","v":""},{"$f":"COUNTIFS(申請者リスト!$C$4:$C$2003,様式３!$D201,申請者リスト!$P$4:$P$2003,J$8)","v":0},{"$f":"COUNTIFS(申請者リスト!$C$4:$C$2003,様式３!$D201,申請者リスト!$P$4:$P$2003,K$8)","v":0},{"$f":"COUNTIFS(申請者リスト!$C$4:$C$2003,様式３!$D201,申請者リスト!$P$4:$P$2003,L$8)","v":0},{"$f":"COUNTIFS(申請者リスト!$C$4:$C$2003,様式３!$D201,申請者リスト!$P$4:$P$2003,M$8)","v":0},0]
[103,null,null,null,{"$f":"IFERROR(YEAR(VLOOKUP($D202,申請者リスト!$C$4:$Q$2003,7,FALSE)),\"\")","v":""},"・",{"$f":"IFERROR(MONTH(VLOOKUP($D202,申請者リスト!$C$4:$Q$2003,7,FALSE)),\"\")","v":""},"・",{"$f":"IFERROR(DAY(VLOOKUP($D202,申請者リスト!$C$4:$Q$2003,7,FALSE)),\"\")","v":""},{"$f":"COUNTIFS(申請者リスト!$C$4:$C$2003,様式３!$D202,申請者リスト!$P$4:$P$2003,J$8)","v":0},{"$f":"COUNTIFS(申請者リスト!$C$4:$C$2003,様式３!$D202,申請者リスト!$P$4:$P$2003,K$8)","v":0},{"$f":"COUNTIFS(申請者リスト!$C$4:$C$2003,様式３!$D202,申請者リスト!$P$4:$P$2003,L$8)","v":0},{"$f":"COUNTIFS(申請者リスト!$C$4:$C$2003,様式３!$D202,申請者リスト!$P$4:$P$2003,M$8)","v":0},0]
[104,null,null,null,{"$f":"IFERROR(YEAR(VLOOKUP($D203,申請者リスト!$C$4:$Q$2003,7,FALSE)),\"\")","v":""},"・",{"$f":"IFERROR(MONTH(VLOOKUP($D203,申請者リスト!$C$4:$Q$2003,7,FALSE)),\"\")","v":""},"・",{"$f":"IFERROR(DAY(VLOOKUP($D203,申請者リスト!$C$4:$Q$2003,7,FALSE)),\"\")","v":""},{"$f":"COUNTIFS(申請者リスト!$C$4:$C$2003,様式３!$D203,申請者リスト!$P$4:$P$2003,J$8)","v":0},{"$f":"COUNTIFS(申請者リスト!$C$4:$C$2003,様式３!$D203,申請者リスト!$P$4:$P$2003,K$8)","v":0},{"$f":"COUNTIFS(申請者リスト!$C$4:$C$2003,様式３!$D203,申請者リスト!$P$4:$P$2003,L$8)","v":0},{"$f":"COUNTIFS(申請者リスト!$C$4:$C$2003,様式３!$D203,申請者リスト!$P$4:$P$2003,M$8)","v":0},0]
[105,null,null,null,{"$f":"IFERROR(YEAR(VLOOKUP($D204,申請者リスト!$C$4:$Q$2003,7,FALSE)),\"\")","v":""},"・",{"$f":"IFERROR(MONTH(VLOOKUP($D204,申請者リスト!$C$4:$Q$2003,7,FALSE)),\"\")","v":""},"・",{"$f":"IFERROR(DAY(VLOOKUP($D204,申請者リスト!$C$4:$Q$2003,7,FALSE)),\"\")","v":""},{"$f":"COUNTIFS(申請者リスト!$C$4:$C$2003,様式３!$D204,申請者リスト!$P$4:$P$2003,J$8)","v":0},{"$f":"COUNTIFS(申請者リスト!$C$4:$C$2003,様式３!$D204,申請者リスト!$P$4:$P$2003,K$8)","v":0},{"$f":"COUNTIFS(申請者リスト!$C$4:$C$2003,様式３!$D204,申請者リスト!$P$4:$P$2003,L$8)","v":0},{"$f":"COUNTIFS(申請者リスト!$C$4:$C$2003,様式３!$D204,申請者リスト!$P$4:$P$2003,M$8)","v":0},0]
["※１","学科の欄には、大学科名を記入する。"]
["※２","整理番号は、様式１の整理番号（担当者が付記）と一致させる。"]
[null,"なお、整理番号については、各学校の大学科ごとに１～を割り振ること。"]
["※３","資格・試験等ランクの欄には、取得個数を記入する。"]
["※４","得点合計欄には、得点の合計を記入する。"]
[]
["（様式３）",null,null,null,null,null,null,null,null,null,"(",{"$f":"$L$1","v":0},"枚中",{"$f":"+N181+1","v":8},"枚目）"]
[]
["埼玉県高校生専門資格等取得表彰推薦名簿"]
[]
[null,null,null,null,null,null,"学  校  名　　　　　　　　　　",null,null,{"$f":"$J$5","v":0},null,null,null,null,"学校"]
[]
["Ｎｏ","学　年　　　　　　　　　　　　　　　　　　　","学　科","整理番号","生　年　月　日",null,null,null,null,"資格・試験等ﾗﾝｸ",null,null,null,"得点合計","備　考"]
[null,null,null,null,null,null,null,null,null,"A","B","C","D"]
[null,null,null,null,null,null,null,null,null,6,3,2,1]
[{"$f":"+A204+1","v":106},null,null,null,{"$f":"IFERROR(YEAR(VLOOKUP($D220,申請者リスト!$C$4:$Q$2003,7,FALSE)),\"\")","v":""},"・",{"$f":"IFERROR(MONTH(VLOOKUP($D220,申請者リスト!$C$4:$Q$2003,7,FALSE)),\"\")","v":""},"・",{"$f":"IFERROR(DAY(VLOOKUP($D220,申請者リスト!$C$4:$Q$2003,7,FALSE)),\"\")","v":""},{"$f":"COUNTIFS(申請者リスト!$C$4:$C$2003,様式３!$D220,申請者リスト!$P$4:$P$2003,J$8)","v":0},{"$f":"COUNTIFS(申請者リスト!$C$4:$C$2003,様式３!$D220,申請者リスト!$P$4:$P$2003,K$8)","v":0},{"$f":"COUNTIFS(申請者リスト!$C$4:$C$2003,様式３!$D220,申請者リスト!$P$4:$P$2003,L$8)","v":0},{"$f":"COUNTIFS(申請者リスト!$C$4:$C$2003,様式３!$D220,申請者リスト!$P$4:$P$2003,M$8)","v":0},{"$f":"J220*$J$9+K220*$K$9+L220*$L$9+M220*$M$9","v":0}]
[{"$f":"+A220+1","v":107},null,null,null,{"$f":"IFERROR(YEAR(VLOOKUP($D221,申請者リスト!$C$4:$Q$2003,7,FALSE)),\"\")","v":""},"・",{"$f":"IFERROR(MONTH(VLOOKUP($D221,申請者リスト!$C$4:$Q$2003,7,FALSE)),\"\")","v":""},"・",{"$f":"IFERROR(DAY(VLOOKUP($D221,申請者リスト!$C$4:$Q$2003,7,FALSE)),\"\")","v":""},{"$f":"COUNTIFS(申請者リスト!$C$4:$C$2003,様式３!$D221,申請者リスト!$P$4:$P$2003,J$8)","v":0},{"$f":"COUNTIFS(申請者リスト!$C$4:$C$2003,様式３!$D221,申請者リスト!$P$4:$P$2003,K$8)","v":0},{"$f":"COUNTIFS(申請者リスト!$C$4:$C$2003,様式３!$D221,申請者リスト!$P$4:$P$2003,L$8)","v":0},{"$f":"COUNTIFS(申請者リスト!$C$4:$C$2003,様式３!$D221,申請者リスト!$P$4:$P$2003,M$8)","v":0},{"$f":"J221*$J$9+K221*$K$9+L221*$L$9+M221*$M$9","v":0}]
[{"$f":"+A221+1","v":108},null,null,null,{"$f":"IFERROR(YEAR(VLOOKUP($D222,申請者リスト!$C$4:$Q$2003,7,FALSE)),\"\")","v":""},"・",{"$f":"IFERROR(MONTH(VLOOKUP($D222,申請者リスト!$C$4:$Q$2003,7,FALSE)),\"\")","v":""},"・",{"$f":"IFERROR(DAY(VLOOKUP($D222,申請者リスト!$C$4:$Q$2003,7,FALSE)),\"\")","v":""},{"$f":"COUNTIFS(申請者リスト!$C$4:$C$2003,様式３!$D222,申請者リスト!$P$4:$P$2003,J$8)","v":0},{"$f":"COUNTIFS(申請者リスト!$C$4:$C$2003,様式３!$D222,申請者リスト!$P$4:$P$2003,K$8)","v":0},{"$f":"COUNTIFS(申請者リスト!$C$4:$C$2003,様式３!$D222,申請者リスト!$P$4:$P$2003,L$8)","v":0},{"$f":"COUNTIFS(申請者リスト!$C$4:$C$2003,様式３!$D222,申請者リスト!$P$4:$P$2003,M$8)","v":0},0]
[109,null,null,null,{"$f":"IFERROR(YEAR(VLOOKUP($D223,申請者リスト!$C$4:$Q$2003,7,FALSE)),\"\")","v":""},"・",{"$f":"IFERROR(MONTH(VLOOKUP($D223,申請者リスト!$C$4:$Q$2003,7,FALSE)),\"\")","v":""},"・",{"$f":"IFERROR(DAY(VLOOKUP($D223,申請者リスト!$C$4:$Q$2003,7,FALSE)),\"\")","v":""},{"$f":"COUNTIFS(申請者リスト!$C$4:$C$2003,様式３!$D223,申請者リスト!$P$4:$P$2003,J$8)","v":0},{"$f":"COUNTIFS(申請者リスト!$C$4:$C$2003,様式３!$D223,申請者リスト!$P$4:$P$2003,K$8)","v":0},{"$f":"COUNTIFS(申請者リスト!$C$4:$C$2003,様式３!$D223,申請者リスト!$P$4:$P$2003,L$8)","v":0},{"$f":"COUNTIFS(申請者リスト!$C$4:$C$2003,様式３!$D223,申請者リスト!$P$4:$P$2003,M$8)","v":0},0]
[110,null,null,null,{"$f":"IFERROR(YEAR(VLOOKUP($D224,申請者リスト!$C$4:$Q$2003,7,FALSE)),\"\")","v":""},"・",{"$f":"IFERROR(MONTH(VLOOKUP($D224,申請者リスト!$C$4:$Q$2003,7,FALSE)),\"\")","v":""},"・",{"$f":"IFERROR(DAY(VLOOKUP($D224,申請者リスト!$C$4:$Q$2003,7,FALSE)),\"\")","v":""},{"$f":"COUNTIFS(申請者リスト!$C$4:$C$2003,様式３!$D224,申請者リスト!$P$4:$P$2003,J$8)","v":0},{"$f":"COUNTIFS(申請者リスト!$C$4:$C$2003,様式３!$D224,申請者リスト!$P$4:$P$2003,K$8)","v":0},{"$f":"COUNTIFS(申請者リスト!$C$4:$C$2003,様式３!$D224,申請者リスト!$P$4:$P$2003,L$8)","v":0},{"$f":"COUNTIFS(申請者リスト!$C$4:$C$2003,様式３!$D224,申請者リスト!$P$4:$P$2003,M$8)","v":0},0]
[111,null,null,null,{"$f":"IFERROR(YEAR(VLOOKUP($D225,申請者リスト!$C$4:$Q$2003,7,FALSE)),\"\")","v":""},"・",{"$f":"IFERROR(MONTH(VLOOKUP($D225,申請者リスト!$C$4:$Q$2003,7,FALSE)),\"\")","v":""},"・",{"$f":"IFERROR(DAY(VLOOKUP($D225,申請者リスト!$C$4:$Q$2003,7,FALSE)),\"\")","v":""},{"$f":"COUNTIFS(申請者リスト!$C$4:$C$2003,様式３!$D225,申請者リスト!$P$4:$P$2003,J$8)","v":0},{"$f":"COUNTIFS(申請者リスト!$C$4:$C$2003,様式３!$D225,申請者リスト!$P$4:$P$2003,K$8)","v":0},{"$f":"COUNTIFS(申請者リスト!$C$4:$C$2003,様式３!$D225,申請者リスト!$P$4:$P$2003,L$8)","v":0},{"$f":"COUNTIFS(申請者リスト!$C$4:$C$2003,様式３!$D225,申請者リスト!$P$4:$P$2003,M$8)","v":0},0]
[112,null,null,null,{"$f":"IFERROR(YEAR(VLOOKUP($D226,申請者リスト!$C$4:$Q$2003,7,FALSE)),\"\")","v":""},"・",{"$f":"IFERROR(MONTH(VLOOKUP($D226,申請者リスト!$C$4:$Q$2003,7,FALSE)),\"\")","v":""},"・",{"$f":"IFERROR(DAY(VLOOKUP($D226,申請者リスト!$C$4:$Q$2003,7,FALSE)),\"\")","v":""},{"$f":"COUNTIFS(申請者リスト!$C$4:$C$2003,様式３!$D226,申請者リスト!$P$4:$P$2003,J$8)","v":0},{"$f":"COUNTIFS(申請者リスト!$C$4:$C$2003,様式３!$D226,申請者リスト!$P$4:$P$2003,K$8)","v":0},{"$f":"COUNTIFS(申請者リスト!$C$4:$C$2003,様式３!$D226,申請者リスト!$P$4:$P$2003,L$8)","v":0},{"$f":"COUNTIFS(申請者リスト!$C$4:$C$2003,様式３!$D226,申請者リスト!$P$4:$P$2003,M$8)","v":0},0]
[113,null,null,null,{"$f":"IFERROR(YEAR(VLOOKUP($D227,申請者リスト!$C$4:$Q$2003,7,FALSE)),\"\")","v":""},"・",{"$f":"IFERROR(MONTH(VLOOKUP($D227,申請者リスト!$C$4:$Q$2003,7,FALSE)),\"\")","v":""},"・",{"$f":"IFERROR(DAY(VLOOKUP($D227,申請者リスト!$C$4:$Q$2003,7,FALSE)),\"\")","v":""},{"$f":"COUNTIFS(申請者リスト!$C$4:$C$2003,様式３!$D227,申請者リスト!$P$4:$P$2003,J$8)","v":0},{"$f":"COUNTIFS(申請者リスト!$C$4:$C$2003,様式３!$D227,申請者リスト!$P$4:$P$2003,K$8)","v":0},{"$f":"COUNTIFS(申請者リスト!$C$4:$C$2003,様式３!$D227,申請者リスト!$P$4:$P$2003,L$8)","v":0},{"$f":"COUNTIFS(申請者リスト!$C$4:$C$2003,様式３!$D227,申請者リスト!$P$4:$P$2003,M$8)","v":0},0]
[114,null,null,null,{"$f":"IFERROR(YEAR(VLOOKUP($D228,申請者リスト!$C$4:$Q$2003,7,FALSE)),\"\")","v":""},"・",{"$f":"IFERROR(MONTH(VLOOKUP($D228,申請者リスト!$C$4:$Q$2003,7,FALSE)),\"\")","v":""},"・",{"$f":"IFERROR(DAY(VLOOKUP($D228,申請者リスト!$C$4:$Q$2003,7,FALSE)),\"\")","v":""},{"$f":"COUNTIFS(申請者リスト!$C$4:$C$2003,様式３!$D228,申請者リスト!$P$4:$P$2003,J$8)","v":0},{"$f":"COUNTIFS(申請者リスト!$C$4:$C$2003,様式３!$D228,申請者リスト!$P$4:$P$2003,K$8)","v":0},{"$f":"COUNTIFS(申請者リスト!$C$4:$C$2003,様式３!$D228,申請者リスト!$P$4:$P$2003,L$8)","v":0},{"$f":"COUNTIFS(申請者リスト!$C$4:$C$2003,様式３!$D228,申請者リスト!$P$4:$P$2003,M$8)","v":0},0]
[115,null,null,null,{"$f":"IFERROR(YEAR(VLOOKUP($D229,申請者リスト!$C$4:$Q$2003,7,FALSE)),\"\")","v":""},"・",{"$f":"IFERROR(MONTH(VLOOKUP($D229,申請者リスト!$C$4:$Q$2003,7,FALSE)),\"\")","v":""},"・",{"$f":"IFERROR(DAY(VLOOKUP($D229,申請者リスト!$C$4:$Q$2003,7,FALSE)),\"\")","v":""},{"$f":"COUNTIFS(申請者リスト!$C$4:$C$2003,様式３!$D229,申請者リスト!$P$4:$P$2003,J$8)","v":0},{"$f":"COUNTIFS(申請者リスト!$C$4:$C$2003,様式３!$D229,申請者リスト!$P$4:$P$2003,K$8)","v":0},{"$f":"COUNTIFS(申請者リスト!$C$4:$C$2003,様式３!$D229,申請者リスト!$P$4:$P$2003,L$8)","v":0},{"$f":"COUNTIFS(申請者リスト!$C$4:$C$2003,様式３!$D229,申請者リスト!$P$4:$P$2003,M$8)","v":0},0]
[116,null,null,null,{"$f":"IFERROR(YEAR(VLOOKUP($D230,申請者リスト!$C$4:$Q$2003,7,FALSE)),\"\")","v":""},"・",{"$f":"IFERROR(MONTH(VLOOKUP($D230,申請者リスト!$C$4:$Q$2003,7,FALSE)),\"\")","v":""},"・",{"$f":"IFERROR(DAY(VLOOKUP($D230,申請者リスト!$C$4:$Q$2003,7,FALSE)),\"\")","v":""},{"$f":"COUNTIFS(申請者リスト!$C$4:$C$2003,様式３!$D230,申請者リスト!$P$4:$P$2003,J$8)","v":0},{"$f":"COUNTIFS(申請者リスト!$C$4:$C$2003,様式３!$D230,申請者リスト!$P$4:$P$2003,K$8)","v":0},{"$f":"COUNTIFS(申請者リスト!$C$4:$C$2003,様式３!$D230,申請者リスト!$P$4:$P$2003,L$8)","v":0},{"$f":"COUNTIFS(申請者リスト!$C$4:$C$2003,様式３!$D230,申請者リスト!$P$4:$P$2003,M$8)","v":0},0]
[117,null,null,null,{"$f":"IFERROR(YEAR(VLOOKUP($D231,申請者リスト!$C$4:$Q$2003,7,FALSE)),\"\")","v":""},"・",{"$f":"IFERROR(MONTH(VLOOKUP($D231,申請者リスト!$C$4:$Q$2003,7,FALSE)),\"\")","v":""},"・",{"$f":"IFERROR(DAY(VLOOKUP($D231,申請者リスト!$C$4:$Q$2003,7,FALSE)),\"\")","v":""},{"$f":"COUNTIFS(申請者リスト!$C$4:$C$2003,様式３!$D231,申請者リスト!$P$4:$P$2003,J$8)","v":0},{"$f":"COUNTIFS(申請者リスト!$C$4:$C$2003,様式３!$D231,申請者リスト!$P$4:$P$2003,K$8)","v":0},{"$f":"COUNTIFS(申請者リスト!$C$4:$C$2003,様式３!$D231,申請者リスト!$P$4:$P$2003,L$8)","v":0},{"$f":"COUNTIFS(申請者リスト!$C$4:$C$2003,様式３!$D231,申請者リスト!$P$4:$P$2003,M$8)","v":0},0]
[118,null,null,null,{"$f":"IFERROR(YEAR(VLOOKUP($D232,申請者リスト!$C$4:$Q$2003,7,FALSE)),\"\")","v":""},"・",{"$f":"IFERROR(MONTH(VLOOKUP($D232,申請者リスト!$C$4:$Q$2003,7,FALSE)),\"\")","v":""},"・",{"$f":"IFERROR(DAY(VLOOKUP($D232,申請者リスト!$C$4:$Q$2003,7,FALSE)),\"\")","v":""},{"$f":"COUNTIFS(申請者リスト!$C$4:$C$2003,様式３!$D232,申請者リスト!$P$4:$P$2003,J$8)","v":0},{"$f":"COUNTIFS(申請者リスト!$C$4:$C$2003,様式３!$D232,申請者リスト!$P$4:$P$2003,K$8)","v":0},{"$f":"COUNTIFS(申請者リスト!$C$4:$C$2003,様式３!$D232,申請者リスト!$P$4:$P$2003,L$8)","v":0},{"$f":"COUNTIFS(申請者リスト!$C$4:$C$2003,様式３!$D232,申請者リスト!$P$4:$P$2003,M$8)","v":0},0]
[119,null,null,null,{"$f":"IFERROR(YEAR(VLOOKUP($D233,申請者リスト!$C$4:$Q$2003,7,FALSE)),\"\")","v":""},"・",{"$f":"IFERROR(MONTH(VLOOKUP($D233,申請者リスト!$C$4:$Q$2003,7,FALSE)),\"\")","v":""},"・",{"$f":"IFERROR(DAY(VLOOKUP($D233,申請者リスト!$C$4:$Q$2003,7,FALSE)),\"\")","v":""},{"$f":"COUNTIFS(申請者リスト!$C$4:$C$2003,様式３!$D233,申請者リスト!$P$4:$P$2003,J$8)","v":0},{"$f":"COUNTIFS(申請者リスト!$C$4:$C$2003,様式３!$D233,申請者リスト!$P$4:$P$2003,K$8)","v":0},{"$f":"COUNTIFS(申請者リスト!$C$4:$C$2003,様式３!$D233,申請者リスト!$P$4:$P$2003,L$8)","v":0},{"$f":"COUNTIFS(申請者リスト!$C$4:$C$2003,様式３!$D233,申請者リスト!$P$4:$P$2003,M$8)","v":0},0]
[120,null,null,null,{"$f":"IFERROR(YEAR(VLOOKUP($D234,申請者リスト!$C$4:$Q$2003,7,FALSE)),\"\")","v":""},"・",{"$f":"IFERROR(MONTH(VLOOKUP($D234,申請者リスト!$C$4:$Q$2003,7,FALSE)),\"\")","v":""},"・",{"$f":"IFERROR(DAY(VLOOKUP($D234,申請者リスト!$C$4:$Q$2003,7,FALSE)),\"\")","v":""},{"$f":"COUNTIFS(申請者リスト!$C$4:$C$2003,様式３!$D234,申請者リスト!$P$4:$P$2003,J$8)","v":0},{"$f":"COUNTIFS(申請者リスト!$C$4:$C$2003,様式３!$D234,申請者リスト!$P$4:$P$2003,K$8)","v":0},{"$f":"COUNTIFS(申請者リスト!$C$4:$C$2003,様式３!$D234,申請者リスト!$P$4:$P$2003,L$8)","v":0},{"$f":"COUNTIFS(申請者リスト!$C$4:$C$2003,様式３!$D234,申請者リスト!$P$4:$P$2003,M$8)","v":0},0]
["※１","学科の欄には、大学科名を記入する。"]
["※２","整理番号は、様式１の整理番号（担当者が付記）と一致させる。"]
[null,"なお、整理番号については、各学校の大学科ごとに１～を割り振ること。"]
["※３","資格・試験等ランクの欄には、取得個数を記入する。"]
["※４","得点合計欄には、得点の合計を記入する。"]
[]
["（様式３）",null,null,null,null,null,null,null,null,null,"(",{"$f":"$L$1","v":0},"枚中",{"$f":"+N211+1","v":9},"枚目）"]
[]
["埼玉県高校生専門資格等取得表彰推薦名簿"]
[]
[null,null,null,null,null,null,"学  校  名　　　　　　　　　　",null,null,{"$f":"$J$5","v":0},null,null,null,null,"学校"]
[]
["Ｎｏ","学　年　　　　　　　　　　　　　　　　　　　","学　科","整理番号","生　年　月　日",null,null,null,null,"資格・試験等ﾗﾝｸ",null,null,null,"得点合計","備　考"]
[null,null,null,null,null,null,null,null,null,"A","B","C","D"]
[null,null,null,null,null,null,null,null,null,6,3,2,1]
[{"$f":"+A234+1","v":121},null,null,null,{"$f":"IFERROR(YEAR(VLOOKUP($D250,申請者リスト!$C$4:$Q$2003,7,FALSE)),\"\")","v":""},"・",{"$f":"IFERROR(MONTH(VLOOKUP($D250,申請者リスト!$C$4:$Q$2003,7,FALSE)),\"\")","v":""},"・",{"$f":"IFERROR(DAY(VLOOKUP($D250,申請者リスト!$C$4:$Q$2003,7,FALSE)),\"\")","v":""},{"$f":"COUNTIFS(申請者リスト!$C$4:$C$2003,様式３!$D250,申請者リスト!$P$4:$P$2003,J$8)","v":0},{"$f":"COUNTIFS(申請者リスト!$C$4:$C$2003,様式３!$D250,申請者リスト!$P$4:$P$2003,K$8)","v":0},{"$f":"COUNTIFS(申請者リスト!$C$4:$C$2003,様式３!$D250,申請者リスト!$P$4:$P$2003,L$8)","v":0},{"$f":"COUNTIFS(申請者リスト!$C$4:$C$2003,様式３!$D250,申請者リスト!$P$4:$P$2003,M$8)","v":0},{"$f":"J250*$J$9+K250*$K$9+L250*$L$9+M250*$M$9","v":0}]
[{"$f":"+A250+1","v":122},null,null,null,{"$f":"IFERROR(YEAR(VLOOKUP($D251,申請者リスト!$C$4:$Q$2003,7,FALSE)),\"\")","v":""},"・",{"$f":"IFERROR(MONTH(VLOOKUP($D251,申請者リスト!$C$4:$Q$2003,7,FALSE)),\"\")","v":""},"・",{"$f":"IFERROR(DAY(VLOOKUP($D251,申請者リスト!$C$4:$Q$2003,7,FALSE)),\"\")","v":""},{"$f":"COUNTIFS(申請者リスト!$C$4:$C$2003,様式３!$D251,申請者リスト!$P$4:$P$2003,J$8)","v":0},{"$f":"COUNTIFS(申請者リスト!$C$4:$C$2003,様式３!$D251,申請者リスト!$P$4:$P$2003,K$8)","v":0},{"$f":"COUNTIFS(申請者リスト!$C$4:$C$2003,様式３!$D251,申請者リスト!$P$4:$P$2003,L$8)","v":0},{"$f":"COUNTIFS(申請者リスト!$C$4:$C$2003,様式３!$D251,申請者リスト!$P$4:$P$2003,M$8)","v":0},{"$f":"J251*$J$9+K251*$K$9+L251*$L$9+M251*$M$9","v":0}]
[{"$f":"+A251+1","v":123},null,null,null,{"$f":"IFERROR(YEAR(VLOOKUP($D252,申請者リスト!$C$4:$Q$2003,7,FALSE)),\"\")","v":""},"・",{"$f":"IFERROR(MONTH(VLOOKUP($D252,申請者リスト!$C$4:$Q$2003,7,FALSE)),\"\")","v":""},"・",{"$f":"IFERROR(DAY(VLOOKUP($D252,申請者リスト!$C$4:$Q$2003,7,FALSE)),\"\")","v":""},{"$f":"COUNTIFS(申請者リスト!$C$4:$C$2003,様式３!$D252,申請者リスト!$P$4:$P$2003,J$8)","v":0},{"$f":"COUNTIFS(申請者リスト!$C$4:$C$2003,様式３!$D252,申請者リスト!$P$4:$P$2003,K$8)","v":0},{"$f":"COUNTIFS(申請者リスト!$C$4:$C$2003,様式３!$D252,申請者リスト!$P$4:$P$2003,L$8)","v":0},{"$f":"COUNTIFS(申請者リスト!$C$4:$C$2003,様式３!$D252,申請者リスト!$P$4:$P$2003,M$8)","v":0},0]
[124,null,null,null,{"$f":"IFERROR(YEAR(VLOOKUP($D253,申請者リスト!$C$4:$Q$2003,7,FALSE)),\"\")","v":""},"・",{"$f":"IFERROR(MONTH(VLOOKUP($D253,申請者リスト!$C$4:$Q$2003,7,FALSE)),\"\")","v":""},"・",{"$f":"IFERROR(DAY(VLOOKUP($D253,申請者リスト!$C$4:$Q$2003,7,FALSE)),\"\")","v":""},{"$f":"COUNTIFS(申請者リスト!$C$4:$C$2003,様式３!$D253,申請者リスト!$P$4:$P$2003,J$8)","v":0},{"$f":"COUNTIFS(申請者リスト!$C$4:$C$2003,様式３!$D253,申請者リスト!$P$4:$P$2003,K$8)","v":0},{"$f":"COUNTIFS(申請者リスト!$C$4:$C$2003,様式３!$D253,申請者リスト!$P$4:$P$2003,L$8)","v":0},{"$f":"COUNTIFS(申請者リスト!$C$4:$C$2003,様式３!$D253,申請者リスト!$P$4:$P$2003,M$8)","v":0},0]
[125,null,null,null,{"$f":"IFERROR(YEAR(VLOOKUP($D254,申請者リスト!$C$4:$Q$2003,7,FALSE)),\"\")","v":""},"・",{"$f":"IFERROR(MONTH(VLOOKUP($D254,申請者リスト!$C$4:$Q$2003,7,FALSE)),\"\")","v":""},"・",{"$f":"IFERROR(DAY(VLOOKUP($D254,申請者リスト!$C$4:$Q$2003,7,FALSE)),\"\")","v":""},{"$f":"COUNTIFS(申請者リスト!$C$4:$C$2003,様式３!$D254,申請者リスト!$P$4:$P$2003,J$8)","v":0},{"$f":"COUNTIFS(申請者リスト!$C$4:$C$2003,様式３!$D254,申請者リスト!$P$4:$P$2003,K$8)","v":0},{"$f":"COUNTIFS(申請者リスト!$C$4:$C$2003,様式３!$D254,申請者リスト!$P$4:$P$2003,L$8)","v":0},{"$f":"COUNTIFS(申請者リスト!$C$4:$C$2003,様式３!$D254,申請者リスト!$P$4:$P$2003,M$8)","v":0},0]
[126,null,null,null,{"$f":"IFERROR(YEAR(VLOOKUP($D255,申請者リスト!$C$4:$Q$2003,7,FALSE)),\"\")","v":""},"・",{"$f":"IFERROR(MONTH(VLOOKUP($D255,申請者リスト!$C$4:$Q$2003,7,FALSE)),\"\")","v":""},"・",{"$f":"IFERROR(DAY(VLOOKUP($D255,申請者リスト!$C$4:$Q$2003,7,FALSE)),\"\")","v":""},{"$f":"COUNTIFS(申請者リスト!$C$4:$C$2003,様式３!$D255,申請者リスト!$P$4:$P$2003,J$8)","v":0},{"$f":"COUNTIFS(申請者リスト!$C$4:$C$2003,様式３!$D255,申請者リスト!$P$4:$P$2003,K$8)","v":0},{"$f":"COUNTIFS(申請者リスト!$C$4:$C$2003,様式３!$D255,申請者リスト!$P$4:$P$2003,L$8)","v":0},{"$f":"COUNTIFS(申請者リスト!$C$4:$C$2003,様式３!$D255,申請者リスト!$P$4:$P$2003,M$8)","v":0},0]
[127,null,null,null,{"$f":"IFERROR(YEAR(VLOOKUP($D256,申請者リスト!$C$4:$Q$2003,7,FALSE)),\"\")","v":""},"・",{"$f":"IFERROR(MONTH(VLOOKUP($D256,申請者リスト!$C$4:$Q$2003,7,FALSE)),\"\")","v":""},"・",{"$f":"IFERROR(DAY(VLOOKUP($D256,申請者リスト!$C$4:$Q$2003,7,FALSE)),\"\")","v":""},{"$f":"COUNTIFS(申請者リスト!$C$4:$C$2003,様式３!$D256,申請者リスト!$P$4:$P$2003,J$8)","v":0},{"$f":"COUNTIFS(申請者リスト!$C$4:$C$2003,様式３!$D256,申請者リスト!$P$4:$P$2003,K$8)","v":0},{"$f":"COUNTIFS(申請者リスト!$C$4:$C$2003,様式３!$D256,申請者リスト!$P$4:$P$2003,L$8)","v":0},{"$f":"COUNTIFS(申請者リスト!$C$4:$C$2003,様式３!$D256,申請者リスト!$P$4:$P$2003,M$8)","v":0},0]
[128,null,null,null,{"$f":"IFERROR(YEAR(VLOOKUP($D257,申請者リスト!$C$4:$Q$2003,7,FALSE)),\"\")","v":""},"・",{"$f":"IFERROR(MONTH(VLOOKUP($D257,申請者リスト!$C$4:$Q$2003,7,FALSE)),\"\")","v":""},"・",{"$f":"IFERROR(DAY(VLOOKUP($D257,申請者リスト!$C$4:$Q$2003,7,FALSE)),\"\")","v":""},{"$f":"COUNTIFS(申請者リスト!$C$4:$C$2003,様式３!$D257,申請者リスト!$P$4:$P$2003,J$8)","v":0},{"$f":"COUNTIFS(申請者リスト!$C$4:$C$2003,様式３!$D257,申請者リスト!$P$4:$P$2003,K$8)","v":0},{"$f":"COUNTIFS(申請者リスト!$C$4:$C$2003,様式３!$D257,申請者リスト!$P$4:$P$2003,L$8)","v":0},{"$f":"COUNTIFS(申請者リスト!$C$4:$C$2003,様式３!$D257,申請者リスト!$P$4:$P$2003,M$8)","v":0},0]
[129,null,null,null,{"$f":"IFERROR(YEAR(VLOOKUP($D258,申請者リスト!$C$4:$Q$2003,7,FALSE)),\"\")","v":""},"・",{"$f":"IFERROR(MONTH(VLOOKUP($D258,申請者リスト!$C$4:$Q$2003,7,FALSE)),\"\")","v":""},"・",{"$f":"IFERROR(DAY(VLOOKUP($D258,申請者リスト!$C$4:$Q$2003,7,FALSE)),\"\")","v":""},{"$f":"COUNTIFS(申請者リスト!$C$4:$C$2003,様式３!$D258,申請者リスト!$P$4:$P$2003,J$8)","v":0},{"$f":"COUNTIFS(申請者リスト!$C$4:$C$2003,様式３!$D258,申請者リスト!$P$4:$P$2003,K$8)","v":0},{"$f":"COUNTIFS(申請者リスト!$C$4:$C$2003,様式３!$D258,申請者リスト!$P$4:$P$2003,L$8)","v":0},{"$f":"COUNTIFS(申請者リスト!$C$4:$C$2003,様式３!$D258,申請者リスト!$P$4:$P$2003,M$8)","v":0},0]
[130,null,null,null,{"$f":"IFERROR(YEAR(VLOOKUP($D259,申請者リスト!$C$4:$Q$2003,7,FALSE)),\"\")","v":""},"・",{"$f":"IFERROR(MONTH(VLOOKUP($D259,申請者リスト!$C$4:$Q$2003,7,FALSE)),\"\")","v":""},"・",{"$f":"IFERROR(DAY(VLOOKUP($D259,申請者リスト!$C$4:$Q$2003,7,FALSE)),\"\")","v":""},{"$f":"COUNTIFS(申請者リスト!$C$4:$C$2003,様式３!$D259,申請者リスト!$P$4:$P$2003,J$8)","v":0},{"$f":"COUNTIFS(申請者リスト!$C$4:$C$2003,様式３!$D259,申請者リスト!$P$4:$P$2003,K$8)","v":0},{"$f":"COUNTIFS(申請者リスト!$C$4:$C$2003,様式３!$D259,申請者リスト!$P$4:$P$2003,L$8)","v":0},{"$f":"COUNTIFS(申請者リスト!$C$4:$C$2003,様式３!$D259,申請者リスト!$P$4:$P$2003,M$8)","v":0},0]
[131,null,null,null,{"$f":"IFERROR(YEAR(VLOOKUP($D260,申請者リスト!$C$4:$Q$2003,7,FALSE)),\"\")","v":""},"・",{"$f":"IFERROR(MONTH(VLOOKUP($D260,申請者リスト!$C$4:$Q$2003,7,FALSE)),\"\")","v":""},"・",{"$f":"IFERROR(DAY(VLOOKUP($D260,申請者リスト!$C$4:$Q$2003,7,FALSE)),\"\")","v":""},{"$f":"COUNTIFS(申請者リスト!$C$4:$C$2003,様式３!$D260,申請者リスト!$P$4:$P$2003,J$8)","v":0},{"$f":"COUNTIFS(申請者リスト!$C$4:$C$2003,様式３!$D260,申請者リスト!$P$4:$P$2003,K$8)","v":0},{"$f":"COUNTIFS(申請者リスト!$C$4:$C$2003,様式３!$D260,申請者リスト!$P$4:$P$2003,L$8)","v":0},{"$f":"COUNTIFS(申請者リスト!$C$4:$C$2003,様式３!$D260,申請者リスト!$P$4:$P$2003,M$8)","v":0},0]
[132,null,null,null,{"$f":"IFERROR(YEAR(VLOOKUP($D261,申請者リスト!$C$4:$Q$2003,7,FALSE)),\"\")","v":""},"・",{"$f":"IFERROR(MONTH(VLOOKUP($D261,申請者リスト!$C$4:$Q$2003,7,FALSE)),\"\")","v":""},"・",{"$f":"IFERROR(DAY(VLOOKUP($D261,申請者リスト!$C$4:$Q$2003,7,FALSE)),\"\")","v":""},{"$f":"COUNTIFS(申請者リスト!$C$4:$C$2003,様式３!$D261,申請者リスト!$P$4:$P$2003,J$8)","v":0},{"$f":"COUNTIFS(申請者リスト!$C$4:$C$2003,様式３!$D261,申請者リスト!$P$4:$P$2003,K$8)","v":0},{"$f":"COUNTIFS(申請者リスト!$C$4:$C$2003,様式３!$D261,申請者リスト!$P$4:$P$2003,L$8)","v":0},{"$f":"COUNTIFS(申請者リスト!$C$4:$C$2003,様式３!$D261,申請者リスト!$P$4:$P$2003,M$8)","v":0},0]
[133,null,null,null,{"$f":"IFERROR(YEAR(VLOOKUP($D262,申請者リスト!$C$4:$Q$2003,7,FALSE)),\"\")","v":""},"・",{"$f":"IFERROR(MONTH(VLOOKUP($D262,申請者リスト!$C$4:$Q$2003,7,FALSE)),\"\")","v":""},"・",{"$f":"IFERROR(DAY(VLOOKUP($D262,申請者リスト!$C$4:$Q$2003,7,FALSE)),\"\")","v":""},{"$f":"COUNTIFS(申請者リスト!$C$4:$C$2003,様式３!$D262,申請者リスト!$P$4:$P$2003,J$8)","v":0},{"$f":"COUNTIFS(申請者リスト!$C$4:$C$2003,様式３!$D262,申請者リスト!$P$4:$P$2003,K$8)","v":0},{"$f":"COUNTIFS(申請者リスト!$C$4:$C$2003,様式３!$D262,申請者リスト!$P$4:$P$2003,L$8)","v":0},{"$f":"COUNTIFS(申請者リスト!$C$4:$C$2003,様式３!$D262,申請者リスト!$P$4:$P$2003,M$8)","v":0},0]
[134,null,null,null,{"$f":"IFERROR(YEAR(VLOOKUP($D263,申請者リスト!$C$4:$Q$2003,7,FALSE)),\"\")","v":""},"・",{"$f":"IFERROR(MONTH(VLOOKUP($D263,申請者リスト!$C$4:$Q$2003,7,FALSE)),\"\")","v":""},"・",{"$f":"IFERROR(DAY(VLOOKUP($D263,申請者リスト!$C$4:$Q$2003,7,FALSE)),\"\")","v":""},{"$f":"COUNTIFS(申請者リスト!$C$4:$C$2003,様式３!$D263,申請者リスト!$P$4:$P$2003,J$8)","v":0},{"$f":"COUNTIFS(申請者リスト!$C$4:$C$2003,様式３!$D263,申請者リスト!$P$4:$P$2003,K$8)","v":0},{"$f":"COUNTIFS(申請者リスト!$C$4:$C$2003,様式３!$D263,申請者リスト!$P$4:$P$2003,L$8)","v":0},{"$f":"COUNTIFS(申請者リスト!$C$4:$C$2003,様式３!$D263,申請者リスト!$P$4:$P$2003,M$8)","v":0},0]
[135,null,null,null,{"$f":"IFERROR(YEAR(VLOOKUP($D264,申請者リスト!$C$4:$Q$2003,7,FALSE)),\"\")","v":""},"・",{"$f":"IFERROR(MONTH(VLOOKUP($D264,申請者リスト!$C$4:$Q$2003,7,FALSE)),\"\")","v":""},"・",{"$f":"IFERROR(DAY(VLOOKUP($D264,申請者リスト!$C$4:$Q$2003,7,FALSE)),\"\")","v":""},{"$f":"COUNTIFS(申請者リスト!$C$4:$C$2003,様式３!$D264,申請者リスト!$P$4:$P$2003,J$8)","v":0},{"$f":"COUNTIFS(申請者リスト!$C$4:$C$2003,様式３!$D264,申請者リスト!$P$4:$P$2003,K$8)","v":0},{"$f":"COUNTIFS(申請者リスト!$C$4:$C$2003,様式３!$D264,申請者リスト!$P$4:$P$2003,L$8)","v":0},{"$f":"COUNTIFS(申請者リスト!$C$4:$C$2003,様式３!$D264,申請者リスト!$P$4:$P$2003,M$8)","v":0},0]
["※１","学科の欄には、大学科名を記入する。"]
["※２","整理番号は、様式１の整理番号（担当者が付記）と一致させる。"]
[null,"なお、整理番号については、各学校の大学科ごとに１～を割り振ること。"]
["※３","資格・試験等ランクの欄には、取得個数を記入する。"]
["※４","得点合計欄には、得点の合計を記入する。"]
[]
["（様式３）",null,null,null,null,null,null,null,null,null,"(",{"$f":"$L$1","v":0},"枚中",{"$f":"+N241+1","v":10},"枚目）"]
[]
["埼玉県高校生専門資格等取得表彰推薦名簿"]
[]
[null,null,null,null,null,null,"学  校  名　　　　　　　　　　",null,null,{"$f":"$J$5","v":0},null,null,null,null,"学校"]
[]
["Ｎｏ","学　年　　　　　　　　　　　　　　　　　　　","学　科","整理番号","生　年　月　日",null,null,null,null,"資格・試験等ﾗﾝｸ",null,null,null,"得点合計","備　考"]
[null,null,null,null,null,null,null,null,null,"A","B","C","D"]
[null,null,null,null,null,null,null,null,null,6,3,2,1]
[{"$f":"+A264+1","v":136},null,null,null,{"$f":"IFERROR(YEAR(VLOOKUP($D280,申請者リスト!$C$4:$Q$2003,7,FALSE)),\"\")","v":""},"・",{"$f":"IFERROR(MONTH(VLOOKUP($D280,申請者リスト!$C$4:$Q$2003,7,FALSE)),\"\")","v":""},"・",{"$f":"IFERROR(DAY(VLOOKUP($D280,申請者リスト!$C$4:$Q$2003,7,FALSE)),\"\")","v":""},{"$f":"COUNTIFS(申請者リスト!$C$4:$C$2003,様式３!$D280,申請者リスト!$P$4:$P$2003,J$8)","v":0},{"$f":"COUNTIFS(申請者リスト!$C$4:$C$2003,様式３!$D280,申請者リスト!$P$4:$P$2003,K$8)","v":0},{"$f":"COUNTIFS(申請者リスト!$C$4:$C$2003,様式３!$D280,申請者リスト!$P$4:$P$2003,L$8)","v":0},{"$f":"COUNTIFS(申請者リスト!$C$4:$C$2003,様式３!$D280,申請者リスト!$P$4:$P$2003,M$8)","v":0},{"$f":"J280*$J$9+K280*$K$9+L280*$L$9+M280*$M$9","v":0}]
[{"$f":"+A280+1","v":137},null,null,null,{"$f":"IFERROR(YEAR(VLOOKUP($D281,申請者リスト!$C$4:$Q$2003,7,FALSE)),\"\")","v":""},"・",{"$f":"IFERROR(MONTH(VLOOKUP($D281,申請者リスト!$C$4:$Q$2003,7,FALSE)),\"\")","v":""},"・",{"$f":"IFERROR(DAY(VLOOKUP($D281,申請者リスト!$C$4:$Q$2003,7,FALSE)),\"\")","v":""},{"$f":"COUNTIFS(申請者リスト!$C$4:$C$2003,様式３!$D281,申請者リスト!$P$4:$P$2003,J$8)","v":0},{"$f":"COUNTIFS(申請者リスト!$C$4:$C$2003,様式３!$D281,申請者リスト!$P$4:$P$2003,K$8)","v":0},{"$f":"COUNTIFS(申請者リスト!$C$4:$C$2003,様式３!$D281,申請者リスト!$P$4:$P$2003,L$8)","v":0},{"$f":"COUNTIFS(申請者リスト!$C$4:$C$2003,様式３!$D281,申請者リスト!$P$4:$P$2003,M$8)","v":0},{"$f":"J281*$J$9+K281*$K$9+L281*$L$9+M281*$M$9","v":0}]
[{"$f":"+A281+1","v":138},null,null,null,{"$f":"IFERROR(YEAR(VLOOKUP($D282,申請者リスト!$C$4:$Q$2003,7,FALSE)),\"\")","v":""},"・",{"$f":"IFERROR(MONTH(VLOOKUP($D282,申請者リスト!$C$4:$Q$2003,7,FALSE)),\"\")","v":""},"・",{"$f":"IFERROR(DAY(VLOOKUP($D282,申請者リスト!$C$4:$Q$2003,7,FALSE)),\"\")","v":""},{"$f":"COUNTIFS(申請者リスト!$C$4:$C$2003,様式３!$D282,申請者リスト!$P$4:$P$2003,J$8)","v":0},{"$f":"COUNTIFS(申請者リスト!$C$4:$C$2003,様式３!$D282,申請者リスト!$P$4:$P$2003,K$8)","v":0},{"$f":"COUNTIFS(申請者リスト!$C$4:$C$2003,様式３!$D282,申請者リスト!$P$4:$P$2003,L$8)","v":0},{"$f":"COUNTIFS(申請者リスト!$C$4:$C$2003,様式３!$D282,申請者リスト!$P$4:$P$2003,M$8)","v":0},0]
[139,null,null,null,{"$f":"IFERROR(YEAR(VLOOKUP($D283,申請者リスト!$C$4:$Q$2003,7,FALSE)),\"\")","v":""},"・",{"$f":"IFERROR(MONTH(VLOOKUP($D283,申請者リスト!$C$4:$Q$2003,7,FALSE)),\"\")","v":""},"・",{"$f":"IFERROR(DAY(VLOOKUP($D283,申請者リスト!$C$4:$Q$2003,7,FALSE)),\"\")","v":""},{"$f":"COUNTIFS(申請者リスト!$C$4:$C$2003,様式３!$D283,申請者リスト!$P$4:$P$2003,J$8)","v":0},{"$f":"COUNTIFS(申請者リスト!$C$4:$C$2003,様式３!$D283,申請者リスト!$P$4:$P$2003,K$8)","v":0},{"$f":"COUNTIFS(申請者リスト!$C$4:$C$2003,様式３!$D283,申請者リスト!$P$4:$P$2003,L$8)","v":0},{"$f":"COUNTIFS(申請者リスト!$C$4:$C$2003,様式３!$D283,申請者リスト!$P$4:$P$2003,M$8)","v":0},0]
[140,null,null,null,{"$f":"IFERROR(YEAR(VLOOKUP($D284,申請者リスト!$C$4:$Q$2003,7,FALSE)),\"\")","v":""},"・",{"$f":"IFERROR(MONTH(VLOOKUP($D284,申請者リスト!$C$4:$Q$2003,7,FALSE)),\"\")","v":""},"・",{"$f":"IFERROR(DAY(VLOOKUP($D284,申請者リスト!$C$4:$Q$2003,7,FALSE)),\"\")","v":""},{"$f":"COUNTIFS(申請者リスト!$C$4:$C$2003,様式３!$D284,申請者リスト!$P$4:$P$2003,J$8)","v":0},{"$f":"COUNTIFS(申請者リスト!$C$4:$C$2003,様式３!$D284,申請者リスト!$P$4:$P$2003,K$8)","v":0},{"$f":"COUNTIFS(申請者リスト!$C$4:$C$2003,様式３!$D284,申請者リスト!$P$4:$P$2003,L$8)","v":0},{"$f":"COUNTIFS(申請者リスト!$C$4:$C$2003,様式３!$D284,申請者リスト!$P$4:$P$2003,M$8)","v":0},0]
[141,null,null,null,{"$f":"IFERROR(YEAR(VLOOKUP($D285,申請者リスト!$C$4:$Q$2003,7,FALSE)),\"\")","v":""},"・",{"$f":"IFERROR(MONTH(VLOOKUP($D285,申請者リスト!$C$4:$Q$2003,7,FALSE)),\"\")","v":""},"・",{"$f":"IFERROR(DAY(VLOOKUP($D285,申請者リスト!$C$4:$Q$2003,7,FALSE)),\"\")","v":""},{"$f":"COUNTIFS(申請者リスト!$C$4:$C$2003,様式３!$D285,申請者リスト!$P$4:$P$2003,J$8)","v":0},{"$f":"COUNTIFS(申請者リスト!$C$4:$C$2003,様式３!$D285,申請者リスト!$P$4:$P$2003,K$8)","v":0},{"$f":"COUNTIFS(申請者リスト!$C$4:$C$2003,様式３!$D285,申請者リスト!$P$4:$P$2003,L$8)","v":0},{"$f":"COUNTIFS(申請者リスト!$C$4:$C$2003,様式３!$D285,申請者リスト!$P$4:$P$2003,M$8)","v":0},0]
[142,null,null,null,{"$f":"IFERROR(YEAR(VLOOKUP($D286,申請者リスト!$C$4:$Q$2003,7,FALSE)),\"\")","v":""},"・",{"$f":"IFERROR(MONTH(VLOOKUP($D286,申請者リスト!$C$4:$Q$2003,7,FALSE)),\"\")","v":""},"・",{"$f":"IFERROR(DAY(VLOOKUP($D286,申請者リスト!$C$4:$Q$2003,7,FALSE)),\"\")","v":""},{"$f":"COUNTIFS(申請者リスト!$C$4:$C$2003,様式３!$D286,申請者リスト!$P$4:$P$2003,J$8)","v":0},{"$f":"COUNTIFS(申請者リスト!$C$4:$C$2003,様式３!$D286,申請者リスト!$P$4:$P$2003,K$8)","v":0},{"$f":"COUNTIFS(申請者リスト!$C$4:$C$2003,様式３!$D286,申請者リスト!$P$4:$P$2003,L$8)","v":0},{"$f":"COUNTIFS(申請者リスト!$C$4:$C$2003,様式３!$D286,申請者リスト!$P$4:$P$2003,M$8)","v":0},0]
[143,null,null,null,{"$f":"IFERROR(YEAR(VLOOKUP($D287,申請者リスト!$C$4:$Q$2003,7,FALSE)),\"\")","v":""},"・",{"$f":"IFERROR(MONTH(VLOOKUP($D287,申請者リスト!$C$4:$Q$2003,7,FALSE)),\"\")","v":""},"・",{"$f":"IFERROR(DAY(VLOOKUP($D287,申請者リスト!$C$4:$Q$2003,7,FALSE)),\"\")","v":""},{"$f":"COUNTIFS(申請者リスト!$C$4:$C$2003,様式３!$D287,申請者リスト!$P$4:$P$2003,J$8)","v":0},{"$f":"COUNTIFS(申請者リスト!$C$4:$C$2003,様式３!$D287,申請者リスト!$P$4:$P$2003,K$8)","v":0},{"$f":"COUNTIFS(申請者リスト!$C$4:$C$2003,様式３!$D287,申請者リスト!$P$4:$P$2003,L$8)","v":0},{"$f":"COUNTIFS(申請者リスト!$C$4:$C$2003,様式３!$D287,申請者リスト!$P$4:$P$2003,M$8)","v":0},0]
[144,null,null,null,{"$f":"IFERROR(YEAR(VLOOKUP($D288,申請者リスト!$C$4:$Q$2003,7,FALSE)),\"\")","v":""},"・",{"$f":"IFERROR(MONTH(VLOOKUP($D288,申請者リスト!$C$4:$Q$2003,7,FALSE)),\"\")","v":""},"・",{"$f":"IFERROR(DAY(VLOOKUP($D288,申請者リスト!$C$4:$Q$2003,7,FALSE)),\"\")","v":""},{"$f":"COUNTIFS(申請者リスト!$C$4:$C$2003,様式３!$D288,申請者リスト!$P$4:$P$2003,J$8)","v":0},{"$f":"COUNTIFS(申請者リスト!$C$4:$C$2003,様式３!$D288,申請者リスト!$P$4:$P$2003,K$8)","v":0},{"$f":"COUNTIFS(申請者リスト!$C$4:$C$2003,様式３!$D288,申請者リスト!$P$4:$P$2003,L$8)","v":0},{"$f":"COUNTIFS(申請者リスト!$C$4:$C$2003,様式３!$D288,申請者リスト!$P$4:$P$2003,M$8)","v":0},0]
[145,null,null,null,{"$f":"IFERROR(YEAR(VLOOKUP($D289,申請者リスト!$C$4:$Q$2003,7,FALSE)),\"\")","v":""},"・",{"$f":"IFERROR(MONTH(VLOOKUP($D289,申請者リスト!$C$4:$Q$2003,7,FALSE)),\"\")","v":""},"・",{"$f":"IFERROR(DAY(VLOOKUP($D289,申請者リスト!$C$4:$Q$2003,7,FALSE)),\"\")","v":""},{"$f":"COUNTIFS(申請者リスト!$C$4:$C$2003,様式３!$D289,申請者リスト!$P$4:$P$2003,J$8)","v":0},{"$f":"COUNTIFS(申請者リスト!$C$4:$C$2003,様式３!$D289,申請者リスト!$P$4:$P$2003,K$8)","v":0},{"$f":"COUNTIFS(申請者リスト!$C$4:$C$2003,様式３!$D289,申請者リスト!$P$4:$P$2003,L$8)","v":0},{"$f":"COUNTIFS(申請者リスト!$C$4:$C$2003,様式３!$D289,申請者リスト!$P$4:$P$2003,M$8)","v":0},0]
[146,null,null,null,{"$f":"IFERROR(YEAR(VLOOKUP($D290,申請者リスト!$C$4:$Q$2003,7,FALSE)),\"\")","v":""},"・",{"$f":"IFERROR(MONTH(VLOOKUP($D290,申請者リスト!$C$4:$Q$2003,7,FALSE)),\"\")","v":""},"・",{"$f":"IFERROR(DAY(VLOOKUP($D290,申請者リスト!$C$4:$Q$2003,7,FALSE)),\"\")","v":""},{"$f":"COUNTIFS(申請者リスト!$C$4:$C$2003,様式３!$D290,申請者リスト!$P$4:$P$2003,J$8)","v":0},{"$f":"COUNTIFS(申請者リスト!$C$4:$C$2003,様式３!$D290,申請者リスト!$P$4:$P$2003,K$8)","v":0},{"$f":"COUNTIFS(申請者リスト!$C$4:$C$2003,様式３!$D290,申請者リスト!$P$4:$P$2003,L$8)","v":0},{"$f":"COUNTIFS(申請者リスト!$C$4:$C$2003,様式３!$D290,申請者リスト!$P$4:$P$2003,M$8)","v":0},0]
[147,null,null,null,{"$f":"IFERROR(YEAR(VLOOKUP($D291,申請者リスト!$C$4:$Q$2003,7,FALSE)),\"\")","v":""},"・",{"$f":"IFERROR(MONTH(VLOOKUP($D291,申請者リスト!$C$4:$Q$2003,7,FALSE)),\"\")","v":""},"・",{"$f":"IFERROR(DAY(VLOOKUP($D291,申請者リスト!$C$4:$Q$2003,7,FALSE)),\"\")","v":""},{"$f":"COUNTIFS(申請者リスト!$C$4:$C$2003,様式３!$D291,申請者リスト!$P$4:$P$2003,J$8)","v":0},{"$f":"COUNTIFS(申請者リスト!$C$4:$C$2003,様式３!$D291,申請者リスト!$P$4:$P$2003,K$8)","v":0},{"$f":"COUNTIFS(申請者リスト!$C$4:$C$2003,様式３!$D291,申請者リスト!$P$4:$P$2003,L$8)","v":0},{"$f":"COUNTIFS(申請者リスト!$C$4:$C$2003,様式３!$D291,申請者リスト!$P$4:$P$2003,M$8)","v":0},0]
[148,null,null,null,{"$f":"IFERROR(YEAR(VLOOKUP($D292,申請者リスト!$C$4:$Q$2003,7,FALSE)),\"\")","v":""},"・",{"$f":"IFERROR(MONTH(VLOOKUP($D292,申請者リスト!$C$4:$Q$2003,7,FALSE)),\"\")","v":""},"・",{"$f":"IFERROR(DAY(VLOOKUP($D292,申請者リスト!$C$4:$Q$2003,7,FALSE)),\"\")","v":""},{"$f":"COUNTIFS(申請者リスト!$C$4:$C$2003,様式３!$D292,申請者リスト!$P$4:$P$2003,J$8)","v":0},{"$f":"COUNTIFS(申請者リスト!$C$4:$C$2003,様式３!$D292,申請者リスト!$P$4:$P$2003,K$8)","v":0},{"$f":"COUNTIFS(申請者リスト!$C$4:$C$2003,様式３!$D292,申請者リスト!$P$4:$P$2003,L$8)","v":0},{"$f":"COUNTIFS(申請者リスト!$C$4:$C$2003,様式３!$D292,申請者リスト!$P$4:$P$2003,M$8)","v":0},0]
[149,null,null,null,{"$f":"IFERROR(YEAR(VLOOKUP($D293,申請者リスト!$C$4:$Q$2003,7,FALSE)),\"\")","v":""},"・",{"$f":"IFERROR(MONTH(VLOOKUP($D293,申請者リスト!$C$4:$Q$2003,7,FALSE)),\"\")","v":""},"・",{"$f":"IFERROR(DAY(VLOOKUP($D293,申請者リスト!$C$4:$Q$2003,7,FALSE)),\"\")","v":""},{"$f":"COUNTIFS(申請者リスト!$C$4:$C$2003,様式３!$D293,申請者リスト!$P$4:$P$2003,J$8)","v":0},{"$f":"COUNTIFS(申請者リスト!$C$4:$C$2003,様式３!$D293,申請者リスト!$P$4:$P$2003,K$8)","v":0},{"$f":"COUNTIFS(申請者リスト!$C$4:$C$2003,様式３!$D293,申請者リスト!$P$4:$P$2003,L$8)","v":0},{"$f":"COUNTIFS(申請者リスト!$C$4:$C$2003,様式３!$D293,申請者リスト!$P$4:$P$2003,M$8)","v":0},0]
[150,null,null,null,{"$f":"IFERROR(YEAR(VLOOKUP($D294,申請者リスト!$C$4:$Q$2003,7,FALSE)),\"\")","v":""},"・",{"$f":"IFERROR(MONTH(VLOOKUP($D294,申請者リスト!$C$4:$Q$2003,7,FALSE)),\"\")","v":""},"・",{"$f":"IFERROR(DAY(VLOOKUP($D294,申請者リスト!$C$4:$Q$2003,7,FALSE)),\"\")","v":""},{"$f":"COUNTIFS(申請者リスト!$C$4:$C$2003,様式３!$D294,申請者リスト!$P$4:$P$2003,J$8)","v":0},{"$f":"COUNTIFS(申請者リスト!$C$4:$C$2003,様式３!$D294,申請者リスト!$P$4:$P$2003,K$8)","v":0},{"$f":"COUNTIFS(申請者リスト!$C$4:$C$2003,様式３!$D294,申請者リスト!$P$4:$P$2003,L$8)","v":0},{"$f":"COUNTIFS(申請者リスト!$C$4:$C$2003,様式３!$D294,申請者リスト!$P$4:$P$2003,M$8)","v":0},0]
["※１","学科の欄には、大学科名を記入する。"]
["※２","整理番号は、様式１の整理番号（担当者が付記）と一致させる。"]
[null,"なお、整理番号については、各学校の大学科ごとに１～を割り振ること。"]
["※３","資格・試験等ランクの欄には、取得個数を記入する。"]
["※４","得点合計欄には、得点の合計を記入する。"]
[]
["（様式３）",null,null,null,null,null,null,null,null,null,"(",{"$f":"$L$1","v":0},"枚中",{"$f":"+N271+1","v":11},"枚目）"]
[]
["埼玉県高校生専門資格等取得表彰推薦名簿"]
[]
[null,null,null,null,null,null,"学  校  名　　　　　　　　　　",null,null,{"$f":"$J$5","v":0},null,null,null,null,"学校"]
[]
["Ｎｏ","学　年　　　　　　　　　　　　　　　　　　　","学　科","整理番号","生　年　月　日",null,null,null,null,"資格・試験等ﾗﾝｸ",null,null,null,"得点合計","備　考"]
[null,null,null,null,null,null,null,null,null,"A","B","C","D"]
[null,null,null,null,null,null,null,null,null,6,3,2,1]
[{"$f":"+A294+1","v":151},null,null,null,{"$f":"IFERROR(YEAR(VLOOKUP($D310,申請者リスト!$C$4:$Q$2003,7,FALSE)),\"\")","v":""},"・",{"$f":"IFERROR(MONTH(VLOOKUP($D310,申請者リスト!$C$4:$Q$2003,7,FALSE)),\"\")","v":""},"・",{"$f":"IFERROR(DAY(VLOOKUP($D310,申請者リスト!$C$4:$Q$2003,7,FALSE)),\"\")","v":""},{"$f":"COUNTIFS(申請者リスト!$C$4:$C$2003,様式３!$D310,申請者リスト!$P$4:$P$2003,J$8)","v":0},{"$f":"COUNTIFS(申請者リスト!$C$4:$C$2003,様式３!$D310,申請者リスト!$P$4:$P$2003,K$8)","v":0},{"$f":"COUNTIFS(申請者リスト!$C$4:$C$2003,様式３!$D310,申請者リスト!$P$4:$P$2003,L$8)","v":0},{"$f":"COUNTIFS(申請者リスト!$C$4:$C$2003,様式３!$D310,申請者リスト!$P$4:$P$2003,M$8)","v":0},{"$f":"J310*$J$9+K310*$K$9+L310*$L$9+M310*$M$9","v":0}]
[{"$f":"+A310+1","v":152},null,null,null,{"$f":"IFERROR(YEAR(VLOOKUP($D311,申請者リスト!$C$4:$Q$2003,7,FALSE)),\"\")","v":""},"・",{"$f":"IFERROR(MONTH(VLOOKUP($D311,申請者リスト!$C$4:$Q$2003,7,FALSE)),\"\")","v":""},"・",{"$f":"IFERROR(DAY(VLOOKUP($D311,申請者リスト!$C$4:$Q$2003,7,FALSE)),\"\")","v":""},{"$f":"COUNTIFS(申請者リスト!$C$4:$C$2003,様式３!$D311,申請者リスト!$P$4:$P$2003,J$8)","v":0},{"$f":"COUNTIFS(申請者リスト!$C$4:$C$2003,様式３!$D311,申請者リスト!$P$4:$P$2003,K$8)","v":0},{"$f":"COUNTIFS(申請者リスト!$C$4:$C$2003,様式３!$D311,申請者リスト!$P$4:$P$2003,L$8)","v":0},{"$f":"COUNTIFS(申請者リスト!$C$4:$C$2003,様式３!$D311,申請者リスト!$P$4:$P$2003,M$8)","v":0},{"$f":"J311*$J$9+K311*$K$9+L311*$L$9+M311*$M$9","v":0}]
[{"$f":"+A311+1","v":153},null,null,null,{"$f":"IFERROR(YEAR(VLOOKUP($D312,申請者リスト!$C$4:$Q$2003,7,FALSE)),\"\")","v":""},"・",{"$f":"IFERROR(MONTH(VLOOKUP($D312,申請者リスト!$C$4:$Q$2003,7,FALSE)),\"\")","v":""},"・",{"$f":"IFERROR(DAY(VLOOKUP($D312,申請者リスト!$C$4:$Q$2003,7,FALSE)),\"\")","v":""},{"$f":"COUNTIFS(申請者リスト!$C$4:$C$2003,様式３!$D312,申請者リスト!$P$4:$P$2003,J$8)","v":0},{"$f":"COUNTIFS(申請者リスト!$C$4:$C$2003,様式３!$D312,申請者リスト!$P$4:$P$2003,K$8)","v":0},{"$f":"COUNTIFS(申請者リスト!$C$4:$C$2003,様式３!$D312,申請者リスト!$P$4:$P$2003,L$8)","v":0},{"$f":"COUNTIFS(申請者リスト!$C$4:$C$2003,様式３!$D312,申請者リスト!$P$4:$P$2003,M$8)","v":0},0]
[154,null,null,null,{"$f":"IFERROR(YEAR(VLOOKUP($D313,申請者リスト!$C$4:$Q$2003,7,FALSE)),\"\")","v":""},"・",{"$f":"IFERROR(MONTH(VLOOKUP($D313,申請者リスト!$C$4:$Q$2003,7,FALSE)),\"\")","v":""},"・",{"$f":"IFERROR(DAY(VLOOKUP($D313,申請者リスト!$C$4:$Q$2003,7,FALSE)),\"\")","v":""},{"$f":"COUNTIFS(申請者リスト!$C$4:$C$2003,様式３!$D313,申請者リスト!$P$4:$P$2003,J$8)","v":0},{"$f":"COUNTIFS(申請者リスト!$C$4:$C$2003,様式３!$D313,申請者リスト!$P$4:$P$2003,K$8)","v":0},{"$f":"COUNTIFS(申請者リスト!$C$4:$C$2003,様式３!$D313,申請者リスト!$P$4:$P$2003,L$8)","v":0},{"$f":"COUNTIFS(申請者リスト!$C$4:$C$2003,様式３!$D313,申請者リスト!$P$4:$P$2003,M$8)","v":0},0]
[155,null,null,null,{"$f":"IFERROR(YEAR(VLOOKUP($D314,申請者リスト!$C$4:$Q$2003,7,FALSE)),\"\")","v":""},"・",{"$f":"IFERROR(MONTH(VLOOKUP($D314,申請者リスト!$C$4:$Q$2003,7,FALSE)),\"\")","v":""},"・",{"$f":"IFERROR(DAY(VLOOKUP($D314,申請者リスト!$C$4:$Q$2003,7,FALSE)),\"\")","v":""},{"$f":"COUNTIFS(申請者リスト!$C$4:$C$2003,様式３!$D314,申請者リスト!$P$4:$P$2003,J$8)","v":0},{"$f":"COUNTIFS(申請者リスト!$C$4:$C$2003,様式３!$D314,申請者リスト!$P$4:$P$2003,K$8)","v":0},{"$f":"COUNTIFS(申請者リスト!$C$4:$C$2003,様式３!$D314,申請者リスト!$P$4:$P$2003,L$8)","v":0},{"$f":"COUNTIFS(申請者リスト!$C$4:$C$2003,様式３!$D314,申請者リスト!$P$4:$P$2003,M$8)","v":0},0]
[156,null,null,null,{"$f":"IFERROR(YEAR(VLOOKUP($D315,申請者リスト!$C$4:$Q$2003,7,FALSE)),\"\")","v":""},"・",{"$f":"IFERROR(MONTH(VLOOKUP($D315,申請者リスト!$C$4:$Q$2003,7,FALSE)),\"\")","v":""},"・",{"$f":"IFERROR(DAY(VLOOKUP($D315,申請者リスト!$C$4:$Q$2003,7,FALSE)),\"\")","v":""},{"$f":"COUNTIFS(申請者リスト!$C$4:$C$2003,様式３!$D315,申請者リスト!$P$4:$P$2003,J$8)","v":0},{"$f":"COUNTIFS(申請者リスト!$C$4:$C$2003,様式３!$D315,申請者リスト!$P$4:$P$2003,K$8)","v":0},{"$f":"COUNTIFS(申請者リスト!$C$4:$C$2003,様式３!$D315,申請者リスト!$P$4:$P$2003,L$8)","v":0},{"$f":"COUNTIFS(申請者リスト!$C$4:$C$2003,様式３!$D315,申請者リスト!$P$4:$P$2003,M$8)","v":0},0]
[157,null,null,null,{"$f":"IFERROR(YEAR(VLOOKUP($D316,申請者リスト!$C$4:$Q$2003,7,FALSE)),\"\")","v":""},"・",{"$f":"IFERROR(MONTH(VLOOKUP($D316,申請者リスト!$C$4:$Q$2003,7,FALSE)),\"\")","v":""},"・",{"$f":"IFERROR(DAY(VLOOKUP($D316,申請者リスト!$C$4:$Q$2003,7,FALSE)),\"\")","v":""},{"$f":"COUNTIFS(申請者リスト!$C$4:$C$2003,様式３!$D316,申請者リスト!$P$4:$P$2003,J$8)","v":0},{"$f":"COUNTIFS(申請者リスト!$C$4:$C$2003,様式３!$D316,申請者リスト!$P$4:$P$2003,K$8)","v":0},{"$f":"COUNTIFS(申請者リスト!$C$4:$C$2003,様式３!$D316,申請者リスト!$P$4:$P$2003,L$8)","v":0},{"$f":"COUNTIFS(申請者リスト!$C$4:$C$2003,様式３!$D316,申請者リスト!$P$4:$P$2003,M$8)","v":0},0]
[158,null,null,null,{"$f":"IFERROR(YEAR(VLOOKUP($D317,申請者リスト!$C$4:$Q$2003,7,FALSE)),\"\")","v":""},"・",{"$f":"IFERROR(MONTH(VLOOKUP($D317,申請者リスト!$C$4:$Q$2003,7,FALSE)),\"\")","v":""},"・",{"$f":"IFERROR(DAY(VLOOKUP($D317,申請者リスト!$C$4:$Q$2003,7,FALSE)),\"\")","v":""},{"$f":"COUNTIFS(申請者リスト!$C$4:$C$2003,様式３!$D317,申請者リスト!$P$4:$P$2003,J$8)","v":0},{"$f":"COUNTIFS(申請者リスト!$C$4:$C$2003,様式３!$D317,申請者リスト!$P$4:$P$2003,K$8)","v":0},{"$f":"COUNTIFS(申請者リスト!$C$4:$C$2003,様式３!$D317,申請者リスト!$P$4:$P$2003,L$8)","v":0},{"$f":"COUNTIFS(申請者リスト!$C$4:$C$2003,様式３!$D317,申請者リスト!$P$4:$P$2003,M$8)","v":0},0]
[159,null,null,null,{"$f":"IFERROR(YEAR(VLOOKUP($D318,申請者リスト!$C$4:$Q$2003,7,FALSE)),\"\")","v":""},"・",{"$f":"IFERROR(MONTH(VLOOKUP($D318,申請者リスト!$C$4:$Q$2003,7,FALSE)),\"\")","v":""},"・",{"$f":"IFERROR(DAY(VLOOKUP($D318,申請者リスト!$C$4:$Q$2003,7,FALSE)),\"\")","v":""},{"$f":"COUNTIFS(申請者リスト!$C$4:$C$2003,様式３!$D318,申請者リスト!$P$4:$P$2003,J$8)","v":0},{"$f":"COUNTIFS(申請者リスト!$C$4:$C$2003,様式３!$D318,申請者リスト!$P$4:$P$2003,K$8)","v":0},{"$f":"COUNTIFS(申請者リスト!$C$4:$C$2003,様式３!$D318,申請者リスト!$P$4:$P$2003,L$8)","v":0},{"$f":"COUNTIFS(申請者リスト!$C$4:$C$2003,様式３!$D318,申請者リスト!$P$4:$P$2003,M$8)","v":0},0]
[160,null,null,null,{"$f":"IFERROR(YEAR(VLOOKUP($D319,申請者リスト!$C$4:$Q$2003,7,FALSE)),\"\")","v":""},"・",{"$f":"IFERROR(MONTH(VLOOKUP($D319,申請者リスト!$C$4:$Q$2003,7,FALSE)),\"\")","v":""},"・",{"$f":"IFERROR(DAY(VLOOKUP($D319,申請者リスト!$C$4:$Q$2003,7,FALSE)),\"\")","v":""},{"$f":"COUNTIFS(申請者リスト!$C$4:$C$2003,様式３!$D319,申請者リスト!$P$4:$P$2003,J$8)","v":0},{"$f":"COUNTIFS(申請者リスト!$C$4:$C$2003,様式３!$D319,申請者リスト!$P$4:$P$2003,K$8)","v":0},{"$f":"COUNTIFS(申請者リスト!$C$4:$C$2003,様式３!$D319,申請者リスト!$P$4:$P$2003,L$8)","v":0},{"$f":"COUNTIFS(申請者リスト!$C$4:$C$2003,様式３!$D319,申請者リスト!$P$4:$P$2003,M$8)","v":0},0]
[161,null,null,null,{"$f":"IFERROR(YEAR(VLOOKUP($D320,申請者リスト!$C$4:$Q$2003,7,FALSE)),\"\")","v":""},"・",{"$f":"IFERROR(MONTH(VLOOKUP($D320,申請者リスト!$C$4:$Q$2003,7,FALSE)),\"\")","v":""},"・",{"$f":"IFERROR(DAY(VLOOKUP($D320,申請者リスト!$C$4:$Q$2003,7,FALSE)),\"\")","v":""},{"$f":"COUNTIFS(申請者リスト!$C$4:$C$2003,様式３!$D320,申請者リスト!$P$4:$P$2003,J$8)","v":0},{"$f":"COUNTIFS(申請者リスト!$C$4:$C$2003,様式３!$D320,申請者リスト!$P$4:$P$2003,K$8)","v":0},{"$f":"COUNTIFS(申請者リスト!$C$4:$C$2003,様式３!$D320,申請者リスト!$P$4:$P$2003,L$8)","v":0},{"$f":"COUNTIFS(申請者リスト!$C$4:$C$2003,様式３!$D320,申請者リスト!$P$4:$P$2003,M$8)","v":0},0]
[162,null,null,null,{"$f":"IFERROR(YEAR(VLOOKUP($D321,申請者リスト!$C$4:$Q$2003,7,FALSE)),\"\")","v":""},"・",{"$f":"IFERROR(MONTH(VLOOKUP($D321,申請者リスト!$C$4:$Q$2003,7,FALSE)),\"\")","v":""},"・",{"$f":"IFERROR(DAY(VLOOKUP($D321,申請者リスト!$C$4:$Q$2003,7,FALSE)),\"\")","v":""},{"$f":"COUNTIFS(申請者リスト!$C$4:$C$2003,様式３!$D321,申請者リスト!$P$4:$P$2003,J$8)","v":0},{"$f":"COUNTIFS(申請者リスト!$C$4:$C$2003,様式３!$D321,申請者リスト!$P$4:$P$2003,K$8)","v":0},{"$f":"COUNTIFS(申請者リスト!$C$4:$C$2003,様式３!$D321,申請者リスト!$P$4:$P$2003,L$8)","v":0},{"$f":"COUNTIFS(申請者リスト!$C$4:$C$2003,様式３!$D321,申請者リスト!$P$4:$P$2003,M$8)","v":0},0]
[163,null,null,null,{"$f":"IFERROR(YEAR(VLOOKUP($D322,申請者リスト!$C$4:$Q$2003,7,FALSE)),\"\")","v":""},"・",{"$f":"IFERROR(MONTH(VLOOKUP($D322,申請者リスト!$C$4:$Q$2003,7,FALSE)),\"\")","v":""},"・",{"$f":"IFERROR(DAY(VLOOKUP($D322,申請者リスト!$C$4:$Q$2003,7,FALSE)),\"\")","v":""},{"$f":"COUNTIFS(申請者リスト!$C$4:$C$2003,様式３!$D322,申請者リスト!$P$4:$P$2003,J$8)","v":0},{"$f":"COUNTIFS(申請者リスト!$C$4:$C$2003,様式３!$D322,申請者リスト!$P$4:$P$2003,K$8)","v":0},{"$f":"COUNTIFS(申請者リスト!$C$4:$C$2003,様式３!$D322,申請者リスト!$P$4:$P$2003,L$8)","v":0},{"$f":"COUNTIFS(申請者リスト!$C$4:$C$2003,様式３!$D322,申請者リスト!$P$4:$P$2003,M$8)","v":0},0]
[164,null,null,null,{"$f":"IFERROR(YEAR(VLOOKUP($D323,申請者リスト!$C$4:$Q$2003,7,FALSE)),\"\")","v":""},"・",{"$f":"IFERROR(MONTH(VLOOKUP($D323,申請者リスト!$C$4:$Q$2003,7,FALSE)),\"\")","v":""},"・",{"$f":"IFERROR(DAY(VLOOKUP($D323,申請者リスト!$C$4:$Q$2003,7,FALSE)),\"\")","v":""},{"$f":"COUNTIFS(申請者リスト!$C$4:$C$2003,様式３!$D323,申請者リスト!$P$4:$P$2003,J$8)","v":0},{"$f":"COUNTIFS(申請者リスト!$C$4:$C$2003,様式３!$D323,申請者リスト!$P$4:$P$2003,K$8)","v":0},{"$f":"COUNTIFS(申請者リスト!$C$4:$C$2003,様式３!$D323,申請者リスト!$P$4:$P$2003,L$8)","v":0},{"$f":"COUNTIFS(申請者リスト!$C$4:$C$2003,様式３!$D323,申請者リスト!$P$4:$P$2003,M$8)","v":0},0]
[165,null,null,null,{"$f":"IFERROR(YEAR(VLOOKUP($D324,申請者リスト!$C$4:$Q$2003,7,FALSE)),\"\")","v":""},"・",{"$f":"IFERROR(MONTH(VLOOKUP($D324,申請者リスト!$C$4:$Q$2003,7,FALSE)),\"\")","v":""},"・",{"$f":"IFERROR(DAY(VLOOKUP($D324,申請者リスト!$C$4:$Q$2003,7,FALSE)),\"\")","v":""},{"$f":"COUNTIFS(申請者リスト!$C$4:$C$2003,様式３!$D324,申請者リスト!$P$4:$P$2003,J$8)","v":0},{"$f":"COUNTIFS(申請者リスト!$C$4:$C$2003,様式３!$D324,申請者リスト!$P$4:$P$2003,K$8)","v":0},{"$f":"COUNTIFS(申請者リスト!$C$4:$C$2003,様式３!$D324,申請者リスト!$P$4:$P$2003,L$8)","v":0},{"$f":"COUNTIFS(申請者リスト!$C$4:$C$2003,様式３!$D324,申請者リスト!$P$4:$P$2003,M$8)","v":0},0]
["※１","学科の欄には、大学科名を記入する。"]
["※２","整理番号は、様式１の整理番号（担当者が付記）と一致させる。"]
[null,"なお、整理番号については、各学校の大学科ごとに１～を割り振ること。"]
["※３","資格・試験等ランクの欄には、取得個数を記入する。"]
["※４","得点合計欄には、得点の合計を記入する。"]
[]
["（様式３）",null,null,null,null,null,null,null,null,null,"(",{"$f":"$L$1","v":0},"枚中",{"$f":"+N301+1","v":12},"枚目）"]
[]
["埼玉県高校生専門資格等取得表彰推薦名簿"]
[]
[null,null,null,null,null,null,"学  校  名　　　　　　　　　　",null,null,{"$f":"$J$5","v":0},null,null,null,null,"学校"]
[]
["Ｎｏ","学　年　　　　　　　　　　　　　　　　　　　","学　科","整理番号","生　年　月　日",null,null,null,null,"資格・試験等ﾗﾝｸ",null,null,null,"得点合計","備　考"]
[null,null,null,null,null,null,null,null,null,"A","B","C","D"]
[null,null,null,null,null,null,null,null,null,6,3,2,1]
[{"$f":"+A324+1","v":166},null,null,null,{"$f":"IFERROR(YEAR(VLOOKUP($D340,申請者リスト!$C$4:$Q$2003,7,FALSE)),\"\")","v":""},"・",{"$f":"IFERROR(MONTH(VLOOKUP($D340,申請者リスト!$C$4:$Q$2003,7,FALSE)),\"\")","v":""},"・",{"$f":"IFERROR(DAY(VLOOKUP($D340,申請者リスト!$C$4:$Q$2003,7,FALSE)),\"\")","v":""},{"$f":"COUNTIFS(申請者リスト!$C$4:$C$2003,様式３!$D340,申請者リスト!$P$4:$P$2003,J$8)","v":0},{"$f":"COUNTIFS(申請者リスト!$C$4:$C$2003,様式３!$D340,申請者リスト!$P$4:$P$2003,K$8)","v":0},{"$f":"COUNTIFS(申請者リスト!$C$4:$C$2003,様式３!$D340,申請者リスト!$P$4:$P$2003,L$8)","v":0},{"$f":"COUNTIFS(申請者リスト!$C$4:$C$2003,様式３!$D340,申請者リスト!$P$4:$P$2003,M$8)","v":0},{"$f":"J340*$J$9+K340*$K$9+L340*$L$9+M340*$M$9","v":0}]
[{"$f":"+A340+1","v":167},null,null,null,{"$f":"IFERROR(YEAR(VLOOKUP($D341,申請者リスト!$C$4:$Q$2003,7,FALSE)),\"\")","v":""},"・",{"$f":"IFERROR(MONTH(VLOOKUP($D341,申請者リスト!$C$4:$Q$2003,7,FALSE)),\"\")","v":""},"・",{"$f":"IFERROR(DAY(VLOOKUP($D341,申請者リスト!$C$4:$Q$2003,7,FALSE)),\"\")","v":""},{"$f":"COUNTIFS(申請者リスト!$C$4:$C$2003,様式３!$D341,申請者リスト!$P$4:$P$2003,J$8)","v":0},{"$f":"COUNTIFS(申請者リスト!$C$4:$C$2003,様式３!$D341,申請者リスト!$P$4:$P$2003,K$8)","v":0},{"$f":"COUNTIFS(申請者リスト!$C$4:$C$2003,様式３!$D341,申請者リスト!$P$4:$P$2003,L$8)","v":0},{"$f":"COUNTIFS(申請者リスト!$C$4:$C$2003,様式３!$D341,申請者リスト!$P$4:$P$2003,M$8)","v":0},{"$f":"J341*$J$9+K341*$K$9+L341*$L$9+M341*$M$9","v":0}]
[{"$f":"+A341+1","v":168},null,null,null,{"$f":"IFERROR(YEAR(VLOOKUP($D342,申請者リスト!$C$4:$Q$2003,7,FALSE)),\"\")","v":""},"・",{"$f":"IFERROR(MONTH(VLOOKUP($D342,申請者リスト!$C$4:$Q$2003,7,FALSE)),\"\")","v":""},"・",{"$f":"IFERROR(DAY(VLOOKUP($D342,申請者リスト!$C$4:$Q$2003,7,FALSE)),\"\")","v":""},{"$f":"COUNTIFS(申請者リスト!$C$4:$C$2003,様式３!$D342,申請者リスト!$P$4:$P$2003,J$8)","v":0},{"$f":"COUNTIFS(申請者リスト!$C$4:$C$2003,様式３!$D342,申請者リスト!$P$4:$P$2003,K$8)","v":0},{"$f":"COUNTIFS(申請者リスト!$C$4:$C$2003,様式３!$D342,申請者リスト!$P$4:$P$2003,L$8)","v":0},{"$f":"COUNTIFS(申請者リスト!$C$4:$C$2003,様式３!$D342,申請者リスト!$P$4:$P$2003,M$8)","v":0},0]
[169,null,null,null,{"$f":"IFERROR(YEAR(VLOOKUP($D343,申請者リスト!$C$4:$Q$2003,7,FALSE)),\"\")","v":""},"・",{"$f":"IFERROR(MONTH(VLOOKUP($D343,申請者リスト!$C$4:$Q$2003,7,FALSE)),\"\")","v":""},"・",{"$f":"IFERROR(DAY(VLOOKUP($D343,申請者リスト!$C$4:$Q$2003,7,FALSE)),\"\")","v":""},{"$f":"COUNTIFS(申請者リスト!$C$4:$C$2003,様式３!$D343,申請者リスト!$P$4:$P$2003,J$8)","v":0},{"$f":"COUNTIFS(申請者リスト!$C$4:$C$2003,様式３!$D343,申請者リスト!$P$4:$P$2003,K$8)","v":0},{"$f":"COUNTIFS(申請者リスト!$C$4:$C$2003,様式３!$D343,申請者リスト!$P$4:$P$2003,L$8)","v":0},{"$f":"COUNTIFS(申請者リスト!$C$4:$C$2003,様式３!$D343,申請者リスト!$P$4:$P$2003,M$8)","v":0},0]
[170,null,null,null,{"$f":"IFERROR(YEAR(VLOOKUP($D344,申請者リスト!$C$4:$Q$2003,7,FALSE)),\"\")","v":""},"・",{"$f":"IFERROR(MONTH(VLOOKUP($D344,申請者リスト!$C$4:$Q$2003,7,FALSE)),\"\")","v":""},"・",{"$f":"IFERROR(DAY(VLOOKUP($D344,申請者リスト!$C$4:$Q$2003,7,FALSE)),\"\")","v":""},{"$f":"COUNTIFS(申請者リスト!$C$4:$C$2003,様式３!$D344,申請者リスト!$P$4:$P$2003,J$8)","v":0},{"$f":"COUNTIFS(申請者リスト!$C$4:$C$2003,様式３!$D344,申請者リスト!$P$4:$P$2003,K$8)","v":0},{"$f":"COUNTIFS(申請者リスト!$C$4:$C$2003,様式３!$D344,申請者リスト!$P$4:$P$2003,L$8)","v":0},{"$f":"COUNTIFS(申請者リスト!$C$4:$C$2003,様式３!$D344,申請者リスト!$P$4:$P$2003,M$8)","v":0},0]
[171,null,null,null,{"$f":"IFERROR(YEAR(VLOOKUP($D345,申請者リスト!$C$4:$Q$2003,7,FALSE)),\"\")","v":""},"・",{"$f":"IFERROR(MONTH(VLOOKUP($D345,申請者リスト!$C$4:$Q$2003,7,FALSE)),\"\")","v":""},"・",{"$f":"IFERROR(DAY(VLOOKUP($D345,申請者リスト!$C$4:$Q$2003,7,FALSE)),\"\")","v":""},{"$f":"COUNTIFS(申請者リスト!$C$4:$C$2003,様式３!$D345,申請者リスト!$P$4:$P$2003,J$8)","v":0},{"$f":"COUNTIFS(申請者リスト!$C$4:$C$2003,様式３!$D345,申請者リスト!$P$4:$P$2003,K$8)","v":0},{"$f":"COUNTIFS(申請者リスト!$C$4:$C$2003,様式３!$D345,申請者リスト!$P$4:$P$2003,L$8)","v":0},{"$f":"COUNTIFS(申請者リスト!$C$4:$C$2003,様式３!$D345,申請者リスト!$P$4:$P$2003,M$8)","v":0},0]
[172,null,null,null,{"$f":"IFERROR(YEAR(VLOOKUP($D346,申請者リスト!$C$4:$Q$2003,7,FALSE)),\"\")","v":""},"・",{"$f":"IFERROR(MONTH(VLOOKUP($D346,申請者リスト!$C$4:$Q$2003,7,FALSE)),\"\")","v":""},"・",{"$f":"IFERROR(DAY(VLOOKUP($D346,申請者リスト!$C$4:$Q$2003,7,FALSE)),\"\")","v":""},{"$f":"COUNTIFS(申請者リスト!$C$4:$C$2003,様式３!$D346,申請者リスト!$P$4:$P$2003,J$8)","v":0},{"$f":"COUNTIFS(申請者リスト!$C$4:$C$2003,様式３!$D346,申請者リスト!$P$4:$P$2003,K$8)","v":0},{"$f":"COUNTIFS(申請者リスト!$C$4:$C$2003,様式３!$D346,申請者リスト!$P$4:$P$2003,L$8)","v":0},{"$f":"COUNTIFS(申請者リスト!$C$4:$C$2003,様式３!$D346,申請者リスト!$P$4:$P$2003,M$8)","v":0},0]
[173,null,null,null,{"$f":"IFERROR(YEAR(VLOOKUP($D347,申請者リスト!$C$4:$Q$2003,7,FALSE)),\"\")","v":""},"・",{"$f":"IFERROR(MONTH(VLOOKUP($D347,申請者リスト!$C$4:$Q$2003,7,FALSE)),\"\")","v":""},"・",{"$f":"IFERROR(DAY(VLOOKUP($D347,申請者リスト!$C$4:$Q$2003,7,FALSE)),\"\")","v":""},{"$f":"COUNTIFS(申請者リスト!$C$4:$C$2003,様式３!$D347,申請者リスト!$P$4:$P$2003,J$8)","v":0},{"$f":"COUNTIFS(申請者リスト!$C$4:$C$2003,様式３!$D347,申請者リスト!$P$4:$P$2003,K$8)","v":0},{"$f":"COUNTIFS(申請者リスト!$C$4:$C$2003,様式３!$D347,申請者リスト!$P$4:$P$2003,L$8)","v":0},{"$f":"COUNTIFS(申請者リスト!$C$4:$C$2003,様式３!$D347,申請者リスト!$P$4:$P$2003,M$8)","v":0},0]
[174,null,null,null,{"$f":"IFERROR(YEAR(VLOOKUP($D348,申請者リスト!$C$4:$Q$2003,7,FALSE)),\"\")","v":""},"・",{"$f":"IFERROR(MONTH(VLOOKUP($D348,申請者リスト!$C$4:$Q$2003,7,FALSE)),\"\")","v":""},"・",{"$f":"IFERROR(DAY(VLOOKUP($D348,申請者リスト!$C$4:$Q$2003,7,FALSE)),\"\")","v":""},{"$f":"COUNTIFS(申請者リスト!$C$4:$C$2003,様式３!$D348,申請者リスト!$P$4:$P$2003,J$8)","v":0},{"$f":"COUNTIFS(申請者リスト!$C$4:$C$2003,様式３!$D348,申請者リスト!$P$4:$P$2003,K$8)","v":0},{"$f":"COUNTIFS(申請者リスト!$C$4:$C$2003,様式３!$D348,申請者リスト!$P$4:$P$2003,L$8)","v":0},{"$f":"COUNTIFS(申請者リスト!$C$4:$C$2003,様式３!$D348,申請者リスト!$P$4:$P$2003,M$8)","v":0},0]
[175,null,null,null,{"$f":"IFERROR(YEAR(VLOOKUP($D349,申請者リスト!$C$4:$Q$2003,7,FALSE)),\"\")","v":""},"・",{"$f":"IFERROR(MONTH(VLOOKUP($D349,申請者リスト!$C$4:$Q$2003,7,FALSE)),\"\")","v":""},"・",{"$f":"IFERROR(DAY(VLOOKUP($D349,申請者リスト!$C$4:$Q$2003,7,FALSE)),\"\")","v":""},{"$f":"COUNTIFS(申請者リスト!$C$4:$C$2003,様式３!$D349,申請者リスト!$P$4:$P$2003,J$8)","v":0},{"$f":"COUNTIFS(申請者リスト!$C$4:$C$2003,様式３!$D349,申請者リスト!$P$4:$P$2003,K$8)","v":0},{"$f":"COUNTIFS(申請者リスト!$C$4:$C$2003,様式３!$D349,申請者リスト!$P$4:$P$2003,L$8)","v":0},{"$f":"COUNTIFS(申請者リスト!$C$4:$C$2003,様式３!$D349,申請者リスト!$P$4:$P$2003,M$8)","v":0},0]
[176,null,null,null,{"$f":"IFERROR(YEAR(VLOOKUP($D350,申請者リスト!$C$4:$Q$2003,7,FALSE)),\"\")","v":""},"・",{"$f":"IFERROR(MONTH(VLOOKUP($D350,申請者リスト!$C$4:$Q$2003,7,FALSE)),\"\")","v":""},"・",{"$f":"IFERROR(DAY(VLOOKUP($D350,申請者リスト!$C$4:$Q$2003,7,FALSE)),\"\")","v":""},{"$f":"COUNTIFS(申請者リスト!$C$4:$C$2003,様式３!$D350,申請者リスト!$P$4:$P$2003,J$8)","v":0},{"$f":"COUNTIFS(申請者リスト!$C$4:$C$2003,様式３!$D350,申請者リスト!$P$4:$P$2003,K$8)","v":0},{"$f":"COUNTIFS(申請者リスト!$C$4:$C$2003,様式３!$D350,申請者リスト!$P$4:$P$2003,L$8)","v":0},{"$f":"COUNTIFS(申請者リスト!$C$4:$C$2003,様式３!$D350,申請者リスト!$P$4:$P$2003,M$8)","v":0},0]
[177,null,null,null,{"$f":"IFERROR(YEAR(VLOOKUP($D351,申請者リスト!$C$4:$Q$2003,7,FALSE)),\"\")","v":""},"・",{"$f":"IFERROR(MONTH(VLOOKUP($D351,申請者リスト!$C$4:$Q$2003,7,FALSE)),\"\")","v":""},"・",{"$f":"IFERROR(DAY(VLOOKUP($D351,申請者リスト!$C$4:$Q$2003,7,FALSE)),\"\")","v":""},{"$f":"COUNTIFS(申請者リスト!$C$4:$C$2003,様式３!$D351,申請者リスト!$P$4:$P$2003,J$8)","v":0},{"$f":"COUNTIFS(申請者リスト!$C$4:$C$2003,様式３!$D351,申請者リスト!$P$4:$P$2003,K$8)","v":0},{"$f":"COUNTIFS(申請者リスト!$C$4:$C$2003,様式３!$D351,申請者リスト!$P$4:$P$2003,L$8)","v":0},{"$f":"COUNTIFS(申請者リスト!$C$4:$C$2003,様式３!$D351,申請者リスト!$P$4:$P$2003,M$8)","v":0},0]
[178,null,null,null,{"$f":"IFERROR(YEAR(VLOOKUP($D352,申請者リスト!$C$4:$Q$2003,7,FALSE)),\"\")","v":""},"・",{"$f":"IFERROR(MONTH(VLOOKUP($D352,申請者リスト!$C$4:$Q$2003,7,FALSE)),\"\")","v":""},"・",{"$f":"IFERROR(DAY(VLOOKUP($D352,申請者リスト!$C$4:$Q$2003,7,FALSE)),\"\")","v":""},{"$f":"COUNTIFS(申請者リスト!$C$4:$C$2003,様式３!$D352,申請者リスト!$P$4:$P$2003,J$8)","v":0},{"$f":"COUNTIFS(申請者リスト!$C$4:$C$2003,様式３!$D352,申請者リスト!$P$4:$P$2003,K$8)","v":0},{"$f":"COUNTIFS(申請者リスト!$C$4:$C$2003,様式３!$D352,申請者リスト!$P$4:$P$2003,L$8)","v":0},{"$f":"COUNTIFS(申請者リスト!$C$4:$C$2003,様式３!$D352,申請者リスト!$P$4:$P$2003,M$8)","v":0},0]
[179,null,null,null,{"$f":"IFERROR(YEAR(VLOOKUP($D353,申請者リスト!$C$4:$Q$2003,7,FALSE)),\"\")","v":""},"・",{"$f":"IFERROR(MONTH(VLOOKUP($D353,申請者リスト!$C$4:$Q$2003,7,FALSE)),\"\")","v":""},"・",{"$f":"IFERROR(DAY(VLOOKUP($D353,申請者リスト!$C$4:$Q$2003,7,FALSE)),\"\")","v":""},{"$f":"COUNTIFS(申請者リスト!$C$4:$C$2003,様式３!$D353,申請者リスト!$P$4:$P$2003,J$8)","v":0},{"$f":"COUNTIFS(申請者リスト!$C$4:$C$2003,様式３!$D353,申請者リスト!$P$4:$P$2003,K$8)","v":0},{"$f":"COUNTIFS(申請者リスト!$C$4:$C$2003,様式３!$D353,申請者リスト!$P$4:$P$2003,L$8)","v":0},{"$f":"COUNTIFS(申請者リスト!$C$4:$C$2003,様式３!$D353,申請者リスト!$P$4:$P$2003,M$8)","v":0},0]
[180,null,null,null,{"$f":"IFERROR(YEAR(VLOOKUP($D354,申請者リスト!$C$4:$Q$2003,7,FALSE)),\"\")","v":""},"・",{"$f":"IFERROR(MONTH(VLOOKUP($D354,申請者リスト!$C$4:$Q$2003,7,FALSE)),\"\")","v":""},"・",{"$f":"IFERROR(DAY(VLOOKUP($D354,申請者リスト!$C$4:$Q$2003,7,FALSE)),\"\")","v":""},{"$f":"COUNTIFS(申請者リスト!$C$4:$C$2003,様式３!$D354,申請者リスト!$P$4:$P$2003,J$8)","v":0},{"$f":"COUNTIFS(申請者リスト!$C$4:$C$2003,様式３!$D354,申請者リスト!$P$4:$P$2003,K$8)","v":0},{"$f":"COUNTIFS(申請者リスト!$C$4:$C$2003,様式３!$D354,申請者リスト!$P$4:$P$2003,L$8)","v":0},{"$f":"COUNTIFS(申請者リスト!$C$4:$C$2003,様式３!$D354,申請者リスト!$P$4:$P$2003,M$8)","v":0},0]
["※１","学科の欄には、大学科名を記入する。"]
["※２","整理番号は、様式１の整理番号（担当者が付記）と一致させる。"]
[null,"なお、整理番号については、各学校の大学科ごとに１～を割り振ること。"]
["※３","資格・試験等ランクの欄には、取得個数を記入する。"]
["※４","得点合計欄には、得点の合計を記入する。"]
[]
["（様式３）",null,null,null,null,null,null,null,null,null,"(",{"$f":"$L$1","v":0},"枚中",{"$f":"+N331+1","v":13},"枚目）"]
[]
["埼玉県高校生専門資格等取得表彰推薦名簿"]
[]
[null,null,null,null,null,null,"学  校  名　　　　　　　　　　",null,null,{"$f":"$J$5","v":0},null,null,null,null,"学校"]
[]
["Ｎｏ","学　年　　　　　　　　　　　　　　　　　　　","学　科","整理番号","生　年　月　日",null,null,null,null,"資格・試験等ﾗﾝｸ",null,null,null,"得点合計","備　考"]
[null,null,null,null,null,null,null,null,null,"A","B","C","D"]
[null,null,null,null,null,null,null,null,null,6,3,2,1]
[{"$f":"+A354+1","v":181},null,null,null,{"$f":"IFERROR(YEAR(VLOOKUP($D370,申請者リスト!$C$4:$Q$2003,7,FALSE)),\"\")","v":""},"・",{"$f":"IFERROR(MONTH(VLOOKUP($D370,申請者リスト!$C$4:$Q$2003,7,FALSE)),\"\")","v":""},"・",{"$f":"IFERROR(DAY(VLOOKUP($D370,申請者リスト!$C$4:$Q$2003,7,FALSE)),\"\")","v":""},{"$f":"COUNTIFS(申請者リスト!$C$4:$C$2003,様式３!$D370,申請者リスト!$P$4:$P$2003,J$8)","v":0},{"$f":"COUNTIFS(申請者リスト!$C$4:$C$2003,様式３!$D370,申請者リスト!$P$4:$P$2003,K$8)","v":0},{"$f":"COUNTIFS(申請者リスト!$C$4:$C$2003,様式３!$D370,申請者リスト!$P$4:$P$2003,L$8)","v":0},{"$f":"COUNTIFS(申請者リスト!$C$4:$C$2003,様式３!$D370,申請者リスト!$P$4:$P$2003,M$8)","v":0},{"$f":"J370*$J$9+K370*$K$9+L370*$L$9+M370*$M$9","v":0}]
[{"$f":"+A370+1","v":182},null,null,null,{"$f":"IFERROR(YEAR(VLOOKUP($D371,申請者リスト!$C$4:$Q$2003,7,FALSE)),\"\")","v":""},"・",{"$f":"IFERROR(MONTH(VLOOKUP($D371,申請者リスト!$C$4:$Q$2003,7,FALSE)),\"\")","v":""},"・",{"$f":"IFERROR(DAY(VLOOKUP($D371,申請者リスト!$C$4:$Q$2003,7,FALSE)),\"\")","v":""},{"$f":"COUNTIFS(申請者リスト!$C$4:$C$2003,様式３!$D371,申請者リスト!$P$4:$P$2003,J$8)","v":0},{"$f":"COUNTIFS(申請者リスト!$C$4:$C$2003,様式３!$D371,申請者リスト!$P$4:$P$2003,K$8)","v":0},{"$f":"COUNTIFS(申請者リスト!$C$4:$C$2003,様式３!$D371,申請者リスト!$P$4:$P$2003,L$8)","v":0},{"$f":"COUNTIFS(申請者リスト!$C$4:$C$2003,様式３!$D371,申請者リスト!$P$4:$P$2003,M$8)","v":0},{"$f":"J371*$J$9+K371*$K$9+L371*$L$9+M371*$M$9","v":0}]
[{"$f":"+A371+1","v":183},null,null,null,{"$f":"IFERROR(YEAR(VLOOKUP($D372,申請者リスト!$C$4:$Q$2003,7,FALSE)),\"\")","v":""},"・",{"$f":"IFERROR(MONTH(VLOOKUP($D372,申請者リスト!$C$4:$Q$2003,7,FALSE)),\"\")","v":""},"・",{"$f":"IFERROR(DAY(VLOOKUP($D372,申請者リスト!$C$4:$Q$2003,7,FALSE)),\"\")","v":""},{"$f":"COUNTIFS(申請者リスト!$C$4:$C$2003,様式３!$D372,申請者リスト!$P$4:$P$2003,J$8)","v":0},{"$f":"COUNTIFS(申請者リスト!$C$4:$C$2003,様式３!$D372,申請者リスト!$P$4:$P$2003,K$8)","v":0},{"$f":"COUNTIFS(申請者リスト!$C$4:$C$2003,様式３!$D372,申請者リスト!$P$4:$P$2003,L$8)","v":0},{"$f":"COUNTIFS(申請者リスト!$C$4:$C$2003,様式３!$D372,申請者リスト!$P$4:$P$2003,M$8)","v":0},0]
[184,null,null,null,{"$f":"IFERROR(YEAR(VLOOKUP($D373,申請者リスト!$C$4:$Q$2003,7,FALSE)),\"\")","v":""},"・",{"$f":"IFERROR(MONTH(VLOOKUP($D373,申請者リスト!$C$4:$Q$2003,7,FALSE)),\"\")","v":""},"・",{"$f":"IFERROR(DAY(VLOOKUP($D373,申請者リスト!$C$4:$Q$2003,7,FALSE)),\"\")","v":""},{"$f":"COUNTIFS(申請者リスト!$C$4:$C$2003,様式３!$D373,申請者リスト!$P$4:$P$2003,J$8)","v":0},{"$f":"COUNTIFS(申請者リスト!$C$4:$C$2003,様式３!$D373,申請者リスト!$P$4:$P$2003,K$8)","v":0},{"$f":"COUNTIFS(申請者リスト!$C$4:$C$2003,様式３!$D373,申請者リスト!$P$4:$P$2003,L$8)","v":0},{"$f":"COUNTIFS(申請者リスト!$C$4:$C$2003,様式３!$D373,申請者リスト!$P$4:$P$2003,M$8)","v":0},0]
[185,null,null,null,{"$f":"IFERROR(YEAR(VLOOKUP($D374,申請者リスト!$C$4:$Q$2003,7,FALSE)),\"\")","v":""},"・",{"$f":"IFERROR(MONTH(VLOOKUP($D374,申請者リスト!$C$4:$Q$2003,7,FALSE)),\"\")","v":""},"・",{"$f":"IFERROR(DAY(VLOOKUP($D374,申請者リスト!$C$4:$Q$2003,7,FALSE)),\"\")","v":""},{"$f":"COUNTIFS(申請者リスト!$C$4:$C$2003,様式３!$D374,申請者リスト!$P$4:$P$2003,J$8)","v":0},{"$f":"COUNTIFS(申請者リスト!$C$4:$C$2003,様式３!$D374,申請者リスト!$P$4:$P$2003,K$8)","v":0},{"$f":"COUNTIFS(申請者リスト!$C$4:$C$2003,様式３!$D374,申請者リスト!$P$4:$P$2003,L$8)","v":0},{"$f":"COUNTIFS(申請者リスト!$C$4:$C$2003,様式３!$D374,申請者リスト!$P$4:$P$2003,M$8)","v":0},0]
[186,null,null,null,{"$f":"IFERROR(YEAR(VLOOKUP($D375,申請者リスト!$C$4:$Q$2003,7,FALSE)),\"\")","v":""},"・",{"$f":"IFERROR(MONTH(VLOOKUP($D375,申請者リスト!$C$4:$Q$2003,7,FALSE)),\"\")","v":""},"・",{"$f":"IFERROR(DAY(VLOOKUP($D375,申請者リスト!$C$4:$Q$2003,7,FALSE)),\"\")","v":""},{"$f":"COUNTIFS(申請者リスト!$C$4:$C$2003,様式３!$D375,申請者リスト!$P$4:$P$2003,J$8)","v":0},{"$f":"COUNTIFS(申請者リスト!$C$4:$C$2003,様式３!$D375,申請者リスト!$P$4:$P$2003,K$8)","v":0},{"$f":"COUNTIFS(申請者リスト!$C$4:$C$2003,様式３!$D375,申請者リスト!$P$4:$P$2003,L$8)","v":0},{"$f":"COUNTIFS(申請者リスト!$C$4:$C$2003,様式３!$D375,申請者リスト!$P$4:$P$2003,M$8)","v":0},0]
[187,null,null,null,{"$f":"IFERROR(YEAR(VLOOKUP($D376,申請者リスト!$C$4:$Q$2003,7,FALSE)),\"\")","v":""},"・",{"$f":"IFERROR(MONTH(VLOOKUP($D376,申請者リスト!$C$4:$Q$2003,7,FALSE)),\"\")","v":""},"・",{"$f":"IFERROR(DAY(VLOOKUP($D376,申請者リスト!$C$4:$Q$2003,7,FALSE)),\"\")","v":""},{"$f":"COUNTIFS(申請者リスト!$C$4:$C$2003,様式３!$D376,申請者リスト!$P$4:$P$2003,J$8)","v":0},{"$f":"COUNTIFS(申請者リスト!$C$4:$C$2003,様式３!$D376,申請者リスト!$P$4:$P$2003,K$8)","v":0},{"$f":"COUNTIFS(申請者リスト!$C$4:$C$2003,様式３!$D376,申請者リスト!$P$4:$P$2003,L$8)","v":0},{"$f":"COUNTIFS(申請者リスト!$C$4:$C$2003,様式３!$D376,申請者リスト!$P$4:$P$2003,M$8)","v":0},0]
[188,null,null,null,{"$f":"IFERROR(YEAR(VLOOKUP($D377,申請者リスト!$C$4:$Q$2003,7,FALSE)),\"\")","v":""},"・",{"$f":"IFERROR(MONTH(VLOOKUP($D377,申請者リスト!$C$4:$Q$2003,7,FALSE)),\"\")","v":""},"・",{"$f":"IFERROR(DAY(VLOOKUP($D377,申請者リスト!$C$4:$Q$2003,7,FALSE)),\"\")","v":""},{"$f":"COUNTIFS(申請者リスト!$C$4:$C$2003,様式３!$D377,申請者リスト!$P$4:$P$2003,J$8)","v":0},{"$f":"COUNTIFS(申請者リスト!$C$4:$C$2003,様式３!$D377,申請者リスト!$P$4:$P$2003,K$8)","v":0},{"$f":"COUNTIFS(申請者リスト!$C$4:$C$2003,様式３!$D377,申請者リスト!$P$4:$P$2003,L$8)","v":0},{"$f":"COUNTIFS(申請者リスト!$C$4:$C$2003,様式３!$D377,申請者リスト!$P$4:$P$2003,M$8)","v":0},0]
[189,null,null,null,{"$f":"IFERROR(YEAR(VLOOKUP($D378,申請者リスト!$C$4:$Q$2003,7,FALSE)),\"\")","v":""},"・",{"$f":"IFERROR(MONTH(VLOOKUP($D378,申請者リスト!$C$4:$Q$2003,7,FALSE)),\"\")","v":""},"・",{"$f":"IFERROR(DAY(VLOOKUP($D378,申請者リスト!$C$4:$Q$2003,7,FALSE)),\"\")","v":""},{"$f":"COUNTIFS(申請者リスト!$C$4:$C$2003,様式３!$D378,申請者リスト!$P$4:$P$2003,J$8)","v":0},{"$f":"COUNTIFS(申請者リスト!$C$4:$C$2003,様式３!$D378,申請者リスト!$P$4:$P$2003,K$8)","v":0},{"$f":"COUNTIFS(申請者リスト!$C$4:$C$2003,様式３!$D378,申請者リスト!$P$4:$P$2003,L$8)","v":0},{"$f":"COUNTIFS(申請者リスト!$C$4:$C$2003,様式３!$D378,申請者リスト!$P$4:$P$2003,M$8)","v":0},0]
[190,null,null,null,{"$f":"IFERROR(YEAR(VLOOKUP($D379,申請者リスト!$C$4:$Q$2003,7,FALSE)),\"\")","v":""},"・",{"$f":"IFERROR(MONTH(VLOOKUP($D379,申請者リスト!$C$4:$Q$2003,7,FALSE)),\"\")","v":""},"・",{"$f":"IFERROR(DAY(VLOOKUP($D379,申請者リスト!$C$4:$Q$2003,7,FALSE)),\"\")","v":""},{"$f":"COUNTIFS(申請者リスト!$C$4:$C$2003,様式３!$D379,申請者リスト!$P$4:$P$2003,J$8)","v":0},{"$f":"COUNTIFS(申請者リスト!$C$4:$C$2003,様式３!$D379,申請者リスト!$P$4:$P$2003,K$8)","v":0},{"$f":"COUNTIFS(申請者リスト!$C$4:$C$2003,様式３!$D379,申請者リスト!$P$4:$P$2003,L$8)","v":0},{"$f":"COUNTIFS(申請者リスト!$C$4:$C$2003,様式３!$D379,申請者リスト!$P$4:$P$2003,M$8)","v":0},0]
[191,null,null,null,{"$f":"IFERROR(YEAR(VLOOKUP($D380,申請者リスト!$C$4:$Q$2003,7,FALSE)),\"\")","v":""},"・",{"$f":"IFERROR(MONTH(VLOOKUP($D380,申請者リスト!$C$4:$Q$2003,7,FALSE)),\"\")","v":""},"・",{"$f":"IFERROR(DAY(VLOOKUP($D380,申請者リスト!$C$4:$Q$2003,7,FALSE)),\"\")","v":""},{"$f":"COUNTIFS(申請者リスト!$C$4:$C$2003,様式３!$D380,申請者リスト!$P$4:$P$2003,J$8)","v":0},{"$f":"COUNTIFS(申請者リスト!$C$4:$C$2003,様式３!$D380,申請者リスト!$P$4:$P$2003,K$8)","v":0},{"$f":"COUNTIFS(申請者リスト!$C$4:$C$2003,様式３!$D380,申請者リスト!$P$4:$P$2003,L$8)","v":0},{"$f":"COUNTIFS(申請者リスト!$C$4:$C$2003,様式３!$D380,申請者リスト!$P$4:$P$2003,M$8)","v":0},0]
[192,null,null,null,{"$f":"IFERROR(YEAR(VLOOKUP($D381,申請者リスト!$C$4:$Q$2003,7,FALSE)),\"\")","v":""},"・",{"$f":"IFERROR(MONTH(VLOOKUP($D381,申請者リスト!$C$4:$Q$2003,7,FALSE)),\"\")","v":""},"・",{"$f":"IFERROR(DAY(VLOOKUP($D381,申請者リスト!$C$4:$Q$2003,7,FALSE)),\"\")","v":""},{"$f":"COUNTIFS(申請者リスト!$C$4:$C$2003,様式３!$D381,申請者リスト!$P$4:$P$2003,J$8)","v":0},{"$f":"COUNTIFS(申請者リスト!$C$4:$C$2003,様式３!$D381,申請者リスト!$P$4:$P$2003,K$8)","v":0},{"$f":"COUNTIFS(申請者リスト!$C$4:$C$2003,様式３!$D381,申請者リスト!$P$4:$P$2003,L$8)","v":0},{"$f":"COUNTIFS(申請者リスト!$C$4:$C$2003,様式３!$D381,申請者リスト!$P$4:$P$2003,M$8)","v":0},0]
[193,null,null,null,{"$f":"IFERROR(YEAR(VLOOKUP($D382,申請者リスト!$C$4:$Q$2003,7,FALSE)),\"\")","v":""},"・",{"$f":"IFERROR(MONTH(VLOOKUP($D382,申請者リスト!$C$4:$Q$2003,7,FALSE)),\"\")","v":""},"・",{"$f":"IFERROR(DAY(VLOOKUP($D382,申請者リスト!$C$4:$Q$2003,7,FALSE)),\"\")","v":""},{"$f":"COUNTIFS(申請者リスト!$C$4:$C$2003,様式３!$D382,申請者リスト!$P$4:$P$2003,J$8)","v":0},{"$f":"COUNTIFS(申請者リスト!$C$4:$C$2003,様式３!$D382,申請者リスト!$P$4:$P$2003,K$8)","v":0},{"$f":"COUNTIFS(申請者リスト!$C$4:$C$2003,様式３!$D382,申請者リスト!$P$4:$P$2003,L$8)","v":0},{"$f":"COUNTIFS(申請者リスト!$C$4:$C$2003,様式３!$D382,申請者リスト!$P$4:$P$2003,M$8)","v":0},0]
[194,null,null,null,{"$f":"IFERROR(YEAR(VLOOKUP($D383,申請者リスト!$C$4:$Q$2003,7,FALSE)),\"\")","v":""},"・",{"$f":"IFERROR(MONTH(VLOOKUP($D383,申請者リスト!$C$4:$Q$2003,7,FALSE)),\"\")","v":""},"・",{"$f":"IFERROR(DAY(VLOOKUP($D383,申請者リスト!$C$4:$Q$2003,7,FALSE)),\"\")","v":""},{"$f":"COUNTIFS(申請者リスト!$C$4:$C$2003,様式３!$D383,申請者リスト!$P$4:$P$2003,J$8)","v":0},{"$f":"COUNTIFS(申請者リスト!$C$4:$C$2003,様式３!$D383,申請者リスト!$P$4:$P$2003,K$8)","v":0},{"$f":"COUNTIFS(申請者リスト!$C$4:$C$2003,様式３!$D383,申請者リスト!$P$4:$P$2003,L$8)","v":0},{"$f":"COUNTIFS(申請者リスト!$C$4:$C$2003,様式３!$D383,申請者リスト!$P$4:$P$2003,M$8)","v":0},0]
[195,null,null,null,{"$f":"IFERROR(YEAR(VLOOKUP($D384,申請者リスト!$C$4:$Q$2003,7,FALSE)),\"\")","v":""},"・",{"$f":"IFERROR(MONTH(VLOOKUP($D384,申請者リスト!$C$4:$Q$2003,7,FALSE)),\"\")","v":""},"・",{"$f":"IFERROR(DAY(VLOOKUP($D384,申請者リスト!$C$4:$Q$2003,7,FALSE)),\"\")","v":""},{"$f":"COUNTIFS(申請者リスト!$C$4:$C$2003,様式３!$D384,申請者リスト!$P$4:$P$2003,J$8)","v":0},{"$f":"COUNTIFS(申請者リスト!$C$4:$C$2003,様式３!$D384,申請者リスト!$P$4:$P$2003,K$8)","v":0},{"$f":"COUNTIFS(申請者リスト!$C$4:$C$2003,様式３!$D384,申請者リスト!$P$4:$P$2003,L$8)","v":0},{"$f":"COUNTIFS(申請者リスト!$C$4:$C$2003,様式３!$D384,申請者リスト!$P$4:$P$2003,M$8)","v":0},0]
["※１","学科の欄には、大学科名を記入する。"]
["※２","整理番号は、様式１の整理番号（担当者が付記）と一致させる。"]
[null,"なお、整理番号については、各学校の大学科ごとに１～を割り振ること。"]
["※３","資格・試験等ランクの欄には、取得個数を記入する。"]
["※４","得点合計欄には、得点の合計を記入する。"]
[]
["（様式３）",null,null,null,null,null,null,null,null,null,"(",{"$f":"$L$1","v":0},"枚中",{"$f":"+N361+1","v":14},"枚目）"]
[]
["埼玉県高校生専門資格等取得表彰推薦名簿"]
[]
[null,null,null,null,null,null,"学  校  名　　　　　　　　　　",null,null,{"$f":"$J$5","v":0},null,null,null,null,"学校"]
[]
["Ｎｏ","学　年　　　　　　　　　　　　　　　　　　　","学　科","整理番号","生　年　月　日",null,null,null,null,"資格・試験等ﾗﾝｸ",null,null,null,"得点合計","備　考"]
[null,null,null,null,null,null,null,null,null,"A","B","C","D"]
[null,null,null,null,null,null,null,null,null,6,3,2,1]
[{"$f":"+A384+1","v":196},null,null,null,{"$f":"IFERROR(YEAR(VLOOKUP($D400,申請者リスト!$C$4:$Q$2003,7,FALSE)),\"\")","v":""},"・",{"$f":"IFERROR(MONTH(VLOOKUP($D400,申請者リスト!$C$4:$Q$2003,7,FALSE)),\"\")","v":""},"・",{"$f":"IFERROR(DAY(VLOOKUP($D400,申請者リスト!$C$4:$Q$2003,7,FALSE)),\"\")","v":""},{"$f":"COUNTIFS(申請者リスト!$C$4:$C$2003,様式３!$D400,申請者リスト!$P$4:$P$2003,J$8)","v":0},{"$f":"COUNTIFS(申請者リスト!$C$4:$C$2003,様式３!$D400,申請者リスト!$P$4:$P$2003,K$8)","v":0},{"$f":"COUNTIFS(申請者リスト!$C$4:$C$2003,様式３!$D400,申請者リスト!$P$4:$P$2003,L$8)","v":0},{"$f":"COUNTIFS(申請者リスト!$C$4:$C$2003,様式３!$D400,申請者リスト!$P$4:$P$2003,M$8)","v":0},{"$f":"J400*$J$9+K400*$K$9+L400*$L$9+M400*$M$9","v":0}]
[{"$f":"+A400+1","v":197},null,null,null,{"$f":"IFERROR(YEAR(VLOOKUP($D401,申請者リスト!$C$4:$Q$2003,7,FALSE)),\"\")","v":""},"・",{"$f":"IFERROR(MONTH(VLOOKUP($D401,申請者リスト!$C$4:$Q$2003,7,FALSE)),\"\")","v":""},"・",{"$f":"IFERROR(DAY(VLOOKUP($D401,申請者リスト!$C$4:$Q$2003,7,FALSE)),\"\")","v":""},{"$f":"COUNTIFS(申請者リスト!$C$4:$C$2003,様式３!$D401,申請者リスト!$P$4:$P$2003,J$8)","v":0},{"$f":"COUNTIFS(申請者リスト!$C$4:$C$2003,様式３!$D401,申請者リスト!$P$4:$P$2003,K$8)","v":0},{"$f":"COUNTIFS(申請者リスト!$C$4:$C$2003,様式３!$D401,申請者リスト!$P$4:$P$2003,L$8)","v":0},{"$f":"COUNTIFS(申請者リスト!$C$4:$C$2003,様式３!$D401,申請者リスト!$P$4:$P$2003,M$8)","v":0},{"$f":"J401*$J$9+K401*$K$9+L401*$L$9+M401*$M$9","v":0}]
[{"$f":"+A401+1","v":198},null,null,null,{"$f":"IFERROR(YEAR(VLOOKUP($D402,申請者リスト!$C$4:$Q$2003,7,FALSE)),\"\")","v":""},"・",{"$f":"IFERROR(MONTH(VLOOKUP($D402,申請者リスト!$C$4:$Q$2003,7,FALSE)),\"\")","v":""},"・",{"$f":"IFERROR(DAY(VLOOKUP($D402,申請者リスト!$C$4:$Q$2003,7,FALSE)),\"\")","v":""},{"$f":"COUNTIFS(申請者リスト!$C$4:$C$2003,様式３!$D402,申請者リスト!$P$4:$P$2003,J$8)","v":0},{"$f":"COUNTIFS(申請者リスト!$C$4:$C$2003,様式３!$D402,申請者リスト!$P$4:$P$2003,K$8)","v":0},{"$f":"COUNTIFS(申請者リスト!$C$4:$C$2003,様式３!$D402,申請者リスト!$P$4:$P$2003,L$8)","v":0},{"$f":"COUNTIFS(申請者リスト!$C$4:$C$2003,様式３!$D402,申請者リスト!$P$4:$P$2003,M$8)","v":0},0]
[199,null,null,null,{"$f":"IFERROR(YEAR(VLOOKUP($D403,申請者リスト!$C$4:$Q$2003,7,FALSE)),\"\")","v":""},"・",{"$f":"IFERROR(MONTH(VLOOKUP($D403,申請者リスト!$C$4:$Q$2003,7,FALSE)),\"\")","v":""},"・",{"$f":"IFERROR(DAY(VLOOKUP($D403,申請者リスト!$C$4:$Q$2003,7,FALSE)),\"\")","v":""},{"$f":"COUNTIFS(申請者リスト!$C$4:$C$2003,様式３!$D403,申請者リスト!$P$4:$P$2003,J$8)","v":0},{"$f":"COUNTIFS(申請者リスト!$C$4:$C$2003,様式３!$D403,申請者リスト!$P$4:$P$2003,K$8)","v":0},{"$f":"COUNTIFS(申請者リスト!$C$4:$C$2003,様式３!$D403,申請者リスト!$P$4:$P$2003,L$8)","v":0},{"$f":"COUNTIFS(申請者リスト!$C$4:$C$2003,様式３!$D403,申請者リスト!$P$4:$P$2003,M$8)","v":0},0]
[200,null,null,null,{"$f":"IFERROR(YEAR(VLOOKUP($D404,申請者リスト!$C$4:$Q$2003,7,FALSE)),\"\")","v":""},"・",{"$f":"IFERROR(MONTH(VLOOKUP($D404,申請者リスト!$C$4:$Q$2003,7,FALSE)),\"\")","v":""},"・",{"$f":"IFERROR(DAY(VLOOKUP($D404,申請者リスト!$C$4:$Q$2003,7,FALSE)),\"\")","v":""},{"$f":"COUNTIFS(申請者リスト!$C$4:$C$2003,様式３!$D404,申請者リスト!$P$4:$P$2003,J$8)","v":0},{"$f":"COUNTIFS(申請者リスト!$C$4:$C$2003,様式３!$D404,申請者リスト!$P$4:$P$2003,K$8)","v":0},{"$f":"COUNTIFS(申請者リスト!$C$4:$C$2003,様式３!$D404,申請者リスト!$P$4:$P$2003,L$8)","v":0},{"$f":"COUNTIFS(申請者リスト!$C$4:$C$2003,様式３!$D404,申請者リスト!$P$4:$P$2003,M$8)","v":0},0]
[201,null,null,null,{"$f":"IFERROR(YEAR(VLOOKUP($D405,申請者リスト!$C$4:$Q$2003,7,FALSE)),\"\")","v":""},"・",{"$f":"IFERROR(MONTH(VLOOKUP($D405,申請者リスト!$C$4:$Q$2003,7,FALSE)),\"\")","v":""},"・",{"$f":"IFERROR(DAY(VLOOKUP($D405,申請者リスト!$C$4:$Q$2003,7,FALSE)),\"\")","v":""},{"$f":"COUNTIFS(申請者リスト!$C$4:$C$2003,様式３!$D405,申請者リスト!$P$4:$P$2003,J$8)","v":0},{"$f":"COUNTIFS(申請者リスト!$C$4:$C$2003,様式３!$D405,申請者リスト!$P$4:$P$2003,K$8)","v":0},{"$f":"COUNTIFS(申請者リスト!$C$4:$C$2003,様式３!$D405,申請者リスト!$P$4:$P$2003,L$8)","v":0},{"$f":"COUNTIFS(申請者リスト!$C$4:$C$2003,様式３!$D405,申請者リスト!$P$4:$P$2003,M$8)","v":0},0]
[202,null,null,null,{"$f":"IFERROR(YEAR(VLOOKUP($D406,申請者リスト!$C$4:$Q$2003,7,FALSE)),\"\")","v":""},"・",{"$f":"IFERROR(MONTH(VLOOKUP($D406,申請者リスト!$C$4:$Q$2003,7,FALSE)),\"\")","v":""},"・",{"$f":"IFERROR(DAY(VLOOKUP($D406,申請者リスト!$C$4:$Q$2003,7,FALSE)),\"\")","v":""},{"$f":"COUNTIFS(申請者リスト!$C$4:$C$2003,様式３!$D406,申請者リスト!$P$4:$P$2003,J$8)","v":0},{"$f":"COUNTIFS(申請者リスト!$C$4:$C$2003,様式３!$D406,申請者リスト!$P$4:$P$2003,K$8)","v":0},{"$f":"COUNTIFS(申請者リスト!$C$4:$C$2003,様式３!$D406,申請者リスト!$P$4:$P$2003,L$8)","v":0},{"$f":"COUNTIFS(申請者リスト!$C$4:$C$2003,様式３!$D406,申請者リスト!$P$4:$P$2003,M$8)","v":0},0]
[203,null,null,null,{"$f":"IFERROR(YEAR(VLOOKUP($D407,申請者リスト!$C$4:$Q$2003,7,FALSE)),\"\")","v":""},"・",{"$f":"IFERROR(MONTH(VLOOKUP($D407,申請者リスト!$C$4:$Q$2003,7,FALSE)),\"\")","v":""},"・",{"$f":"IFERROR(DAY(VLOOKUP($D407,申請者リスト!$C$4:$Q$2003,7,FALSE)),\"\")","v":""},{"$f":"COUNTIFS(申請者リスト!$C$4:$C$2003,様式３!$D407,申請者リスト!$P$4:$P$2003,J$8)","v":0},{"$f":"COUNTIFS(申請者リスト!$C$4:$C$2003,様式３!$D407,申請者リスト!$P$4:$P$2003,K$8)","v":0},{"$f":"COUNTIFS(申請者リスト!$C$4:$C$2003,様式３!$D407,申請者リスト!$P$4:$P$2003,L$8)","v":0},{"$f":"COUNTIFS(申請者リスト!$C$4:$C$2003,様式３!$D407,申請者リスト!$P$4:$P$2003,M$8)","v":0},0]
[204,null,null,null,{"$f":"IFERROR(YEAR(VLOOKUP($D408,申請者リスト!$C$4:$Q$2003,7,FALSE)),\"\")","v":""},"・",{"$f":"IFERROR(MONTH(VLOOKUP($D408,申請者リスト!$C$4:$Q$2003,7,FALSE)),\"\")","v":""},"・",{"$f":"IFERROR(DAY(VLOOKUP($D408,申請者リスト!$C$4:$Q$2003,7,FALSE)),\"\")","v":""},{"$f":"COUNTIFS(申請者リスト!$C$4:$C$2003,様式３!$D408,申請者リスト!$P$4:$P$2003,J$8)","v":0},{"$f":"COUNTIFS(申請者リスト!$C$4:$C$2003,様式３!$D408,申請者リスト!$P$4:$P$2003,K$8)","v":0},{"$f":"COUNTIFS(申請者リスト!$C$4:$C$2003,様式３!$D408,申請者リスト!$P$4:$P$2003,L$8)","v":0},{"$f":"COUNTIFS(申請者リスト!$C$4:$C$2003,様式３!$D408,申請者リスト!$P$4:$P$2003,M$8)","v":0},0]
[205,null,null,null,{"$f":"IFERROR(YEAR(VLOOKUP($D409,申請者リスト!$C$4:$Q$2003,7,FALSE)),\"\")","v":""},"・",{"$f":"IFERROR(MONTH(VLOOKUP($D409,申請者リスト!$C$4:$Q$2003,7,FALSE)),\"\")","v":""},"・",{"$f":"IFERROR(DAY(VLOOKUP($D409,申請者リスト!$C$4:$Q$2003,7,FALSE)),\"\")","v":""},{"$f":"COUNTIFS(申請者リスト!$C$4:$C$2003,様式３!$D409,申請者リスト!$P$4:$P$2003,J$8)","v":0},{"$f":"COUNTIFS(申請者リスト!$C$4:$C$2003,様式３!$D409,申請者リスト!$P$4:$P$2003,K$8)","v":0},{"$f":"COUNTIFS(申請者リスト!$C$4:$C$2003,様式３!$D409,申請者リスト!$P$4:$P$2003,L$8)","v":0},{"$f":"COUNTIFS(申請者リスト!$C$4:$C$2003,様式３!$D409,申請者リスト!$P$4:$P$2003,M$8)","v":0},0]
[206,null,null,null,{"$f":"IFERROR(YEAR(VLOOKUP($D410,申請者リスト!$C$4:$Q$2003,7,FALSE)),\"\")","v":""},"・",{"$f":"IFERROR(MONTH(VLOOKUP($D410,申請者リスト!$C$4:$Q$2003,7,FALSE)),\"\")","v":""},"・",{"$f":"IFERROR(DAY(VLOOKUP($D410,申請者リスト!$C$4:$Q$2003,7,FALSE)),\"\")","v":""},{"$f":"COUNTIFS(申請者リスト!$C$4:$C$2003,様式３!$D410,申請者リスト!$P$4:$P$2003,J$8)","v":0},{"$f":"COUNTIFS(申請者リスト!$C$4:$C$2003,様式３!$D410,申請者リスト!$P$4:$P$2003,K$8)","v":0},{"$f":"COUNTIFS(申請者リスト!$C$4:$C$2003,様式３!$D410,申請者リスト!$P$4:$P$2003,L$8)","v":0},{"$f":"COUNTIFS(申請者リスト!$C$4:$C$2003,様式３!$D410,申請者リスト!$P$4:$P$2003,M$8)","v":0},0]
[207,null,null,null,{"$f":"IFERROR(YEAR(VLOOKUP($D411,申請者リスト!$C$4:$Q$2003,7,FALSE)),\"\")","v":""},"・",{"$f":"IFERROR(MONTH(VLOOKUP($D411,申請者リスト!$C$4:$Q$2003,7,FALSE)),\"\")","v":""},"・",{"$f":"IFERROR(DAY(VLOOKUP($D411,申請者リスト!$C$4:$Q$2003,7,FALSE)),\"\")","v":""},{"$f":"COUNTIFS(申請者リスト!$C$4:$C$2003,様式３!$D411,申請者リスト!$P$4:$P$2003,J$8)","v":0},{"$f":"COUNTIFS(申請者リスト!$C$4:$C$2003,様式３!$D411,申請者リスト!$P$4:$P$2003,K$8)","v":0},{"$f":"COUNTIFS(申請者リスト!$C$4:$C$2003,様式３!$D411,申請者リスト!$P$4:$P$2003,L$8)","v":0},{"$f":"COUNTIFS(申請者リスト!$C$4:$C$2003,様式３!$D411,申請者リスト!$P$4:$P$2003,M$8)","v":0},0]
[208,null,null,null,{"$f":"IFERROR(YEAR(VLOOKUP($D412,申請者リスト!$C$4:$Q$2003,7,FALSE)),\"\")","v":""},"・",{"$f":"IFERROR(MONTH(VLOOKUP($D412,申請者リスト!$C$4:$Q$2003,7,FALSE)),\"\")","v":""},"・",{"$f":"IFERROR(DAY(VLOOKUP($D412,申請者リスト!$C$4:$Q$2003,7,FALSE)),\"\")","v":""},{"$f":"COUNTIFS(申請者リスト!$C$4:$C$2003,様式３!$D412,申請者リスト!$P$4:$P$2003,J$8)","v":0},{"$f":"COUNTIFS(申請者リスト!$C$4:$C$2003,様式３!$D412,申請者リスト!$P$4:$P$2003,K$8)","v":0},{"$f":"COUNTIFS(申請者リスト!$C$4:$C$2003,様式３!$D412,申請者リスト!$P$4:$P$2003,L$8)","v":0},{"$f":"COUNTIFS(申請者リスト!$C$4:$C$2003,様式３!$D412,申請者リスト!$P$4:$P$2003,M$8)","v":0},0]
[209,null,null,null,{"$f":"IFERROR(YEAR(VLOOKUP($D413,申請者リスト!$C$4:$Q$2003,7,FALSE)),\"\")","v":""},"・",{"$f":"IFERROR(MONTH(VLOOKUP($D413,申請者リスト!$C$4:$Q$2003,7,FALSE)),\"\")","v":""},"・",{"$f":"IFERROR(DAY(VLOOKUP($D413,申請者リスト!$C$4:$Q$2003,7,FALSE)),\"\")","v":""},{"$f":"COUNTIFS(申請者リスト!$C$4:$C$2003,様式３!$D413,申請者リスト!$P$4:$P$2003,J$8)","v":0},{"$f":"COUNTIFS(申請者リスト!$C$4:$C$2003,様式３!$D413,申請者リスト!$P$4:$P$2003,K$8)","v":0},{"$f":"COUNTIFS(申請者リスト!$C$4:$C$2003,様式３!$D413,申請者リスト!$P$4:$P$2003,L$8)","v":0},{"$f":"COUNTIFS(申請者リスト!$C$4:$C$2003,様式３!$D413,申請者リスト!$P$4:$P$2003,M$8)","v":0},0]
[210,null,null,null,{"$f":"IFERROR(YEAR(VLOOKUP($D414,申請者リスト!$C$4:$Q$2003,7,FALSE)),\"\")","v":""},"・",{"$f":"IFERROR(MONTH(VLOOKUP($D414,申請者リスト!$C$4:$Q$2003,7,FALSE)),\"\")","v":""},"・",{"$f":"IFERROR(DAY(VLOOKUP($D414,申請者リスト!$C$4:$Q$2003,7,FALSE)),\"\")","v":""},{"$f":"COUNTIFS(申請者リスト!$C$4:$C$2003,様式３!$D414,申請者リスト!$P$4:$P$2003,J$8)","v":0},{"$f":"COUNTIFS(申請者リスト!$C$4:$C$2003,様式３!$D414,申請者リスト!$P$4:$P$2003,K$8)","v":0},{"$f":"COUNTIFS(申請者リスト!$C$4:$C$2003,様式３!$D414,申請者リスト!$P$4:$P$2003,L$8)","v":0},{"$f":"COUNTIFS(申請者リスト!$C$4:$C$2003,様式３!$D414,申請者リスト!$P$4:$P$2003,M$8)","v":0},0]
["※１","学科の欄には、大学科名を記入する。"]
["※２","整理番号は、様式１の整理番号（担当者が付記）と一致させる。"]
[null,"なお、整理番号については、各学校の大学科ごとに１～を割り振ること。"]
["※３","資格・試験等ランクの欄には、取得個数を記入する。"]
["※４","得点合計欄には、得点の合計を記入する。"]
[]
["（様式３）",null,null,null,null,null,null,null,null,null,"(",{"$f":"$L$1","v":0},"枚中",{"$f":"+N391+1","v":15},"枚目）"]
[]
["埼玉県高校生専門資格等取得表彰推薦名簿"]
[]
[null,null,null,null,null,null,"学  校  名　　　　　　　　　　",null,null,{"$f":"$J$5","v":0},null,null,null,null,"学校"]
[]
["Ｎｏ","学　年　　　　　　　　　　　　　　　　　　　","学　科","整理番号","生　年　月　日",null,null,null,null,"資格・試験等ﾗﾝｸ",null,null,null,"得点合計","備　考"]
[null,null,null,null,null,null,null,null,null,"A","B","C","D"]
[null,null,null,null,null,null,null,null,null,6,3,2,1]
[{"$f":"+A414+1","v":211},null,null,null,{"$f":"IFERROR(YEAR(VLOOKUP($D430,申請者リスト!$C$4:$Q$2003,7,FALSE)),\"\")","v":""},"・",{"$f":"IFERROR(MONTH(VLOOKUP($D430,申請者リスト!$C$4:$Q$2003,7,FALSE)),\"\")","v":""},"・",{"$f":"IFERROR(DAY(VLOOKUP($D430,申請者リスト!$C$4:$Q$2003,7,FALSE)),\"\")","v":""},{"$f":"COUNTIFS(申請者リスト!$C$4:$C$2003,様式３!$D430,申請者リスト!$P$4:$P$2003,J$8)","v":0},{"$f":"COUNTIFS(申請者リスト!$C$4:$C$2003,様式３!$D430,申請者リスト!$P$4:$P$2003,K$8)","v":0},{"$f":"COUNTIFS(申請者リスト!$C$4:$C$2003,様式３!$D430,申請者リスト!$P$4:$P$2003,L$8)","v":0},{"$f":"COUNTIFS(申請者リスト!$C$4:$C$2003,様式３!$D430,申請者リスト!$P$4:$P$2003,M$8)","v":0},{"$f":"J430*$J$9+K430*$K$9+L430*$L$9+M430*$M$9","v":0}]
[{"$f":"+A430+1","v":212},null,null,null,{"$f":"IFERROR(YEAR(VLOOKUP($D431,申請者リスト!$C$4:$Q$2003,7,FALSE)),\"\")","v":""},"・",{"$f":"IFERROR(MONTH(VLOOKUP($D431,申請者リスト!$C$4:$Q$2003,7,FALSE)),\"\")","v":""},"・",{"$f":"IFERROR(DAY(VLOOKUP($D431,申請者リスト!$C$4:$Q$2003,7,FALSE)),\"\")","v":""},{"$f":"COUNTIFS(申請者リスト!$C$4:$C$2003,様式３!$D431,申請者リスト!$P$4:$P$2003,J$8)","v":0},{"$f":"COUNTIFS(申請者リスト!$C$4:$C$2003,様式３!$D431,申請者リスト!$P$4:$P$2003,K$8)","v":0},{"$f":"COUNTIFS(申請者リスト!$C$4:$C$2003,様式３!$D431,申請者リスト!$P$4:$P$2003,L$8)","v":0},{"$f":"COUNTIFS(申請者リスト!$C$4:$C$2003,様式３!$D431,申請者リスト!$P$4:$P$2003,M$8)","v":0},{"$f":"J431*$J$9+K431*$K$9+L431*$L$9+M431*$M$9","v":0}]
[{"$f":"+A431+1","v":213},null,null,null,{"$f":"IFERROR(YEAR(VLOOKUP($D432,申請者リスト!$C$4:$Q$2003,7,FALSE)),\"\")","v":""},"・",{"$f":"IFERROR(MONTH(VLOOKUP($D432,申請者リスト!$C$4:$Q$2003,7,FALSE)),\"\")","v":""},"・",{"$f":"IFERROR(DAY(VLOOKUP($D432,申請者リスト!$C$4:$Q$2003,7,FALSE)),\"\")","v":""},{"$f":"COUNTIFS(申請者リスト!$C$4:$C$2003,様式３!$D432,申請者リスト!$P$4:$P$2003,J$8)","v":0},{"$f":"COUNTIFS(申請者リスト!$C$4:$C$2003,様式３!$D432,申請者リスト!$P$4:$P$2003,K$8)","v":0},{"$f":"COUNTIFS(申請者リスト!$C$4:$C$2003,様式３!$D432,申請者リスト!$P$4:$P$2003,L$8)","v":0},{"$f":"COUNTIFS(申請者リスト!$C$4:$C$2003,様式３!$D432,申請者リスト!$P$4:$P$2003,M$8)","v":0},0]
[214,null,null,null,{"$f":"IFERROR(YEAR(VLOOKUP($D433,申請者リスト!$C$4:$Q$2003,7,FALSE)),\"\")","v":""},"・",{"$f":"IFERROR(MONTH(VLOOKUP($D433,申請者リスト!$C$4:$Q$2003,7,FALSE)),\"\")","v":""},"・",{"$f":"IFERROR(DAY(VLOOKUP($D433,申請者リスト!$C$4:$Q$2003,7,FALSE)),\"\")","v":""},{"$f":"COUNTIFS(申請者リスト!$C$4:$C$2003,様式３!$D433,申請者リスト!$P$4:$P$2003,J$8)","v":0},{"$f":"COUNTIFS(申請者リスト!$C$4:$C$2003,様式３!$D433,申請者リスト!$P$4:$P$2003,K$8)","v":0},{"$f":"COUNTIFS(申請者リスト!$C$4:$C$2003,様式３!$D433,申請者リスト!$P$4:$P$2003,L$8)","v":0},{"$f":"COUNTIFS(申請者リスト!$C$4:$C$2003,様式３!$D433,申請者リスト!$P$4:$P$2003,M$8)","v":0},0]
[215,null,null,null,{"$f":"IFERROR(YEAR(VLOOKUP($D434,申請者リスト!$C$4:$Q$2003,7,FALSE)),\"\")","v":""},"・",{"$f":"IFERROR(MONTH(VLOOKUP($D434,申請者リスト!$C$4:$Q$2003,7,FALSE)),\"\")","v":""},"・",{"$f":"IFERROR(DAY(VLOOKUP($D434,申請者リスト!$C$4:$Q$2003,7,FALSE)),\"\")","v":""},{"$f":"COUNTIFS(申請者リスト!$C$4:$C$2003,様式３!$D434,申請者リスト!$P$4:$P$2003,J$8)","v":0},{"$f":"COUNTIFS(申請者リスト!$C$4:$C$2003,様式３!$D434,申請者リスト!$P$4:$P$2003,K$8)","v":0},{"$f":"COUNTIFS(申請者リスト!$C$4:$C$2003,様式３!$D434,申請者リスト!$P$4:$P$2003,L$8)","v":0},{"$f":"COUNTIFS(申請者リスト!$C$4:$C$2003,様式３!$D434,申請者リスト!$P$4:$P$2003,M$8)","v":0},0]
[216,null,null,null,{"$f":"IFERROR(YEAR(VLOOKUP($D435,申請者リスト!$C$4:$Q$2003,7,FALSE)),\"\")","v":""},"・",{"$f":"IFERROR(MONTH(VLOOKUP($D435,申請者リスト!$C$4:$Q$2003,7,FALSE)),\"\")","v":""},"・",{"$f":"IFERROR(DAY(VLOOKUP($D435,申請者リスト!$C$4:$Q$2003,7,FALSE)),\"\")","v":""},{"$f":"COUNTIFS(申請者リスト!$C$4:$C$2003,様式３!$D435,申請者リスト!$P$4:$P$2003,J$8)","v":0},{"$f":"COUNTIFS(申請者リスト!$C$4:$C$2003,様式３!$D435,申請者リスト!$P$4:$P$2003,K$8)","v":0},{"$f":"COUNTIFS(申請者リスト!$C$4:$C$2003,様式３!$D435,申請者リスト!$P$4:$P$2003,L$8)","v":0},{"$f":"COUNTIFS(申請者リスト!$C$4:$C$2003,様式３!$D435,申請者リスト!$P$4:$P$2003,M$8)","v":0},0]
[217,null,null,null,{"$f":"IFERROR(YEAR(VLOOKUP($D436,申請者リスト!$C$4:$Q$2003,7,FALSE)),\"\")","v":""},"・",{"$f":"IFERROR(MONTH(VLOOKUP($D436,申請者リスト!$C$4:$Q$2003,7,FALSE)),\"\")","v":""},"・",{"$f":"IFERROR(DAY(VLOOKUP($D436,申請者リスト!$C$4:$Q$2003,7,FALSE)),\"\")","v":""},{"$f":"COUNTIFS(申請者リスト!$C$4:$C$2003,様式３!$D436,申請者リスト!$P$4:$P$2003,J$8)","v":0},{"$f":"COUNTIFS(申請者リスト!$C$4:$C$2003,様式３!$D436,申請者リスト!$P$4:$P$2003,K$8)","v":0},{"$f":"COUNTIFS(申請者リスト!$C$4:$C$2003,様式３!$D436,申請者リスト!$P$4:$P$2003,L$8)","v":0},{"$f":"COUNTIFS(申請者リスト!$C$4:$C$2003,様式３!$D436,申請者リスト!$P$4:$P$2003,M$8)","v":0},0]
[218,null,null,null,{"$f":"IFERROR(YEAR(VLOOKUP($D437,申請者リスト!$C$4:$Q$2003,7,FALSE)),\"\")","v":""},"・",{"$f":"IFERROR(MONTH(VLOOKUP($D437,申請者リスト!$C$4:$Q$2003,7,FALSE)),\"\")","v":""},"・",{"$f":"IFERROR(DAY(VLOOKUP($D437,申請者リスト!$C$4:$Q$2003,7,FALSE)),\"\")","v":""},{"$f":"COUNTIFS(申請者リスト!$C$4:$C$2003,様式３!$D437,申請者リスト!$P$4:$P$2003,J$8)","v":0},{"$f":"COUNTIFS(申請者リスト!$C$4:$C$2003,様式３!$D437,申請者リスト!$P$4:$P$2003,K$8)","v":0},{"$f":"COUNTIFS(申請者リスト!$C$4:$C$2003,様式３!$D437,申請者リスト!$P$4:$P$2003,L$8)","v":0},{"$f":"COUNTIFS(申請者リスト!$C$4:$C$2003,様式３!$D437,申請者リスト!$P$4:$P$2003,M$8)","v":0},0]
[219,null,null,null,{"$f":"IFERROR(YEAR(VLOOKUP($D438,申請者リスト!$C$4:$Q$2003,7,FALSE)),\"\")","v":""},"・",{"$f":"IFERROR(MONTH(VLOOKUP($D438,申請者リスト!$C$4:$Q$2003,7,FALSE)),\"\")","v":""},"・",{"$f":"IFERROR(DAY(VLOOKUP($D438,申請者リスト!$C$4:$Q$2003,7,FALSE)),\"\")","v":""},{"$f":"COUNTIFS(申請者リスト!$C$4:$C$2003,様式３!$D438,申請者リスト!$P$4:$P$2003,J$8)","v":0},{"$f":"COUNTIFS(申請者リスト!$C$4:$C$2003,様式３!$D438,申請者リスト!$P$4:$P$2003,K$8)","v":0},{"$f":"COUNTIFS(申請者リスト!$C$4:$C$2003,様式３!$D438,申請者リスト!$P$4:$P$2003,L$8)","v":0},{"$f":"COUNTIFS(申請者リスト!$C$4:$C$2003,様式３!$D438,申請者リスト!$P$4:$P$2003,M$8)","v":0},0]
[220,null,null,null,{"$f":"IFERROR(YEAR(VLOOKUP($D439,申請者リスト!$C$4:$Q$2003,7,FALSE)),\"\")","v":""},"・",{"$f":"IFERROR(MONTH(VLOOKUP($D439,申請者リスト!$C$4:$Q$2003,7,FALSE)),\"\")","v":""},"・",{"$f":"IFERROR(DAY(VLOOKUP($D439,申請者リスト!$C$4:$Q$2003,7,FALSE)),\"\")","v":""},{"$f":"COUNTIFS(申請者リスト!$C$4:$C$2003,様式３!$D439,申請者リスト!$P$4:$P$2003,J$8)","v":0},{"$f":"COUNTIFS(申請者リスト!$C$4:$C$2003,様式３!$D439,申請者リスト!$P$4:$P$2003,K$8)","v":0},{"$f":"COUNTIFS(申請者リスト!$C$4:$C$2003,様式３!$D439,申請者リスト!$P$4:$P$2003,L$8)","v":0},{"$f":"COUNTIFS(申請者リスト!$C$4:$C$2003,様式３!$D439,申請者リスト!$P$4:$P$2003,M$8)","v":0},0]
[221,null,null,null,{"$f":"IFERROR(YEAR(VLOOKUP($D440,申請者リスト!$C$4:$Q$2003,7,FALSE)),\"\")","v":""},"・",{"$f":"IFERROR(MONTH(VLOOKUP($D440,申請者リスト!$C$4:$Q$2003,7,FALSE)),\"\")","v":""},"・",{"$f":"IFERROR(DAY(VLOOKUP($D440,申請者リスト!$C$4:$Q$2003,7,FALSE)),\"\")","v":""},{"$f":"COUNTIFS(申請者リスト!$C$4:$C$2003,様式３!$D440,申請者リスト!$P$4:$P$2003,J$8)","v":0},{"$f":"COUNTIFS(申請者リスト!$C$4:$C$2003,様式３!$D440,申請者リスト!$P$4:$P$2003,K$8)","v":0},{"$f":"COUNTIFS(申請者リスト!$C$4:$C$2003,様式３!$D440,申請者リスト!$P$4:$P$2003,L$8)","v":0},{"$f":"COUNTIFS(申請者リスト!$C$4:$C$2003,様式３!$D440,申請者リスト!$P$4:$P$2003,M$8)","v":0},0]
[222,null,null,null,{"$f":"IFERROR(YEAR(VLOOKUP($D441,申請者リスト!$C$4:$Q$2003,7,FALSE)),\"\")","v":""},"・",{"$f":"IFERROR(MONTH(VLOOKUP($D441,申請者リスト!$C$4:$Q$2003,7,FALSE)),\"\")","v":""},"・",{"$f":"IFERROR(DAY(VLOOKUP($D441,申請者リスト!$C$4:$Q$2003,7,FALSE)),\"\")","v":""},{"$f":"COUNTIFS(申請者リスト!$C$4:$C$2003,様式３!$D441,申請者リスト!$P$4:$P$2003,J$8)","v":0},{"$f":"COUNTIFS(申請者リスト!$C$4:$C$2003,様式３!$D441,申請者リスト!$P$4:$P$2003,K$8)","v":0},{"$f":"COUNTIFS(申請者リスト!$C$4:$C$2003,様式３!$D441,申請者リスト!$P$4:$P$2003,L$8)","v":0},{"$f":"COUNTIFS(申請者リスト!$C$4:$C$2003,様式３!$D441,申請者リスト!$P$4:$P$2003,M$8)","v":0},0]
[223,null,null,null,{"$f":"IFERROR(YEAR(VLOOKUP($D442,申請者リスト!$C$4:$Q$2003,7,FALSE)),\"\")","v":""},"・",{"$f":"IFERROR(MONTH(VLOOKUP($D442,申請者リスト!$C$4:$Q$2003,7,FALSE)),\"\")","v":""},"・",{"$f":"IFERROR(DAY(VLOOKUP($D442,申請者リスト!$C$4:$Q$2003,7,FALSE)),\"\")","v":""},{"$f":"COUNTIFS(申請者リスト!$C$4:$C$2003,様式３!$D442,申請者リスト!$P$4:$P$2003,J$8)","v":0},{"$f":"COUNTIFS(申請者リスト!$C$4:$C$2003,様式３!$D442,申請者リスト!$P$4:$P$2003,K$8)","v":0},{"$f":"COUNTIFS(申請者リスト!$C$4:$C$2003,様式３!$D442,申請者リスト!$P$4:$P$2003,L$8)","v":0},{"$f":"COUNTIFS(申請者リスト!$C$4:$C$2003,様式３!$D442,申請者リスト!$P$4:$P$2003,M$8)","v":0},0]
[224,null,null,null,{"$f":"IFERROR(YEAR(VLOOKUP($D443,申請者リスト!$C$4:$Q$2003,7,FALSE)),\"\")","v":""},"・",{"$f":"IFERROR(MONTH(VLOOKUP($D443,申請者リスト!$C$4:$Q$2003,7,FALSE)),\"\")","v":""},"・",{"$f":"IFERROR(DAY(VLOOKUP($D443,申請者リスト!$C$4:$Q$2003,7,FALSE)),\"\")","v":""},{"$f":"COUNTIFS(申請者リスト!$C$4:$C$2003,様式３!$D443,申請者リスト!$P$4:$P$2003,J$8)","v":0},{"$f":"COUNTIFS(申請者リスト!$C$4:$C$2003,様式３!$D443,申請者リスト!$P$4:$P$2003,K$8)","v":0},{"$f":"COUNTIFS(申請者リスト!$C$4:$C$2003,様式３!$D443,申請者リスト!$P$4:$P$2003,L$8)","v":0},{"$f":"COUNTIFS(申請者リスト!$C$4:$C$2003,様式３!$D443,申請者リスト!$P$4:$P$2003,M$8)","v":0},0]
[225,null,null,null,{"$f":"IFERROR(YEAR(VLOOKUP($D444,申請者リスト!$C$4:$Q$2003,7,FALSE)),\"\")","v":""},"・",{"$f":"IFERROR(MONTH(VLOOKUP($D444,申請者リスト!$C$4:$Q$2003,7,FALSE)),\"\")","v":""},"・",{"$f":"IFERROR(DAY(VLOOKUP($D444,申請者リスト!$C$4:$Q$2003,7,FALSE)),\"\")","v":""},{"$f":"COUNTIFS(申請者リスト!$C$4:$C$2003,様式３!$D444,申請者リスト!$P$4:$P$2003,J$8)","v":0},{"$f":"COUNTIFS(申請者リスト!$C$4:$C$2003,様式３!$D444,申請者リスト!$P$4:$P$2003,K$8)","v":0},{"$f":"COUNTIFS(申請者リスト!$C$4:$C$2003,様式３!$D444,申請者リスト!$P$4:$P$2003,L$8)","v":0},{"$f":"COUNTIFS(申請者リスト!$C$4:$C$2003,様式３!$D444,申請者リスト!$P$4:$P$2003,M$8)","v":0},0]
["※１","学科の欄には、大学科名を記入する。"]
["※２","整理番号は、様式１の整理番号（担当者が付記）と一致させる。"]
[null,"なお、整理番号については、各学校の大学科ごとに１～を割り振ること。"]
["※３","資格・試験等ランクの欄には、取得個数を記入する。"]
["※４","得点合計欄には、得点の合計を記入する。"]
[]
["（様式３）",null,null,null,null,null,null,null,null,null,"(",{"$f":"$L$1","v":0},"枚中",{"$f":"+N421+1","v":16},"枚目）"]
[]
["埼玉県高校生専門資格等取得表彰推薦名簿"]
[]
[null,null,null,null,null,null,"学  校  名　　　　　　　　　　",null,null,{"$f":"$J$5","v":0},null,null,null,null,"学校"]
[]
["Ｎｏ","学　年　　　　　　　　　　　　　　　　　　　","学　科","整理番号","生　年　月　日",null,null,null,null,"資格・試験等ﾗﾝｸ",null,null,null,"得点合計","備　考"]
[null,null,null,null,null,null,null,null,null,"A","B","C","D"]
[null,null,null,null,null,null,null,null,null,6,3,2,1]
[{"$f":"+A444+1","v":226},null,null,null,{"$f":"IFERROR(YEAR(VLOOKUP($D460,申請者リスト!$C$4:$Q$2003,7,FALSE)),\"\")","v":""},"・",{"$f":"IFERROR(MONTH(VLOOKUP($D460,申請者リスト!$C$4:$Q$2003,7,FALSE)),\"\")","v":""},"・",{"$f":"IFERROR(DAY(VLOOKUP($D460,申請者リスト!$C$4:$Q$2003,7,FALSE)),\"\")","v":""},{"$f":"COUNTIFS(申請者リスト!$C$4:$C$2003,様式３!$D460,申請者リスト!$P$4:$P$2003,J$8)","v":0},{"$f":"COUNTIFS(申請者リスト!$C$4:$C$2003,様式３!$D460,申請者リスト!$P$4:$P$2003,K$8)","v":0},{"$f":"COUNTIFS(申請者リスト!$C$4:$C$2003,様式３!$D460,申請者リスト!$P$4:$P$2003,L$8)","v":0},{"$f":"COUNTIFS(申請者リスト!$C$4:$C$2003,様式３!$D460,申請者リスト!$P$4:$P$2003,M$8)","v":0},{"$f":"J460*$J$9+K460*$K$9+L460*$L$9+M460*$M$9","v":0}]
[{"$f":"+A460+1","v":227},null,null,null,{"$f":"IFERROR(YEAR(VLOOKUP($D461,申請者リスト!$C$4:$Q$2003,7,FALSE)),\"\")","v":""},"・",{"$f":"IFERROR(MONTH(VLOOKUP($D461,申請者リスト!$C$4:$Q$2003,7,FALSE)),\"\")","v":""},"・",{"$f":"IFERROR(DAY(VLOOKUP($D461,申請者リスト!$C$4:$Q$2003,7,FALSE)),\"\")","v":""},{"$f":"COUNTIFS(申請者リスト!$C$4:$C$2003,様式３!$D461,申請者リスト!$P$4:$P$2003,J$8)","v":0},{"$f":"COUNTIFS(申請者リスト!$C$4:$C$2003,様式３!$D461,申請者リスト!$P$4:$P$2003,K$8)","v":0},{"$f":"COUNTIFS(申請者リスト!$C$4:$C$2003,様式３!$D461,申請者リスト!$P$4:$P$2003,L$8)","v":0},{"$f":"COUNTIFS(申請者リスト!$C$4:$C$2003,様式３!$D461,申請者リスト!$P$4:$P$2003,M$8)","v":0},{"$f":"J461*$J$9+K461*$K$9+L461*$L$9+M461*$M$9","v":0}]
[{"$f":"+A461+1","v":228},null,null,null,{"$f":"IFERROR(YEAR(VLOOKUP($D462,申請者リスト!$C$4:$Q$2003,7,FALSE)),\"\")","v":""},"・",{"$f":"IFERROR(MONTH(VLOOKUP($D462,申請者リスト!$C$4:$Q$2003,7,FALSE)),\"\")","v":""},"・",{"$f":"IFERROR(DAY(VLOOKUP($D462,申請者リスト!$C$4:$Q$2003,7,FALSE)),\"\")","v":""},{"$f":"COUNTIFS(申請者リスト!$C$4:$C$2003,様式３!$D462,申請者リスト!$P$4:$P$2003,J$8)","v":0},{"$f":"COUNTIFS(申請者リスト!$C$4:$C$2003,様式３!$D462,申請者リスト!$P$4:$P$2003,K$8)","v":0},{"$f":"COUNTIFS(申請者リスト!$C$4:$C$2003,様式３!$D462,申請者リスト!$P$4:$P$2003,L$8)","v":0},{"$f":"COUNTIFS(申請者リスト!$C$4:$C$2003,様式３!$D462,申請者リスト!$P$4:$P$2003,M$8)","v":0},0]
[229,null,null,null,{"$f":"IFERROR(YEAR(VLOOKUP($D463,申請者リスト!$C$4:$Q$2003,7,FALSE)),\"\")","v":""},"・",{"$f":"IFERROR(MONTH(VLOOKUP($D463,申請者リスト!$C$4:$Q$2003,7,FALSE)),\"\")","v":""},"・",{"$f":"IFERROR(DAY(VLOOKUP($D463,申請者リスト!$C$4:$Q$2003,7,FALSE)),\"\")","v":""},{"$f":"COUNTIFS(申請者リスト!$C$4:$C$2003,様式３!$D463,申請者リスト!$P$4:$P$2003,J$8)","v":0},{"$f":"COUNTIFS(申請者リスト!$C$4:$C$2003,様式３!$D463,申請者リスト!$P$4:$P$2003,K$8)","v":0},{"$f":"COUNTIFS(申請者リスト!$C$4:$C$2003,様式３!$D463,申請者リスト!$P$4:$P$2003,L$8)","v":0},{"$f":"COUNTIFS(申請者リスト!$C$4:$C$2003,様式３!$D463,申請者リスト!$P$4:$P$2003,M$8)","v":0},0]
[230,null,null,null,{"$f":"IFERROR(YEAR(VLOOKUP($D464,申請者リスト!$C$4:$Q$2003,7,FALSE)),\"\")","v":""},"・",{"$f":"IFERROR(MONTH(VLOOKUP($D464,申請者リスト!$C$4:$Q$2003,7,FALSE)),\"\")","v":""},"・",{"$f":"IFERROR(DAY(VLOOKUP($D464,申請者リスト!$C$4:$Q$2003,7,FALSE)),\"\")","v":""},{"$f":"COUNTIFS(申請者リスト!$C$4:$C$2003,様式３!$D464,申請者リスト!$P$4:$P$2003,J$8)","v":0},{"$f":"COUNTIFS(申請者リスト!$C$4:$C$2003,様式３!$D464,申請者リスト!$P$4:$P$2003,K$8)","v":0},{"$f":"COUNTIFS(申請者リスト!$C$4:$C$2003,様式３!$D464,申請者リスト!$P$4:$P$2003,L$8)","v":0},{"$f":"COUNTIFS(申請者リスト!$C$4:$C$2003,様式３!$D464,申請者リスト!$P$4:$P$2003,M$8)","v":0},0]
[231,null,null,null,{"$f":"IFERROR(YEAR(VLOOKUP($D465,申請者リスト!$C$4:$Q$2003,7,FALSE)),\"\")","v":""},"・",{"$f":"IFERROR(MONTH(VLOOKUP($D465,申請者リスト!$C$4:$Q$2003,7,FALSE)),\"\")","v":""},"・",{"$f":"IFERROR(DAY(VLOOKUP($D465,申請者リスト!$C$4:$Q$2003,7,FALSE)),\"\")","v":""},{"$f":"COUNTIFS(申請者リスト!$C$4:$C$2003,様式３!$D465,申請者リスト!$P$4:$P$2003,J$8)","v":0},{"$f":"COUNTIFS(申請者リスト!$C$4:$C$2003,様式３!$D465,申請者リスト!$P$4:$P$2003,K$8)","v":0},{"$f":"COUNTIFS(申請者リスト!$C$4:$C$2003,様式３!$D465,申請者リスト!$P$4:$P$2003,L$8)","v":0},{"$f":"COUNTIFS(申請者リスト!$C$4:$C$2003,様式３!$D465,申請者リスト!$P$4:$P$2003,M$8)","v":0},0]
[232,null,null,null,{"$f":"IFERROR(YEAR(VLOOKUP($D466,申請者リスト!$C$4:$Q$2003,7,FALSE)),\"\")","v":""},"・",{"$f":"IFERROR(MONTH(VLOOKUP($D466,申請者リスト!$C$4:$Q$2003,7,FALSE)),\"\")","v":""},"・",{"$f":"IFERROR(DAY(VLOOKUP($D466,申請者リスト!$C$4:$Q$2003,7,FALSE)),\"\")","v":""},{"$f":"COUNTIFS(申請者リスト!$C$4:$C$2003,様式３!$D466,申請者リスト!$P$4:$P$2003,J$8)","v":0},{"$f":"COUNTIFS(申請者リスト!$C$4:$C$2003,様式３!$D466,申請者リスト!$P$4:$P$2003,K$8)","v":0},{"$f":"COUNTIFS(申請者リスト!$C$4:$C$2003,様式３!$D466,申請者リスト!$P$4:$P$2003,L$8)","v":0},{"$f":"COUNTIFS(申請者リスト!$C$4:$C$2003,様式３!$D466,申請者リスト!$P$4:$P$2003,M$8)","v":0},0]
[233,null,null,null,{"$f":"IFERROR(YEAR(VLOOKUP($D467,申請者リスト!$C$4:$Q$2003,7,FALSE)),\"\")","v":""},"・",{"$f":"IFERROR(MONTH(VLOOKUP($D467,申請者リスト!$C$4:$Q$2003,7,FALSE)),\"\")","v":""},"・",{"$f":"IFERROR(DAY(VLOOKUP($D467,申請者リスト!$C$4:$Q$2003,7,FALSE)),\"\")","v":""},{"$f":"COUNTIFS(申請者リスト!$C$4:$C$2003,様式３!$D467,申請者リスト!$P$4:$P$2003,J$8)","v":0},{"$f":"COUNTIFS(申請者リスト!$C$4:$C$2003,様式３!$D467,申請者リスト!$P$4:$P$2003,K$8)","v":0},{"$f":"COUNTIFS(申請者リスト!$C$4:$C$2003,様式３!$D467,申請者リスト!$P$4:$P$2003,L$8)","v":0},{"$f":"COUNTIFS(申請者リスト!$C$4:$C$2003,様式３!$D467,申請者リスト!$P$4:$P$2003,M$8)","v":0},0]
[234,null,null,null,{"$f":"IFERROR(YEAR(VLOOKUP($D468,申請者リスト!$C$4:$Q$2003,7,FALSE)),\"\")","v":""},"・",{"$f":"IFERROR(MONTH(VLOOKUP($D468,申請者リスト!$C$4:$Q$2003,7,FALSE)),\"\")","v":""},"・",{"$f":"IFERROR(DAY(VLOOKUP($D468,申請者リスト!$C$4:$Q$2003,7,FALSE)),\"\")","v":""},{"$f":"COUNTIFS(申請者リスト!$C$4:$C$2003,様式３!$D468,申請者リスト!$P$4:$P$2003,J$8)","v":0},{"$f":"COUNTIFS(申請者リスト!$C$4:$C$2003,様式３!$D468,申請者リスト!$P$4:$P$2003,K$8)","v":0},{"$f":"COUNTIFS(申請者リスト!$C$4:$C$2003,様式３!$D468,申請者リスト!$P$4:$P$2003,L$8)","v":0},{"$f":"COUNTIFS(申請者リスト!$C$4:$C$2003,様式３!$D468,申請者リスト!$P$4:$P$2003,M$8)","v":0},0]
[235,null,null,null,{"$f":"IFERROR(YEAR(VLOOKUP($D469,申請者リスト!$C$4:$Q$2003,7,FALSE)),\"\")","v":""},"・",{"$f":"IFERROR(MONTH(VLOOKUP($D469,申請者リスト!$C$4:$Q$2003,7,FALSE)),\"\")","v":""},"・",{"$f":"IFERROR(DAY(VLOOKUP($D469,申請者リスト!$C$4:$Q$2003,7,FALSE)),\"\")","v":""},{"$f":"COUNTIFS(申請者リスト!$C$4:$C$2003,様式３!$D469,申請者リスト!$P$4:$P$2003,J$8)","v":0},{"$f":"COUNTIFS(申請者リスト!$C$4:$C$2003,様式３!$D469,申請者リスト!$P$4:$P$2003,K$8)","v":0},{"$f":"COUNTIFS(申請者リスト!$C$4:$C$2003,様式３!$D469,申請者リスト!$P$4:$P$2003,L$8)","v":0},{"$f":"COUNTIFS(申請者リスト!$C$4:$C$2003,様式３!$D469,申請者リスト!$P$4:$P$2003,M$8)","v":0},0]
[236,null,null,null,{"$f":"IFERROR(YEAR(VLOOKUP($D470,申請者リスト!$C$4:$Q$2003,7,FALSE)),\"\")","v":""},"・",{"$f":"IFERROR(MONTH(VLOOKUP($D470,申請者リスト!$C$4:$Q$2003,7,FALSE)),\"\")","v":""},"・",{"$f":"IFERROR(DAY(VLOOKUP($D470,申請者リスト!$C$4:$Q$2003,7,FALSE)),\"\")","v":""},{"$f":"COUNTIFS(申請者リスト!$C$4:$C$2003,様式３!$D470,申請者リスト!$P$4:$P$2003,J$8)","v":0},{"$f":"COUNTIFS(申請者リスト!$C$4:$C$2003,様式３!$D470,申請者リスト!$P$4:$P$2003,K$8)","v":0},{"$f":"COUNTIFS(申請者リスト!$C$4:$C$2003,様式３!$D470,申請者リスト!$P$4:$P$2003,L$8)","v":0},{"$f":"COUNTIFS(申請者リスト!$C$4:$C$2003,様式３!$D470,申請者リスト!$P$4:$P$2003,M$8)","v":0},0]
[237,null,null,null,{"$f":"IFERROR(YEAR(VLOOKUP($D471,申請者リスト!$C$4:$Q$2003,7,FALSE)),\"\")","v":""},"・",{"$f":"IFERROR(MONTH(VLOOKUP($D471,申請者リスト!$C$4:$Q$2003,7,FALSE)),\"\")","v":""},"・",{"$f":"IFERROR(DAY(VLOOKUP($D471,申請者リスト!$C$4:$Q$2003,7,FALSE)),\"\")","v":""},{"$f":"COUNTIFS(申請者リスト!$C$4:$C$2003,様式３!$D471,申請者リスト!$P$4:$P$2003,J$8)","v":0},{"$f":"COUNTIFS(申請者リスト!$C$4:$C$2003,様式３!$D471,申請者リスト!$P$4:$P$2003,K$8)","v":0},{"$f":"COUNTIFS(申請者リスト!$C$4:$C$2003,様式３!$D471,申請者リスト!$P$4:$P$2003,L$8)","v":0},{"$f":"COUNTIFS(申請者リスト!$C$4:$C$2003,様式３!$D471,申請者リスト!$P$4:$P$2003,M$8)","v":0},0]
[238,null,null,null,{"$f":"IFERROR(YEAR(VLOOKUP($D472,申請者リスト!$C$4:$Q$2003,7,FALSE)),\"\")","v":""},"・",{"$f":"IFERROR(MONTH(VLOOKUP($D472,申請者リスト!$C$4:$Q$2003,7,FALSE)),\"\")","v":""},"・",{"$f":"IFERROR(DAY(VLOOKUP($D472,申請者リスト!$C$4:$Q$2003,7,FALSE)),\"\")","v":""},{"$f":"COUNTIFS(申請者リスト!$C$4:$C$2003,様式３!$D472,申請者リスト!$P$4:$P$2003,J$8)","v":0},{"$f":"COUNTIFS(申請者リスト!$C$4:$C$2003,様式３!$D472,申請者リスト!$P$4:$P$2003,K$8)","v":0},{"$f":"COUNTIFS(申請者リスト!$C$4:$C$2003,様式３!$D472,申請者リスト!$P$4:$P$2003,L$8)","v":0},{"$f":"COUNTIFS(申請者リスト!$C$4:$C$2003,様式３!$D472,申請者リスト!$P$4:$P$2003,M$8)","v":0},0]
[239,null,null,null,{"$f":"IFERROR(YEAR(VLOOKUP($D473,申請者リスト!$C$4:$Q$2003,7,FALSE)),\"\")","v":""},"・",{"$f":"IFERROR(MONTH(VLOOKUP($D473,申請者リスト!$C$4:$Q$2003,7,FALSE)),\"\")","v":""},"・",{"$f":"IFERROR(DAY(VLOOKUP($D473,申請者リスト!$C$4:$Q$2003,7,FALSE)),\"\")","v":""},{"$f":"COUNTIFS(申請者リスト!$C$4:$C$2003,様式３!$D473,申請者リスト!$P$4:$P$2003,J$8)","v":0},{"$f":"COUNTIFS(申請者リスト!$C$4:$C$2003,様式３!$D473,申請者リスト!$P$4:$P$2003,K$8)","v":0},{"$f":"COUNTIFS(申請者リスト!$C$4:$C$2003,様式３!$D473,申請者リスト!$P$4:$P$2003,L$8)","v":0},{"$f":"COUNTIFS(申請者リスト!$C$4:$C$2003,様式３!$D473,申請者リスト!$P$4:$P$2003,M$8)","v":0},0]
[240,null,null,null,{"$f":"IFERROR(YEAR(VLOOKUP($D474,申請者リスト!$C$4:$Q$2003,7,FALSE)),\"\")","v":""},"・",{"$f":"IFERROR(MONTH(VLOOKUP($D474,申請者リスト!$C$4:$Q$2003,7,FALSE)),\"\")","v":""},"・",{"$f":"IFERROR(DAY(VLOOKUP($D474,申請者リスト!$C$4:$Q$2003,7,FALSE)),\"\")","v":""},{"$f":"COUNTIFS(申請者リスト!$C$4:$C$2003,様式３!$D474,申請者リスト!$P$4:$P$2003,J$8)","v":0},{"$f":"COUNTIFS(申請者リスト!$C$4:$C$2003,様式３!$D474,申請者リスト!$P$4:$P$2003,K$8)","v":0},{"$f":"COUNTIFS(申請者リスト!$C$4:$C$2003,様式３!$D474,申請者リスト!$P$4:$P$2003,L$8)","v":0},{"$f":"COUNTIFS(申請者リスト!$C$4:$C$2003,様式３!$D474,申請者リスト!$P$4:$P$2003,M$8)","v":0},0]
["※１","学科の欄には、大学科名を記入する。"]
["※２","整理番号は、様式１の整理番号（担当者が付記）と一致させる。"]
[null,"なお、整理番号については、各学校の大学科ごとに１～を割り振ること。"]
["※３","資格・試験等ランクの欄には、取得個数を記入する。"]
["※４","得点合計欄には、得点の合計を記入する。"]

{"sheet":"様式６","index":3,"n_rows":431,"n_cols":16,"rows_kept":431,"cut":false,"hidden":false,"merged":[[0,7,0,8],[2,1,2,15],[3,8,3,13],[5,1,7,1],[5,2,7,2],[5,3,7,3],[5,4,7,4],[5,5,7,9],[5,10,5,13],[5,14,7,14],[5,15,7,15],[27,7,27,8],[29,1,29,15],[30,8,30,13],[32,1,34,1],[32,2,34,2],[32,3,34,3],[32,4,34,4],[32,5,34,9],[32,10,32,13],[59,10,59,13],[59,14,61,14],[59,15,61,15],[81,7,81,8],[83,1,83,15],[84,8,84,13],[32,14,34,14],[32,15,34,15],[54,7,54,8],[56,1,56,15],[57,8,57,13],[59,1,61,1],[59,2,61,2],[59,3,61,3],[59,4,61,4],[59,5,61,9],[113,10,113,13],[113,14,115,14],[113,15,115,15],[135,7,135,8],[137,1,137,15],[138,8,138,13],[86,14,88,14],[86,15,88,15],[108,7,108,8],[110,1,110,15],[111,8,111,13],[113,1,115,1],[113,2,115,2],[113,3,115,3],[113,4,115,4],[113,5,115,9],[86,1,88,1],[86,2,88,2],[86,3,88,3],[86,4,88,4],[86,5,88,9],[86,10,86,13],[167,10,167,13],[167,14,169,14],[167,15,169,15],[189,7,189,8],[191,1,191,15],[192,8,192,13],[140,14,142,14],[140,15,142,15],[162,7,162,8],[164,1,164,15],[165,8,165,13],[167,1,169,1],[167,2,169,2],[167,3,169,3],[167,4,169,4],[167,5,169,9],[140,1,142,1],[140,2,142,2],[140,3,142,3],[140,4,142,4],[140,5,142,9],[140,10,140,13],[221,10,221,13],[221,14,223,14],[221,15,223,15],[243,7,243,8],[245,1,245,15],[246,8,246,13],[194,14,196,14],[194,15,196,15],[216,7,216,8],[218,1,218,15],[219,8,219,13],[221,1,223,1],[221,2,223,2],[221,3,223,3],[221,4,223,4],[221,5,223,9],[194,1,196,1],[194,2,196,2],[194,3,196,3],[194,4,196,4],[194,5,196,9],[194,10,194,13],[275,10,275,13],[275,14,277,14],[275,15,277,15],[297,7,297,8],[299,1,299,15],[300,8,300,13],[248,14,250,14],[248,15,250,15],[270,7,270,8],[272,1,272,15],[273,8,273,13],[275,1,277,1],[275,2,277,2],[275,3,277,3],[275,4,277,4],[275,5,277,9],[248,1,250,1],[248,2,250,2],[248,3,250,3],[248,4,250,4],[248,5,250,9],[248,10,248,13],[329,10,329,13],[329,14,331,14],[329,15,331,15],[351,7,351,8],[353,1,353,15],[354,8,354,13],[302,14,304,14],[302,15,304,15],[324,7,324,8],[326,1,326,15],[327,8,327,13],[329,1,331,1],[329,2,331,2],[329,3,331,3],[329,4,331,4],[329,5,331,9],[302,1,304,1],[302,2,304,2],[302,3,304,3],[302,4,304,4],[302,5,304,9],[302,10,302,13],[356,14,358,14],[356,15,358,15],[378,7,378,8],[380,1,380,15],[381,8,381,13],[383,1,385,1],[383,2,385,2],[383,3,385,3],[383,4,385,4],[383,5,385,9],[356,1,358,1],[356,2,358,2],[356,3,358,3],[356,4,358,4],[356,5,358,9],[356,10,356,13],[410,14,412,14],[410,15,412,15],[410,1,412,1],[410,2,412,2],[410,3,412,3],[410,4,412,4],[410,5,412,9],[410,10,410,13],[383,10,383,13],[383,14,385,14],[383,15,385,15],[405,7,405,8],[407,1,407,15],[408,8,408,13]]}
[null,"（様式６）",null,null,null,null,null,"（令和",null,null,"年度",null,null,"枚中",1,"枚目）"]
[]
[null,"埼玉県高校生専門資格等取得表彰証書発行台帳"]
[null,null,null,null,null,"学 校 名　　　　　　　　　　　",null,null,null,null,null,null,null,null,"学校"]
[null,null,null,null,null,"発行年月日 令和　　",null,null,null,null,null,"年",null,"月",null,"日"]
[null,"発行番号","学年　　　　　　　　　　　　　　　　　　　","学科","整理番号","生  年  月  日",null,null,null,null,"資格・試験等ﾗﾝｸ",null,null,null,"得点\n合計","備考"]
[null,null,null,null,null,null,null,null,null,null,"A","B","C","D"]
[null,null,null,null,null,null,null,null,null,null,6,3,2,1]
[1,null,{"$f":"IF(様式３!B10=\"\",\"\",様式３!B10)","v":""},{"$f":"IF(様式３!C10=\"\",\"\",様式３!C10)","v":""},{"$f":"IF(様式３!D10=\"\",\"\",様式３!D10)","v":""},{"$f":"IF(様式３!E10=\"\",\"\",様式３!E10)","v":""},{"$f":"IF(様式３!F10=\"\",\"\",様式３!F10)","v":"・"},{"$f":"IF(様式３!G10=\"\",\"\",様式３!G10)","v":""},{"$f":"IF(様式３!H10=\"\",\"\",様式３!H10)","v":"・"},{"$f":"IF(様式３!I10=\"\",\"\",様式３!I10)","v":""},{"$f":"IF(様式３!J10=\"\",\"\",様式３!J10)","v":0},{"$f":"IF(様式３!K10=\"\",\"\",様式３!K10)","v":0},{"$f":"IF(様式３!L10=\"\",\"\",様式３!L10)","v":0},{"$f":"IF(様式３!M10=\"\",\"\",様式３!M10)","v":0},{"$f":"IF(様式３!N10=\"\",\"\",様式３!N10)","v":0},{"$f":"IF(様式３!O10=\"\",\"\",様式３!O10)","v":""}]
[2,{"$f":"IF(E10=\"\",\"\",B9+1)","v":""},{"$f":"IF(様式３!B11=\"\",\"\",様式３!B11)","v":""},{"$f":"IF(様式３!C11=\"\",\"\",様式３!C11)","v":""},{"$f":"IF(様式３!D11=\"\",\"\",様式３!D11)","v":""},{"$f":"IF(様式３!E11=\"\",\"\",様式３!E11)","v":""},{"$f":"IF(様式３!F11=\"\",\"\",様式３!F11)","v":"・"},{"$f":"IF(様式３!G11=\"\",\"\",様式３!G11)","v":""},{"$f":"IF(様式３!H11=\"\",\"\",様式３!H11)","v":"・"},{"$f":"IF(様式３!I11=\"\",\"\",様式３!I11)","v":""},{"$f":"IF(様式３!J11=\"\",\"\",様式３!J11)","v":0},{"$f":"IF(様式３!K11=\"\",\"\",様式３!K11)","v":0},{"$f":"IF(様式３!L11=\"\",\"\",様式３!L11)","v":0},{"$f":"IF(様式３!M11=\"\",\"\",様式３!M11)","v":0},{"$f":"IF(様式３!N11=\"\",\"\",様式３!N11)","v":0},{"$f":"IF(様式３!O11=\"\",\"\",様式３!O11)","v":""}]
[3,{"$f":"IF(E11=\"\",\"\",B10+1)","v":""},{"$f":"IF(様式３!B12=\"\",\"\",様式３!B12)","v":""},{"$f":"IF(様式３!C12=\"\",\"\",様式３!C12)","v":""},{"$f":"IF(様式３!D12=\"\",\"\",様式３!D12)","v":""},{"$f":"IF(様式３!E12=\"\",\"\",様式３!E12)","v":""},{"$f":"IF(様式３!F12=\"\",\"\",様式３!F12)","v":"・"},{"$f":"IF(様式３!G12=\"\",\"\",様式３!G12)","v":""},{"$f":"IF(様式３!H12=\"\",\"\",様式３!H12)","v":"・"},{"$f":"IF(様式３!I12=\"\",\"\",様式３!I12)","v":""},{"$f":"IF(様式３!J12=\"\",\"\",様式３!J12)","v":0},{"$f":"IF(様式３!K12=\"\",\"\",様式３!K12)","v":0},{"$f":"IF(様式３!L12=\"\",\"\",様式３!L12)","v":0},{"$f":"IF(様式３!M12=\"\",\"\",様式３!M12)","v":0},{"$f":"IF(様式３!N12=\"\",\"\",様式３!N12)","v":0},{"$f":"IF(様式３!O12=\"\",\"\",様式３!O12)","v":""}]
[4,"",{"$f":"IF(様式３!B13=\"\",\"\",様式３!B13)","v":""},{"$f":"IF(様式３!C13=\"\",\"\",様式３!C13)","v":""},{"$f":"IF(様式３!D13=\"\",\"\",様式３!D13)","v":""},{"$f":"IF(様式３!E13=\"\",\"\",様式３!E13)","v":""},{"$f":"IF(様式３!F13=\"\",\"\",様式３!F13)","v":"・"},{"$f":"IF(様式３!G13=\"\",\"\",様式３!G13)","v":""},{"$f":"IF(様式３!H13=\"\",\"\",様式３!H13)","v":"・"},{"$f":"IF(様式３!I13=\"\",\"\",様式３!I13)","v":""},{"$f":"IF(様式３!J13=\"\",\"\",様式３!J13)","v":0},{"$f":"IF(様式３!K13=\"\",\"\",様式３!K13)","v":0},{"$f":"IF(様式３!L13=\"\",\"\",様式３!L13)","v":0},{"$f":"IF(様式３!M13=\"\",\"\",様式３!M13)","v":0},{"$f":"IF(様式３!N13=\"\",\"\",様式３!N13)","v":0},{"$f":"IF(様式３!O13=\"\",\"\",様式３!O13)","v":""}]
[5,"",{"$f":"IF(様式３!B14=\"\",\"\",様式３!B14)","v":""},{"$f":"IF(様式３!C14=\"\",\"\",様式３!C14)","v":""},{"$f":"IF(様式３!D14=\"\",\"\",様式３!D14)","v":""},{"$f":"IF(様式３!E14=\"\",\"\",様式３!E14)","v":""},{"$f":"IF(様式３!F14=\"\",\"\",様式３!F14)","v":"・"},{"$f":"IF(様式３!G14=\"\",\"\",様式３!G14)","v":""},{"$f":"IF(様式３!H14=\"\",\"\",様式３!H14)","v":"・"},{"$f":"IF(様式３!I14=\"\",\"\",様式３!I14)","v":""},{"$f":"IF(様式３!J14=\"\",\"\",様式３!J14)","v":0},{"$f":"IF(様式３!K14=\"\",\"\",様式３!K14)","v":0},{"$f":"IF(様式３!L14=\"\",\"\",様式３!L14)","v":0},{"$f":"IF(様式３!M14=\"\",\"\",様式３!M14)","v":0},{"$f":"IF(様式３!N14=\"\",\"\",様式３!N14)","v":0},{"$f":"IF(様式３!O14=\"\",\"\",様式３!O14)","v":""}]
[6,"",{"$f":"IF(様式３!B15=\"\",\"\",様式３!B15)","v":""},{"$f":"IF(様式３!C15=\"\",\"\",様式３!C15)","v":""},{"$f":"IF(様式３!D15=\"\",\"\",様式３!D15)","v":""},{"$f":"IF(様式３!E15=\"\",\"\",様式３!E15)","v":""},{"$f":"IF(様式３!F15=\"\",\"\",様式３!F15)","v":"・"},{"$f":"IF(様式３!G15=\"\",\"\",様式３!G15)","v":""},{"$f":"IF(様式３!H15=\"\",\"\",様式３!H15)","v":"・"},{"$f":"IF(様式３!I15=\"\",\"\",様式３!I15)","v":""},{"$f":"IF(様式３!J15=\"\",\"\",様式３!J15)","v":0},{"$f":"IF(様式３!K15=\"\",\"\",様式３!K15)","v":0},{"$f":"IF(様式３!L15=\"\",\"\",様式３!L15)","v":0},{"$f":"IF(様式３!M15=\"\",\"\",様式３!M15)","v":0},{"$f":"IF(様式３!N15=\"\",\"\",様式３!N15)","v":0},{"$f":"IF(様式３!O15=\"\",\"\",様式３!O15)","v":""}]
[7,"",{"$f":"IF(様式３!B16=\"\",\"\",様式３!B16)","v":""},{"$f":"IF(様式３!C16=\"\",\"\",様式３!C16)","v":""},{"$f":"IF(様式３!D16=\"\",\"\",様式３!D16)","v":""},{"$f":"IF(様式３!E16=\"\",\"\",様式３!E16)","v":""},{"$f":"IF(様式３!F16=\"\",\"\",様式３!F16)","v":"・"},{"$f":"IF(様式３!G16=\"\",\"\",様式３!G16)","v":""},{"$f":"IF(様式３!H16=\"\",\"\",様式３!H16)","v":"・"},{"$f":"IF(様式３!I16=\"\",\"\",様式３!I16)","v":""},{"$f":"IF(様式３!J16=\"\",\"\",様式３!J16)","v":0},{"$f":"IF(様式３!K16=\"\",\"\",様式３!K16)","v":0},{"$f":"IF(様式３!L16=\"\",\"\",様式３!L16)","v":0},{"$f":"IF(様式３!M16=\"\",\"\",様式３!M16)","v":0},{"$f":"IF(様式３!N16=\"\",\"\",様式３!N16)","v":0},{"$f":"IF(様式３!O16=\"\",\"\",様式３!O16)","v":""}]
[8,"",{"$f":"IF(様式３!B17=\"\",\"\",様式３!B17)","v":""},{"$f":"IF(様式３!C17=\"\",\"\",様式３!C17)","v":""},{"$f":"IF(様式３!D17=\"\",\"\",様式３!D17)","v":""},{"$f":"IF(様式３!E17=\"\",\"\",様式３!E17)","v":""},{"$f":"IF(様式３!F17=\"\",\"\",様式３!F17)","v":"・"},{"$f":"IF(様式３!G17=\"\",\"\",様式３!G17)","v":""},{"$f":"IF(様式３!H17=\"\",\"\",様式３!H17)","v":"・"},{"$f":"IF(様式３!I17=\"\",\"\",様式３!I17)","v":""},{"$f":"IF(様式３!J17=\"\",\"\",様式３!J17)","v":0},{"$f":"IF(様式３!K17=\"\",\"\",様式３!K17)","v":0},{"$f":"IF(様式３!L17=\"\",\"\",様式３!L17)","v":0},{"$f":"IF(様式３!M17=\"\",\"\",様式３!M17)","v":0},{"$f":"IF(様式３!N17=\"\",\"\",様式３!N17)","v":0},{"$f":"IF(様式３!O17=\"\",\"\",様式３!O17)","v":""}]
[9,"",{"$f":"IF(様式３!B18=\"\",\"\",様式３!B18)","v":""},{"$f":"IF(様式３!C18=\"\",\"\",様式３!C18)","v":""},{"$f":"IF(様式３!D18=\"\",\"\",様式３!D18)","v":""},{"$f":"IF(様式３!E18=\"\",\"\",様式３!E18)","v":""},{"$f":"IF(様式３!F18=\"\",\"\",様式３!F18)","v":"・"},{"$f":"IF(様式３!G18=\"\",\"\",様式３!G18)","v":""},{"$f":"IF(様式３!H18=\"\",\"\",様式３!H18)","v":"・"},{"$f":"IF(様式３!I18=\"\",\"\",様式３!I18)","v":""},{"$f":"IF(様式３!J18=\"\",\"\",様式３!J18)","v":0},{"$f":"IF(様式３!K18=\"\",\"\",様式３!K18)","v":0},{"$f":"IF(様式３!L18=\"\",\"\",様式３!L18)","v":0},{"$f":"IF(様式３!M18=\"\",\"\",様式３!M18)","v":0},{"$f":"IF(様式３!N18=\"\",\"\",様式３!N18)","v":0},{"$f":"IF(様式３!O18=\"\",\"\",様式３!O18)","v":""}]
[10,"",{"$f":"IF(様式３!B19=\"\",\"\",様式３!B19)","v":""},{"$f":"IF(様式３!C19=\"\",\"\",様式３!C19)","v":""},{"$f":"IF(様式３!D19=\"\",\"\",様式３!D19)","v":""},{"$f":"IF(様式３!E19=\"\",\"\",様式３!E19)","v":""},{"$f":"IF(様式３!F19=\"\",\"\",様式３!F19)","v":"・"},{"$f":"IF(様式３!G19=\"\",\"\",様式３!G19)","v":""},{"$f":"IF(様式３!H19=\"\",\"\",様式３!H19)","v":"・"},{"$f":"IF(様式３!I19=\"\",\"\",様式３!I19)","v":""},{"$f":"IF(様式３!J19=\"\",\"\",様式３!J19)","v":0},{"$f":"IF(様式３!K19=\"\",\"\",様式３!K19)","v":0},{"$f":"IF(様式３!L19=\"\",\"\",様式３!L19)","v":0},{"$f":"IF(様式３!M19=\"\",\"\",様式３!M19)","v":0},{"$f":"IF(様式３!N19=\"\",\"\",様式３!N19)","v":0},{"$f":"IF(様式３!O19=\"\",\"\",様式３!O19)","v":""}]
[11,"",{"$f":"IF(様式３!B20=\"\",\"\",様式３!B20)","v":""},{"$f":"IF(様式３!C20=\"\",\"\",様式３!C20)","v":""},{"$f":"IF(様式３!D20=\"\",\"\",様式３!D20)","v":""},{"$f":"IF(様式３!E20=\"\",\"\",様式３!E20)","v":""},{"$f":"IF(様式３!F20=\"\",\"\",様式３!F20)","v":"・"},{"$f":"IF(様式３!G20=\"\",\"\",様式３!G20)","v":""},{"$f":"IF(様式３!H20=\"\",\"\",様式３!H20)","v":"・"},{"$f":"IF(様式３!I20=\"\",\"\",様式３!I20)","v":""},{"$f":"IF(様式３!J20=\"\",\"\",様式３!J20)","v":0},{"$f":"IF(様式３!K20=\"\",\"\",様式３!K20)","v":0},{"$f":"IF(様式３!L20=\"\",\"\",様式３!L20)","v":0},{"$f":"IF(様式３!M20=\"\",\"\",様式３!M20)","v":0},{"$f":"IF(様式３!N20=\"\",\"\",様式３!N20)","v":0},{"$f":"IF(様式３!O20=\"\",\"\",様式３!O20)","v":""}]
[12,"",{"$f":"IF(様式３!B21=\"\",\"\",様式３!B21)","v":""},{"$f":"IF(様式３!C21=\"\",\"\",様式３!C21)","v":""},{"$f":"IF(様式３!D21=\"\",\"\",様式３!D21)","v":""},{"$f":"IF(様式３!E21=\"\",\"\",様式３!E21)","v":""},{"$f":"IF(様式３!F21=\"\",\"\",様式３!F21)","v":"・"},{"$f":"IF(様式３!G21=\"\",\"\",様式３!G21)","v":""},{"$f":"IF(様式３!H21=\"\",\"\",様式３!H21)","v":"・"},{"$f":"IF(様式３!I21=\"\",\"\",様式３!I21)","v":""},{"$f":"IF(様式３!J21=\"\",\"\",様式３!J21)","v":0},{"$f":"IF(様式３!K21=\"\",\"\",様式３!K21)","v":0},{"$f":"IF(様式３!L21=\"\",\"\",様式３!L21)","v":0},{"$f":"IF(様式３!M21=\"\",\"\",様式３!M21)","v":0},{"$f":"IF(様式３!N21=\"\",\"\",様式３!N21)","v":0},{"$f":"IF(様式３!O21=\"\",\"\",様式３!O21)","v":""}]
[13,"",{"$f":"IF(様式３!B22=\"\",\"\",様式３!B22)","v":""},{"$f":"IF(様式３!C22=\"\",\"\",様式３!C22)","v":""},{"$f":"IF(様式３!D22=\"\",\"\",様式３!D22)","v":""},{"$f":"IF(様式３!E22=\"\",\"\",様式３!E22)","v":""},{"$f":"IF(様式３!F22=\"\",\"\",様式３!F22)","v":"・"},{"$f":"IF(様式３!G22=\"\",\"\",様式３!G22)","v":""},{"$f":"IF(様式３!H22=\"\",\"\",様式３!H22)","v":"・"},{"$f":"IF(様式３!I22=\"\",\"\",様式３!I22)","v":""},{"$f":"IF(様式３!J22=\"\",\"\",様式３!J22)","v":0},{"$f":"IF(様式３!K22=\"\",\"\",様式３!K22)","v":0},{"$f":"IF(様式３!L22=\"\",\"\",様式３!L22)","v":0},{"$f":"IF(様式３!M22=\"\",\"\",様式３!M22)","v":0},{"$f":"IF(様式３!N22=\"\",\"\",様式３!N22)","v":0},{"$f":"IF(様式３!O22=\"\",\"\",様式３!O22)","v":""}]
[14,"",{"$f":"IF(様式３!B23=\"\",\"\",様式３!B23)","v":""},{"$f":"IF(様式３!C23=\"\",\"\",様式３!C23)","v":""},{"$f":"IF(様式３!D23=\"\",\"\",様式３!D23)","v":""},{"$f":"IF(様式３!E23=\"\",\"\",様式３!E23)","v":""},{"$f":"IF(様式３!F23=\"\",\"\",様式３!F23)","v":"・"},{"$f":"IF(様式３!G23=\"\",\"\",様式３!G23)","v":""},{"$f":"IF(様式３!H23=\"\",\"\",様式３!H23)","v":"・"},{"$f":"IF(様式３!I23=\"\",\"\",様式３!I23)","v":""},{"$f":"IF(様式３!J23=\"\",\"\",様式３!J23)","v":0},{"$f":"IF(様式３!K23=\"\",\"\",様式３!K23)","v":0},{"$f":"IF(様式３!L23=\"\",\"\",様式３!L23)","v":0},{"$f":"IF(様式３!M23=\"\",\"\",様式３!M23)","v":0},{"$f":"IF(様式３!N23=\"\",\"\",様式３!N23)","v":0},{"$f":"IF(様式３!O23=\"\",\"\",様式３!O23)","v":""}]
[15,"",{"$f":"IF(様式３!B24=\"\",\"\",様式３!B24)","v":""},{"$f":"IF(様式３!C24=\"\",\"\",様式３!C24)","v":""},{"$f":"IF(様式３!D24=\"\",\"\",様式３!D24)","v":""},{"$f":"IF(様式３!E24=\"\",\"\",様式３!E24)","v":""},{"$f":"IF(様式３!F24=\"\",\"\",様式３!F24)","v":"・"},{"$f":"IF(様式３!G24=\"\",\"\",様式３!G24)","v":""},{"$f":"IF(様式３!H24=\"\",\"\",様式３!H24)","v":"・"},{"$f":"IF(様式３!I24=\"\",\"\",様式３!I24)","v":""},{"$f":"IF(様式３!J24=\"\",\"\",様式３!J24)","v":0},{"$f":"IF(様式３!K24=\"\",\"\",様式３!K24)","v":0},{"$f":"IF(様式３!L24=\"\",\"\",様式３!L24)","v":0},{"$f":"IF(様式３!M24=\"\",\"\",様式３!M24)","v":0},{"$f":"IF(様式３!N24=\"\",\"\",様式３!N24)","v":0},{"$f":"IF(様式３!O24=\"\",\"\",様式３!O24)","v":""}]
[null,"※１　学科の欄には、大学科名を記入する。"]
[null,"※２　資格・試験等ランクの欄には、取得個数を記入する。"]
[null,"※３　得点合計欄には、得点の合計を記入する。"]
[]
[null,"（様式６）",null,null,null,null,null,"（令和",null,{"$f":"+J1","v":0},"年度",null,{"$f":"+M1","v":0},"枚中",{"$f":"+O1+1","v":2},"枚目）"]
[]
[null,"埼玉県高校生専門資格等取得表彰証書発行台帳"]
[null,null,null,null,null,"学 校 名　　　　　　　　　　　",null,null,{"$f":"+I4","v":0},null,null,null,null,null,"学校"]
[null,null,null,null,null,"発行年月日 令和　　",null,null,null,null,{"$f":"+K5","v":0},"年",{"$f":"+M5","v":0},"月",{"$f":"+O5","v":0},"日"]
[null,"発行番号","学年　　　　　　　　　　　　　　　　　　　","学科","整理番号","生  年  月  日",null,null,null,null,"資格・試験等ﾗﾝｸ",null,null,null,"得点\n合計","備考"]
[null,null,null,null,null,null,null,null,null,null,"A","B","C","D"]
[null,null,null,null,null,null,null,null,null,null,6,3,2,1]
[1,{"$f":"IF(E36=\"\",\"\",B23+1)","v":""},{"$f":"IF(様式３!B40=\"\",\"\",様式３!B40)","v":""},{"$f":"IF(様式３!C40=\"\",\"\",様式３!C40)","v":""},{"$f":"IF(様式３!D40=\"\",\"\",様式３!D40)","v":""},{"$f":"IF(様式３!E40=\"\",\"\",様式３!E40)","v":""},{"$f":"IF(様式３!F40=\"\",\"\",様式３!F40)","v":"・"},{"$f":"IF(様式３!G40=\"\",\"\",様式３!G40)","v":""},{"$f":"IF(様式３!H40=\"\",\"\",様式３!H40)","v":"・"},{"$f":"IF(様式３!I40=\"\",\"\",様式３!I40)","v":""},{"$f":"IF(様式３!J40=\"\",\"\",様式３!J40)","v":0},{"$f":"IF(様式３!K40=\"\",\"\",様式３!K40)","v":0},{"$f":"IF(様式３!L40=\"\",\"\",様式３!L40)","v":0},{"$f":"IF(様式３!M40=\"\",\"\",様式３!M40)","v":0},{"$f":"IF(様式３!N40=\"\",\"\",様式３!N40)","v":0},{"$f":"IF(様式３!O40=\"\",\"\",様式３!O40)","v":""}]
[2,{"$f":"IF(E37=\"\",\"\",B36+1)","v":""},{"$f":"IF(様式３!B41=\"\",\"\",様式３!B41)","v":""},{"$f":"IF(様式３!C41=\"\",\"\",様式３!C41)","v":""},{"$f":"IF(様式３!D41=\"\",\"\",様式３!D41)","v":""},{"$f":"IF(様式３!E41=\"\",\"\",様式３!E41)","v":""},{"$f":"IF(様式３!F41=\"\",\"\",様式３!F41)","v":"・"},{"$f":"IF(様式３!G41=\"\",\"\",様式３!G41)","v":""},{"$f":"IF(様式３!H41=\"\",\"\",様式３!H41)","v":"・"},{"$f":"IF(様式３!I41=\"\",\"\",様式３!I41)","v":""},{"$f":"IF(様式３!J41=\"\",\"\",様式３!J41)","v":0},{"$f":"IF(様式３!K41=\"\",\"\",様式３!K41)","v":0},{"$f":"IF(様式３!L41=\"\",\"\",様式３!L41)","v":0},{"$f":"IF(様式３!M41=\"\",\"\",様式３!M41)","v":0},{"$f":"IF(様式３!N41=\"\",\"\",様式３!N41)","v":0},{"$f":"IF(様式３!O41=\"\",\"\",様式３!O41)","v":""}]
[3,"",{"$f":"IF(様式３!B42=\"\",\"\",様式３!B42)","v":""},{"$f":"IF(様式３!C42=\"\",\"\",様式３!C42)","v":""},{"$f":"IF(様式３!D42=\"\",\"\",様式３!D42)","v":""},{"$f":"IF(様式３!E42=\"\",\"\",様式３!E42)","v":""},{"$f":"IF(様式３!F42=\"\",\"\",様式３!F42)","v":"・"},{"$f":"IF(様式３!G42=\"\",\"\",様式３!G42)","v":""},{"$f":"IF(様式３!H42=\"\",\"\",様式３!H42)","v":"・"},{"$f":"IF(様式３!I42=\"\",\"\",様式３!I42)","v":""},{"$f":"IF(様式３!J42=\"\",\"\",様式３!J42)","v":0},{"$f":"IF(様式３!K42=\"\",\"\",様式３!K42)","v":0},{"$f":"IF(様式３!L42=\"\",\"\",様式３!L42)","v":0},{"$f":"IF(様式３!M42=\"\",\"\",様式３!M42)","v":0},{"$f":"IF(様式３!N42=\"\",\"\",様式３!N42)","v":0},{"$f":"IF(様式３!O42=\"\",\"\",様式３!O42)","v":""}]
[4,"",{"$f":"IF(様式３!B43=\"\",\"\",様式３!B43)","v":""},{"$f":"IF(様式３!C43=\"\",\"\",様式３!C43)","v":""},{"$f":"IF(様式３!D43=\"\",\"\",様式３!D43)","v":""},{"$f":"IF(様式３!E43=\"\",\"\",様式３!E43)","v":""},{"$f":"IF(様式３!F43=\"\",\"\",様式３!F43)","v":"・"},{"$f":"IF(様式３!G43=\"\",\"\",様式３!G43)","v":""},{"$f":"IF(様式３!H43=\"\",\"\",様式３!H43)","v":"・"},{"$f":"IF(様式３!I43=\"\",\"\",様式３!I43)","v":""},{"$f":"IF(様式３!J43=\"\",\"\",様式３!J43)","v":0},{"$f":"IF(様式３!K43=\"\",\"\",様式３!K43)","v":0},{"$f":"IF(様式３!L43=\"\",\"\",様式３!L43)","v":0},{"$f":"IF(様式３!M43=\"\",\"\",様式３!M43)","v":0},{"$f":"IF(様式３!N43=\"\",\"\",様式３!N43)","v":0},{"$f":"IF(様式３!O43=\"\",\"\",様式３!O43)","v":""}]
[5,"",{"$f":"IF(様式３!B44=\"\",\"\",様式３!B44)","v":""},{"$f":"IF(様式３!C44=\"\",\"\",様式３!C44)","v":""},{"$f":"IF(様式３!D44=\"\",\"\",様式３!D44)","v":""},{"$f":"IF(様式３!E44=\"\",\"\",様式３!E44)","v":""},{"$f":"IF(様式３!F44=\"\",\"\",様式３!F44)","v":"・"},{"$f":"IF(様式３!G44=\"\",\"\",様式３!G44)","v":""},{"$f":"IF(様式３!H44=\"\",\"\",様式３!H44)","v":"・"},{"$f":"IF(様式３!I44=\"\",\"\",様式３!I44)","v":""},{"$f":"IF(様式３!J44=\"\",\"\",様式３!J44)","v":0},{"$f":"IF(様式３!K44=\"\",\"\",様式３!K44)","v":0},{"$f":"IF(様式３!L44=\"\",\"\",様式３!L44)","v":0},{"$f":"IF(様式３!M44=\"\",\"\",様式３!M44)","v":0},{"$f":"IF(様式３!N44=\"\",\"\",様式３!N44)","v":0},{"$f":"IF(様式３!O44=\"\",\"\",様式３!O44)","v":""}]
[6,"",{"$f":"IF(様式３!B45=\"\",\"\",様式３!B45)","v":""},{"$f":"IF(様式３!C45=\"\",\"\",様式３!C45)","v":""},{"$f":"IF(様式３!D45=\"\",\"\",様式３!D45)","v":""},{"$f":"IF(様式３!E45=\"\",\"\",様式３!E45)","v":""},{"$f":"IF(様式３!F45=\"\",\"\",様式３!F45)","v":"・"},{"$f":"IF(様式３!G45=\"\",\"\",様式３!G45)","v":""},{"$f":"IF(様式３!H45=\"\",\"\",様式３!H45)","v":"・"},{"$f":"IF(様式３!I45=\"\",\"\",様式３!I45)","v":""},{"$f":"IF(様式３!J45=\"\",\"\",様式３!J45)","v":0},{"$f":"IF(様式３!K45=\"\",\"\",様式３!K45)","v":0},{"$f":"IF(様式３!L45=\"\",\"\",様式３!L45)","v":0},{"$f":"IF(様式３!M45=\"\",\"\",様式３!M45)","v":0},{"$f":"IF(様式３!N45=\"\",\"\",様式３!N45)","v":0},{"$f":"IF(様式３!O45=\"\",\"\",様式３!O45)","v":""}]
[7,"",{"$f":"IF(様式３!B46=\"\",\"\",様式３!B46)","v":""},{"$f":"IF(様式３!C46=\"\",\"\",様式３!C46)","v":""},{"$f":"IF(様式３!D46=\"\",\"\",様式３!D46)","v":""},{"$f":"IF(様式３!E46=\"\",\"\",様式３!E46)","v":""},{"$f":"IF(様式３!F46=\"\",\"\",様式３!F46)","v":"・"},{"$f":"IF(様式３!G46=\"\",\"\",様式３!G46)","v":""},{"$f":"IF(様式３!H46=\"\",\"\",様式３!H46)","v":"・"},{"$f":"IF(様式３!I46=\"\",\"\",様式３!I46)","v":""},{"$f":"IF(様式３!J46=\"\",\"\",様式３!J46)","v":0},{"$f":"IF(様式３!K46=\"\",\"\",様式３!K46)","v":0},{"$f":"IF(様式３!L46=\"\",\"\",様式３!L46)","v":0},{"$f":"IF(様式３!M46=\"\",\"\",様式３!M46)","v":0},{"$f":"IF(様式３!N46=\"\",\"\",様式３!N46)","v":0},{"$f":"IF(様式３!O46=\"\",\"\",様式３!O46)","v":""}]
[8,"",{"$f":"IF(様式３!B47=\"\",\"\",様式３!B47)","v":""},{"$f":"IF(様式３!C47=\"\",\"\",様式３!C47)","v":""},{"$f":"IF(様式３!D47=\"\",\"\",様式３!D47)","v":""},{"$f":"IF(様式３!E47=\"\",\"\",様式３!E47)","v":""},{"$f":"IF(様式３!F47=\"\",\"\",様式３!F47)","v":"・"},{"$f":"IF(様式３!G47=\"\",\"\",様式３!G47)","v":""},{"$f":"IF(様式３!H47=\"\",\"\",様式３!H47)","v":"・"},{"$f":"IF(様式３!I47=\"\",\"\",様式３!I47)","v":""},{"$f":"IF(様式３!J47=\"\",\"\",様式３!J47)","v":0},{"$f":"IF(様式３!K47=\"\",\"\",様式３!K47)","v":0},{"$f":"IF(様式３!L47=\"\",\"\",様式３!L47)","v":0},{"$f":"IF(様式３!M47=\"\",\"\",様式３!M47)","v":0},{"$f":"IF(様式３!N47=\"\",\"\",様式３!N47)","v":0},{"$f":"IF(様式３!O47=\"\",\"\",様式３!O47)","v":""}]
[9,"",{"$f":"IF(様式３!B48=\"\",\"\",様式３!B48)","v":""},{"$f":"IF(様式３!C48=\"\",\"\",様式３!C48)","v":""},{"$f":"IF(様式３!D48=\"\",\"\",様式３!D48)","v":""},{"$f":"IF(様式３!E48=\"\",\"\",様式３!E48)","v":""},{"$f":"IF(様式３!F48=\"\",\"\",様式３!F48)","v":"・"},{"$f":"IF(様式３!G48=\"\",\"\",様式３!G48)","v":""},{"$f":"IF(様式３!H48=\"\",\"\",様式３!H48)","v":"・"},{"$f":"IF(様式３!I48=\"\",\"\",様式３!I48)","v":""},{"$f":"IF(様式３!J48=\"\",\"\",様式３!J48)","v":0},{"$f":"IF(様式３!K48=\"\",\"\",様式３!K48)","v":0},{"$f":"IF(様式３!L48=\"\",\"\",様式３!L48)","v":0},{"$f":"IF(様式３!M48=\"\",\"\",様式３!M48)","v":0},{"$f":"IF(様式３!N48=\"\",\"\",様式３!N48)","v":0},{"$f":"IF(様式３!O48=\"\",\"\",様式３!O48)","v":""}]
[10,"",{"$f":"IF(様式３!B49=\"\",\"\",様式３!B49)","v":""},{"$f":"IF(様式３!C49=\"\",\"\",様式３!C49)","v":""},{"$f":"IF(様式３!D49=\"\",\"\",様式３!D49)","v":""},{"$f":"IF(様式３!E49=\"\",\"\",様式３!E49)","v":""},{"$f":"IF(様式３!F49=\"\",\"\",様式３!F49)","v":"・"},{"$f":"IF(様式３!G49=\"\",\"\",様式３!G49)","v":""},{"$f":"IF(様式３!H49=\"\",\"\",様式３!H49)","v":"・"},{"$f":"IF(様式３!I49=\"\",\"\",様式３!I49)","v":""},{"$f":"IF(様式３!J49=\"\",\"\",様式３!J49)","v":0},{"$f":"IF(様式３!K49=\"\",\"\",様式３!K49)","v":0},{"$f":"IF(様式３!L49=\"\",\"\",様式３!L49)","v":0},{"$f":"IF(様式３!M49=\"\",\"\",様式３!M49)","v":0},{"$f":"IF(様式３!N49=\"\",\"\",様式３!N49)","v":0},{"$f":"IF(様式３!O49=\"\",\"\",様式３!O49)","v":""}]
[11,"",{"$f":"IF(様式３!B50=\"\",\"\",様式３!B50)","v":""},{"$f":"IF(様式３!C50=\"\",\"\",様式３!C50)","v":""},{"$f":"IF(様式３!D50=\"\",\"\",様式３!D50)","v":""},{"$f":"IF(様式３!E50=\"\",\"\",様式３!E50)","v":""},{"$f":"IF(様式３!F50=\"\",\"\",様式３!F50)","v":"・"},{"$f":"IF(様式３!G50=\"\",\"\",様式３!G50)","v":""},{"$f":"IF(様式３!H50=\"\",\"\",様式３!H50)","v":"・"},{"$f":"IF(様式３!I50=\"\",\"\",様式３!I50)","v":""},{"$f":"IF(様式３!J50=\"\",\"\",様式３!J50)","v":0},{"$f":"IF(様式３!K50=\"\",\"\",様式３!K50)","v":0},{"$f":"IF(様式３!L50=\"\",\"\",様式３!L50)","v":0},{"$f":"IF(様式３!M50=\"\",\"\",様式３!M50)","v":0},{"$f":"IF(様式３!N50=\"\",\"\",様式３!N50)","v":0},{"$f":"IF(様式３!O50=\"\",\"\",様式３!O50)","v":""}]
[12,"",{"$f":"IF(様式３!B51=\"\",\"\",様式３!B51)","v":""},{"$f":"IF(様式３!C51=\"\",\"\",様式３!C51)","v":""},{"$f":"IF(様式３!D51=\"\",\"\",様式３!D51)","v":""},{"$f":"IF(様式３!E51=\"\",\"\",様式３!E51)","v":""},{"$f":"IF(様式３!F51=\"\",\"\",様式３!F51)","v":"・"},{"$f":"IF(様式３!G51=\"\",\"\",様式３!G51)","v":""},{"$f":"IF(様式３!H51=\"\",\"\",様式３!H51)","v":"・"},{"$f":"IF(様式３!I51=\"\",\"\",様式３!I51)","v":""},{"$f":"IF(様式３!J51=\"\",\"\",様式３!J51)","v":0},{"$f":"IF(様式３!K51=\"\",\"\",様式３!K51)","v":0},{"$f":"IF(様式３!L51=\"\",\"\",様式３!L51)","v":0},{"$f":"IF(様式３!M51=\"\",\"\",様式３!M51)","v":0},{"$f":"IF(様式３!N51=\"\",\"\",様式３!N51)","v":0},{"$f":"IF(様式３!O51=\"\",\"\",様式３!O51)","v":""}]
[13,"",{"$f":"IF(様式３!B52=\"\",\"\",様式３!B52)","v":""},{"$f":"IF(様式３!C52=\"\",\"\",様式３!C52)","v":""},{"$f":"IF(様式３!D52=\"\",\"\",様式３!D52)","v":""},{"$f":"IF(様式３!E52=\"\",\"\",様式３!E52)","v":""},{"$f":"IF(様式３!F52=\"\",\"\",様式３!F52)","v":"・"},{"$f":"IF(様式３!G52=\"\",\"\",様式３!G52)","v":""},{"$f":"IF(様式３!H52=\"\",\"\",様式３!H52)","v":"・"},{"$f":"IF(様式３!I52=\"\",\"\",様式３!I52)","v":""},{"$f":"IF(様式３!J52=\"\",\"\",様式３!J52)","v":0},{"$f":"IF(様式３!K52=\"\",\"\",様式３!K52)","v":0},{"$f":"IF(様式３!L52=\"\",\"\",様式３!L52)","v":0},{"$f":"IF(様式３!M52=\"\",\"\",様式３!M52)","v":0},{"$f":"IF(様式３!N52=\"\",\"\",様式３!N52)","v":0},{"$f":"IF(様式３!O52=\"\",\"\",様式３!O52)","v":""}]
[14,"",{"$f":"IF(様式３!B53=\"\",\"\",様式３!B53)","v":""},{"$f":"IF(様式３!C53=\"\",\"\",様式３!C53)","v":""},{"$f":"IF(様式３!D53=\"\",\"\",様式３!D53)","v":""},{"$f":"IF(様式３!E53=\"\",\"\",様式３!E53)","v":""},{"$f":"IF(様式３!F53=\"\",\"\",様式３!F53)","v":"・"},{"$f":"IF(様式３!G53=\"\",\"\",様式３!G53)","v":""},{"$f":"IF(様式３!H53=\"\",\"\",様式３!H53)","v":"・"},{"$f":"IF(様式３!I53=\"\",\"\",様式３!I53)","v":""},{"$f":"IF(様式３!J53=\"\",\"\",様式３!J53)","v":0},{"$f":"IF(様式３!K53=\"\",\"\",様式３!K53)","v":0},{"$f":"IF(様式３!L53=\"\",\"\",様式３!L53)","v":0},{"$f":"IF(様式３!M53=\"\",\"\",様式３!M53)","v":0},{"$f":"IF(様式３!N53=\"\",\"\",様式３!N53)","v":0},{"$f":"IF(様式３!O53=\"\",\"\",様式３!O53)","v":""}]
[15,"",{"$f":"IF(様式３!B54=\"\",\"\",様式３!B54)","v":""},{"$f":"IF(様式３!C54=\"\",\"\",様式３!C54)","v":""},{"$f":"IF(様式３!D54=\"\",\"\",様式３!D54)","v":""},{"$f":"IF(様式３!E54=\"\",\"\",様式３!E54)","v":""},{"$f":"IF(様式３!F54=\"\",\"\",様式３!F54)","v":"・"},{"$f":"IF(様式３!G54=\"\",\"\",様式３!G54)","v":""},{"$f":"IF(様式３!H54=\"\",\"\",様式３!H54)","v":"・"},{"$f":"IF(様式３!I54=\"\",\"\",様式３!I54)","v":""},{"$f":"IF(様式３!J54=\"\",\"\",様式３!J54)","v":0},{"$f":"IF(様式３!K54=\"\",\"\",様式３!K54)","v":0},{"$f":"IF(様式３!L54=\"\",\"\",様式３!L54)","v":0},{"$f":"IF(様式３!M54=\"\",\"\",様式３!M54)","v":0},{"$f":"IF(様式３!N54=\"\",\"\",様式３!N54)","v":0},{"$f":"IF(様式３!O54=\"\",\"\",様式３!O54)","v":""}]
[null,{"$f":"B24","v":"※１　学科の欄には、大学科名を記入する。"}]
[null,{"$f":"B25","v":"※２　資格・試験等ランクの欄には、取得個数を記入する。"}]
[null,{"$f":"B26","v":"※３　得点合計欄には、得点の合計を記入する。"}]
[]
[null,"（様式６）",null,null,null,null,null,"（令和",null,{"$f":"+J28","v":0},"年度",null,{"$f":"+M28","v":0},"枚中",{"$f":"+O28+1","v":3},"枚目）"]
[]
[null,"埼玉県高校生専門資格等取得表彰証書発行台帳"]
[null,null,null,null,null,"学 校 名　　　　　　　　　　　",null,null,{"$f":"+I31","v":0},null,null,null,null,null,"学校"]
[null,null,null,null,null,"発行年月日 令和　　",null,null,null,null,{"$f":"+K32","v":0},"年",{"$f":"+M32","v":0},"月",{"$f":"+O32","v":0},"日"]
[null,"発行番号","学年　　　　　　　　　　　　　　　　　　　","学科","整理番号","生  年  月  日",null,null,null,null,"資格・試験等ﾗﾝｸ",null,null,null,"得点\n合計","備考"]
[null,null,null,null,null,null,null,null,null,null,"A","B","C","D"]
[null,null,null,null,null,null,null,null,null,null,6,3,2,1]
[1,{"$f":"IF(E63=\"\",\"\",B50+1)","v":""},{"$f":"IF(様式３!B70=\"\",\"\",様式３!B70)","v":""},{"$f":"IF(様式３!C70=\"\",\"\",様式３!C70)","v":""},{"$f":"IF(様式３!D70=\"\",\"\",様式３!D70)","v":""},{"$f":"IF(様式３!E70=\"\",\"\",様式３!E70)","v":""},{"$f":"IF(様式３!F70=\"\",\"\",様式３!F70)","v":"・"},{"$f":"IF(様式３!G70=\"\",\"\",様式３!G70)","v":""},{"$f":"IF(様式３!H70=\"\",\"\",様式３!H70)","v":"・"},{"$f":"IF(様式３!I70=\"\",\"\",様式３!I70)","v":""},{"$f":"IF(様式３!J70=\"\",\"\",様式３!J70)","v":0},{"$f":"IF(様式３!K70=\"\",\"\",様式３!K70)","v":0},{"$f":"IF(様式３!L70=\"\",\"\",様式３!L70)","v":0},{"$f":"IF(様式３!M70=\"\",\"\",様式３!M70)","v":0},{"$f":"IF(様式３!N70=\"\",\"\",様式３!N70)","v":0},{"$f":"IF(様式３!O70=\"\",\"\",様式３!O70)","v":""}]
[2,{"$f":"IF(E64=\"\",\"\",B63+1)","v":""},{"$f":"IF(様式３!B71=\"\",\"\",様式３!B71)","v":""},{"$f":"IF(様式３!C71=\"\",\"\",様式３!C71)","v":""},{"$f":"IF(様式３!D71=\"\",\"\",様式３!D71)","v":""},{"$f":"IF(様式３!E71=\"\",\"\",様式３!E71)","v":""},{"$f":"IF(様式３!F71=\"\",\"\",様式３!F71)","v":"・"},{"$f":"IF(様式３!G71=\"\",\"\",様式３!G71)","v":""},{"$f":"IF(様式３!H71=\"\",\"\",様式３!H71)","v":"・"},{"$f":"IF(様式３!I71=\"\",\"\",様式３!I71)","v":""},{"$f":"IF(様式３!J71=\"\",\"\",様式３!J71)","v":0},{"$f":"IF(様式３!K71=\"\",\"\",様式３!K71)","v":0},{"$f":"IF(様式３!L71=\"\",\"\",様式３!L71)","v":0},{"$f":"IF(様式３!M71=\"\",\"\",様式３!M71)","v":0},{"$f":"IF(様式３!N71=\"\",\"\",様式３!N71)","v":0},{"$f":"IF(様式３!O71=\"\",\"\",様式３!O71)","v":""}]
[3,"",{"$f":"IF(様式３!B72=\"\",\"\",様式３!B72)","v":""},{"$f":"IF(様式３!C72=\"\",\"\",様式３!C72)","v":""},{"$f":"IF(様式３!D72=\"\",\"\",様式３!D72)","v":""},{"$f":"IF(様式３!E72=\"\",\"\",様式３!E72)","v":""},{"$f":"IF(様式３!F72=\"\",\"\",様式３!F72)","v":"・"},{"$f":"IF(様式３!G72=\"\",\"\",様式３!G72)","v":""},{"$f":"IF(様式３!H72=\"\",\"\",様式３!H72)","v":"・"},{"$f":"IF(様式３!I72=\"\",\"\",様式３!I72)","v":""},{"$f":"IF(様式３!J72=\"\",\"\",様式３!J72)","v":0},{"$f":"IF(様式３!K72=\"\",\"\",様式３!K72)","v":0},{"$f":"IF(様式３!L72=\"\",\"\",様式３!L72)","v":0},{"$f":"IF(様式３!M72=\"\",\"\",様式３!M72)","v":0},{"$f":"IF(様式３!N72=\"\",\"\",様式３!N72)","v":0},{"$f":"IF(様式３!O72=\"\",\"\",様式３!O72)","v":""}]
[4,"",{"$f":"IF(様式３!B73=\"\",\"\",様式３!B73)","v":""},{"$f":"IF(様式３!C73=\"\",\"\",様式３!C73)","v":""},{"$f":"IF(様式３!D73=\"\",\"\",様式３!D73)","v":""},{"$f":"IF(様式３!E73=\"\",\"\",様式３!E73)","v":""},{"$f":"IF(様式３!F73=\"\",\"\",様式３!F73)","v":"・"},{"$f":"IF(様式３!G73=\"\",\"\",様式３!G73)","v":""},{"$f":"IF(様式３!H73=\"\",\"\",様式３!H73)","v":"・"},{"$f":"IF(様式３!I73=\"\",\"\",様式３!I73)","v":""},{"$f":"IF(様式３!J73=\"\",\"\",様式３!J73)","v":0},{"$f":"IF(様式３!K73=\"\",\"\",様式３!K73)","v":0},{"$f":"IF(様式３!L73=\"\",\"\",様式３!L73)","v":0},{"$f":"IF(様式３!M73=\"\",\"\",様式３!M73)","v":0},{"$f":"IF(様式３!N73=\"\",\"\",様式３!N73)","v":0},{"$f":"IF(様式３!O73=\"\",\"\",様式３!O73)","v":""}]
[5,"",{"$f":"IF(様式３!B74=\"\",\"\",様式３!B74)","v":""},{"$f":"IF(様式３!C74=\"\",\"\",様式３!C74)","v":""},{"$f":"IF(様式３!D74=\"\",\"\",様式３!D74)","v":""},{"$f":"IF(様式３!E74=\"\",\"\",様式３!E74)","v":""},{"$f":"IF(様式３!F74=\"\",\"\",様式３!F74)","v":"・"},{"$f":"IF(様式３!G74=\"\",\"\",様式３!G74)","v":""},{"$f":"IF(様式３!H74=\"\",\"\",様式３!H74)","v":"・"},{"$f":"IF(様式３!I74=\"\",\"\",様式３!I74)","v":""},{"$f":"IF(様式３!J74=\"\",\"\",様式３!J74)","v":0},{"$f":"IF(様式３!K74=\"\",\"\",様式３!K74)","v":0},{"$f":"IF(様式３!L74=\"\",\"\",様式３!L74)","v":0},{"$f":"IF(様式３!M74=\"\",\"\",様式３!M74)","v":0},{"$f":"IF(様式３!N74=\"\",\"\",様式３!N74)","v":0},{"$f":"IF(様式３!O74=\"\",\"\",様式３!O74)","v":""}]
[6,"",{"$f":"IF(様式３!B75=\"\",\"\",様式３!B75)","v":""},{"$f":"IF(様式３!C75=\"\",\"\",様式３!C75)","v":""},{"$f":"IF(様式３!D75=\"\",\"\",様式３!D75)","v":""},{"$f":"IF(様式３!E75=\"\",\"\",様式３!E75)","v":""},{"$f":"IF(様式３!F75=\"\",\"\",様式３!F75)","v":"・"},{"$f":"IF(様式３!G75=\"\",\"\",様式３!G75)","v":""},{"$f":"IF(様式３!H75=\"\",\"\",様式３!H75)","v":"・"},{"$f":"IF(様式３!I75=\"\",\"\",様式３!I75)","v":""},{"$f":"IF(様式３!J75=\"\",\"\",様式３!J75)","v":0},{"$f":"IF(様式３!K75=\"\",\"\",様式３!K75)","v":0},{"$f":"IF(様式３!L75=\"\",\"\",様式３!L75)","v":0},{"$f":"IF(様式３!M75=\"\",\"\",様式３!M75)","v":0},{"$f":"IF(様式３!N75=\"\",\"\",様式３!N75)","v":0},{"$f":"IF(様式３!O75=\"\",\"\",様式３!O75)","v":""}]
[7,"",{"$f":"IF(様式３!B76=\"\",\"\",様式３!B76)","v":""},{"$f":"IF(様式３!C76=\"\",\"\",様式３!C76)","v":""},{"$f":"IF(様式３!D76=\"\",\"\",様式３!D76)","v":""},{"$f":"IF(様式３!E76=\"\",\"\",様式３!E76)","v":""},{"$f":"IF(様式３!F76=\"\",\"\",様式３!F76)","v":"・"},{"$f":"IF(様式３!G76=\"\",\"\",様式３!G76)","v":""},{"$f":"IF(様式３!H76=\"\",\"\",様式３!H76)","v":"・"},{"$f":"IF(様式３!I76=\"\",\"\",様式３!I76)","v":""},{"$f":"IF(様式３!J76=\"\",\"\",様式３!J76)","v":0},{"$f":"IF(様式３!K76=\"\",\"\",様式３!K76)","v":0},{"$f":"IF(様式３!L76=\"\",\"\",様式３!L76)","v":0},{"$f":"IF(様式３!M76=\"\",\"\",様式３!M76)","v":0},{"$f":"IF(様式３!N76=\"\",\"\",様式３!N76)","v":0},{"$f":"IF(様式３!O76=\"\",\"\",様式３!O76)","v":""}]
[8,"",{"$f":"IF(様式３!B77=\"\",\"\",様式３!B77)","v":""},{"$f":"IF(様式３!C77=\"\",\"\",様式３!C77)","v":""},{"$f":"IF(様式３!D77=\"\",\"\",様式３!D77)","v":""},{"$f":"IF(様式３!E77=\"\",\"\",様式３!E77)","v":""},{"$f":"IF(様式３!F77=\"\",\"\",様式３!F77)","v":"・"},{"$f":"IF(様式３!G77=\"\",\"\",様式３!G77)","v":""},{"$f":"IF(様式３!H77=\"\",\"\",様式３!H77)","v":"・"},{"$f":"IF(様式３!I77=\"\",\"\",様式３!I77)","v":""},{"$f":"IF(様式３!J77=\"\",\"\",様式３!J77)","v":0},{"$f":"IF(様式３!K77=\"\",\"\",様式３!K77)","v":0},{"$f":"IF(様式３!L77=\"\",\"\",様式３!L77)","v":0},{"$f":"IF(様式３!M77=\"\",\"\",様式３!M77)","v":0},{"$f":"IF(様式３!N77=\"\",\"\",様式３!N77)","v":0},{"$f":"IF(様式３!O77=\"\",\"\",様式３!O77)","v":""}]
[9,"",{"$f":"IF(様式３!B78=\"\",\"\",様式３!B78)","v":""},{"$f":"IF(様式３!C78=\"\",\"\",様式３!C78)","v":""},{"$f":"IF(様式３!D78=\"\",\"\",様式３!D78)","v":""},{"$f":"IF(様式３!E78=\"\",\"\",様式３!E78)","v":""},{"$f":"IF(様式３!F78=\"\",\"\",様式３!F78)","v":"・"},{"$f":"IF(様式３!G78=\"\",\"\",様式３!G78)","v":""},{"$f":"IF(様式３!H78=\"\",\"\",様式３!H78)","v":"・"},{"$f":"IF(様式３!I78=\"\",\"\",様式３!I78)","v":""},{"$f":"IF(様式３!J78=\"\",\"\",様式３!J78)","v":0},{"$f":"IF(様式３!K78=\"\",\"\",様式３!K78)","v":0},{"$f":"IF(様式３!L78=\"\",\"\",様式３!L78)","v":0},{"$f":"IF(様式３!M78=\"\",\"\",様式３!M78)","v":0},{"$f":"IF(様式３!N78=\"\",\"\",様式３!N78)","v":0},{"$f":"IF(様式３!O78=\"\",\"\",様式３!O78)","v":""}]
[10,"",{"$f":"IF(様式３!B79=\"\",\"\",様式３!B79)","v":""},{"$f":"IF(様式３!C79=\"\",\"\",様式３!C79)","v":""},{"$f":"IF(様式３!D79=\"\",\"\",様式３!D79)","v":""},{"$f":"IF(様式３!E79=\"\",\"\",様式３!E79)","v":""},{"$f":"IF(様式３!F79=\"\",\"\",様式３!F79)","v":"・"},{"$f":"IF(様式３!G79=\"\",\"\",様式３!G79)","v":""},{"$f":"IF(様式３!H79=\"\",\"\",様式３!H79)","v":"・"},{"$f":"IF(様式３!I79=\"\",\"\",様式３!I79)","v":""},{"$f":"IF(様式３!J79=\"\",\"\",様式３!J79)","v":0},{"$f":"IF(様式３!K79=\"\",\"\",様式３!K79)","v":0},{"$f":"IF(様式３!L79=\"\",\"\",様式３!L79)","v":0},{"$f":"IF(様式３!M79=\"\",\"\",様式３!M79)","v":0},{"$f":"IF(様式３!N79=\"\",\"\",様式３!N79)","v":0},{"$f":"IF(様式３!O79=\"\",\"\",様式３!O79)","v":""}]
[11,"",{"$f":"IF(様式３!B80=\"\",\"\",様式３!B80)","v":""},{"$f":"IF(様式３!C80=\"\",\"\",様式３!C80)","v":""},{"$f":"IF(様式３!D80=\"\",\"\",様式３!D80)","v":""},{"$f":"IF(様式３!E80=\"\",\"\",様式３!E80)","v":""},{"$f":"IF(様式３!F80=\"\",\"\",様式３!F80)","v":"・"},{"$f":"IF(様式３!G80=\"\",\"\",様式３!G80)","v":""},{"$f":"IF(様式３!H80=\"\",\"\",様式３!H80)","v":"・"},{"$f":"IF(様式３!I80=\"\",\"\",様式３!I80)","v":""},{"$f":"IF(様式３!J80=\"\",\"\",様式３!J80)","v":0},{"$f":"IF(様式３!K80=\"\",\"\",様式３!K80)","v":0},{"$f":"IF(様式３!L80=\"\",\"\",様式３!L80)","v":0},{"$f":"IF(様式３!M80=\"\",\"\",様式３!M80)","v":0},{"$f":"IF(様式３!N80=\"\",\"\",様式３!N80)","v":0},{"$f":"IF(様式３!O80=\"\",\"\",様式３!O80)","v":""}]
[12,"",{"$f":"IF(様式３!B81=\"\",\"\",様式３!B81)","v":""},{"$f":"IF(様式３!C81=\"\",\"\",様式３!C81)","v":""},{"$f":"IF(様式３!D81=\"\",\"\",様式３!D81)","v":""},{"$f":"IF(様式３!E81=\"\",\"\",様式３!E81)","v":""},{"$f":"IF(様式３!F81=\"\",\"\",様式３!F81)","v":"・"},{"$f":"IF(様式３!G81=\"\",\"\",様式３!G81)","v":""},{"$f":"IF(様式３!H81=\"\",\"\",様式３!H81)","v":"・"},{"$f":"IF(様式３!I81=\"\",\"\",様式３!I81)","v":""},{"$f":"IF(様式３!J81=\"\",\"\",様式３!J81)","v":0},{"$f":"IF(様式３!K81=\"\",\"\",様式３!K81)","v":0},{"$f":"IF(様式３!L81=\"\",\"\",様式３!L81)","v":0},{"$f":"IF(様式３!M81=\"\",\"\",様式３!M81)","v":0},{"$f":"IF(様式３!N81=\"\",\"\",様式３!N81)","v":0},{"$f":"IF(様式３!O81=\"\",\"\",様式３!O81)","v":""}]
[13,"",{"$f":"IF(様式３!B82=\"\",\"\",様式３!B82)","v":""},{"$f":"IF(様式３!C82=\"\",\"\",様式３!C82)","v":""},{"$f":"IF(様式３!D82=\"\",\"\",様式３!D82)","v":""},{"$f":"IF(様式３!E82=\"\",\"\",様式３!E82)","v":""},{"$f":"IF(様式３!F82=\"\",\"\",様式３!F82)","v":"・"},{"$f":"IF(様式３!G82=\"\",\"\",様式３!G82)","v":""},{"$f":"IF(様式３!H82=\"\",\"\",様式３!H82)","v":"・"},{"$f":"IF(様式３!I82=\"\",\"\",様式３!I82)","v":""},{"$f":"IF(様式３!J82=\"\",\"\",様式３!J82)","v":0},{"$f":"IF(様式３!K82=\"\",\"\",様式３!K82)","v":0},{"$f":"IF(様式３!L82=\"\",\"\",様式３!L82)","v":0},{"$f":"IF(様式３!M82=\"\",\"\",様式３!M82)","v":0},{"$f":"IF(様式３!N82=\"\",\"\",様式３!N82)","v":0},{"$f":"IF(様式３!O82=\"\",\"\",様式３!O82)","v":""}]
[14,"",{"$f":"IF(様式３!B83=\"\",\"\",様式３!B83)","v":""},{"$f":"IF(様式３!C83=\"\",\"\",様式３!C83)","v":""},{"$f":"IF(様式３!D83=\"\",\"\",様式３!D83)","v":""},{"$f":"IF(様式３!E83=\"\",\"\",様式３!E83)","v":""},{"$f":"IF(様式３!F83=\"\",\"\",様式３!F83)","v":"・"},{"$f":"IF(様式３!G83=\"\",\"\",様式３!G83)","v":""},{"$f":"IF(様式３!H83=\"\",\"\",様式３!H83)","v":"・"},{"$f":"IF(様式３!I83=\"\",\"\",様式３!I83)","v":""},{"$f":"IF(様式３!J83=\"\",\"\",様式３!J83)","v":0},{"$f":"IF(様式３!K83=\"\",\"\",様式３!K83)","v":0},{"$f":"IF(様式３!L83=\"\",\"\",様式３!L83)","v":0},{"$f":"IF(様式３!M83=\"\",\"\",様式３!M83)","v":0},{"$f":"IF(様式３!N83=\"\",\"\",様式３!N83)","v":0},{"$f":"IF(様式３!O83=\"\",\"\",様式３!O83)","v":""}]
[15,"",{"$f":"IF(様式３!B84=\"\",\"\",様式３!B84)","v":""},{"$f":"IF(様式３!C84=\"\",\"\",様式３!C84)","v":""},{"$f":"IF(様式３!D84=\"\",\"\",様式３!D84)","v":""},{"$f":"IF(様式３!E84=\"\",\"\",様式３!E84)","v":""},{"$f":"IF(様式３!F84=\"\",\"\",様式３!F84)","v":"・"},{"$f":"IF(様式３!G84=\"\",\"\",様式３!G84)","v":""},{"$f":"IF(様式３!H84=\"\",\"\",様式３!H84)","v":"・"},{"$f":"IF(様式３!I84=\"\",\"\",様式３!I84)","v":""},{"$f":"IF(様式３!J84=\"\",\"\",様式３!J84)","v":0},{"$f":"IF(様式３!K84=\"\",\"\",様式３!K84)","v":0},{"$f":"IF(様式３!L84=\"\",\"\",様式３!L84)","v":0},{"$f":"IF(様式３!M84=\"\",\"\",様式３!M84)","v":0},{"$f":"IF(様式３!N84=\"\",\"\",様式３!N84)","v":0},{"$f":"IF(様式３!O84=\"\",\"\",様式３!O84)","v":""}]
[null,{"$f":"B24","v":"※１　学科の欄には、大学科名を記入する。"}]
[null,{"$f":"B25","v":"※２　資格・試験等ランクの欄には、取得個数を記入する。"}]
[null,{"$f":"B26","v":"※３　得点合計欄には、得点の合計を記入する。"}]
[]
[null,"（様式６）",null,null,null,null,null,"（令和",null,{"$f":"+J55","v":0},"年度",null,{"$f":"+M55","v":0},"枚中",{"$f":"+O55+1","v":4},"枚目）"]
[]
[null,"埼玉県高校生専門資格等取得表彰証書発行台帳"]
[null,null,null,null,null,"学 校 名　　　　　　　　　　　",null,null,{"$f":"+I58","v":0},null,null,null,null,null,"学校"]
[null,null,null,null,null,"発行年月日 令和　　",null,null,null,null,{"$f":"+K59","v":0},"年",{"$f":"+M59","v":0},"月",{"$f":"+O59","v":0},"日"]
[null,"発行番号","学年　　　　　　　　　　　　　　　　　　　","学科","整理番号","生  年  月  日",null,null,null,null,"資格・試験等ﾗﾝｸ",null,null,null,"得点\n合計","備考"]
[null,null,null,null,null,null,null,null,null,null,"A","B","C","D"]
[null,null,null,null,null,null,null,null,null,null,6,3,2,1]
[1,{"$f":"IF(E90=\"\",\"\",B77+1)","v":""},{"$f":"IF(様式３!B100=\"\",\"\",様式３!B100)","v":""},{"$f":"IF(様式３!C100=\"\",\"\",様式３!C100)","v":""},{"$f":"IF(様式３!D100=\"\",\"\",様式３!D100)","v":""},{"$f":"IF(様式３!E100=\"\",\"\",様式３!E100)","v":""},{"$f":"IF(様式３!F100=\"\",\"\",様式３!F100)","v":"・"},{"$f":"IF(様式３!G100=\"\",\"\",様式３!G100)","v":""},{"$f":"IF(様式３!H100=\"\",\"\",様式３!H100)","v":"・"},{"$f":"IF(様式３!I100=\"\",\"\",様式３!I100)","v":""},{"$f":"IF(様式３!J100=\"\",\"\",様式３!J100)","v":0},{"$f":"IF(様式３!K100=\"\",\"\",様式３!K100)","v":0},{"$f":"IF(様式３!L100=\"\",\"\",様式３!L100)","v":0},{"$f":"IF(様式３!M100=\"\",\"\",様式３!M100)","v":0},{"$f":"IF(様式３!N100=\"\",\"\",様式３!N100)","v":0},{"$f":"IF(様式３!O100=\"\",\"\",様式３!O100)","v":""}]
[2,{"$f":"IF(E91=\"\",\"\",B90+1)","v":""},{"$f":"IF(様式３!B101=\"\",\"\",様式３!B101)","v":""},{"$f":"IF(様式３!C101=\"\",\"\",様式３!C101)","v":""},{"$f":"IF(様式３!D101=\"\",\"\",様式３!D101)","v":""},{"$f":"IF(様式３!E101=\"\",\"\",様式３!E101)","v":""},{"$f":"IF(様式３!F101=\"\",\"\",様式３!F101)","v":"・"},{"$f":"IF(様式３!G101=\"\",\"\",様式３!G101)","v":""},{"$f":"IF(様式３!H101=\"\",\"\",様式３!H101)","v":"・"},{"$f":"IF(様式３!I101=\"\",\"\",様式３!I101)","v":""},{"$f":"IF(様式３!J101=\"\",\"\",様式３!J101)","v":0},{"$f":"IF(様式３!K101=\"\",\"\",様式３!K101)","v":0},{"$f":"IF(様式３!L101=\"\",\"\",様式３!L101)","v":0},{"$f":"IF(様式３!M101=\"\",\"\",様式３!M101)","v":0},{"$f":"IF(様式３!N101=\"\",\"\",様式３!N101)","v":0},{"$f":"IF(様式３!O101=\"\",\"\",様式３!O101)","v":""}]
[3,"",{"$f":"IF(様式３!B102=\"\",\"\",様式３!B102)","v":""},{"$f":"IF(様式３!C102=\"\",\"\",様式３!C102)","v":""},{"$f":"IF(様式３!D102=\"\",\"\",様式３!D102)","v":""},{"$f":"IF(様式３!E102=\"\",\"\",様式３!E102)","v":""},{"$f":"IF(様式３!F102=\"\",\"\",様式３!F102)","v":"・"},{"$f":"IF(様式３!G102=\"\",\"\",様式３!G102)","v":""},{"$f":"IF(様式３!H102=\"\",\"\",様式３!H102)","v":"・"},{"$f":"IF(様式３!I102=\"\",\"\",様式３!I102)","v":""},{"$f":"IF(様式３!J102=\"\",\"\",様式３!J102)","v":0},{"$f":"IF(様式３!K102=\"\",\"\",様式３!K102)","v":0},{"$f":"IF(様式３!L102=\"\",\"\",様式３!L102)","v":0},{"$f":"IF(様式３!M102=\"\",\"\",様式３!M102)","v":0},{"$f":"IF(様式３!N102=\"\",\"\",様式３!N102)","v":0},{"$f":"IF(様式３!O102=\"\",\"\",様式３!O102)","v":""}]
[4,"",{"$f":"IF(様式３!B103=\"\",\"\",様式３!B103)","v":""},{"$f":"IF(様式３!C103=\"\",\"\",様式３!C103)","v":""},{"$f":"IF(様式３!D103=\"\",\"\",様式３!D103)","v":""},{"$f":"IF(様式３!E103=\"\",\"\",様式３!E103)","v":""},{"$f":"IF(様式３!F103=\"\",\"\",様式３!F103)","v":"・"},{"$f":"IF(様式３!G103=\"\",\"\",様式３!G103)","v":""},{"$f":"IF(様式３!H103=\"\",\"\",様式３!H103)","v":"・"},{"$f":"IF(様式３!I103=\"\",\"\",様式３!I103)","v":""},{"$f":"IF(様式３!J103=\"\",\"\",様式３!J103)","v":0},{"$f":"IF(様式３!K103=\"\",\"\",様式３!K103)","v":0},{"$f":"IF(様式３!L103=\"\",\"\",様式３!L103)","v":0},{"$f":"IF(様式３!M103=\"\",\"\",様式３!M103)","v":0},{"$f":"IF(様式３!N103=\"\",\"\",様式３!N103)","v":0},{"$f":"IF(様式３!O103=\"\",\"\",様式３!O103)","v":""}]
[5,"",{"$f":"IF(様式３!B104=\"\",\"\",様式３!B104)","v":""},{"$f":"IF(様式３!C104=\"\",\"\",様式３!C104)","v":""},{"$f":"IF(様式３!D104=\"\",\"\",様式３!D104)","v":""},{"$f":"IF(様式３!E104=\"\",\"\",様式３!E104)","v":""},{"$f":"IF(様式３!F104=\"\",\"\",様式３!F104)","v":"・"},{"$f":"IF(様式３!G104=\"\",\"\",様式３!G104)","v":""},{"$f":"IF(様式３!H104=\"\",\"\",様式３!H104)","v":"・"},{"$f":"IF(様式３!I104=\"\",\"\",様式３!I104)","v":""},{"$f":"IF(様式３!J104=\"\",\"\",様式３!J104)","v":0},{"$f":"IF(様式３!K104=\"\",\"\",様式３!K104)","v":0},{"$f":"IF(様式３!L104=\"\",\"\",様式３!L104)","v":0},{"$f":"IF(様式３!M104=\"\",\"\",様式３!M104)","v":0},{"$f":"IF(様式３!N104=\"\",\"\",様式３!N104)","v":0},{"$f":"IF(様式３!O104=\"\",\"\",様式３!O104)","v":""}]
[6,"",{"$f":"IF(様式３!B105=\"\",\"\",様式３!B105)","v":""},{"$f":"IF(様式３!C105=\"\",\"\",様式３!C105)","v":""},{"$f":"IF(様式３!D105=\"\",\"\",様式３!D105)","v":""},{"$f":"IF(様式３!E105=\"\",\"\",様式３!E105)","v":""},{"$f":"IF(様式３!F105=\"\",\"\",様式３!F105)","v":"・"},{"$f":"IF(様式３!G105=\"\",\"\",様式３!G105)","v":""},{"$f":"IF(様式３!H105=\"\",\"\",様式３!H105)","v":"・"},{"$f":"IF(様式３!I105=\"\",\"\",様式３!I105)","v":""},{"$f":"IF(様式３!J105=\"\",\"\",様式３!J105)","v":0},{"$f":"IF(様式３!K105=\"\",\"\",様式３!K105)","v":0},{"$f":"IF(様式３!L105=\"\",\"\",様式３!L105)","v":0},{"$f":"IF(様式３!M105=\"\",\"\",様式３!M105)","v":0},{"$f":"IF(様式３!N105=\"\",\"\",様式３!N105)","v":0},{"$f":"IF(様式３!O105=\"\",\"\",様式３!O105)","v":""}]
[7,"",{"$f":"IF(様式３!B106=\"\",\"\",様式３!B106)","v":""},{"$f":"IF(様式３!C106=\"\",\"\",様式３!C106)","v":""},{"$f":"IF(様式３!D106=\"\",\"\",様式３!D106)","v":""},{"$f":"IF(様式３!E106=\"\",\"\",様式３!E106)","v":""},{"$f":"IF(様式３!F106=\"\",\"\",様式３!F106)","v":"・"},{"$f":"IF(様式３!G106=\"\",\"\",様式３!G106)","v":""},{"$f":"IF(様式３!H106=\"\",\"\",様式３!H106)","v":"・"},{"$f":"IF(様式３!I106=\"\",\"\",様式３!I106)","v":""},{"$f":"IF(様式３!J106=\"\",\"\",様式３!J106)","v":0},{"$f":"IF(様式３!K106=\"\",\"\",様式３!K106)","v":0},{"$f":"IF(様式３!L106=\"\",\"\",様式３!L106)","v":0},{"$f":"IF(様式３!M106=\"\",\"\",様式３!M106)","v":0},{"$f":"IF(様式３!N106=\"\",\"\",様式３!N106)","v":0},{"$f":"IF(様式３!O106=\"\",\"\",様式３!O106)","v":""}]
[8,"",{"$f":"IF(様式３!B107=\"\",\"\",様式３!B107)","v":""},{"$f":"IF(様式３!C107=\"\",\"\",様式３!C107)","v":""},{"$f":"IF(様式３!D107=\"\",\"\",様式３!D107)","v":""},{"$f":"IF(様式３!E107=\"\",\"\",様式３!E107)","v":""},{"$f":"IF(様式３!F107=\"\",\"\",様式３!F107)","v":"・"},{"$f":"IF(様式３!G107=\"\",\"\",様式３!G107)","v":""},{"$f":"IF(様式３!H107=\"\",\"\",様式３!H107)","v":"・"},{"$f":"IF(様式３!I107=\"\",\"\",様式３!I107)","v":""},{"$f":"IF(様式３!J107=\"\",\"\",様式３!J107)","v":0},{"$f":"IF(様式３!K107=\"\",\"\",様式３!K107)","v":0},{"$f":"IF(様式３!L107=\"\",\"\",様式３!L107)","v":0},{"$f":"IF(様式３!M107=\"\",\"\",様式３!M107)","v":0},{"$f":"IF(様式３!N107=\"\",\"\",様式３!N107)","v":0},{"$f":"IF(様式３!O107=\"\",\"\",様式３!O107)","v":""}]
[9,"",{"$f":"IF(様式３!B108=\"\",\"\",様式３!B108)","v":""},{"$f":"IF(様式３!C108=\"\",\"\",様式３!C108)","v":""},{"$f":"IF(様式３!D108=\"\",\"\",様式３!D108)","v":""},{"$f":"IF(様式３!E108=\"\",\"\",様式３!E108)","v":""},{"$f":"IF(様式３!F108=\"\",\"\",様式３!F108)","v":"・"},{"$f":"IF(様式３!G108=\"\",\"\",様式３!G108)","v":""},{"$f":"IF(様式３!H108=\"\",\"\",様式３!H108)","v":"・"},{"$f":"IF(様式３!I108=\"\",\"\",様式３!I108)","v":""},{"$f":"IF(様式３!J108=\"\",\"\",様式３!J108)","v":0},{"$f":"IF(様式３!K108=\"\",\"\",様式３!K108)","v":0},{"$f":"IF(様式３!L108=\"\",\"\",様式３!L108)","v":0},{"$f":"IF(様式３!M108=\"\",\"\",様式３!M108)","v":0},{"$f":"IF(様式３!N108=\"\",\"\",様式３!N108)","v":0},{"$f":"IF(様式３!O108=\"\",\"\",様式３!O108)","v":""}]
[10,"",{"$f":"IF(様式３!B109=\"\",\"\",様式３!B109)","v":""},{"$f":"IF(様式３!C109=\"\",\"\",様式３!C109)","v":""},{"$f":"IF(様式３!D109=\"\",\"\",様式３!D109)","v":""},{"$f":"IF(様式３!E109=\"\",\"\",様式３!E109)","v":""},{"$f":"IF(様式３!F109=\"\",\"\",様式３!F109)","v":"・"},{"$f":"IF(様式３!G109=\"\",\"\",様式３!G109)","v":""},{"$f":"IF(様式３!H109=\"\",\"\",様式３!H109)","v":"・"},{"$f":"IF(様式３!I109=\"\",\"\",様式３!I109)","v":""},{"$f":"IF(様式３!J109=\"\",\"\",様式３!J109)","v":0},{"$f":"IF(様式３!K109=\"\",\"\",様式３!K109)","v":0},{"$f":"IF(様式３!L109=\"\",\"\",様式３!L109)","v":0},{"$f":"IF(様式３!M109=\"\",\"\",様式３!M109)","v":0},{"$f":"IF(様式３!N109=\"\",\"\",様式３!N109)","v":0},{"$f":"IF(様式３!O109=\"\",\"\",様式３!O109)","v":""}]
[11,"",{"$f":"IF(様式３!B110=\"\",\"\",様式３!B110)","v":""},{"$f":"IF(様式３!C110=\"\",\"\",様式３!C110)","v":""},{"$f":"IF(様式３!D110=\"\",\"\",様式３!D110)","v":""},{"$f":"IF(様式３!E110=\"\",\"\",様式３!E110)","v":""},{"$f":"IF(様式３!F110=\"\",\"\",様式３!F110)","v":"・"},{"$f":"IF(様式３!G110=\"\",\"\",様式３!G110)","v":""},{"$f":"IF(様式３!H110=\"\",\"\",様式３!H110)","v":"・"},{"$f":"IF(様式３!I110=\"\",\"\",様式３!I110)","v":""},{"$f":"IF(様式３!J110=\"\",\"\",様式３!J110)","v":0},{"$f":"IF(様式３!K110=\"\",\"\",様式３!K110)","v":0},{"$f":"IF(様式３!L110=\"\",\"\",様式３!L110)","v":0},{"$f":"IF(様式３!M110=\"\",\"\",様式３!M110)","v":0},{"$f":"IF(様式３!N110=\"\",\"\",様式３!N110)","v":0},{"$f":"IF(様式３!O110=\"\",\"\",様式３!O110)","v":""}]
[12,"",{"$f":"IF(様式３!B111=\"\",\"\",様式３!B111)","v":""},{"$f":"IF(様式３!C111=\"\",\"\",様式３!C111)","v":""},{"$f":"IF(様式３!D111=\"\",\"\",様式３!D111)","v":""},{"$f":"IF(様式３!E111=\"\",\"\",様式３!E111)","v":""},{"$f":"IF(様式３!F111=\"\",\"\",様式３!F111)","v":"・"},{"$f":"IF(様式３!G111=\"\",\"\",様式３!G111)","v":""},{"$f":"IF(様式３!H111=\"\",\"\",様式３!H111)","v":"・"},{"$f":"IF(様式３!I111=\"\",\"\",様式３!I111)","v":""},{"$f":"IF(様式３!J111=\"\",\"\",様式３!J111)","v":0},{"$f":"IF(様式３!K111=\"\",\"\",様式３!K111)","v":0},{"$f":"IF(様式３!L111=\"\",\"\",様式３!L111)","v":0},{"$f":"IF(様式３!M111=\"\",\"\",様式３!M111)","v":0},{"$f":"IF(様式３!N111=\"\",\"\",様式３!N111)","v":0},{"$f":"IF(様式３!O111=\"\",\"\",様式３!O111)","v":""}]
[13,"",{"$f":"IF(様式３!B112=\"\",\"\",様式３!B112)","v":""},{"$f":"IF(様式３!C112=\"\",\"\",様式３!C112)","v":""},{"$f":"IF(様式３!D112=\"\",\"\",様式３!D112)","v":""},{"$f":"IF(様式３!E112=\"\",\"\",様式３!E112)","v":""},{"$f":"IF(様式３!F112=\"\",\"\",様式３!F112)","v":"・"},{"$f":"IF(様式３!G112=\"\",\"\",様式３!G112)","v":""},{"$f":"IF(様式３!H112=\"\",\"\",様式３!H112)","v":"・"},{"$f":"IF(様式３!I112=\"\",\"\",様式３!I112)","v":""},{"$f":"IF(様式３!J112=\"\",\"\",様式３!J112)","v":0},{"$f":"IF(様式３!K112=\"\",\"\",様式３!K112)","v":0},{"$f":"IF(様式３!L112=\"\",\"\",様式３!L112)","v":0},{"$f":"IF(様式３!M112=\"\",\"\",様式３!M112)","v":0},{"$f":"IF(様式３!N112=\"\",\"\",様式３!N112)","v":0},{"$f":"IF(様式３!O112=\"\",\"\",様式３!O112)","v":""}]
[14,"",{"$f":"IF(様式３!B113=\"\",\"\",様式３!B113)","v":""},{"$f":"IF(様式３!C113=\"\",\"\",様式３!C113)","v":""},{"$f":"IF(様式３!D113=\"\",\"\",様式３!D113)","v":""},{"$f":"IF(様式３!E113=\"\",\"\",様式３!E113)","v":""},{"$f":"IF(様式３!F113=\"\",\"\",様式３!F113)","v":"・"},{"$f":"IF(様式３!G113=\"\",\"\",様式３!G113)","v":""},{"$f":"IF(様式３!H113=\"\",\"\",様式３!H113)","v":"・"},{"$f":"IF(様式３!I113=\"\",\"\",様式３!I113)","v":""},{"$f":"IF(様式３!J113=\"\",\"\",様式３!J113)","v":0},{"$f":"IF(様式３!K113=\"\",\"\",様式３!K113)","v":0},{"$f":"IF(様式３!L113=\"\",\"\",様式３!L113)","v":0},{"$f":"IF(様式３!M113=\"\",\"\",様式３!M113)","v":0},{"$f":"IF(様式３!N113=\"\",\"\",様式３!N113)","v":0},{"$f":"IF(様式３!O113=\"\",\"\",様式３!O113)","v":""}]
[15,"",{"$f":"IF(様式３!B114=\"\",\"\",様式３!B114)","v":""},{"$f":"IF(様式３!C114=\"\",\"\",様式３!C114)","v":""},{"$f":"IF(様式３!D114=\"\",\"\",様式３!D114)","v":""},{"$f":"IF(様式３!E114=\"\",\"\",様式３!E114)","v":""},{"$f":"IF(様式３!F114=\"\",\"\",様式３!F114)","v":"・"},{"$f":"IF(様式３!G114=\"\",\"\",様式３!G114)","v":""},{"$f":"IF(様式３!H114=\"\",\"\",様式３!H114)","v":"・"},{"$f":"IF(様式３!I114=\"\",\"\",様式３!I114)","v":""},{"$f":"IF(様式３!J114=\"\",\"\",様式３!J114)","v":0},{"$f":"IF(様式３!K114=\"\",\"\",様式３!K114)","v":0},{"$f":"IF(様式３!L114=\"\",\"\",様式３!L114)","v":0},{"$f":"IF(様式３!M114=\"\",\"\",様式３!M114)","v":0},{"$f":"IF(様式３!N114=\"\",\"\",様式３!N114)","v":0},{"$f":"IF(様式３!O114=\"\",\"\",様式３!O114)","v":""}]
[null,{"$f":"B24","v":"※１　学科の欄には、大学科名を記入する。"}]
[null,{"$f":"B25","v":"※２　資格・試験等ランクの欄には、取得個数を記入する。"}]
[null,{"$f":"B26","v":"※３　得点合計欄には、得点の合計を記入する。"}]
[]
[null,"（様式６）",null,null,null,null,null,"（令和",null,{"$f":"+J82","v":0},"年度",null,{"$f":"+M82","v":0},"枚中",{"$f":"+O82+1","v":5},"枚目）"]
[]
[null,"埼玉県高校生専門資格等取得表彰証書発行台帳"]
[null,null,null,null,null,"学 校 名　　　　　　　　　　　",null,null,{"$f":"+I85","v":0},null,null,null,null,null,"学校"]
[null,null,null,null,null,"発行年月日 令和　　",null,null,null,null,{"$f":"+K86","v":0},"年",{"$f":"+M86","v":0},"月",{"$f":"+O86","v":0},"日"]
[null,"発行番号","学年　　　　　　　　　　　　　　　　　　　","学科","整理番号","生  年  月  日",null,null,null,null,"資格・試験等ﾗﾝｸ",null,null,null,"得点\n合計","備考"]
[null,null,null,null,null,null,null,null,null,null,"A","B","C","D"]
[null,null,null,null,null,null,null,null,null,null,6,3,2,1]
[1,{"$f":"IF(E117=\"\",\"\",B104+1)","v":""},{"$f":"IF(様式３!B130=\"\",\"\",様式３!B130)","v":""},{"$f":"IF(様式３!C130=\"\",\"\",様式３!C130)","v":""},{"$f":"IF(様式３!D130=\"\",\"\",様式３!D130)","v":""},{"$f":"IF(様式３!E130=\"\",\"\",様式３!E130)","v":""},{"$f":"IF(様式３!F130=\"\",\"\",様式３!F130)","v":"・"},{"$f":"IF(様式３!G130=\"\",\"\",様式３!G130)","v":""},{"$f":"IF(様式３!H130=\"\",\"\",様式３!H130)","v":"・"},{"$f":"IF(様式３!I130=\"\",\"\",様式３!I130)","v":""},{"$f":"IF(様式３!J130=\"\",\"\",様式３!J130)","v":0},{"$f":"IF(様式３!K130=\"\",\"\",様式３!K130)","v":0},{"$f":"IF(様式３!L130=\"\",\"\",様式３!L130)","v":0},{"$f":"IF(様式３!M130=\"\",\"\",様式３!M130)","v":0},{"$f":"IF(様式３!N130=\"\",\"\",様式３!N130)","v":0},{"$f":"IF(様式３!O130=\"\",\"\",様式３!O130)","v":""}]
[2,{"$f":"IF(E118=\"\",\"\",B117+1)","v":""},{"$f":"IF(様式３!B131=\"\",\"\",様式３!B131)","v":""},{"$f":"IF(様式３!C131=\"\",\"\",様式３!C131)","v":""},{"$f":"IF(様式３!D131=\"\",\"\",様式３!D131)","v":""},{"$f":"IF(様式３!E131=\"\",\"\",様式３!E131)","v":""},{"$f":"IF(様式３!F131=\"\",\"\",様式３!F131)","v":"・"},{"$f":"IF(様式３!G131=\"\",\"\",様式３!G131)","v":""},{"$f":"IF(様式３!H131=\"\",\"\",様式３!H131)","v":"・"},{"$f":"IF(様式３!I131=\"\",\"\",様式３!I131)","v":""},{"$f":"IF(様式３!J131=\"\",\"\",様式３!J131)","v":0},{"$f":"IF(様式３!K131=\"\",\"\",様式３!K131)","v":0},{"$f":"IF(様式３!L131=\"\",\"\",様式３!L131)","v":0},{"$f":"IF(様式３!M131=\"\",\"\",様式３!M131)","v":0},{"$f":"IF(様式３!N131=\"\",\"\",様式３!N131)","v":0},{"$f":"IF(様式３!O131=\"\",\"\",様式３!O131)","v":""}]
[3,"",{"$f":"IF(様式３!B132=\"\",\"\",様式３!B132)","v":""},{"$f":"IF(様式３!C132=\"\",\"\",様式３!C132)","v":""},{"$f":"IF(様式３!D132=\"\",\"\",様式３!D132)","v":""},{"$f":"IF(様式３!E132=\"\",\"\",様式３!E132)","v":""},{"$f":"IF(様式３!F132=\"\",\"\",様式３!F132)","v":"・"},{"$f":"IF(様式３!G132=\"\",\"\",様式３!G132)","v":""},{"$f":"IF(様式３!H132=\"\",\"\",様式３!H132)","v":"・"},{"$f":"IF(様式３!I132=\"\",\"\",様式３!I132)","v":""},{"$f":"IF(様式３!J132=\"\",\"\",様式３!J132)","v":0},{"$f":"IF(様式３!K132=\"\",\"\",様式３!K132)","v":0},{"$f":"IF(様式３!L132=\"\",\"\",様式３!L132)","v":0},{"$f":"IF(様式３!M132=\"\",\"\",様式３!M132)","v":0},{"$f":"IF(様式３!N132=\"\",\"\",様式３!N132)","v":0},{"$f":"IF(様式３!O132=\"\",\"\",様式３!O132)","v":""}]
[4,"",{"$f":"IF(様式３!B133=\"\",\"\",様式３!B133)","v":""},{"$f":"IF(様式３!C133=\"\",\"\",様式３!C133)","v":""},{"$f":"IF(様式３!D133=\"\",\"\",様式３!D133)","v":""},{"$f":"IF(様式３!E133=\"\",\"\",様式３!E133)","v":""},{"$f":"IF(様式３!F133=\"\",\"\",様式３!F133)","v":"・"},{"$f":"IF(様式３!G133=\"\",\"\",様式３!G133)","v":""},{"$f":"IF(様式３!H133=\"\",\"\",様式３!H133)","v":"・"},{"$f":"IF(様式３!I133=\"\",\"\",様式３!I133)","v":""},{"$f":"IF(様式３!J133=\"\",\"\",様式３!J133)","v":0},{"$f":"IF(様式３!K133=\"\",\"\",様式３!K133)","v":0},{"$f":"IF(様式３!L133=\"\",\"\",様式３!L133)","v":0},{"$f":"IF(様式３!M133=\"\",\"\",様式３!M133)","v":0},{"$f":"IF(様式３!N133=\"\",\"\",様式３!N133)","v":0},{"$f":"IF(様式３!O133=\"\",\"\",様式３!O133)","v":""}]
[5,"",{"$f":"IF(様式３!B134=\"\",\"\",様式３!B134)","v":""},{"$f":"IF(様式３!C134=\"\",\"\",様式３!C134)","v":""},{"$f":"IF(様式３!D134=\"\",\"\",様式３!D134)","v":""},{"$f":"IF(様式３!E134=\"\",\"\",様式３!E134)","v":""},{"$f":"IF(様式３!F134=\"\",\"\",様式３!F134)","v":"・"},{"$f":"IF(様式３!G134=\"\",\"\",様式３!G134)","v":""},{"$f":"IF(様式３!H134=\"\",\"\",様式３!H134)","v":"・"},{"$f":"IF(様式３!I134=\"\",\"\",様式３!I134)","v":""},{"$f":"IF(様式３!J134=\"\",\"\",様式３!J134)","v":0},{"$f":"IF(様式３!K134=\"\",\"\",様式３!K134)","v":0},{"$f":"IF(様式３!L134=\"\",\"\",様式３!L134)","v":0},{"$f":"IF(様式３!M134=\"\",\"\",様式３!M134)","v":0},{"$f":"IF(様式３!N134=\"\",\"\",様式３!N134)","v":0},{"$f":"IF(様式３!O134=\"\",\"\",様式３!O134)","v":""}]
[6,"",{"$f":"IF(様式３!B135=\"\",\"\",様式３!B135)","v":""},{"$f":"IF(様式３!C135=\"\",\"\",様式３!C135)","v":""},{"$f":"IF(様式３!D135=\"\",\"\",様式３!D135)","v":""},{"$f":"IF(様式３!E135=\"\",\"\",様式３!E135)","v":""},{"$f":"IF(様式３!F135=\"\",\"\",様式３!F135)","v":"・"},{"$f":"IF(様式３!G135=\"\",\"\",様式３!G135)","v":""},{"$f":"IF(様式３!H135=\"\",\"\",様式３!H135)","v":"・"},{"$f":"IF(様式３!I135=\"\",\"\",様式３!I135)","v":""},{"$f":"IF(様式３!J135=\"\",\"\",様式３!J135)","v":0},{"$f":"IF(様式３!K135=\"\",\"\",様式３!K135)","v":0},{"$f":"IF(様式３!L135=\"\",\"\",様式３!L135)","v":0},{"$f":"IF(様式３!M135=\"\",\"\",様式３!M135)","v":0},{"$f":"IF(様式３!N135=\"\",\"\",様式３!N135)","v":0},{"$f":"IF(様式３!O135=\"\",\"\",様式３!O135)","v":""}]
[7,"",{"$f":"IF(様式３!B136=\"\",\"\",様式３!B136)","v":""},{"$f":"IF(様式３!C136=\"\",\"\",様式３!C136)","v":""},{"$f":"IF(様式３!D136=\"\",\"\",様式３!D136)","v":""},{"$f":"IF(様式３!E136=\"\",\"\",様式３!E136)","v":""},{"$f":"IF(様式３!F136=\"\",\"\",様式３!F136)","v":"・"},{"$f":"IF(様式３!G136=\"\",\"\",様式３!G136)","v":""},{"$f":"IF(様式３!H136=\"\",\"\",様式３!H136)","v":"・"},{"$f":"IF(様式３!I136=\"\",\"\",様式３!I136)","v":""},{"$f":"IF(様式３!J136=\"\",\"\",様式３!J136)","v":0},{"$f":"IF(様式３!K136=\"\",\"\",様式３!K136)","v":0},{"$f":"IF(様式３!L136=\"\",\"\",様式３!L136)","v":0},{"$f":"IF(様式３!M136=\"\",\"\",様式３!M136)","v":0},{"$f":"IF(様式３!N136=\"\",\"\",様式３!N136)","v":0},{"$f":"IF(様式３!O136=\"\",\"\",様式３!O136)","v":""}]
[8,"",{"$f":"IF(様式３!B137=\"\",\"\",様式３!B137)","v":""},{"$f":"IF(様式３!C137=\"\",\"\",様式３!C137)","v":""},{"$f":"IF(様式３!D137=\"\",\"\",様式３!D137)","v":""},{"$f":"IF(様式３!E137=\"\",\"\",様式３!E137)","v":""},{"$f":"IF(様式３!F137=\"\",\"\",様式３!F137)","v":"・"},{"$f":"IF(様式３!G137=\"\",\"\",様式３!G137)","v":""},{"$f":"IF(様式３!H137=\"\",\"\",様式３!H137)","v":"・"},{"$f":"IF(様式３!I137=\"\",\"\",様式３!I137)","v":""},{"$f":"IF(様式３!J137=\"\",\"\",様式３!J137)","v":0},{"$f":"IF(様式３!K137=\"\",\"\",様式３!K137)","v":0},{"$f":"IF(様式３!L137=\"\",\"\",様式３!L137)","v":0},{"$f":"IF(様式３!M137=\"\",\"\",様式３!M137)","v":0},{"$f":"IF(様式３!N137=\"\",\"\",様式３!N137)","v":0},{"$f":"IF(様式３!O137=\"\",\"\",様式３!O137)","v":""}]
[9,"",{"$f":"IF(様式３!B138=\"\",\"\",様式３!B138)","v":""},{"$f":"IF(様式３!C138=\"\",\"\",様式３!C138)","v":""},{"$f":"IF(様式３!D138=\"\",\"\",様式３!D138)","v":""},{"$f":"IF(様式３!E138=\"\",\"\",様式３!E138)","v":""},{"$f":"IF(様式３!F138=\"\",\"\",様式３!F138)","v":"・"},{"$f":"IF(様式３!G138=\"\",\"\",様式３!G138)","v":""},{"$f":"IF(様式３!H138=\"\",\"\",様式３!H138)","v":"・"},{"$f":"IF(様式３!I138=\"\",\"\",様式３!I138)","v":""},{"$f":"IF(様式３!J138=\"\",\"\",様式３!J138)","v":0},{"$f":"IF(様式３!K138=\"\",\"\",様式３!K138)","v":0},{"$f":"IF(様式３!L138=\"\",\"\",様式３!L138)","v":0},{"$f":"IF(様式３!M138=\"\",\"\",様式３!M138)","v":0},{"$f":"IF(様式３!N138=\"\",\"\",様式３!N138)","v":0},{"$f":"IF(様式３!O138=\"\",\"\",様式３!O138)","v":""}]
[10,"",{"$f":"IF(様式３!B139=\"\",\"\",様式３!B139)","v":""},{"$f":"IF(様式３!C139=\"\",\"\",様式３!C139)","v":""},{"$f":"IF(様式３!D139=\"\",\"\",様式３!D139)","v":""},{"$f":"IF(様式３!E139=\"\",\"\",様式３!E139)","v":""},{"$f":"IF(様式３!F139=\"\",\"\",様式３!F139)","v":"・"},{"$f":"IF(様式３!G139=\"\",\"\",様式３!G139)","v":""},{"$f":"IF(様式３!H139=\"\",\"\",様式３!H139)","v":"・"},{"$f":"IF(様式３!I139=\"\",\"\",様式３!I139)","v":""},{"$f":"IF(様式３!J139=\"\",\"\",様式３!J139)","v":0},{"$f":"IF(様式３!K139=\"\",\"\",様式３!K139)","v":0},{"$f":"IF(様式３!L139=\"\",\"\",様式３!L139)","v":0},{"$f":"IF(様式３!M139=\"\",\"\",様式３!M139)","v":0},{"$f":"IF(様式３!N139=\"\",\"\",様式３!N139)","v":0},{"$f":"IF(様式３!O139=\"\",\"\",様式３!O139)","v":""}]
[11,"",{"$f":"IF(様式３!B140=\"\",\"\",様式３!B140)","v":""},{"$f":"IF(様式３!C140=\"\",\"\",様式３!C140)","v":""},{"$f":"IF(様式３!D140=\"\",\"\",様式３!D140)","v":""},{"$f":"IF(様式３!E140=\"\",\"\",様式３!E140)","v":""},{"$f":"IF(様式３!F140=\"\",\"\",様式３!F140)","v":"・"},{"$f":"IF(様式３!G140=\"\",\"\",様式３!G140)","v":""},{"$f":"IF(様式３!H140=\"\",\"\",様式３!H140)","v":"・"},{"$f":"IF(様式３!I140=\"\",\"\",様式３!I140)","v":""},{"$f":"IF(様式３!J140=\"\",\"\",様式３!J140)","v":0},{"$f":"IF(様式３!K140=\"\",\"\",様式３!K140)","v":0},{"$f":"IF(様式３!L140=\"\",\"\",様式３!L140)","v":0},{"$f":"IF(様式３!M140=\"\",\"\",様式３!M140)","v":0},{"$f":"IF(様式３!N140=\"\",\"\",様式３!N140)","v":0},{"$f":"IF(様式３!O140=\"\",\"\",様式３!O140)","v":""}]
[12,"",{"$f":"IF(様式３!B141=\"\",\"\",様式３!B141)","v":""},{"$f":"IF(様式３!C141=\"\",\"\",様式３!C141)","v":""},{"$f":"IF(様式３!D141=\"\",\"\",様式３!D141)","v":""},{"$f":"IF(様式３!E141=\"\",\"\",様式３!E141)","v":""},{"$f":"IF(様式３!F141=\"\",\"\",様式３!F141)","v":"・"},{"$f":"IF(様式３!G141=\"\",\"\",様式３!G141)","v":""},{"$f":"IF(様式３!H141=\"\",\"\",様式３!H141)","v":"・"},{"$f":"IF(様式３!I141=\"\",\"\",様式３!I141)","v":""},{"$f":"IF(様式３!J141=\"\",\"\",様式３!J141)","v":0},{"$f":"IF(様式３!K141=\"\",\"\",様式３!K141)","v":0},{"$f":"IF(様式３!L141=\"\",\"\",様式３!L141)","v":0},{"$f":"IF(様式３!M141=\"\",\"\",様式３!M141)","v":0},{"$f":"IF(様式３!N141=\"\",\"\",様式３!N141)","v":0},{"$f":"IF(様式３!O141=\"\",\"\",様式３!O141)","v":""}]
[13,"",{"$f":"IF(様式３!B142=\"\",\"\",様式３!B142)","v":""},{"$f":"IF(様式３!C142=\"\",\"\",様式３!C142)","v":""},{"$f":"IF(様式３!D142=\"\",\"\",様式３!D142)","v":""},{"$f":"IF(様式３!E142=\"\",\"\",様式３!E142)","v":""},{"$f":"IF(様式３!F142=\"\",\"\",様式３!F142)","v":"・"},{"$f":"IF(様式３!G142=\"\",\"\",様式３!G142)","v":""},{"$f":"IF(様式３!H142=\"\",\"\",様式３!H142)","v":"・"},{"$f":"IF(様式３!I142=\"\",\"\",様式３!I142)","v":""},{"$f":"IF(様式３!J142=\"\",\"\",様式３!J142)","v":0},{"$f":"IF(様式３!K142=\"\",\"\",様式３!K142)","v":0},{"$f":"IF(様式３!L142=\"\",\"\",様式３!L142)","v":0},{"$f":"IF(様式３!M142=\"\",\"\",様式３!M142)","v":0},{"$f":"IF(様式３!N142=\"\",\"\",様式３!N142)","v":0},{"$f":"IF(様式３!O142=\"\",\"\",様式３!O142)","v":""}]
[14,"",{"$f":"IF(様式３!B143=\"\",\"\",様式３!B143)","v":""},{"$f":"IF(様式３!C143=\"\",\"\",様式３!C143)","v":""},{"$f":"IF(様式３!D143=\"\",\"\",様式３!D143)","v":""},{"$f":"IF(様式３!E143=\"\",\"\",様式３!E143)","v":""},{"$f":"IF(様式３!F143=\"\",\"\",様式３!F143)","v":"・"},{"$f":"IF(様式３!G143=\"\",\"\",様式３!G143)","v":""},{"$f":"IF(様式３!H143=\"\",\"\",様式３!H143)","v":"・"},{"$f":"IF(様式３!I143=\"\",\"\",様式３!I143)","v":""},{"$f":"IF(様式３!J143=\"\",\"\",様式３!J143)","v":0},{"$f":"IF(様式３!K143=\"\",\"\",様式３!K143)","v":0},{"$f":"IF(様式３!L143=\"\",\"\",様式３!L143)","v":0},{"$f":"IF(様式３!M143=\"\",\"\",様式３!M143)","v":0},{"$f":"IF(様式３!N143=\"\",\"\",様式３!N143)","v":0},{"$f":"IF(様式３!O143=\"\",\"\",様式３!O143)","v":""}]
[15,"",{"$f":"IF(様式３!B144=\"\",\"\",様式３!B144)","v":""},{"$f":"IF(様式３!C144=\"\",\"\",様式３!C144)","v":""},{"$f":"IF(様式３!D144=\"\",\"\",様式３!D144)","v":""},{"$f":"IF(様式３!E144=\"\",\"\",様式３!E144)","v":""},{"$f":"IF(様式３!F144=\"\",\"\",様式３!F144)","v":"・"},{"$f":"IF(様式３!G144=\"\",\"\",様式３!G144)","v":""},{"$f":"IF(様式３!H144=\"\",\"\",様式３!H144)","v":"・"},{"$f":"IF(様式３!I144=\"\",\"\",様式３!I144)","v":""},{"$f":"IF(様式３!J144=\"\",\"\",様式３!J144)","v":0},{"$f":"IF(様式３!K144=\"\",\"\",様式３!K144)","v":0},{"$f":"IF(様式３!L144=\"\",\"\",様式３!L144)","v":0},{"$f":"IF(様式３!M144=\"\",\"\",様式３!M144)","v":0},{"$f":"IF(様式３!N144=\"\",\"\",様式３!N144)","v":0},{"$f":"IF(様式３!O144=\"\",\"\",様式３!O144)","v":""}]
[null,{"$f":"B24","v":"※１　学科の欄には、大学科名を記入する。"}]
[null,{"$f":"B25","v":"※２　資格・試験等ランクの欄には、取得個数を記入する。"}]
[null,{"$f":"B26","v":"※３　得点合計欄には、得点の合計を記入する。"}]
[]
[null,"（様式６）",null,null,null,null,null,"（令和",null,{"$f":"+J109","v":0},"年度",null,{"$f":"+M109","v":0},"枚中",{"$f":"+O109+1","v":6},"枚目）"]
[]
[null,"埼玉県高校生専門資格等取得表彰証書発行台帳"]
[null,null,null,null,null,"学 校 名　　　　　　　　　　　",null,null,{"$f":"+I112","v":0},null,null,null,null,null,"学校"]
[null,null,null,null,null,"発行年月日 令和　　",null,null,null,null,{"$f":"+K113","v":0},"年",{"$f":"+M113","v":0},"月",{"$f":"+O113","v":0},"日"]
[null,"発行番号","学年　　　　　　　　　　　　　　　　　　　","学科","整理番号","生  年  月  日",null,null,null,null,"資格・試験等ﾗﾝｸ",null,null,null,"得点\n合計","備考"]
[null,null,null,null,null,null,null,null,null,null,"A","B","C","D"]
[null,null,null,null,null,null,null,null,null,null,6,3,2,1]
[1,{"$f":"IF(E144=\"\",\"\",B131+1)","v":""},{"$f":"IF(様式３!B160=\"\",\"\",様式３!B160)","v":""},{"$f":"IF(様式３!C160=\"\",\"\",様式３!C160)","v":""},{"$f":"IF(様式３!D160=\"\",\"\",様式３!D160)","v":""},{"$f":"IF(様式３!E160=\"\",\"\",様式３!E160)","v":""},{"$f":"IF(様式３!F160=\"\",\"\",様式３!F160)","v":"・"},{"$f":"IF(様式３!G160=\"\",\"\",様式３!G160)","v":""},{"$f":"IF(様式３!H160=\"\",\"\",様式３!H160)","v":"・"},{"$f":"IF(様式３!I160=\"\",\"\",様式３!I160)","v":""},{"$f":"IF(様式３!J160=\"\",\"\",様式３!J160)","v":0},{"$f":"IF(様式３!K160=\"\",\"\",様式３!K160)","v":0},{"$f":"IF(様式３!L160=\"\",\"\",様式３!L160)","v":0},{"$f":"IF(様式３!M160=\"\",\"\",様式３!M160)","v":0},{"$f":"IF(様式３!N160=\"\",\"\",様式３!N160)","v":0},{"$f":"IF(様式３!O160=\"\",\"\",様式３!O160)","v":""}]
[2,{"$f":"IF(E145=\"\",\"\",B144+1)","v":""},{"$f":"IF(様式３!B161=\"\",\"\",様式３!B161)","v":""},{"$f":"IF(様式３!C161=\"\",\"\",様式３!C161)","v":""},{"$f":"IF(様式３!D161=\"\",\"\",様式３!D161)","v":""},{"$f":"IF(様式３!E161=\"\",\"\",様式３!E161)","v":""},{"$f":"IF(様式３!F161=\"\",\"\",様式３!F161)","v":"・"},{"$f":"IF(様式３!G161=\"\",\"\",様式３!G161)","v":""},{"$f":"IF(様式３!H161=\"\",\"\",様式３!H161)","v":"・"},{"$f":"IF(様式３!I161=\"\",\"\",様式３!I161)","v":""},{"$f":"IF(様式３!J161=\"\",\"\",様式３!J161)","v":0},{"$f":"IF(様式３!K161=\"\",\"\",様式３!K161)","v":0},{"$f":"IF(様式３!L161=\"\",\"\",様式３!L161)","v":0},{"$f":"IF(様式３!M161=\"\",\"\",様式３!M161)","v":0},{"$f":"IF(様式３!N161=\"\",\"\",様式３!N161)","v":0},{"$f":"IF(様式３!O161=\"\",\"\",様式３!O161)","v":""}]
[3,"",{"$f":"IF(様式３!B162=\"\",\"\",様式３!B162)","v":""},{"$f":"IF(様式３!C162=\"\",\"\",様式３!C162)","v":""},{"$f":"IF(様式３!D162=\"\",\"\",様式３!D162)","v":""},{"$f":"IF(様式３!E162=\"\",\"\",様式３!E162)","v":""},{"$f":"IF(様式３!F162=\"\",\"\",様式３!F162)","v":"・"},{"$f":"IF(様式３!G162=\"\",\"\",様式３!G162)","v":""},{"$f":"IF(様式３!H162=\"\",\"\",様式３!H162)","v":"・"},{"$f":"IF(様式３!I162=\"\",\"\",様式３!I162)","v":""},{"$f":"IF(様式３!J162=\"\",\"\",様式３!J162)","v":0},{"$f":"IF(様式３!K162=\"\",\"\",様式３!K162)","v":0},{"$f":"IF(様式３!L162=\"\",\"\",様式３!L162)","v":0},{"$f":"IF(様式３!M162=\"\",\"\",様式３!M162)","v":0},{"$f":"IF(様式３!N162=\"\",\"\",様式３!N162)","v":0},{"$f":"IF(様式３!O162=\"\",\"\",様式３!O162)","v":""}]
[4,"",{"$f":"IF(様式３!B163=\"\",\"\",様式３!B163)","v":""},{"$f":"IF(様式３!C163=\"\",\"\",様式３!C163)","v":""},{"$f":"IF(様式３!D163=\"\",\"\",様式３!D163)","v":""},{"$f":"IF(様式３!E163=\"\",\"\",様式３!E163)","v":""},{"$f":"IF(様式３!F163=\"\",\"\",様式３!F163)","v":"・"},{"$f":"IF(様式３!G163=\"\",\"\",様式３!G163)","v":""},{"$f":"IF(様式３!H163=\"\",\"\",様式３!H163)","v":"・"},{"$f":"IF(様式３!I163=\"\",\"\",様式３!I163)","v":""},{"$f":"IF(様式３!J163=\"\",\"\",様式３!J163)","v":0},{"$f":"IF(様式３!K163=\"\",\"\",様式３!K163)","v":0},{"$f":"IF(様式３!L163=\"\",\"\",様式３!L163)","v":0},{"$f":"IF(様式３!M163=\"\",\"\",様式３!M163)","v":0},{"$f":"IF(様式３!N163=\"\",\"\",様式３!N163)","v":0},{"$f":"IF(様式３!O163=\"\",\"\",様式３!O163)","v":""}]
[5,"",{"$f":"IF(様式３!B164=\"\",\"\",様式３!B164)","v":""},{"$f":"IF(様式３!C164=\"\",\"\",様式３!C164)","v":""},{"$f":"IF(様式３!D164=\"\",\"\",様式３!D164)","v":""},{"$f":"IF(様式３!E164=\"\",\"\",様式３!E164)","v":""},{"$f":"IF(様式３!F164=\"\",\"\",様式３!F164)","v":"・"},{"$f":"IF(様式３!G164=\"\",\"\",様式３!G164)","v":""},{"$f":"IF(様式３!H164=\"\",\"\",様式３!H164)","v":"・"},{"$f":"IF(様式３!I164=\"\",\"\",様式３!I164)","v":""},{"$f":"IF(様式３!J164=\"\",\"\",様式３!J164)","v":0},{"$f":"IF(様式３!K164=\"\",\"\",様式３!K164)","v":0},{"$f":"IF(様式３!L164=\"\",\"\",様式３!L164)","v":0},{"$f":"IF(様式３!M164=\"\",\"\",様式３!M164)","v":0},{"$f":"IF(様式３!N164=\"\",\"\",様式３!N164)","v":0},{"$f":"IF(様式３!O164=\"\",\"\",様式３!O164)","v":""}]
[6,"",{"$f":"IF(様式３!B165=\"\",\"\",様式３!B165)","v":""},{"$f":"IF(様式３!C165=\"\",\"\",様式３!C165)","v":""},{"$f":"IF(様式３!D165=\"\",\"\",様式３!D165)","v":""},{"$f":"IF(様式３!E165=\"\",\"\",様式３!E165)","v":""},{"$f":"IF(様式３!F165=\"\",\"\",様式３!F165)","v":"・"},{"$f":"IF(様式３!G165=\"\",\"\",様式３!G165)","v":""},{"$f":"IF(様式３!H165=\"\",\"\",様式３!H165)","v":"・"},{"$f":"IF(様式３!I165=\"\",\"\",様式３!I165)","v":""},{"$f":"IF(様式３!J165=\"\",\"\",様式３!J165)","v":0},{"$f":"IF(様式３!K165=\"\",\"\",様式３!K165)","v":0},{"$f":"IF(様式３!L165=\"\",\"\",様式３!L165)","v":0},{"$f":"IF(様式３!M165=\"\",\"\",様式３!M165)","v":0},{"$f":"IF(様式３!N165=\"\",\"\",様式３!N165)","v":0},{"$f":"IF(様式３!O165=\"\",\"\",様式３!O165)","v":""}]
[7,"",{"$f":"IF(様式３!B166=\"\",\"\",様式３!B166)","v":""},{"$f":"IF(様式３!C166=\"\",\"\",様式３!C166)","v":""},{"$f":"IF(様式３!D166=\"\",\"\",様式３!D166)","v":""},{"$f":"IF(様式３!E166=\"\",\"\",様式３!E166)","v":""},{"$f":"IF(様式３!F166=\"\",\"\",様式３!F166)","v":"・"},{"$f":"IF(様式３!G166=\"\",\"\",様式３!G166)","v":""},{"$f":"IF(様式３!H166=\"\",\"\",様式３!H166)","v":"・"},{"$f":"IF(様式３!I166=\"\",\"\",様式３!I166)","v":""},{"$f":"IF(様式３!J166=\"\",\"\",様式３!J166)","v":0},{"$f":"IF(様式３!K166=\"\",\"\",様式３!K166)","v":0},{"$f":"IF(様式３!L166=\"\",\"\",様式３!L166)","v":0},{"$f":"IF(様式３!M166=\"\",\"\",様式３!M166)","v":0},{"$f":"IF(様式３!N166=\"\",\"\",様式３!N166)","v":0},{"$f":"IF(様式３!O166=\"\",\"\",様式３!O166)","v":""}]
[8,"",{"$f":"IF(様式３!B167=\"\",\"\",様式３!B167)","v":""},{"$f":"IF(様式３!C167=\"\",\"\",様式３!C167)","v":""},{"$f":"IF(様式３!D167=\"\",\"\",様式３!D167)","v":""},{"$f":"IF(様式３!E167=\"\",\"\",様式３!E167)","v":""},{"$f":"IF(様式３!F167=\"\",\"\",様式３!F167)","v":"・"},{"$f":"IF(様式３!G167=\"\",\"\",様式３!G167)","v":""},{"$f":"IF(様式３!H167=\"\",\"\",様式３!H167)","v":"・"},{"$f":"IF(様式３!I167=\"\",\"\",様式３!I167)","v":""},{"$f":"IF(様式３!J167=\"\",\"\",様式３!J167)","v":0},{"$f":"IF(様式３!K167=\"\",\"\",様式３!K167)","v":0},{"$f":"IF(様式３!L167=\"\",\"\",様式３!L167)","v":0},{"$f":"IF(様式３!M167=\"\",\"\",様式３!M167)","v":0},{"$f":"IF(様式３!N167=\"\",\"\",様式３!N167)","v":0},{"$f":"IF(様式３!O167=\"\",\"\",様式３!O167)","v":""}]
[9,"",{"$f":"IF(様式３!B168=\"\",\"\",様式３!B168)","v":""},{"$f":"IF(様式３!C168=\"\",\"\",様式３!C168)","v":""},{"$f":"IF(様式３!D168=\"\",\"\",様式３!D168)","v":""},{"$f":"IF(様式３!E168=\"\",\"\",様式３!E168)","v":""},{"$f":"IF(様式３!F168=\"\",\"\",様式３!F168)","v":"・"},{"$f":"IF(様式３!G168=\"\",\"\",様式３!G168)","v":""},{"$f":"IF(様式３!H168=\"\",\"\",様式３!H168)","v":"・"},{"$f":"IF(様式３!I168=\"\",\"\",様式３!I168)","v":""},{"$f":"IF(様式３!J168=\"\",\"\",様式３!J168)","v":0},{"$f":"IF(様式３!K168=\"\",\"\",様式３!K168)","v":0},{"$f":"IF(様式３!L168=\"\",\"\",様式３!L168)","v":0},{"$f":"IF(様式３!M168=\"\",\"\",様式３!M168)","v":0},{"$f":"IF(様式３!N168=\"\",\"\",様式３!N168)","v":0},{"$f":"IF(様式３!O168=\"\",\"\",様式３!O168)","v":""}]
[10,"",{"$f":"IF(様式３!B169=\"\",\"\",様式３!B169)","v":""},{"$f":"IF(様式３!C169=\"\",\"\",様式３!C169)","v":""},{"$f":"IF(様式３!D169=\"\",\"\",様式３!D169)","v":""},{"$f":"IF(様式３!E169=\"\",\"\",様式３!E169)","v":""},{"$f":"IF(様式３!F169=\"\",\"\",様式３!F169)","v":"・"},{"$f":"IF(様式３!G169=\"\",\"\",様式３!G169)","v":""},{"$f":"IF(様式３!H169=\"\",\"\",様式３!H169)","v":"・"},{"$f":"IF(様式３!I169=\"\",\"\",様式３!I169)","v":""},{"$f":"IF(様式３!J169=\"\",\"\",様式３!J169)","v":0},{"$f":"IF(様式３!K169=\"\",\"\",様式３!K169)","v":0},{"$f":"IF(様式３!L169=\"\",\"\",様式３!L169)","v":0},{"$f":"IF(様式３!M169=\"\",\"\",様式３!M169)","v":0},{"$f":"IF(様式３!N169=\"\",\"\",様式３!N169)","v":0},{"$f":"IF(様式３!O169=\"\",\"\",様式３!O169)","v":""}]
[11,"",{"$f":"IF(様式３!B170=\"\",\"\",様式３!B170)","v":""},{"$f":"IF(様式３!C170=\"\",\"\",様式３!C170)","v":""},{"$f":"IF(様式３!D170=\"\",\"\",様式３!D170)","v":""},{"$f":"IF(様式３!E170=\"\",\"\",様式３!E170)","v":""},{"$f":"IF(様式３!F170=\"\",\"\",様式３!F170)","v":"・"},{"$f":"IF(様式３!G170=\"\",\"\",様式３!G170)","v":""},{"$f":"IF(様式３!H170=\"\",\"\",様式３!H170)","v":"・"},{"$f":"IF(様式３!I170=\"\",\"\",様式３!I170)","v":""},{"$f":"IF(様式３!J170=\"\",\"\",様式３!J170)","v":0},{"$f":"IF(様式３!K170=\"\",\"\",様式３!K170)","v":0},{"$f":"IF(様式３!L170=\"\",\"\",様式３!L170)","v":0},{"$f":"IF(様式３!M170=\"\",\"\",様式３!M170)","v":0},{"$f":"IF(様式３!N170=\"\",\"\",様式３!N170)","v":0},{"$f":"IF(様式３!O170=\"\",\"\",様式３!O170)","v":""}]
[12,"",{"$f":"IF(様式３!B171=\"\",\"\",様式３!B171)","v":""},{"$f":"IF(様式３!C171=\"\",\"\",様式３!C171)","v":""},{"$f":"IF(様式３!D171=\"\",\"\",様式３!D171)","v":""},{"$f":"IF(様式３!E171=\"\",\"\",様式３!E171)","v":""},{"$f":"IF(様式３!F171=\"\",\"\",様式３!F171)","v":"・"},{"$f":"IF(様式３!G171=\"\",\"\",様式３!G171)","v":""},{"$f":"IF(様式３!H171=\"\",\"\",様式３!H171)","v":"・"},{"$f":"IF(様式３!I171=\"\",\"\",様式３!I171)","v":""},{"$f":"IF(様式３!J171=\"\",\"\",様式３!J171)","v":0},{"$f":"IF(様式３!K171=\"\",\"\",様式３!K171)","v":0},{"$f":"IF(様式３!L171=\"\",\"\",様式３!L171)","v":0},{"$f":"IF(様式３!M171=\"\",\"\",様式３!M171)","v":0},{"$f":"IF(様式３!N171=\"\",\"\",様式３!N171)","v":0},{"$f":"IF(様式３!O171=\"\",\"\",様式３!O171)","v":""}]
[13,"",{"$f":"IF(様式３!B172=\"\",\"\",様式３!B172)","v":""},{"$f":"IF(様式３!C172=\"\",\"\",様式３!C172)","v":""},{"$f":"IF(様式３!D172=\"\",\"\",様式３!D172)","v":""},{"$f":"IF(様式３!E172=\"\",\"\",様式３!E172)","v":""},{"$f":"IF(様式３!F172=\"\",\"\",様式３!F172)","v":"・"},{"$f":"IF(様式３!G172=\"\",\"\",様式３!G172)","v":""},{"$f":"IF(様式３!H172=\"\",\"\",様式３!H172)","v":"・"},{"$f":"IF(様式３!I172=\"\",\"\",様式３!I172)","v":""},{"$f":"IF(様式３!J172=\"\",\"\",様式３!J172)","v":0},{"$f":"IF(様式３!K172=\"\",\"\",様式３!K172)","v":0},{"$f":"IF(様式３!L172=\"\",\"\",様式３!L172)","v":0},{"$f":"IF(様式３!M172=\"\",\"\",様式３!M172)","v":0},{"$f":"IF(様式３!N172=\"\",\"\",様式３!N172)","v":0},{"$f":"IF(様式３!O172=\"\",\"\",様式３!O172)","v":""}]
[14,"",{"$f":"IF(様式３!B173=\"\",\"\",様式３!B173)","v":""},{"$f":"IF(様式３!C173=\"\",\"\",様式３!C173)","v":""},{"$f":"IF(様式３!D173=\"\",\"\",様式３!D173)","v":""},{"$f":"IF(様式３!E173=\"\",\"\",様式３!E173)","v":""},{"$f":"IF(様式３!F173=\"\",\"\",様式３!F173)","v":"・"},{"$f":"IF(様式３!G173=\"\",\"\",様式３!G173)","v":""},{"$f":"IF(様式３!H173=\"\",\"\",様式３!H173)","v":"・"},{"$f":"IF(様式３!I173=\"\",\"\",様式３!I173)","v":""},{"$f":"IF(様式３!J173=\"\",\"\",様式３!J173)","v":0},{"$f":"IF(様式３!K173=\"\",\"\",様式３!K173)","v":0},{"$f":"IF(様式３!L173=\"\",\"\",様式３!L173)","v":0},{"$f":"IF(様式３!M173=\"\",\"\",様式３!M173)","v":0},{"$f":"IF(様式３!N173=\"\",\"\",様式３!N173)","v":0},{"$f":"IF(様式３!O173=\"\",\"\",様式３!O173)","v":""}]
[15,"",{"$f":"IF(様式３!B174=\"\",\"\",様式３!B174)","v":""},{"$f":"IF(様式３!C174=\"\",\"\",様式３!C174)","v":""},{"$f":"IF(様式３!D174=\"\",\"\",様式３!D174)","v":""},{"$f":"IF(様式３!E174=\"\",\"\",様式３!E174)","v":""},{"$f":"IF(様式３!F174=\"\",\"\",様式３!F174)","v":"・"},{"$f":"IF(様式３!G174=\"\",\"\",様式３!G174)","v":""},{"$f":"IF(様式３!H174=\"\",\"\",様式３!H174)","v":"・"},{"$f":"IF(様式３!I174=\"\",\"\",様式３!I174)","v":""},{"$f":"IF(様式３!J174=\"\",\"\",様式３!J174)","v":0},{"$f":"IF(様式３!K174=\"\",\"\",様式３!K174)","v":0},{"$f":"IF(様式３!L174=\"\",\"\",様式３!L174)","v":0},{"$f":"IF(様式３!M174=\"\",\"\",様式３!M174)","v":0},{"$f":"IF(様式３!N174=\"\",\"\",様式３!N174)","v":0},{"$f":"IF(様式３!O174=\"\",\"\",様式３!O174)","v":""}]
[null,{"$f":"B24","v":"※１　学科の欄には、大学科名を記入する。"}]
[null,{"$f":"B25","v":"※２　資格・試験等ランクの欄には、取得個数を記入する。"}]
[null,{"$f":"B26","v":"※３　得点合計欄には、得点の合計を記入する。"}]
[]
[null,"（様式６）",null,null,null,null,null,"（令和",null,{"$f":"+J136","v":0},"年度",null,{"$f":"+M136","v":0},"枚中",{"$f":"+O136+1","v":7},"枚目）"]
[]
[null,"埼玉県高校生専門資格等取得表彰証書発行台帳"]
[null,null,null,null,null,"学 校 名　　　　　　　　　　　",null,null,{"$f":"+I139","v":0},null,null,null,null,null,"学校"]
[null,null,null,null,null,"発行年月日 令和　　",null,null,null,null,{"$f":"+K140","v":0},"年",{"$f":"+M140","v":0},"月",{"$f":"+O140","v":0},"日"]
[null,"発行番号","学年　　　　　　　　　　　　　　　　　　　","学科","整理番号","生  年  月  日",null,null,null,null,"資格・試験等ﾗﾝｸ",null,null,null,"得点\n合計","備考"]
[null,null,null,null,null,null,null,null,null,null,"A","B","C","D"]
[null,null,null,null,null,null,null,null,null,null,6,3,2,1]
[1,{"$f":"IF(E171=\"\",\"\",B158+1)","v":""},{"$f":"IF(様式３!B190=\"\",\"\",様式３!B190)","v":""},{"$f":"IF(様式３!C190=\"\",\"\",様式３!C190)","v":""},{"$f":"IF(様式３!D190=\"\",\"\",様式３!D190)","v":""},{"$f":"IF(様式３!E190=\"\",\"\",様式３!E190)","v":""},{"$f":"IF(様式３!F190=\"\",\"\",様式３!F190)","v":"・"},{"$f":"IF(様式３!G190=\"\",\"\",様式３!G190)","v":""},{"$f":"IF(様式３!H190=\"\",\"\",様式３!H190)","v":"・"},{"$f":"IF(様式３!I190=\"\",\"\",様式３!I190)","v":""},{"$f":"IF(様式３!J190=\"\",\"\",様式３!J190)","v":0},{"$f":"IF(様式３!K190=\"\",\"\",様式３!K190)","v":0},{"$f":"IF(様式３!L190=\"\",\"\",様式３!L190)","v":0},{"$f":"IF(様式３!M190=\"\",\"\",様式３!M190)","v":0},{"$f":"IF(様式３!N190=\"\",\"\",様式３!N190)","v":0},{"$f":"IF(様式３!O190=\"\",\"\",様式３!O190)","v":""}]
[2,{"$f":"IF(E172=\"\",\"\",B171+1)","v":""},{"$f":"IF(様式３!B191=\"\",\"\",様式３!B191)","v":""},{"$f":"IF(様式３!C191=\"\",\"\",様式３!C191)","v":""},{"$f":"IF(様式３!D191=\"\",\"\",様式３!D191)","v":""},{"$f":"IF(様式３!E191=\"\",\"\",様式３!E191)","v":""},{"$f":"IF(様式３!F191=\"\",\"\",様式３!F191)","v":"・"},{"$f":"IF(様式３!G191=\"\",\"\",様式３!G191)","v":""},{"$f":"IF(様式３!H191=\"\",\"\",様式３!H191)","v":"・"},{"$f":"IF(様式３!I191=\"\",\"\",様式３!I191)","v":""},{"$f":"IF(様式３!J191=\"\",\"\",様式３!J191)","v":0},{"$f":"IF(様式３!K191=\"\",\"\",様式３!K191)","v":0},{"$f":"IF(様式３!L191=\"\",\"\",様式３!L191)","v":0},{"$f":"IF(様式３!M191=\"\",\"\",様式３!M191)","v":0},{"$f":"IF(様式３!N191=\"\",\"\",様式３!N191)","v":0},{"$f":"IF(様式３!O191=\"\",\"\",様式３!O191)","v":""}]
[3,"",{"$f":"IF(様式３!B192=\"\",\"\",様式３!B192)","v":""},{"$f":"IF(様式３!C192=\"\",\"\",様式３!C192)","v":""},{"$f":"IF(様式３!D192=\"\",\"\",様式３!D192)","v":""},{"$f":"IF(様式３!E192=\"\",\"\",様式３!E192)","v":""},{"$f":"IF(様式３!F192=\"\",\"\",様式３!F192)","v":"・"},{"$f":"IF(様式３!G192=\"\",\"\",様式３!G192)","v":""},{"$f":"IF(様式３!H192=\"\",\"\",様式３!H192)","v":"・"},{"$f":"IF(様式３!I192=\"\",\"\",様式３!I192)","v":""},{"$f":"IF(様式３!J192=\"\",\"\",様式３!J192)","v":0},{"$f":"IF(様式３!K192=\"\",\"\",様式３!K192)","v":0},{"$f":"IF(様式３!L192=\"\",\"\",様式３!L192)","v":0},{"$f":"IF(様式３!M192=\"\",\"\",様式３!M192)","v":0},{"$f":"IF(様式３!N192=\"\",\"\",様式３!N192)","v":0},{"$f":"IF(様式３!O192=\"\",\"\",様式３!O192)","v":""}]
[4,"",{"$f":"IF(様式３!B193=\"\",\"\",様式３!B193)","v":""},{"$f":"IF(様式３!C193=\"\",\"\",様式３!C193)","v":""},{"$f":"IF(様式３!D193=\"\",\"\",様式３!D193)","v":""},{"$f":"IF(様式３!E193=\"\",\"\",様式３!E193)","v":""},{"$f":"IF(様式３!F193=\"\",\"\",様式３!F193)","v":"・"},{"$f":"IF(様式３!G193=\"\",\"\",様式３!G193)","v":""},{"$f":"IF(様式３!H193=\"\",\"\",様式３!H193)","v":"・"},{"$f":"IF(様式３!I193=\"\",\"\",様式３!I193)","v":""},{"$f":"IF(様式３!J193=\"\",\"\",様式３!J193)","v":0},{"$f":"IF(様式３!K193=\"\",\"\",様式３!K193)","v":0},{"$f":"IF(様式３!L193=\"\",\"\",様式３!L193)","v":0},{"$f":"IF(様式３!M193=\"\",\"\",様式３!M193)","v":0},{"$f":"IF(様式３!N193=\"\",\"\",様式３!N193)","v":0},{"$f":"IF(様式３!O193=\"\",\"\",様式３!O193)","v":""}]
[5,"",{"$f":"IF(様式３!B194=\"\",\"\",様式３!B194)","v":""},{"$f":"IF(様式３!C194=\"\",\"\",様式３!C194)","v":""},{"$f":"IF(様式３!D194=\"\",\"\",様式３!D194)","v":""},{"$f":"IF(様式３!E194=\"\",\"\",様式３!E194)","v":""},{"$f":"IF(様式３!F194=\"\",\"\",様式３!F194)","v":"・"},{"$f":"IF(様式３!G194=\"\",\"\",様式３!G194)","v":""},{"$f":"IF(様式３!H194=\"\",\"\",様式３!H194)","v":"・"},{"$f":"IF(様式３!I194=\"\",\"\",様式３!I194)","v":""},{"$f":"IF(様式３!J194=\"\",\"\",様式３!J194)","v":0},{"$f":"IF(様式３!K194=\"\",\"\",様式３!K194)","v":0},{"$f":"IF(様式３!L194=\"\",\"\",様式３!L194)","v":0},{"$f":"IF(様式３!M194=\"\",\"\",様式３!M194)","v":0},{"$f":"IF(様式３!N194=\"\",\"\",様式３!N194)","v":0},{"$f":"IF(様式３!O194=\"\",\"\",様式３!O194)","v":""}]
[6,"",{"$f":"IF(様式３!B195=\"\",\"\",様式３!B195)","v":""},{"$f":"IF(様式３!C195=\"\",\"\",様式３!C195)","v":""},{"$f":"IF(様式３!D195=\"\",\"\",様式３!D195)","v":""},{"$f":"IF(様式３!E195=\"\",\"\",様式３!E195)","v":""},{"$f":"IF(様式３!F195=\"\",\"\",様式３!F195)","v":"・"},{"$f":"IF(様式３!G195=\"\",\"\",様式３!G195)","v":""},{"$f":"IF(様式３!H195=\"\",\"\",様式３!H195)","v":"・"},{"$f":"IF(様式３!I195=\"\",\"\",様式３!I195)","v":""},{"$f":"IF(様式３!J195=\"\",\"\",様式３!J195)","v":0},{"$f":"IF(様式３!K195=\"\",\"\",様式３!K195)","v":0},{"$f":"IF(様式３!L195=\"\",\"\",様式３!L195)","v":0},{"$f":"IF(様式３!M195=\"\",\"\",様式３!M195)","v":0},{"$f":"IF(様式３!N195=\"\",\"\",様式３!N195)","v":0},{"$f":"IF(様式３!O195=\"\",\"\",様式３!O195)","v":""}]
[7,"",{"$f":"IF(様式３!B196=\"\",\"\",様式３!B196)","v":""},{"$f":"IF(様式３!C196=\"\",\"\",様式３!C196)","v":""},{"$f":"IF(様式３!D196=\"\",\"\",様式３!D196)","v":""},{"$f":"IF(様式３!E196=\"\",\"\",様式３!E196)","v":""},{"$f":"IF(様式３!F196=\"\",\"\",様式３!F196)","v":"・"},{"$f":"IF(様式３!G196=\"\",\"\",様式３!G196)","v":""},{"$f":"IF(様式３!H196=\"\",\"\",様式３!H196)","v":"・"},{"$f":"IF(様式３!I196=\"\",\"\",様式３!I196)","v":""},{"$f":"IF(様式３!J196=\"\",\"\",様式３!J196)","v":0},{"$f":"IF(様式３!K196=\"\",\"\",様式３!K196)","v":0},{"$f":"IF(様式３!L196=\"\",\"\",様式３!L196)","v":0},{"$f":"IF(様式３!M196=\"\",\"\",様式３!M196)","v":0},{"$f":"IF(様式３!N196=\"\",\"\",様式３!N196)","v":0},{"$f":"IF(様式３!O196=\"\",\"\",様式３!O196)","v":""}]
[8,"",{"$f":"IF(様式３!B197=\"\",\"\",様式３!B197)","v":""},{"$f":"IF(様式３!C197=\"\",\"\",様式３!C197)","v":""},{"$f":"IF(様式３!D197=\"\",\"\",様式３!D197)","v":""},{"$f":"IF(様式３!E197=\"\",\"\",様式３!E197)","v":""},{"$f":"IF(様式３!F197=\"\",\"\",様式３!F197)","v":"・"},{"$f":"IF(様式３!G197=\"\",\"\",様式３!G197)","v":""},{"$f":"IF(様式３!H197=\"\",\"\",様式３!H197)","v":"・"},{"$f":"IF(様式３!I197=\"\",\"\",様式３!I197)","v":""},{"$f":"IF(様式３!J197=\"\",\"\",様式３!J197)","v":0},{"$f":"IF(様式３!K197=\"\",\"\",様式３!K197)","v":0},{"$f":"IF(様式３!L197=\"\",\"\",様式３!L197)","v":0},{"$f":"IF(様式３!M197=\"\",\"\",様式３!M197)","v":0},{"$f":"IF(様式３!N197=\"\",\"\",様式３!N197)","v":0},{"$f":"IF(様式３!O197=\"\",\"\",様式３!O197)","v":""}]
[9,"",{"$f":"IF(様式３!B198=\"\",\"\",様式３!B198)","v":""},{"$f":"IF(様式３!C198=\"\",\"\",様式３!C198)","v":""},{"$f":"IF(様式３!D198=\"\",\"\",様式３!D198)","v":""},{"$f":"IF(様式３!E198=\"\",\"\",様式３!E198)","v":""},{"$f":"IF(様式３!F198=\"\",\"\",様式３!F198)","v":"・"},{"$f":"IF(様式３!G198=\"\",\"\",様式３!G198)","v":""},{"$f":"IF(様式３!H198=\"\",\"\",様式３!H198)","v":"・"},{"$f":"IF(様式３!I198=\"\",\"\",様式３!I198)","v":""},{"$f":"IF(様式３!J198=\"\",\"\",様式３!J198)","v":0},{"$f":"IF(様式３!K198=\"\",\"\",様式３!K198)","v":0},{"$f":"IF(様式３!L198=\"\",\"\",様式３!L198)","v":0},{"$f":"IF(様式３!M198=\"\",\"\",様式３!M198)","v":0},{"$f":"IF(様式３!N198=\"\",\"\",様式３!N198)","v":0},{"$f":"IF(様式３!O198=\"\",\"\",様式３!O198)","v":""}]
[10,"",{"$f":"IF(様式３!B199=\"\",\"\",様式３!B199)","v":""},{"$f":"IF(様式３!C199=\"\",\"\",様式３!C199)","v":""},{"$f":"IF(様式３!D199=\"\",\"\",様式３!D199)","v":""},{"$f":"IF(様式３!E199=\"\",\"\",様式３!E199)","v":""},{"$f":"IF(様式３!F199=\"\",\"\",様式３!F199)","v":"・"},{"$f":"IF(様式３!G199=\"\",\"\",様式３!G199)","v":""},{"$f":"IF(様式３!H199=\"\",\"\",様式３!H199)","v":"・"},{"$f":"IF(様式３!I199=\"\",\"\",様式３!I199)","v":""},{"$f":"IF(様式３!J199=\"\",\"\",様式３!J199)","v":0},{"$f":"IF(様式３!K199=\"\",\"\",様式３!K199)","v":0},{"$f":"IF(様式３!L199=\"\",\"\",様式３!L199)","v":0},{"$f":"IF(様式３!M199=\"\",\"\",様式３!M199)","v":0},{"$f":"IF(様式３!N199=\"\",\"\",様式３!N199)","v":0},{"$f":"IF(様式３!O199=\"\",\"\",様式３!O199)","v":""}]
[11,"",{"$f":"IF(様式３!B200=\"\",\"\",様式３!B200)","v":""},{"$f":"IF(様式３!C200=\"\",\"\",様式３!C200)","v":""},{"$f":"IF(様式３!D200=\"\",\"\",様式３!D200)","v":""},{"$f":"IF(様式３!E200=\"\",\"\",様式３!E200)","v":""},{"$f":"IF(様式３!F200=\"\",\"\",様式３!F200)","v":"・"},{"$f":"IF(様式３!G200=\"\",\"\",様式３!G200)","v":""},{"$f":"IF(様式３!H200=\"\",\"\",様式３!H200)","v":"・"},{"$f":"IF(様式３!I200=\"\",\"\",様式３!I200)","v":""},{"$f":"IF(様式３!J200=\"\",\"\",様式３!J200)","v":0},{"$f":"IF(様式３!K200=\"\",\"\",様式３!K200)","v":0},{"$f":"IF(様式３!L200=\"\",\"\",様式３!L200)","v":0},{"$f":"IF(様式３!M200=\"\",\"\",様式３!M200)","v":0},{"$f":"IF(様式３!N200=\"\",\"\",様式３!N200)","v":0},{"$f":"IF(様式３!O200=\"\",\"\",様式３!O200)","v":""}]
[12,"",{"$f":"IF(様式３!B201=\"\",\"\",様式３!B201)","v":""},{"$f":"IF(様式３!C201=\"\",\"\",様式３!C201)","v":""},{"$f":"IF(様式３!D201=\"\",\"\",様式３!D201)","v":""},{"$f":"IF(様式３!E201=\"\",\"\",様式３!E201)","v":""},{"$f":"IF(様式３!F201=\"\",\"\",様式３!F201)","v":"・"},{"$f":"IF(様式３!G201=\"\",\"\",様式３!G201)","v":""},{"$f":"IF(様式３!H201=\"\",\"\",様式３!H201)","v":"・"},{"$f":"IF(様式３!I201=\"\",\"\",様式３!I201)","v":""},{"$f":"IF(様式３!J201=\"\",\"\",様式３!J201)","v":0},{"$f":"IF(様式３!K201=\"\",\"\",様式３!K201)","v":0},{"$f":"IF(様式３!L201=\"\",\"\",様式３!L201)","v":0},{"$f":"IF(様式３!M201=\"\",\"\",様式３!M201)","v":0},{"$f":"IF(様式３!N201=\"\",\"\",様式３!N201)","v":0},{"$f":"IF(様式３!O201=\"\",\"\",様式３!O201)","v":""}]
[13,"",{"$f":"IF(様式３!B202=\"\",\"\",様式３!B202)","v":""},{"$f":"IF(様式３!C202=\"\",\"\",様式３!C202)","v":""},{"$f":"IF(様式３!D202=\"\",\"\",様式３!D202)","v":""},{"$f":"IF(様式３!E202=\"\",\"\",様式３!E202)","v":""},{"$f":"IF(様式３!F202=\"\",\"\",様式３!F202)","v":"・"},{"$f":"IF(様式３!G202=\"\",\"\",様式３!G202)","v":""},{"$f":"IF(様式３!H202=\"\",\"\",様式３!H202)","v":"・"},{"$f":"IF(様式３!I202=\"\",\"\",様式３!I202)","v":""},{"$f":"IF(様式３!J202=\"\",\"\",様式３!J202)","v":0},{"$f":"IF(様式３!K202=\"\",\"\",様式３!K202)","v":0},{"$f":"IF(様式３!L202=\"\",\"\",様式３!L202)","v":0},{"$f":"IF(様式３!M202=\"\",\"\",様式３!M202)","v":0},{"$f":"IF(様式３!N202=\"\",\"\",様式３!N202)","v":0},{"$f":"IF(様式３!O202=\"\",\"\",様式３!O202)","v":""}]
[14,"",{"$f":"IF(様式３!B203=\"\",\"\",様式３!B203)","v":""},{"$f":"IF(様式３!C203=\"\",\"\",様式３!C203)","v":""},{"$f":"IF(様式３!D203=\"\",\"\",様式３!D203)","v":""},{"$f":"IF(様式３!E203=\"\",\"\",様式３!E203)","v":""},{"$f":"IF(様式３!F203=\"\",\"\",様式３!F203)","v":"・"},{"$f":"IF(様式３!G203=\"\",\"\",様式３!G203)","v":""},{"$f":"IF(様式３!H203=\"\",\"\",様式３!H203)","v":"・"},{"$f":"IF(様式３!I203=\"\",\"\",様式３!I203)","v":""},{"$f":"IF(様式３!J203=\"\",\"\",様式３!J203)","v":0},{"$f":"IF(様式３!K203=\"\",\"\",様式３!K203)","v":0},{"$f":"IF(様式３!L203=\"\",\"\",様式３!L203)","v":0},{"$f":"IF(様式３!M203=\"\",\"\",様式３!M203)","v":0},{"$f":"IF(様式３!N203=\"\",\"\",様式３!N203)","v":0},{"$f":"IF(様式３!O203=\"\",\"\",様式３!O203)","v":""}]
[15,"",{"$f":"IF(様式３!B204=\"\",\"\",様式３!B204)","v":""},{"$f":"IF(様式３!C204=\"\",\"\",様式３!C204)","v":""},{"$f":"IF(様式３!D204=\"\",\"\",様式３!D204)","v":""},{"$f":"IF(様式３!E204=\"\",\"\",様式３!E204)","v":""},{"$f":"IF(様式３!F204=\"\",\"\",様式３!F204)","v":"・"},{"$f":"IF(様式３!G204=\"\",\"\",様式３!G204)","v":""},{"$f":"IF(様式３!H204=\"\",\"\",様式３!H204)","v":"・"},{"$f":"IF(様式３!I204=\"\",\"\",様式３!I204)","v":""},{"$f":"IF(様式３!J204=\"\",\"\",様式３!J204)","v":0},{"$f":"IF(様式３!K204=\"\",\"\",様式３!K204)","v":0},{"$f":"IF(様式３!L204=\"\",\"\",様式３!L204)","v":0},{"$f":"IF(様式３!M204=\"\",\"\",様式３!M204)","v":0},{"$f":"IF(様式３!N204=\"\",\"\",様式３!N204)","v":0},{"$f":"IF(様式３!O204=\"\",\"\",様式３!O204)","v":""}]
[null,{"$f":"B24","v":"※１　学科の欄には、大学科名を記入する。"}]
[null,{"$f":"B25","v":"※２　資格・試験等ランクの欄には、取得個数を記入する。"}]
[null,{"$f":"B26","v":"※３　得点合計欄には、得点の合計を記入する。"}]
[]
[null,"（様式６）",null,null,null,null,null,"（令和",null,{"$f":"+J163","v":0},"年度",null,{"$f":"+M163","v":0},"枚中",{"$f":"+O163+1","v":8},"枚目）"]
[]
[null,"埼玉県高校生専門資格等取得表彰証書発行台帳"]
[null,null,null,null,null,"学 校 名　　　　　　　　　　　",null,null,{"$f":"+I166","v":0},null,null,null,null,null,"学校"]
[null,null,null,null,null,"発行年月日 令和　　",null,null,null,null,{"$f":"+K167","v":0},"年",{"$f":"+M167","v":0},"月",{"$f":"+O167","v":0},"日"]
[null,"発行番号","学年　　　　　　　　　　　　　　　　　　　","学科","整理番号","生  年  月  日",null,null,null,null,"資格・試験等ﾗﾝｸ",null,null,null,"得点\n合計","備考"]
[null,null,null,null,null,null,null,null,null,null,"A","B","C","D"]
[null,null,null,null,null,null,null,null,null,null,6,3,2,1]
[1,{"$f":"IF(E198=\"\",\"\",B185+1)","v":""},{"$f":"IF(様式３!B220=\"\",\"\",様式３!B220)","v":""},{"$f":"IF(様式３!C220=\"\",\"\",様式３!C220)","v":""},{"$f":"IF(様式３!D220=\"\",\"\",様式３!D220)","v":""},{"$f":"IF(様式３!E220=\"\",\"\",様式３!E220)","v":""},{"$f":"IF(様式３!F220=\"\",\"\",様式３!F220)","v":"・"},{"$f":"IF(様式３!G220=\"\",\"\",様式３!G220)","v":""},{"$f":"IF(様式３!H220=\"\",\"\",様式３!H220)","v":"・"},{"$f":"IF(様式３!I220=\"\",\"\",様式３!I220)","v":""},{"$f":"IF(様式３!J220=\"\",\"\",様式３!J220)","v":0},{"$f":"IF(様式３!K220=\"\",\"\",様式３!K220)","v":0},{"$f":"IF(様式３!L220=\"\",\"\",様式３!L220)","v":0},{"$f":"IF(様式３!M220=\"\",\"\",様式３!M220)","v":0},{"$f":"IF(様式３!N220=\"\",\"\",様式３!N220)","v":0},{"$f":"IF(様式３!O220=\"\",\"\",様式３!O220)","v":""}]
[2,{"$f":"IF(E199=\"\",\"\",B198+1)","v":""},{"$f":"IF(様式３!B221=\"\",\"\",様式３!B221)","v":""},{"$f":"IF(様式３!C221=\"\",\"\",様式３!C221)","v":""},{"$f":"IF(様式３!D221=\"\",\"\",様式３!D221)","v":""},{"$f":"IF(様式３!E221=\"\",\"\",様式３!E221)","v":""},{"$f":"IF(様式３!F221=\"\",\"\",様式３!F221)","v":"・"},{"$f":"IF(様式３!G221=\"\",\"\",様式３!G221)","v":""},{"$f":"IF(様式３!H221=\"\",\"\",様式３!H221)","v":"・"},{"$f":"IF(様式３!I221=\"\",\"\",様式３!I221)","v":""},{"$f":"IF(様式３!J221=\"\",\"\",様式３!J221)","v":0},{"$f":"IF(様式３!K221=\"\",\"\",様式３!K221)","v":0},{"$f":"IF(様式３!L221=\"\",\"\",様式３!L221)","v":0},{"$f":"IF(様式３!M221=\"\",\"\",様式３!M221)","v":0},{"$f":"IF(様式３!N221=\"\",\"\",様式３!N221)","v":0},{"$f":"IF(様式３!O221=\"\",\"\",様式３!O221)","v":""}]
[3,"",{"$f":"IF(様式３!B222=\"\",\"\",様式３!B222)","v":""},{"$f":"IF(様式３!C222=\"\",\"\",様式３!C222)","v":""},{"$f":"IF(様式３!D222=\"\",\"\",様式３!D222)","v":""},{"$f":"IF(様式３!E222=\"\",\"\",様式３!E222)","v":""},{"$f":"IF(様式３!F222=\"\",\"\",様式３!F222)","v":"・"},{"$f":"IF(様式３!G222=\"\",\"\",様式３!G222)","v":""},{"$f":"IF(様式３!H222=\"\",\"\",様式３!H222)","v":"・"},{"$f":"IF(様式３!I222=\"\",\"\",様式３!I222)","v":""},{"$f":"IF(様式３!J222=\"\",\"\",様式３!J222)","v":0},{"$f":"IF(様式３!K222=\"\",\"\",様式３!K222)","v":0},{"$f":"IF(様式３!L222=\"\",\"\",様式３!L222)","v":0},{"$f":"IF(様式３!M222=\"\",\"\",様式３!M222)","v":0},{"$f":"IF(様式３!N222=\"\",\"\",様式３!N222)","v":0},{"$f":"IF(様式３!O222=\"\",\"\",様式３!O222)","v":""}]
[4,"",{"$f":"IF(様式３!B223=\"\",\"\",様式３!B223)","v":""},{"$f":"IF(様式３!C223=\"\",\"\",様式３!C223)","v":""},{"$f":"IF(様式３!D223=\"\",\"\",様式３!D223)","v":""},{"$f":"IF(様式３!E223=\"\",\"\",様式３!E223)","v":""},{"$f":"IF(様式３!F223=\"\",\"\",様式３!F223)","v":"・"},{"$f":"IF(様式３!G223=\"\",\"\",様式３!G223)","v":""},{"$f":"IF(様式３!H223=\"\",\"\",様式３!H223)","v":"・"},{"$f":"IF(様式３!I223=\"\",\"\",様式３!I223)","v":""},{"$f":"IF(様式３!J223=\"\",\"\",様式３!J223)","v":0},{"$f":"IF(様式３!K223=\"\",\"\",様式３!K223)","v":0},{"$f":"IF(様式３!L223=\"\",\"\",様式３!L223)","v":0},{"$f":"IF(様式３!M223=\"\",\"\",様式３!M223)","v":0},{"$f":"IF(様式３!N223=\"\",\"\",様式３!N223)","v":0},{"$f":"IF(様式３!O223=\"\",\"\",様式３!O223)","v":""}]
[5,"",{"$f":"IF(様式３!B224=\"\",\"\",様式３!B224)","v":""},{"$f":"IF(様式３!C224=\"\",\"\",様式３!C224)","v":""},{"$f":"IF(様式３!D224=\"\",\"\",様式３!D224)","v":""},{"$f":"IF(様式３!E224=\"\",\"\",様式３!E224)","v":""},{"$f":"IF(様式３!F224=\"\",\"\",様式３!F224)","v":"・"},{"$f":"IF(様式３!G224=\"\",\"\",様式３!G224)","v":""},{"$f":"IF(様式３!H224=\"\",\"\",様式３!H224)","v":"・"},{"$f":"IF(様式３!I224=\"\",\"\",様式３!I224)","v":""},{"$f":"IF(様式３!J224=\"\",\"\",様式３!J224)","v":0},{"$f":"IF(様式３!K224=\"\",\"\",様式３!K224)","v":0},{"$f":"IF(様式３!L224=\"\",\"\",様式３!L224)","v":0},{"$f":"IF(様式３!M224=\"\",\"\",様式３!M224)","v":0},{"$f":"IF(様式３!N224=\"\",\"\",様式３!N224)","v":0},{"$f":"IF(様式３!O224=\"\",\"\",様式３!O224)","v":""}]
[6,"",{"$f":"IF(様式３!B225=\"\",\"\",様式３!B225)","v":""},{"$f":"IF(様式３!C225=\"\",\"\",様式３!C225)","v":""},{"$f":"IF(様式３!D225=\"\",\"\",様式３!D225)","v":""},{"$f":"IF(様式３!E225=\"\",\"\",様式３!E225)","v":""},{"$f":"IF(様式３!F225=\"\",\"\",様式３!F225)","v":"・"},{"$f":"IF(様式３!G225=\"\",\"\",様式３!G225)","v":""},{"$f":"IF(様式３!H225=\"\",\"\",様式３!H225)","v":"・"},{"$f":"IF(様式３!I225=\"\",\"\",様式３!I225)","v":""},{"$f":"IF(様式３!J225=\"\",\"\",様式３!J225)","v":0},{"$f":"IF(様式３!K225=\"\",\"\",様式３!K225)","v":0},{"$f":"IF(様式３!L225=\"\",\"\",様式３!L225)","v":0},{"$f":"IF(様式３!M225=\"\",\"\",様式３!M225)","v":0},{"$f":"IF(様式３!N225=\"\",\"\",様式３!N225)","v":0},{"$f":"IF(様式３!O225=\"\",\"\",様式３!O225)","v":""}]
[7,"",{"$f":"IF(様式３!B226=\"\",\"\",様式３!B226)","v":""},{"$f":"IF(様式３!C226=\"\",\"\",様式３!C226)","v":""},{"$f":"IF(様式３!D226=\"\",\"\",様式３!D226)","v":""},{"$f":"IF(様式３!E226=\"\",\"\",様式３!E226)","v":""},{"$f":"IF(様式３!F226=\"\",\"\",様式３!F226)","v":"・"},{"$f":"IF(様式３!G226=\"\",\"\",様式３!G226)","v":""},{"$f":"IF(様式３!H226=\"\",\"\",様式３!H226)","v":"・"},{"$f":"IF(様式３!I226=\"\",\"\",様式３!I226)","v":""},{"$f":"IF(様式３!J226=\"\",\"\",様式３!J226)","v":0},{"$f":"IF(様式３!K226=\"\",\"\",様式３!K226)","v":0},{"$f":"IF(様式３!L226=\"\",\"\",様式３!L226)","v":0},{"$f":"IF(様式３!M226=\"\",\"\",様式３!M226)","v":0},{"$f":"IF(様式３!N226=\"\",\"\",様式３!N226)","v":0},{"$f":"IF(様式３!O226=\"\",\"\",様式３!O226)","v":""}]
[8,"",{"$f":"IF(様式３!B227=\"\",\"\",様式３!B227)","v":""},{"$f":"IF(様式３!C227=\"\",\"\",様式３!C227)","v":""},{"$f":"IF(様式３!D227=\"\",\"\",様式３!D227)","v":""},{"$f":"IF(様式３!E227=\"\",\"\",様式３!E227)","v":""},{"$f":"IF(様式３!F227=\"\",\"\",様式３!F227)","v":"・"},{"$f":"IF(様式３!G227=\"\",\"\",様式３!G227)","v":""},{"$f":"IF(様式３!H227=\"\",\"\",様式３!H227)","v":"・"},{"$f":"IF(様式３!I227=\"\",\"\",様式３!I227)","v":""},{"$f":"IF(様式３!J227=\"\",\"\",様式３!J227)","v":0},{"$f":"IF(様式３!K227=\"\",\"\",様式３!K227)","v":0},{"$f":"IF(様式３!L227=\"\",\"\",様式３!L227)","v":0},{"$f":"IF(様式３!M227=\"\",\"\",様式３!M227)","v":0},{"$f":"IF(様式３!N227=\"\",\"\",様式３!N227)","v":0},{"$f":"IF(様式３!O227=\"\",\"\",様式３!O227)","v":""}]
[9,"",{"$f":"IF(様式３!B228=\"\",\"\",様式３!B228)","v":""},{"$f":"IF(様式３!C228=\"\",\"\",様式３!C228)","v":""},{"$f":"IF(様式３!D228=\"\",\"\",様式３!D228)","v":""},{"$f":"IF(様式３!E228=\"\",\"\",様式３!E228)","v":""},{"$f":"IF(様式３!F228=\"\",\"\",様式３!F228)","v":"・"},{"$f":"IF(様式３!G228=\"\",\"\",様式３!G228)","v":""},{"$f":"IF(様式３!H228=\"\",\"\",様式３!H228)","v":"・"},{"$f":"IF(様式３!I228=\"\",\"\",様式３!I228)","v":""},{"$f":"IF(様式３!J228=\"\",\"\",様式３!J228)","v":0},{"$f":"IF(様式３!K228=\"\",\"\",様式３!K228)","v":0},{"$f":"IF(様式３!L228=\"\",\"\",様式３!L228)","v":0},{"$f":"IF(様式３!M228=\"\",\"\",様式３!M228)","v":0},{"$f":"IF(様式３!N228=\"\",\"\",様式３!N228)","v":0},{"$f":"IF(様式３!O228=\"\",\"\",様式３!O228)","v":""}]
[10,"",{"$f":"IF(様式３!B229=\"\",\"\",様式３!B229)","v":""},{"$f":"IF(様式３!C229=\"\",\"\",様式３!C229)","v":""},{"$f":"IF(様式３!D229=\"\",\"\",様式３!D229)","v":""},{"$f":"IF(様式３!E229=\"\",\"\",様式３!E229)","v":""},{"$f":"IF(様式３!F229=\"\",\"\",様式３!F229)","v":"・"},{"$f":"IF(様式３!G229=\"\",\"\",様式３!G229)","v":""},{"$f":"IF(様式３!H229=\"\",\"\",様式３!H229)","v":"・"},{"$f":"IF(様式３!I229=\"\",\"\",様式３!I229)","v":""},{"$f":"IF(様式３!J229=\"\",\"\",様式３!J229)","v":0},{"$f":"IF(様式３!K229=\"\",\"\",様式３!K229)","v":0},{"$f":"IF(様式３!L229=\"\",\"\",様式３!L229)","v":0},{"$f":"IF(様式３!M229=\"\",\"\",様式３!M229)","v":0},{"$f":"IF(様式３!N229=\"\",\"\",様式３!N229)","v":0},{"$f":"IF(様式３!O229=\"\",\"\",様式３!O229)","v":""}]
[11,"",{"$f":"IF(様式３!B230=\"\",\"\",様式３!B230)","v":""},{"$f":"IF(様式３!C230=\"\",\"\",様式３!C230)","v":""},{"$f":"IF(様式３!D230=\"\",\"\",様式３!D230)","v":""},{"$f":"IF(様式３!E230=\"\",\"\",様式３!E230)","v":""},{"$f":"IF(様式３!F230=\"\",\"\",様式３!F230)","v":"・"},{"$f":"IF(様式３!G230=\"\",\"\",様式３!G230)","v":""},{"$f":"IF(様式３!H230=\"\",\"\",様式３!H230)","v":"・"},{"$f":"IF(様式３!I230=\"\",\"\",様式３!I230)","v":""},{"$f":"IF(様式３!J230=\"\",\"\",様式３!J230)","v":0},{"$f":"IF(様式３!K230=\"\",\"\",様式３!K230)","v":0},{"$f":"IF(様式３!L230=\"\",\"\",様式３!L230)","v":0},{"$f":"IF(様式３!M230=\"\",\"\",様式３!M230)","v":0},{"$f":"IF(様式３!N230=\"\",\"\",様式３!N230)","v":0},{"$f":"IF(様式３!O230=\"\",\"\",様式３!O230)","v":""}]
[12,"",{"$f":"IF(様式３!B231=\"\",\"\",様式３!B231)","v":""},{"$f":"IF(様式３!C231=\"\",\"\",様式３!C231)","v":""},{"$f":"IF(様式３!D231=\"\",\"\",様式３!D231)","v":""},{"$f":"IF(様式３!E231=\"\",\"\",様式３!E231)","v":""},{"$f":"IF(様式３!F231=\"\",\"\",様式３!F231)","v":"・"},{"$f":"IF(様式３!G231=\"\",\"\",様式３!G231)","v":""},{"$f":"IF(様式３!H231=\"\",\"\",様式３!H231)","v":"・"},{"$f":"IF(様式３!I231=\"\",\"\",様式３!I231)","v":""},{"$f":"IF(様式３!J231=\"\",\"\",様式３!J231)","v":0},{"$f":"IF(様式３!K231=\"\",\"\",様式３!K231)","v":0},{"$f":"IF(様式３!L231=\"\",\"\",様式３!L231)","v":0},{"$f":"IF(様式３!M231=\"\",\"\",様式３!M231)","v":0},{"$f":"IF(様式３!N231=\"\",\"\",様式３!N231)","v":0},{"$f":"IF(様式３!O231=\"\",\"\",様式３!O231)","v":""}]
[13,"",{"$f":"IF(様式３!B232=\"\",\"\",様式３!B232)","v":""},{"$f":"IF(様式３!C232=\"\",\"\",様式３!C232)","v":""},{"$f":"IF(様式３!D232=\"\",\"\",様式３!D232)","v":""},{"$f":"IF(様式３!E232=\"\",\"\",様式３!E232)","v":""},{"$f":"IF(様式３!F232=\"\",\"\",様式３!F232)","v":"・"},{"$f":"IF(様式３!G232=\"\",\"\",様式３!G232)","v":""},{"$f":"IF(様式３!H232=\"\",\"\",様式３!H232)","v":"・"},{"$f":"IF(様式３!I232=\"\",\"\",様式３!I232)","v":""},{"$f":"IF(様式３!J232=\"\",\"\",様式３!J232)","v":0},{"$f":"IF(様式３!K232=\"\",\"\",様式３!K232)","v":0},{"$f":"IF(様式３!L232=\"\",\"\",様式３!L232)","v":0},{"$f":"IF(様式３!M232=\"\",\"\",様式３!M232)","v":0},{"$f":"IF(様式３!N232=\"\",\"\",様式３!N232)","v":0},{"$f":"IF(様式３!O232=\"\",\"\",様式３!O232)","v":""}]
[14,"",{"$f":"IF(様式３!B233=\"\",\"\",様式３!B233)","v":""},{"$f":"IF(様式３!C233=\"\",\"\",様式３!C233)","v":""},{"$f":"IF(様式３!D233=\"\",\"\",様式３!D233)","v":""},{"$f":"IF(様式３!E233=\"\",\"\",様式３!E233)","v":""},{"$f":"IF(様式３!F233=\"\",\"\",様式３!F233)","v":"・"},{"$f":"IF(様式３!G233=\"\",\"\",様式３!G233)","v":""},{"$f":"IF(様式３!H233=\"\",\"\",様式３!H233)","v":"・"},{"$f":"IF(様式３!I233=\"\",\"\",様式３!I233)","v":""},{"$f":"IF(様式３!J233=\"\",\"\",様式３!J233)","v":0},{"$f":"IF(様式３!K233=\"\",\"\",様式３!K233)","v":0},{"$f":"IF(様式３!L233=\"\",\"\",様式３!L233)","v":0},{"$f":"IF(様式３!M233=\"\",\"\",様式３!M233)","v":0},{"$f":"IF(様式３!N233=\"\",\"\",様式３!N233)","v":0},{"$f":"IF(様式３!O233=\"\",\"\",様式３!O233)","v":""}]
[15,"",{"$f":"IF(様式３!B234=\"\",\"\",様式３!B234)","v":""},{"$f":"IF(様式３!C234=\"\",\"\",様式３!C234)","v":""},{"$f":"IF(様式３!D234=\"\",\"\",様式３!D234)","v":""},{"$f":"IF(様式３!E234=\"\",\"\",様式３!E234)","v":""},{"$f":"IF(様式３!F234=\"\",\"\",様式３!F234)","v":"・"},{"$f":"IF(様式３!G234=\"\",\"\",様式３!G234)","v":""},{"$f":"IF(様式３!H234=\"\",\"\",様式３!H234)","v":"・"},{"$f":"IF(様式３!I234=\"\",\"\",様式３!I234)","v":""},{"$f":"IF(様式３!J234=\"\",\"\",様式３!J234)","v":0},{"$f":"IF(様式３!K234=\"\",\"\",様式３!K234)","v":0},{"$f":"IF(様式３!L234=\"\",\"\",様式３!L234)","v":0},{"$f":"IF(様式３!M234=\"\",\"\",様式３!M234)","v":0},{"$f":"IF(様式３!N234=\"\",\"\",様式３!N234)","v":0},{"$f":"IF(様式３!O234=\"\",\"\",様式３!O234)","v":""}]
[null,{"$f":"B24","v":"※１　学科の欄には、大学科名を記入する。"}]
[null,{"$f":"B25","v":"※２　資格・試験等ランクの欄には、取得個数を記入する。"}]
[null,{"$f":"B26","v":"※３　得点合計欄には、得点の合計を記入する。"}]
[]
[null,"（様式６）",null,null,null,null,null,"（令和",null,{"$f":"+J190","v":0},"年度",null,{"$f":"+M190","v":0},"枚中",{"$f":"+O190+1","v":9},"枚目）"]
[]
[null,"埼玉県高校生専門資格等取得表彰証書発行台帳"]
[null,null,null,null,null,"学 校 名　　　　　　　　　　　",null,null,{"$f":"+I193","v":0},null,null,null,null,null,"学校"]
[null,null,null,null,null,"発行年月日 令和　　",null,null,null,null,{"$f":"+K194","v":0},"年",{"$f":"+M194","v":0},"月",{"$f":"+O194","v":0},"日"]
[null,"発行番号","学年　　　　　　　　　　　　　　　　　　　","学科","整理番号","生  年  月  日",null,null,null,null,"資格・試験等ﾗﾝｸ",null,null,null,"得点\n合計","備考"]
[null,null,null,null,null,null,null,null,null,null,"A","B","C","D"]
[null,null,null,null,null,null,null,null,null,null,6,3,2,1]
[1,{"$f":"IF(E225=\"\",\"\",B212+1)","v":""},{"$f":"IF(様式３!B250=\"\",\"\",様式３!B250)","v":""},{"$f":"IF(様式３!C250=\"\",\"\",様式３!C250)","v":""},{"$f":"IF(様式３!D250=\"\",\"\",様式３!D250)","v":""},{"$f":"IF(様式３!E250=\"\",\"\",様式３!E250)","v":""},{"$f":"IF(様式３!F250=\"\",\"\",様式３!F250)","v":"・"},{"$f":"IF(様式３!G250=\"\",\"\",様式３!G250)","v":""},{"$f":"IF(様式３!H250=\"\",\"\",様式３!H250)","v":"・"},{"$f":"IF(様式３!I250=\"\",\"\",様式３!I250)","v":""},{"$f":"IF(様式３!J250=\"\",\"\",様式３!J250)","v":0},{"$f":"IF(様式３!K250=\"\",\"\",様式３!K250)","v":0},{"$f":"IF(様式３!L250=\"\",\"\",様式３!L250)","v":0},{"$f":"IF(様式３!M250=\"\",\"\",様式３!M250)","v":0},{"$f":"IF(様式３!N250=\"\",\"\",様式３!N250)","v":0},{"$f":"IF(様式３!O250=\"\",\"\",様式３!O250)","v":""}]
[2,{"$f":"IF(E226=\"\",\"\",B225+1)","v":""},{"$f":"IF(様式３!B251=\"\",\"\",様式３!B251)","v":""},{"$f":"IF(様式３!C251=\"\",\"\",様式３!C251)","v":""},{"$f":"IF(様式３!D251=\"\",\"\",様式３!D251)","v":""},{"$f":"IF(様式３!E251=\"\",\"\",様式３!E251)","v":""},{"$f":"IF(様式３!F251=\"\",\"\",様式３!F251)","v":"・"},{"$f":"IF(様式３!G251=\"\",\"\",様式３!G251)","v":""},{"$f":"IF(様式３!H251=\"\",\"\",様式３!H251)","v":"・"},{"$f":"IF(様式３!I251=\"\",\"\",様式３!I251)","v":""},{"$f":"IF(様式３!J251=\"\",\"\",様式３!J251)","v":0},{"$f":"IF(様式３!K251=\"\",\"\",様式３!K251)","v":0},{"$f":"IF(様式３!L251=\"\",\"\",様式３!L251)","v":0},{"$f":"IF(様式３!M251=\"\",\"\",様式３!M251)","v":0},{"$f":"IF(様式３!N251=\"\",\"\",様式３!N251)","v":0},{"$f":"IF(様式３!O251=\"\",\"\",様式３!O251)","v":""}]
[3,"",{"$f":"IF(様式３!B252=\"\",\"\",様式３!B252)","v":""},{"$f":"IF(様式３!C252=\"\",\"\",様式３!C252)","v":""},{"$f":"IF(様式３!D252=\"\",\"\",様式３!D252)","v":""},{"$f":"IF(様式３!E252=\"\",\"\",様式３!E252)","v":""},{"$f":"IF(様式３!F252=\"\",\"\",様式３!F252)","v":"・"},{"$f":"IF(様式３!G252=\"\",\"\",様式３!G252)","v":""},{"$f":"IF(様式３!H252=\"\",\"\",様式３!H252)","v":"・"},{"$f":"IF(様式３!I252=\"\",\"\",様式３!I252)","v":""},{"$f":"IF(様式３!J252=\"\",\"\",様式３!J252)","v":0},{"$f":"IF(様式３!K252=\"\",\"\",様式３!K252)","v":0},{"$f":"IF(様式３!L252=\"\",\"\",様式３!L252)","v":0},{"$f":"IF(様式３!M252=\"\",\"\",様式３!M252)","v":0},{"$f":"IF(様式３!N252=\"\",\"\",様式３!N252)","v":0},{"$f":"IF(様式３!O252=\"\",\"\",様式３!O252)","v":""}]
[4,"",{"$f":"IF(様式３!B253=\"\",\"\",様式３!B253)","v":""},{"$f":"IF(様式３!C253=\"\",\"\",様式３!C253)","v":""},{"$f":"IF(様式３!D253=\"\",\"\",様式３!D253)","v":""},{"$f":"IF(様式３!E253=\"\",\"\",様式３!E253)","v":""},{"$f":"IF(様式３!F253=\"\",\"\",様式３!F253)","v":"・"},{"$f":"IF(様式３!G253=\"\",\"\",様式３!G253)","v":""},{"$f":"IF(様式３!H253=\"\",\"\",様式３!H253)","v":"・"},{"$f":"IF(様式３!I253=\"\",\"\",様式３!I253)","v":""},{"$f":"IF(様式３!J253=\"\",\"\",様式３!J253)","v":0},{"$f":"IF(様式３!K253=\"\",\"\",様式３!K253)","v":0},{"$f":"IF(様式３!L253=\"\",\"\",様式３!L253)","v":0},{"$f":"IF(様式３!M253=\"\",\"\",様式３!M253)","v":0},{"$f":"IF(様式３!N253=\"\",\"\",様式３!N253)","v":0},{"$f":"IF(様式３!O253=\"\",\"\",様式３!O253)","v":""}]
[5,"",{"$f":"IF(様式３!B254=\"\",\"\",様式３!B254)","v":""},{"$f":"IF(様式３!C254=\"\",\"\",様式３!C254)","v":""},{"$f":"IF(様式３!D254=\"\",\"\",様式３!D254)","v":""},{"$f":"IF(様式３!E254=\"\",\"\",様式３!E254)","v":""},{"$f":"IF(様式３!F254=\"\",\"\",様式３!F254)","v":"・"},{"$f":"IF(様式３!G254=\"\",\"\",様式３!G254)","v":""},{"$f":"IF(様式３!H254=\"\",\"\",様式３!H254)","v":"・"},{"$f":"IF(様式３!I254=\"\",\"\",様式３!I254)","v":""},{"$f":"IF(様式３!J254=\"\",\"\",様式３!J254)","v":0},{"$f":"IF(様式３!K254=\"\",\"\",様式３!K254)","v":0},{"$f":"IF(様式３!L254=\"\",\"\",様式３!L254)","v":0},{"$f":"IF(様式３!M254=\"\",\"\",様式３!M254)","v":0},{"$f":"IF(様式３!N254=\"\",\"\",様式３!N254)","v":0},{"$f":"IF(様式３!O254=\"\",\"\",様式３!O254)","v":""}]
[6,"",{"$f":"IF(様式３!B255=\"\",\"\",様式３!B255)","v":""},{"$f":"IF(様式３!C255=\"\",\"\",様式３!C255)","v":""},{"$f":"IF(様式３!D255=\"\",\"\",様式３!D255)","v":""},{"$f":"IF(様式３!E255=\"\",\"\",様式３!E255)","v":""},{"$f":"IF(様式３!F255=\"\",\"\",様式３!F255)","v":"・"},{"$f":"IF(様式３!G255=\"\",\"\",様式３!G255)","v":""},{"$f":"IF(様式３!H255=\"\",\"\",様式３!H255)","v":"・"},{"$f":"IF(様式３!I255=\"\",\"\",様式３!I255)","v":""},{"$f":"IF(様式３!J255=\"\",\"\",様式３!J255)","v":0},{"$f":"IF(様式３!K255=\"\",\"\",様式３!K255)","v":0},{"$f":"IF(様式３!L255=\"\",\"\",様式３!L255)","v":0},{"$f":"IF(様式３!M255=\"\",\"\",様式３!M255)","v":0},{"$f":"IF(様式３!N255=\"\",\"\",様式３!N255)","v":0},{"$f":"IF(様式３!O255=\"\",\"\",様式３!O255)","v":""}]
[7,"",{"$f":"IF(様式３!B256=\"\",\"\",様式３!B256)","v":""},{"$f":"IF(様式３!C256=\"\",\"\",様式３!C256)","v":""},{"$f":"IF(様式３!D256=\"\",\"\",様式３!D256)","v":""},{"$f":"IF(様式３!E256=\"\",\"\",様式３!E256)","v":""},{"$f":"IF(様式３!F256=\"\",\"\",様式３!F256)","v":"・"},{"$f":"IF(様式３!G256=\"\",\"\",様式３!G256)","v":""},{"$f":"IF(様式３!H256=\"\",\"\",様式３!H256)","v":"・"},{"$f":"IF(様式３!I256=\"\",\"\",様式３!I256)","v":""},{"$f":"IF(様式３!J256=\"\",\"\",様式３!J256)","v":0},{"$f":"IF(様式３!K256=\"\",\"\",様式３!K256)","v":0},{"$f":"IF(様式３!L256=\"\",\"\",様式３!L256)","v":0},{"$f":"IF(様式３!M256=\"\",\"\",様式３!M256)","v":0},{"$f":"IF(様式３!N256=\"\",\"\",様式３!N256)","v":0},{"$f":"IF(様式３!O256=\"\",\"\",様式３!O256)","v":""}]
[8,"",{"$f":"IF(様式３!B257=\"\",\"\",様式３!B257)","v":""},{"$f":"IF(様式３!C257=\"\",\"\",様式３!C257)","v":""},{"$f":"IF(様式３!D257=\"\",\"\",様式３!D257)","v":""},{"$f":"IF(様式３!E257=\"\",\"\",様式３!E257)","v":""},{"$f":"IF(様式３!F257=\"\",\"\",様式３!F257)","v":"・"},{"$f":"IF(様式３!G257=\"\",\"\",様式３!G257)","v":""},{"$f":"IF(様式３!H257=\"\",\"\",様式３!H257)","v":"・"},{"$f":"IF(様式３!I257=\"\",\"\",様式３!I257)","v":""},{"$f":"IF(様式３!J257=\"\",\"\",様式３!J257)","v":0},{"$f":"IF(様式３!K257=\"\",\"\",様式３!K257)","v":0},{"$f":"IF(様式３!L257=\"\",\"\",様式３!L257)","v":0},{"$f":"IF(様式３!M257=\"\",\"\",様式３!M257)","v":0},{"$f":"IF(様式３!N257=\"\",\"\",様式３!N257)","v":0},{"$f":"IF(様式３!O257=\"\",\"\",様式３!O257)","v":""}]
[9,"",{"$f":"IF(様式３!B258=\"\",\"\",様式３!B258)","v":""},{"$f":"IF(様式３!C258=\"\",\"\",様式３!C258)","v":""},{"$f":"IF(様式３!D258=\"\",\"\",様式３!D258)","v":""},{"$f":"IF(様式３!E258=\"\",\"\",様式３!E258)","v":""},{"$f":"IF(様式３!F258=\"\",\"\",様式３!F258)","v":"・"},{"$f":"IF(様式３!G258=\"\",\"\",様式３!G258)","v":""},{"$f":"IF(様式３!H258=\"\",\"\",様式３!H258)","v":"・"},{"$f":"IF(様式３!I258=\"\",\"\",様式３!I258)","v":""},{"$f":"IF(様式３!J258=\"\",\"\",様式３!J258)","v":0},{"$f":"IF(様式３!K258=\"\",\"\",様式３!K258)","v":0},{"$f":"IF(様式３!L258=\"\",\"\",様式３!L258)","v":0},{"$f":"IF(様式３!M258=\"\",\"\",様式３!M258)","v":0},{"$f":"IF(様式３!N258=\"\",\"\",様式３!N258)","v":0},{"$f":"IF(様式３!O258=\"\",\"\",様式３!O258)","v":""}]
[10,"",{"$f":"IF(様式３!B259=\"\",\"\",様式３!B259)","v":""},{"$f":"IF(様式３!C259=\"\",\"\",様式３!C259)","v":""},{"$f":"IF(様式３!D259=\"\",\"\",様式３!D259)","v":""},{"$f":"IF(様式３!E259=\"\",\"\",様式３!E259)","v":""},{"$f":"IF(様式３!F259=\"\",\"\",様式３!F259)","v":"・"},{"$f":"IF(様式３!G259=\"\",\"\",様式３!G259)","v":""},{"$f":"IF(様式３!H259=\"\",\"\",様式３!H259)","v":"・"},{"$f":"IF(様式３!I259=\"\",\"\",様式３!I259)","v":""},{"$f":"IF(様式３!J259=\"\",\"\",様式３!J259)","v":0},{"$f":"IF(様式３!K259=\"\",\"\",様式３!K259)","v":0},{"$f":"IF(様式３!L259=\"\",\"\",様式３!L259)","v":0},{"$f":"IF(様式３!M259=\"\",\"\",様式３!M259)","v":0},{"$f":"IF(様式３!N259=\"\",\"\",様式３!N259)","v":0},{"$f":"IF(様式３!O259=\"\",\"\",様式３!O259)","v":""}]
[11,"",{"$f":"IF(様式３!B260=\"\",\"\",様式３!B260)","v":""},{"$f":"IF(様式３!C260=\"\",\"\",様式３!C260)","v":""},{"$f":"IF(様式３!D260=\"\",\"\",様式３!D260)","v":""},{"$f":"IF(様式３!E260=\"\",\"\",様式３!E260)","v":""},{"$f":"IF(様式３!F260=\"\",\"\",様式３!F260)","v":"・"},{"$f":"IF(様式３!G260=\"\",\"\",様式３!G260)","v":""},{"$f":"IF(様式３!H260=\"\",\"\",様式３!H260)","v":"・"},{"$f":"IF(様式３!I260=\"\",\"\",様式３!I260)","v":""},{"$f":"IF(様式３!J260=\"\",\"\",様式３!J260)","v":0},{"$f":"IF(様式３!K260=\"\",\"\",様式３!K260)","v":0},{"$f":"IF(様式３!L260=\"\",\"\",様式３!L260)","v":0},{"$f":"IF(様式３!M260=\"\",\"\",様式３!M260)","v":0},{"$f":"IF(様式３!N260=\"\",\"\",様式３!N260)","v":0},{"$f":"IF(様式３!O260=\"\",\"\",様式３!O260)","v":""}]
[12,"",{"$f":"IF(様式３!B261=\"\",\"\",様式３!B261)","v":""},{"$f":"IF(様式３!C261=\"\",\"\",様式３!C261)","v":""},{"$f":"IF(様式３!D261=\"\",\"\",様式３!D261)","v":""},{"$f":"IF(様式３!E261=\"\",\"\",様式３!E261)","v":""},{"$f":"IF(様式３!F261=\"\",\"\",様式３!F261)","v":"・"},{"$f":"IF(様式３!G261=\"\",\"\",様式３!G261)","v":""},{"$f":"IF(様式３!H261=\"\",\"\",様式３!H261)","v":"・"},{"$f":"IF(様式３!I261=\"\",\"\",様式３!I261)","v":""},{"$f":"IF(様式３!J261=\"\",\"\",様式３!J261)","v":0},{"$f":"IF(様式３!K261=\"\",\"\",様式３!K261)","v":0},{"$f":"IF(様式３!L261=\"\",\"\",様式３!L261)","v":0},{"$f":"IF(様式３!M261=\"\",\"\",様式３!M261)","v":0},{"$f":"IF(様式３!N261=\"\",\"\",様式３!N261)","v":0},{"$f":"IF(様式３!O261=\"\",\"\",様式３!O261)","v":""}]
[13,"",{"$f":"IF(様式３!B262=\"\",\"\",様式３!B262)","v":""},{"$f":"IF(様式３!C262=\"\",\"\",様式３!C262)","v":""},{"$f":"IF(様式３!D262=\"\",\"\",様式３!D262)","v":""},{"$f":"IF(様式３!E262=\"\",\"\",様式３!E262)","v":""},{"$f":"IF(様式３!F262=\"\",\"\",様式３!F262)","v":"・"},{"$f":"IF(様式３!G262=\"\",\"\",様式３!G262)","v":""},{"$f":"IF(様式３!H262=\"\",\"\",様式３!H262)","v":"・"},{"$f":"IF(様式３!I262=\"\",\"\",様式３!I262)","v":""},{"$f":"IF(様式３!J262=\"\",\"\",様式３!J262)","v":0},{"$f":"IF(様式３!K262=\"\",\"\",様式３!K262)","v":0},{"$f":"IF(様式３!L262=\"\",\"\",様式３!L262)","v":0},{"$f":"IF(様式３!M262=\"\",\"\",様式３!M262)","v":0},{"$f":"IF(様式３!N262=\"\",\"\",様式３!N262)","v":0},{"$f":"IF(様式３!O262=\"\",\"\",様式３!O262)","v":""}]
[14,"",{"$f":"IF(様式３!B263=\"\",\"\",様式３!B263)","v":""},{"$f":"IF(様式３!C263=\"\",\"\",様式３!C263)","v":""},{"$f":"IF(様式３!D263=\"\",\"\",様式３!D263)","v":""},{"$f":"IF(様式３!E263=\"\",\"\",様式３!E263)","v":""},{"$f":"IF(様式３!F263=\"\",\"\",様式３!F263)","v":"・"},{"$f":"IF(様式３!G263=\"\",\"\",様式３!G263)","v":""},{"$f":"IF(様式３!H263=\"\",\"\",様式３!H263)","v":"・"},{"$f":"IF(様式３!I263=\"\",\"\",様式３!I263)","v":""},{"$f":"IF(様式３!J263=\"\",\"\",様式３!J263)","v":0},{"$f":"IF(様式３!K263=\"\",\"\",様式３!K263)","v":0},{"$f":"IF(様式３!L263=\"\",\"\",様式３!L263)","v":0},{"$f":"IF(様式３!M263=\"\",\"\",様式３!M263)","v":0},{"$f":"IF(様式３!N263=\"\",\"\",様式３!N263)","v":0},{"$f":"IF(様式３!O263=\"\",\"\",様式３!O263)","v":""}]
[15,"",{"$f":"IF(様式３!B264=\"\",\"\",様式３!B264)","v":""},{"$f":"IF(様式３!C264=\"\",\"\",様式３!C264)","v":""},{"$f":"IF(様式３!D264=\"\",\"\",様式３!D264)","v":""},{"$f":"IF(様式３!E264=\"\",\"\",様式３!E264)","v":""},{"$f":"IF(様式３!F264=\"\",\"\",様式３!F264)","v":"・"},{"$f":"IF(様式３!G264=\"\",\"\",様式３!G264)","v":""},{"$f":"IF(様式３!H264=\"\",\"\",様式３!H264)","v":"・"},{"$f":"IF(様式３!I264=\"\",\"\",様式３!I264)","v":""},{"$f":"IF(様式３!J264=\"\",\"\",様式３!J264)","v":0},{"$f":"IF(様式３!K264=\"\",\"\",様式３!K264)","v":0},{"$f":"IF(様式３!L264=\"\",\"\",様式３!L264)","v":0},{"$f":"IF(様式３!M264=\"\",\"\",様式３!M264)","v":0},{"$f":"IF(様式３!N264=\"\",\"\",様式３!N264)","v":0},{"$f":"IF(様式３!O264=\"\",\"\",様式３!O264)","v":""}]
[null,{"$f":"B24","v":"※１　学科の欄には、大学科名を記入する。"}]
[null,{"$f":"B25","v":"※２　資格・試験等ランクの欄には、取得個数を記入する。"}]
[null,{"$f":"B26","v":"※３　得点合計欄には、得点の合計を記入する。"}]
[]
[null,"（様式６）",null,null,null,null,null,"（令和",null,{"$f":"+J217","v":0},"年度",null,{"$f":"+M217","v":0},"枚中",{"$f":"+O217+1","v":10},"枚目）"]
[]
[null,"埼玉県高校生専門資格等取得表彰証書発行台帳"]
[null,null,null,null,null,"学 校 名　　　　　　　　　　　",null,null,{"$f":"+I220","v":0},null,null,null,null,null,"学校"]
[null,null,null,null,null,"発行年月日 令和　　",null,null,null,null,{"$f":"+K221","v":0},"年",{"$f":"+M221","v":0},"月",{"$f":"+O221","v":0},"日"]
[null,"発行番号","学年　　　　　　　　　　　　　　　　　　　","学科","整理番号","生  年  月  日",null,null,null,null,"資格・試験等ﾗﾝｸ",null,null,null,"得点\n合計","備考"]
[null,null,null,null,null,null,null,null,null,null,"A","B","C","D"]
[null,null,null,null,null,null,null,null,null,null,6,3,2,1]
[1,{"$f":"IF(E252=\"\",\"\",B239+1)","v":""},{"$f":"IF(様式３!B280=\"\",\"\",様式３!B280)","v":""},{"$f":"IF(様式３!C280=\"\",\"\",様式３!C280)","v":""},{"$f":"IF(様式３!D280=\"\",\"\",様式３!D280)","v":""},{"$f":"IF(様式３!E280=\"\",\"\",様式３!E280)","v":""},{"$f":"IF(様式３!F280=\"\",\"\",様式３!F280)","v":"・"},{"$f":"IF(様式３!G280=\"\",\"\",様式３!G280)","v":""},{"$f":"IF(様式３!H280=\"\",\"\",様式３!H280)","v":"・"},{"$f":"IF(様式３!I280=\"\",\"\",様式３!I280)","v":""},{"$f":"IF(様式３!J280=\"\",\"\",様式３!J280)","v":0},{"$f":"IF(様式３!K280=\"\",\"\",様式３!K280)","v":0},{"$f":"IF(様式３!L280=\"\",\"\",様式３!L280)","v":0},{"$f":"IF(様式３!M280=\"\",\"\",様式３!M280)","v":0},{"$f":"IF(様式３!N280=\"\",\"\",様式３!N280)","v":0},{"$f":"IF(様式３!O280=\"\",\"\",様式３!O280)","v":""}]
[2,{"$f":"IF(E253=\"\",\"\",B252+1)","v":""},{"$f":"IF(様式３!B281=\"\",\"\",様式３!B281)","v":""},{"$f":"IF(様式３!C281=\"\",\"\",様式３!C281)","v":""},{"$f":"IF(様式３!D281=\"\",\"\",様式３!D281)","v":""},{"$f":"IF(様式３!E281=\"\",\"\",様式３!E281)","v":""},{"$f":"IF(様式３!F281=\"\",\"\",様式３!F281)","v":"・"},{"$f":"IF(様式３!G281=\"\",\"\",様式３!G281)","v":""},{"$f":"IF(様式３!H281=\"\",\"\",様式３!H281)","v":"・"},{"$f":"IF(様式３!I281=\"\",\"\",様式３!I281)","v":""},{"$f":"IF(様式３!J281=\"\",\"\",様式３!J281)","v":0},{"$f":"IF(様式３!K281=\"\",\"\",様式３!K281)","v":0},{"$f":"IF(様式３!L281=\"\",\"\",様式３!L281)","v":0},{"$f":"IF(様式３!M281=\"\",\"\",様式３!M281)","v":0},{"$f":"IF(様式３!N281=\"\",\"\",様式３!N281)","v":0},{"$f":"IF(様式３!O281=\"\",\"\",様式３!O281)","v":""}]
[3,"",{"$f":"IF(様式３!B282=\"\",\"\",様式３!B282)","v":""},{"$f":"IF(様式３!C282=\"\",\"\",様式３!C282)","v":""},{"$f":"IF(様式３!D282=\"\",\"\",様式３!D282)","v":""},{"$f":"IF(様式３!E282=\"\",\"\",様式３!E282)","v":""},{"$f":"IF(様式３!F282=\"\",\"\",様式３!F282)","v":"・"},{"$f":"IF(様式３!G282=\"\",\"\",様式３!G282)","v":""},{"$f":"IF(様式３!H282=\"\",\"\",様式３!H282)","v":"・"},{"$f":"IF(様式３!I282=\"\",\"\",様式３!I282)","v":""},{"$f":"IF(様式３!J282=\"\",\"\",様式３!J282)","v":0},{"$f":"IF(様式３!K282=\"\",\"\",様式３!K282)","v":0},{"$f":"IF(様式３!L282=\"\",\"\",様式３!L282)","v":0},{"$f":"IF(様式３!M282=\"\",\"\",様式３!M282)","v":0},{"$f":"IF(様式３!N282=\"\",\"\",様式３!N282)","v":0},{"$f":"IF(様式３!O282=\"\",\"\",様式３!O282)","v":""}]
[4,"",{"$f":"IF(様式３!B283=\"\",\"\",様式３!B283)","v":""},{"$f":"IF(様式３!C283=\"\",\"\",様式３!C283)","v":""},{"$f":"IF(様式３!D283=\"\",\"\",様式３!D283)","v":""},{"$f":"IF(様式３!E283=\"\",\"\",様式３!E283)","v":""},{"$f":"IF(様式３!F283=\"\",\"\",様式３!F283)","v":"・"},{"$f":"IF(様式３!G283=\"\",\"\",様式３!G283)","v":""},{"$f":"IF(様式３!H283=\"\",\"\",様式３!H283)","v":"・"},{"$f":"IF(様式３!I283=\"\",\"\",様式３!I283)","v":""},{"$f":"IF(様式３!J283=\"\",\"\",様式３!J283)","v":0},{"$f":"IF(様式３!K283=\"\",\"\",様式３!K283)","v":0},{"$f":"IF(様式３!L283=\"\",\"\",様式３!L283)","v":0},{"$f":"IF(様式３!M283=\"\",\"\",様式３!M283)","v":0},{"$f":"IF(様式３!N283=\"\",\"\",様式３!N283)","v":0},{"$f":"IF(様式３!O283=\"\",\"\",様式３!O283)","v":""}]
[5,"",{"$f":"IF(様式３!B284=\"\",\"\",様式３!B284)","v":""},{"$f":"IF(様式３!C284=\"\",\"\",様式３!C284)","v":""},{"$f":"IF(様式３!D284=\"\",\"\",様式３!D284)","v":""},{"$f":"IF(様式３!E284=\"\",\"\",様式３!E284)","v":""},{"$f":"IF(様式３!F284=\"\",\"\",様式３!F284)","v":"・"},{"$f":"IF(様式３!G284=\"\",\"\",様式３!G284)","v":""},{"$f":"IF(様式３!H284=\"\",\"\",様式３!H284)","v":"・"},{"$f":"IF(様式３!I284=\"\",\"\",様式３!I284)","v":""},{"$f":"IF(様式３!J284=\"\",\"\",様式３!J284)","v":0},{"$f":"IF(様式３!K284=\"\",\"\",様式３!K284)","v":0},{"$f":"IF(様式３!L284=\"\",\"\",様式３!L284)","v":0},{"$f":"IF(様式３!M284=\"\",\"\",様式３!M284)","v":0},{"$f":"IF(様式３!N284=\"\",\"\",様式３!N284)","v":0},{"$f":"IF(様式３!O284=\"\",\"\",様式３!O284)","v":""}]
[6,"",{"$f":"IF(様式３!B285=\"\",\"\",様式３!B285)","v":""},{"$f":"IF(様式３!C285=\"\",\"\",様式３!C285)","v":""},{"$f":"IF(様式３!D285=\"\",\"\",様式３!D285)","v":""},{"$f":"IF(様式３!E285=\"\",\"\",様式３!E285)","v":""},{"$f":"IF(様式３!F285=\"\",\"\",様式３!F285)","v":"・"},{"$f":"IF(様式３!G285=\"\",\"\",様式３!G285)","v":""},{"$f":"IF(様式３!H285=\"\",\"\",様式３!H285)","v":"・"},{"$f":"IF(様式３!I285=\"\",\"\",様式３!I285)","v":""},{"$f":"IF(様式３!J285=\"\",\"\",様式３!J285)","v":0},{"$f":"IF(様式３!K285=\"\",\"\",様式３!K285)","v":0},{"$f":"IF(様式３!L285=\"\",\"\",様式３!L285)","v":0},{"$f":"IF(様式３!M285=\"\",\"\",様式３!M285)","v":0},{"$f":"IF(様式３!N285=\"\",\"\",様式３!N285)","v":0},{"$f":"IF(様式３!O285=\"\",\"\",様式３!O285)","v":""}]
[7,"",{"$f":"IF(様式３!B286=\"\",\"\",様式３!B286)","v":""},{"$f":"IF(様式３!C286=\"\",\"\",様式３!C286)","v":""},{"$f":"IF(様式３!D286=\"\",\"\",様式３!D286)","v":""},{"$f":"IF(様式３!E286=\"\",\"\",様式３!E286)","v":""},{"$f":"IF(様式３!F286=\"\",\"\",様式３!F286)","v":"・"},{"$f":"IF(様式３!G286=\"\",\"\",様式３!G286)","v":""},{"$f":"IF(様式３!H286=\"\",\"\",様式３!H286)","v":"・"},{"$f":"IF(様式３!I286=\"\",\"\",様式３!I286)","v":""},{"$f":"IF(様式３!J286=\"\",\"\",様式３!J286)","v":0},{"$f":"IF(様式３!K286=\"\",\"\",様式３!K286)","v":0},{"$f":"IF(様式３!L286=\"\",\"\",様式３!L286)","v":0},{"$f":"IF(様式３!M286=\"\",\"\",様式３!M286)","v":0},{"$f":"IF(様式３!N286=\"\",\"\",様式３!N286)","v":0},{"$f":"IF(様式３!O286=\"\",\"\",様式３!O286)","v":""}]
[8,"",{"$f":"IF(様式３!B287=\"\",\"\",様式３!B287)","v":""},{"$f":"IF(様式３!C287=\"\",\"\",様式３!C287)","v":""},{"$f":"IF(様式３!D287=\"\",\"\",様式３!D287)","v":""},{"$f":"IF(様式３!E287=\"\",\"\",様式３!E287)","v":""},{"$f":"IF(様式３!F287=\"\",\"\",様式３!F287)","v":"・"},{"$f":"IF(様式３!G287=\"\",\"\",様式３!G287)","v":""},{"$f":"IF(様式３!H287=\"\",\"\",様式３!H287)","v":"・"},{"$f":"IF(様式３!I287=\"\",\"\",様式３!I287)","v":""},{"$f":"IF(様式３!J287=\"\",\"\",様式３!J287)","v":0},{"$f":"IF(様式３!K287=\"\",\"\",様式３!K287)","v":0},{"$f":"IF(様式３!L287=\"\",\"\",様式３!L287)","v":0},{"$f":"IF(様式３!M287=\"\",\"\",様式３!M287)","v":0},{"$f":"IF(様式３!N287=\"\",\"\",様式３!N287)","v":0},{"$f":"IF(様式３!O287=\"\",\"\",様式３!O287)","v":""}]
[9,"",{"$f":"IF(様式３!B288=\"\",\"\",様式３!B288)","v":""},{"$f":"IF(様式３!C288=\"\",\"\",様式３!C288)","v":""},{"$f":"IF(様式３!D288=\"\",\"\",様式３!D288)","v":""},{"$f":"IF(様式３!E288=\"\",\"\",様式３!E288)","v":""},{"$f":"IF(様式３!F288=\"\",\"\",様式３!F288)","v":"・"},{"$f":"IF(様式３!G288=\"\",\"\",様式３!G288)","v":""},{"$f":"IF(様式３!H288=\"\",\"\",様式３!H288)","v":"・"},{"$f":"IF(様式３!I288=\"\",\"\",様式３!I288)","v":""},{"$f":"IF(様式３!J288=\"\",\"\",様式３!J288)","v":0},{"$f":"IF(様式３!K288=\"\",\"\",様式３!K288)","v":0},{"$f":"IF(様式３!L288=\"\",\"\",様式３!L288)","v":0},{"$f":"IF(様式３!M288=\"\",\"\",様式３!M288)","v":0},{"$f":"IF(様式３!N288=\"\",\"\",様式３!N288)","v":0},{"$f":"IF(様式３!O288=\"\",\"\",様式３!O288)","v":""}]
[10,"",{"$f":"IF(様式３!B289=\"\",\"\",様式３!B289)","v":""},{"$f":"IF(様式３!C289=\"\",\"\",様式３!C289)","v":""},{"$f":"IF(様式３!D289=\"\",\"\",様式３!D289)","v":""},{"$f":"IF(様式３!E289=\"\",\"\",様式３!E289)","v":""},{"$f":"IF(様式３!F289=\"\",\"\",様式３!F289)","v":"・"},{"$f":"IF(様式３!G289=\"\",\"\",様式３!G289)","v":""},{"$f":"IF(様式３!H289=\"\",\"\",様式３!H289)","v":"・"},{"$f":"IF(様式３!I289=\"\",\"\",様式３!I289)","v":""},{"$f":"IF(様式３!J289=\"\",\"\",様式３!J289)","v":0},{"$f":"IF(様式３!K289=\"\",\"\",様式３!K289)","v":0},{"$f":"IF(様式３!L289=\"\",\"\",様式３!L289)","v":0},{"$f":"IF(様式３!M289=\"\",\"\",様式３!M289)","v":0},{"$f":"IF(様式３!N289=\"\",\"\",様式３!N289)","v":0},{"$f":"IF(様式３!O289=\"\",\"\",様式３!O289)","v":""}]
[11,"",{"$f":"IF(様式３!B290=\"\",\"\",様式３!B290)","v":""},{"$f":"IF(様式３!C290=\"\",\"\",様式３!C290)","v":""},{"$f":"IF(様式３!D290=\"\",\"\",様式３!D290)","v":""},{"$f":"IF(様式３!E290=\"\",\"\",様式３!E290)","v":""},{"$f":"IF(様式３!F290=\"\",\"\",様式３!F290)","v":"・"},{"$f":"IF(様式３!G290=\"\",\"\",様式３!G290)","v":""},{"$f":"IF(様式３!H290=\"\",\"\",様式３!H290)","v":"・"},{"$f":"IF(様式３!I290=\"\",\"\",様式３!I290)","v":""},{"$f":"IF(様式３!J290=\"\",\"\",様式３!J290)","v":0},{"$f":"IF(様式３!K290=\"\",\"\",様式３!K290)","v":0},{"$f":"IF(様式３!L290=\"\",\"\",様式３!L290)","v":0},{"$f":"IF(様式３!M290=\"\",\"\",様式３!M290)","v":0},{"$f":"IF(様式３!N290=\"\",\"\",様式３!N290)","v":0},{"$f":"IF(様式３!O290=\"\",\"\",様式３!O290)","v":""}]
[12,"",{"$f":"IF(様式３!B291=\"\",\"\",様式３!B291)","v":""},{"$f":"IF(様式３!C291=\"\",\"\",様式３!C291)","v":""},{"$f":"IF(様式３!D291=\"\",\"\",様式３!D291)","v":""},{"$f":"IF(様式３!E291=\"\",\"\",様式３!E291)","v":""},{"$f":"IF(様式３!F291=\"\",\"\",様式３!F291)","v":"・"},{"$f":"IF(様式３!G291=\"\",\"\",様式３!G291)","v":""},{"$f":"IF(様式３!H291=\"\",\"\",様式３!H291)","v":"・"},{"$f":"IF(様式３!I291=\"\",\"\",様式３!I291)","v":""},{"$f":"IF(様式３!J291=\"\",\"\",様式３!J291)","v":0},{"$f":"IF(様式３!K291=\"\",\"\",様式３!K291)","v":0},{"$f":"IF(様式３!L291=\"\",\"\",様式３!L291)","v":0},{"$f":"IF(様式３!M291=\"\",\"\",様式３!M291)","v":0},{"$f":"IF(様式３!N291=\"\",\"\",様式３!N291)","v":0},{"$f":"IF(様式３!O291=\"\",\"\",様式３!O291)","v":""}]
[13,"",{"$f":"IF(様式３!B292=\"\",\"\",様式３!B292)","v":""},{"$f":"IF(様式３!C292=\"\",\"\",様式３!C292)","v":""},{"$f":"IF(様式３!D292=\"\",\"\",様式３!D292)","v":""},{"$f":"IF(様式３!E292=\"\",\"\",様式３!E292)","v":""},{"$f":"IF(様式３!F292=\"\",\"\",様式３!F292)","v":"・"},{"$f":"IF(様式３!G292=\"\",\"\",様式３!G292)","v":""},{"$f":"IF(様式３!H292=\"\",\"\",様式３!H292)","v":"・"},{"$f":"IF(様式３!I292=\"\",\"\",様式３!I292)","v":""},{"$f":"IF(様式３!J292=\"\",\"\",様式３!J292)","v":0},{"$f":"IF(様式３!K292=\"\",\"\",様式３!K292)","v":0},{"$f":"IF(様式３!L292=\"\",\"\",様式３!L292)","v":0},{"$f":"IF(様式３!M292=\"\",\"\",様式３!M292)","v":0},{"$f":"IF(様式３!N292=\"\",\"\",様式３!N292)","v":0},{"$f":"IF(様式３!O292=\"\",\"\",様式３!O292)","v":""}]
[14,"",{"$f":"IF(様式３!B293=\"\",\"\",様式３!B293)","v":""},{"$f":"IF(様式３!C293=\"\",\"\",様式３!C293)","v":""},{"$f":"IF(様式３!D293=\"\",\"\",様式３!D293)","v":""},{"$f":"IF(様式３!E293=\"\",\"\",様式３!E293)","v":""},{"$f":"IF(様式３!F293=\"\",\"\",様式３!F293)","v":"・"},{"$f":"IF(様式３!G293=\"\",\"\",様式３!G293)","v":""},{"$f":"IF(様式３!H293=\"\",\"\",様式３!H293)","v":"・"},{"$f":"IF(様式３!I293=\"\",\"\",様式３!I293)","v":""},{"$f":"IF(様式３!J293=\"\",\"\",様式３!J293)","v":0},{"$f":"IF(様式３!K293=\"\",\"\",様式３!K293)","v":0},{"$f":"IF(様式３!L293=\"\",\"\",様式３!L293)","v":0},{"$f":"IF(様式３!M293=\"\",\"\",様式３!M293)","v":0},{"$f":"IF(様式３!N293=\"\",\"\",様式３!N293)","v":0},{"$f":"IF(様式３!O293=\"\",\"\",様式３!O293)","v":""}]
[15,"",{"$f":"IF(様式３!B294=\"\",\"\",様式３!B294)","v":""},{"$f":"IF(様式３!C294=\"\",\"\",様式３!C294)","v":""},{"$f":"IF(様式３!D294=\"\",\"\",様式３!D294)","v":""},{"$f":"IF(様式３!E294=\"\",\"\",様式３!E294)","v":""},{"$f":"IF(様式３!F294=\"\",\"\",様式３!F294)","v":"・"},{"$f":"IF(様式３!G294=\"\",\"\",様式３!G294)","v":""},{"$f":"IF(様式３!H294=\"\",\"\",様式３!H294)","v":"・"},{"$f":"IF(様式３!I294=\"\",\"\",様式３!I294)","v":""},{"$f":"IF(様式３!J294=\"\",\"\",様式３!J294)","v":0},{"$f":"IF(様式３!K294=\"\",\"\",様式３!K294)","v":0},{"$f":"IF(様式３!L294=\"\",\"\",様式３!L294)","v":0},{"$f":"IF(様式３!M294=\"\",\"\",様式３!M294)","v":0},{"$f":"IF(様式３!N294=\"\",\"\",様式３!N294)","v":0},{"$f":"IF(様式３!O294=\"\",\"\",様式３!O294)","v":""}]
[null,{"$f":"B24","v":"※１　学科の欄には、大学科名を記入する。"}]
[null,{"$f":"B25","v":"※２　資格・試験等ランクの欄には、取得個数を記入する。"}]
[null,{"$f":"B26","v":"※３　得点合計欄には、得点の合計を記入する。"}]
[]
[null,"（様式６）",null,null,null,null,null,"（令和",null,{"$f":"+J244","v":0},"年度",null,{"$f":"+M244","v":0},"枚中",{"$f":"+O244+1","v":11},"枚目）"]
[]
[null,"埼玉県高校生専門資格等取得表彰証書発行台帳"]
[null,null,null,null,null,"学 校 名　　　　　　　　　　　",null,null,{"$f":"+I247","v":0},null,null,null,null,null,"学校"]
[null,null,null,null,null,"発行年月日 令和　　",null,null,null,null,{"$f":"+K248","v":0},"年",{"$f":"+M248","v":0},"月",{"$f":"+O248","v":0},"日"]
[null,"発行番号","学年　　　　　　　　　　　　　　　　　　　","学科","整理番号","生  年  月  日",null,null,null,null,"資格・試験等ﾗﾝｸ",null,null,null,"得点\n合計","備考"]
[null,null,null,null,null,null,null,null,null,null,"A","B","C","D"]
[null,null,null,null,null,null,null,null,null,null,6,3,2,1]
[1,{"$f":"IF(E279=\"\",\"\",B266+1)","v":""},{"$f":"IF(様式３!B310=\"\",\"\",様式３!B310)","v":""},{"$f":"IF(様式３!C310=\"\",\"\",様式３!C310)","v":""},{"$f":"IF(様式３!D310=\"\",\"\",様式３!D310)","v":""},{"$f":"IF(様式３!E310=\"\",\"\",様式３!E310)","v":""},{"$f":"IF(様式３!F310=\"\",\"\",様式３!F310)","v":"・"},{"$f":"IF(様式３!G310=\"\",\"\",様式３!G310)","v":""},{"$f":"IF(様式３!H310=\"\",\"\",様式３!H310)","v":"・"},{"$f":"IF(様式３!I310=\"\",\"\",様式３!I310)","v":""},{"$f":"IF(様式３!J310=\"\",\"\",様式３!J310)","v":0},{"$f":"IF(様式３!K310=\"\",\"\",様式３!K310)","v":0},{"$f":"IF(様式３!L310=\"\",\"\",様式３!L310)","v":0},{"$f":"IF(様式３!M310=\"\",\"\",様式３!M310)","v":0},{"$f":"IF(様式３!N310=\"\",\"\",様式３!N310)","v":0},{"$f":"IF(様式３!O310=\"\",\"\",様式３!O310)","v":""}]
[2,{"$f":"IF(E280=\"\",\"\",B279+1)","v":""},{"$f":"IF(様式３!B311=\"\",\"\",様式３!B311)","v":""},{"$f":"IF(様式３!C311=\"\",\"\",様式３!C311)","v":""},{"$f":"IF(様式３!D311=\"\",\"\",様式３!D311)","v":""},{"$f":"IF(様式３!E311=\"\",\"\",様式３!E311)","v":""},{"$f":"IF(様式３!F311=\"\",\"\",様式３!F311)","v":"・"},{"$f":"IF(様式３!G311=\"\",\"\",様式３!G311)","v":""},{"$f":"IF(様式３!H311=\"\",\"\",様式３!H311)","v":"・"},{"$f":"IF(様式３!I311=\"\",\"\",様式３!I311)","v":""},{"$f":"IF(様式３!J311=\"\",\"\",様式３!J311)","v":0},{"$f":"IF(様式３!K311=\"\",\"\",様式３!K311)","v":0},{"$f":"IF(様式３!L311=\"\",\"\",様式３!L311)","v":0},{"$f":"IF(様式３!M311=\"\",\"\",様式３!M311)","v":0},{"$f":"IF(様式３!N311=\"\",\"\",様式３!N311)","v":0},{"$f":"IF(様式３!O311=\"\",\"\",様式３!O311)","v":""}]
[3,"",{"$f":"IF(様式３!B312=\"\",\"\",様式３!B312)","v":""},{"$f":"IF(様式３!C312=\"\",\"\",様式３!C312)","v":""},{"$f":"IF(様式３!D312=\"\",\"\",様式３!D312)","v":""},{"$f":"IF(様式３!E312=\"\",\"\",様式３!E312)","v":""},{"$f":"IF(様式３!F312=\"\",\"\",様式３!F312)","v":"・"},{"$f":"IF(様式３!G312=\"\",\"\",様式３!G312)","v":""},{"$f":"IF(様式３!H312=\"\",\"\",様式３!H312)","v":"・"},{"$f":"IF(様式３!I312=\"\",\"\",様式３!I312)","v":""},{"$f":"IF(様式３!J312=\"\",\"\",様式３!J312)","v":0},{"$f":"IF(様式３!K312=\"\",\"\",様式３!K312)","v":0},{"$f":"IF(様式３!L312=\"\",\"\",様式３!L312)","v":0},{"$f":"IF(様式３!M312=\"\",\"\",様式３!M312)","v":0},{"$f":"IF(様式３!N312=\"\",\"\",様式３!N312)","v":0},{"$f":"IF(様式３!O312=\"\",\"\",様式３!O312)","v":""}]
[4,"",{"$f":"IF(様式３!B313=\"\",\"\",様式３!B313)","v":""},{"$f":"IF(様式３!C313=\"\",\"\",様式３!C313)","v":""},{"$f":"IF(様式３!D313=\"\",\"\",様式３!D313)","v":""},{"$f":"IF(様式３!E313=\"\",\"\",様式３!E313)","v":""},{"$f":"IF(様式３!F313=\"\",\"\",様式３!F313)","v":"・"},{"$f":"IF(様式３!G313=\"\",\"\",様式３!G313)","v":""},{"$f":"IF(様式３!H313=\"\",\"\",様式３!H313)","v":"・"},{"$f":"IF(様式３!I313=\"\",\"\",様式３!I313)","v":""},{"$f":"IF(様式３!J313=\"\",\"\",様式３!J313)","v":0},{"$f":"IF(様式３!K313=\"\",\"\",様式３!K313)","v":0},{"$f":"IF(様式３!L313=\"\",\"\",様式３!L313)","v":0},{"$f":"IF(様式３!M313=\"\",\"\",様式３!M313)","v":0},{"$f":"IF(様式３!N313=\"\",\"\",様式３!N313)","v":0},{"$f":"IF(様式３!O313=\"\",\"\",様式３!O313)","v":""}]
[5,"",{"$f":"IF(様式３!B314=\"\",\"\",様式３!B314)","v":""},{"$f":"IF(様式３!C314=\"\",\"\",様式３!C314)","v":""},{"$f":"IF(様式３!D314=\"\",\"\",様式３!D314)","v":""},{"$f":"IF(様式３!E314=\"\",\"\",様式３!E314)","v":""},{"$f":"IF(様式３!F314=\"\",\"\",様式３!F314)","v":"・"},{"$f":"IF(様式３!G314=\"\",\"\",様式３!G314)","v":""},{"$f":"IF(様式３!H314=\"\",\"\",様式３!H314)","v":"・"},{"$f":"IF(様式３!I314=\"\",\"\",様式３!I314)","v":""},{"$f":"IF(様式３!J314=\"\",\"\",様式３!J314)","v":0},{"$f":"IF(様式３!K314=\"\",\"\",様式３!K314)","v":0},{"$f":"IF(様式３!L314=\"\",\"\",様式３!L314)","v":0},{"$f":"IF(様式３!M314=\"\",\"\",様式３!M314)","v":0},{"$f":"IF(様式３!N314=\"\",\"\",様式３!N314)","v":0},{"$f":"IF(様式３!O314=\"\",\"\",様式３!O314)","v":""}]
[6,"",{"$f":"IF(様式３!B315=\"\",\"\",様式３!B315)","v":""},{"$f":"IF(様式３!C315=\"\",\"\",様式３!C315)","v":""},{"$f":"IF(様式３!D315=\"\",\"\",様式３!D315)","v":""},{"$f":"IF(様式３!E315=\"\",\"\",様式３!E315)","v":""},{"$f":"IF(様式３!F315=\"\",\"\",様式３!F315)","v":"・"},{"$f":"IF(様式３!G315=\"\",\"\",様式３!G315)","v":""},{"$f":"IF(様式３!H315=\"\",\"\",様式３!H315)","v":"・"},{"$f":"IF(様式３!I315=\"\",\"\",様式３!I315)","v":""},{"$f":"IF(様式３!J315=\"\",\"\",様式３!J315)","v":0},{"$f":"IF(様式３!K315=\"\",\"\",様式３!K315)","v":0},{"$f":"IF(様式３!L315=\"\",\"\",様式３!L315)","v":0},{"$f":"IF(様式３!M315=\"\",\"\",様式３!M315)","v":0},{"$f":"IF(様式３!N315=\"\",\"\",様式３!N315)","v":0},{"$f":"IF(様式３!O315=\"\",\"\",様式３!O315)","v":""}]
[7,"",{"$f":"IF(様式３!B316=\"\",\"\",様式３!B316)","v":""},{"$f":"IF(様式３!C316=\"\",\"\",様式３!C316)","v":""},{"$f":"IF(様式３!D316=\"\",\"\",様式３!D316)","v":""},{"$f":"IF(様式３!E316=\"\",\"\",様式３!E316)","v":""},{"$f":"IF(様式３!F316=\"\",\"\",様式３!F316)","v":"・"},{"$f":"IF(様式３!G316=\"\",\"\",様式３!G316)","v":""},{"$f":"IF(様式３!H316=\"\",\"\",様式３!H316)","v":"・"},{"$f":"IF(様式３!I316=\"\",\"\",様式３!I316)","v":""},{"$f":"IF(様式３!J316=\"\",\"\",様式３!J316)","v":0},{"$f":"IF(様式３!K316=\"\",\"\",様式３!K316)","v":0},{"$f":"IF(様式３!L316=\"\",\"\",様式３!L316)","v":0},{"$f":"IF(様式３!M316=\"\",\"\",様式３!M316)","v":0},{"$f":"IF(様式３!N316=\"\",\"\",様式３!N316)","v":0},{"$f":"IF(様式３!O316=\"\",\"\",様式３!O316)","v":""}]
[8,"",{"$f":"IF(様式３!B317=\"\",\"\",様式３!B317)","v":""},{"$f":"IF(様式３!C317=\"\",\"\",様式３!C317)","v":""},{"$f":"IF(様式３!D317=\"\",\"\",様式３!D317)","v":""},{"$f":"IF(様式３!E317=\"\",\"\",様式３!E317)","v":""},{"$f":"IF(様式３!F317=\"\",\"\",様式３!F317)","v":"・"},{"$f":"IF(様式３!G317=\"\",\"\",様式３!G317)","v":""},{"$f":"IF(様式３!H317=\"\",\"\",様式３!H317)","v":"・"},{"$f":"IF(様式３!I317=\"\",\"\",様式３!I317)","v":""},{"$f":"IF(様式３!J317=\"\",\"\",様式３!J317)","v":0},{"$f":"IF(様式３!K317=\"\",\"\",様式３!K317)","v":0},{"$f":"IF(様式３!L317=\"\",\"\",様式３!L317)","v":0},{"$f":"IF(様式３!M317=\"\",\"\",様式３!M317)","v":0},{"$f":"IF(様式３!N317=\"\",\"\",様式３!N317)","v":0},{"$f":"IF(様式３!O317=\"\",\"\",様式３!O317)","v":""}]
[9,"",{"$f":"IF(様式３!B318=\"\",\"\",様式３!B318)","v":""},{"$f":"IF(様式３!C318=\"\",\"\",様式３!C318)","v":""},{"$f":"IF(様式３!D318=\"\",\"\",様式３!D318)","v":""},{"$f":"IF(様式３!E318=\"\",\"\",様式３!E318)","v":""},{"$f":"IF(様式３!F318=\"\",\"\",様式３!F318)","v":"・"},{"$f":"IF(様式３!G318=\"\",\"\",様式３!G318)","v":""},{"$f":"IF(様式３!H318=\"\",\"\",様式３!H318)","v":"・"},{"$f":"IF(様式３!I318=\"\",\"\",様式３!I318)","v":""},{"$f":"IF(様式３!J318=\"\",\"\",様式３!J318)","v":0},{"$f":"IF(様式３!K318=\"\",\"\",様式３!K318)","v":0},{"$f":"IF(様式３!L318=\"\",\"\",様式３!L318)","v":0},{"$f":"IF(様式３!M318=\"\",\"\",様式３!M318)","v":0},{"$f":"IF(様式３!N318=\"\",\"\",様式３!N318)","v":0},{"$f":"IF(様式３!O318=\"\",\"\",様式３!O318)","v":""}]
[10,"",{"$f":"IF(様式３!B319=\"\",\"\",様式３!B319)","v":""},{"$f":"IF(様式３!C319=\"\",\"\",様式３!C319)","v":""},{"$f":"IF(様式３!D319=\"\",\"\",様式３!D319)","v":""},{"$f":"IF(様式３!E319=\"\",\"\",様式３!E319)","v":""},{"$f":"IF(様式３!F319=\"\",\"\",様式３!F319)","v":"・"},{"$f":"IF(様式３!G319=\"\",\"\",様式３!G319)","v":""},{"$f":"IF(様式３!H319=\"\",\"\",様式３!H319)","v":"・"},{"$f":"IF(様式３!I319=\"\",\"\",様式３!I319)","v":""},{"$f":"IF(様式３!J319=\"\",\"\",様式３!J319)","v":0},{"$f":"IF(様式３!K319=\"\",\"\",様式３!K319)","v":0},{"$f":"IF(様式３!L319=\"\",\"\",様式３!L319)","v":0},{"$f":"IF(様式３!M319=\"\",\"\",様式３!M319)","v":0},{"$f":"IF(様式３!N319=\"\",\"\",様式３!N319)","v":0},{"$f":"IF(様式３!O319=\"\",\"\",様式３!O319)","v":""}]
[11,"",{"$f":"IF(様式３!B320=\"\",\"\",様式３!B320)","v":""},{"$f":"IF(様式３!C320=\"\",\"\",様式３!C320)","v":""},{"$f":"IF(様式３!D320=\"\",\"\",様式３!D320)","v":""},{"$f":"IF(様式３!E320=\"\",\"\",様式３!E320)","v":""},{"$f":"IF(様式３!F320=\"\",\"\",様式３!F320)","v":"・"},{"$f":"IF(様式３!G320=\"\",\"\",様式３!G320)","v":""},{"$f":"IF(様式３!H320=\"\",\"\",様式３!H320)","v":"・"},{"$f":"IF(様式３!I320=\"\",\"\",様式３!I320)","v":""},{"$f":"IF(様式３!J320=\"\",\"\",様式３!J320)","v":0},{"$f":"IF(様式３!K320=\"\",\"\",様式３!K320)","v":0},{"$f":"IF(様式３!L320=\"\",\"\",様式３!L320)","v":0},{"$f":"IF(様式３!M320=\"\",\"\",様式３!M320)","v":0},{"$f":"IF(様式３!N320=\"\",\"\",様式３!N320)","v":0},{"$f":"IF(様式３!O320=\"\",\"\",様式３!O320)","v":""}]
[12,"",{"$f":"IF(様式３!B321=\"\",\"\",様式３!B321)","v":""},{"$f":"IF(様式３!C321=\"\",\"\",様式３!C321)","v":""},{"$f":"IF(様式３!D321=\"\",\"\",様式３!D321)","v":""},{"$f":"IF(様式３!E321=\"\",\"\",様式３!E321)","v":""},{"$f":"IF(様式３!F321=\"\",\"\",様式３!F321)","v":"・"},{"$f":"IF(様式３!G321=\"\",\"\",様式３!G321)","v":""},{"$f":"IF(様式３!H321=\"\",\"\",様式３!H321)","v":"・"},{"$f":"IF(様式３!I321=\"\",\"\",様式３!I321)","v":""},{"$f":"IF(様式３!J321=\"\",\"\",様式３!J321)","v":0},{"$f":"IF(様式３!K321=\"\",\"\",様式３!K321)","v":0},{"$f":"IF(様式３!L321=\"\",\"\",様式３!L321)","v":0},{"$f":"IF(様式３!M321=\"\",\"\",様式３!M321)","v":0},{"$f":"IF(様式３!N321=\"\",\"\",様式３!N321)","v":0},{"$f":"IF(様式３!O321=\"\",\"\",様式３!O321)","v":""}]
[13,"",{"$f":"IF(様式３!B322=\"\",\"\",様式３!B322)","v":""},{"$f":"IF(様式３!C322=\"\",\"\",様式３!C322)","v":""},{"$f":"IF(様式３!D322=\"\",\"\",様式３!D322)","v":""},{"$f":"IF(様式３!E322=\"\",\"\",様式３!E322)","v":""},{"$f":"IF(様式３!F322=\"\",\"\",様式３!F322)","v":"・"},{"$f":"IF(様式３!G322=\"\",\"\",様式３!G322)","v":""},{"$f":"IF(様式３!H322=\"\",\"\",様式３!H322)","v":"・"},{"$f":"IF(様式３!I322=\"\",\"\",様式３!I322)","v":""},{"$f":"IF(様式３!J322=\"\",\"\",様式３!J322)","v":0},{"$f":"IF(様式３!K322=\"\",\"\",様式３!K322)","v":0},{"$f":"IF(様式３!L322=\"\",\"\",様式３!L322)","v":0},{"$f":"IF(様式３!M322=\"\",\"\",様式３!M322)","v":0},{"$f":"IF(様式３!N322=\"\",\"\",様式３!N322)","v":0},{"$f":"IF(様式３!O322=\"\",\"\",様式３!O322)","v":""}]
[14,"",{"$f":"IF(様式３!B323=\"\",\"\",様式３!B323)","v":""},{"$f":"IF(様式３!C323=\"\",\"\",様式３!C323)","v":""},{"$f":"IF(様式３!D323=\"\",\"\",様式３!D323)","v":""},{"$f":"IF(様式３!E323=\"\",\"\",様式３!E323)","v":""},{"$f":"IF(様式３!F323=\"\",\"\",様式３!F323)","v":"・"},{"$f":"IF(様式３!G323=\"\",\"\",様式３!G323)","v":""},{"$f":"IF(様式３!H323=\"\",\"\",様式３!H323)","v":"・"},{"$f":"IF(様式３!I323=\"\",\"\",様式３!I323)","v":""},{"$f":"IF(様式３!J323=\"\",\"\",様式３!J323)","v":0},{"$f":"IF(様式３!K323=\"\",\"\",様式３!K323)","v":0},{"$f":"IF(様式３!L323=\"\",\"\",様式３!L323)","v":0},{"$f":"IF(様式３!M323=\"\",\"\",様式３!M323)","v":0},{"$f":"IF(様式３!N323=\"\",\"\",様式３!N323)","v":0},{"$f":"IF(様式３!O323=\"\",\"\",様式３!O323)","v":""}]
[15,"",{"$f":"IF(様式３!B324=\"\",\"\",様式３!B324)","v":""},{"$f":"IF(様式３!C324=\"\",\"\",様式３!C324)","v":""},{"$f":"IF(様式３!D324=\"\",\"\",様式３!D324)","v":""},{"$f":"IF(様式３!E324=\"\",\"\",様式３!E324)","v":""},{"$f":"IF(様式３!F324=\"\",\"\",様式３!F324)","v":"・"},{"$f":"IF(様式３!G324=\"\",\"\",様式３!G324)","v":""},{"$f":"IF(様式３!H324=\"\",\"\",様式３!H324)","v":"・"},{"$f":"IF(様式３!I324=\"\",\"\",様式３!I324)","v":""},{"$f":"IF(様式３!J324=\"\",\"\",様式３!J324)","v":0},{"$f":"IF(様式３!K324=\"\",\"\",様式３!K324)","v":0},{"$f":"IF(様式３!L324=\"\",\"\",様式３!L324)","v":0},{"$f":"IF(様式３!M324=\"\",\"\",様式３!M324)","v":0},{"$f":"IF(様式３!N324=\"\",\"\",様式３!N324)","v":0},{"$f":"IF(様式３!O324=\"\",\"\",様式３!O324)","v":""}]
[null,{"$f":"B24","v":"※１　学科の欄には、大学科名を記入する。"}]
[null,{"$f":"B25","v":"※２　資格・試験等ランクの欄には、取得個数を記入する。"}]
[null,{"$f":"B26","v":"※３　得点合計欄には、得点の合計を記入する。"}]
[]
[null,"（様式６）",null,null,null,null,null,"（令和",null,{"$f":"+J271","v":0},"年度",null,{"$f":"+M271","v":0},"枚中",{"$f":"+O271+1","v":12},"枚目）"]
[]
[null,"埼玉県高校生専門資格等取得表彰証書発行台帳"]
[null,null,null,null,null,"学 校 名　　　　　　　　　　　",null,null,{"$f":"+I274","v":0},null,null,null,null,null,"学校"]
[null,null,null,null,null,"発行年月日 令和　　",null,null,null,null,{"$f":"+K275","v":0},"年",{"$f":"+M275","v":0},"月",{"$f":"+O275","v":0},"日"]
[null,"発行番号","学年　　　　　　　　　　　　　　　　　　　","学科","整理番号","生  年  月  日",null,null,null,null,"資格・試験等ﾗﾝｸ",null,null,null,"得点\n合計","備考"]
[null,null,null,null,null,null,null,null,null,null,"A","B","C","D"]
[null,null,null,null,null,null,null,null,null,null,6,3,2,1]
[1,{"$f":"IF(E306=\"\",\"\",B293+1)","v":""},{"$f":"IF(様式３!B340=\"\",\"\",様式３!B340)","v":""},{"$f":"IF(様式３!C340=\"\",\"\",様式３!C340)","v":""},{"$f":"IF(様式３!D340=\"\",\"\",様式３!D340)","v":""},{"$f":"IF(様式３!E340=\"\",\"\",様式３!E340)","v":""},{"$f":"IF(様式３!F340=\"\",\"\",様式３!F340)","v":"・"},{"$f":"IF(様式３!G340=\"\",\"\",様式３!G340)","v":""},{"$f":"IF(様式３!H340=\"\",\"\",様式３!H340)","v":"・"},{"$f":"IF(様式３!I340=\"\",\"\",様式３!I340)","v":""},{"$f":"IF(様式３!J340=\"\",\"\",様式３!J340)","v":0},{"$f":"IF(様式３!K340=\"\",\"\",様式３!K340)","v":0},{"$f":"IF(様式３!L340=\"\",\"\",様式３!L340)","v":0},{"$f":"IF(様式３!M340=\"\",\"\",様式３!M340)","v":0},{"$f":"IF(様式３!N340=\"\",\"\",様式３!N340)","v":0},{"$f":"IF(様式３!O340=\"\",\"\",様式３!O340)","v":""}]
[2,{"$f":"IF(E307=\"\",\"\",B306+1)","v":""},{"$f":"IF(様式３!B341=\"\",\"\",様式３!B341)","v":""},{"$f":"IF(様式３!C341=\"\",\"\",様式３!C341)","v":""},{"$f":"IF(様式３!D341=\"\",\"\",様式３!D341)","v":""},{"$f":"IF(様式３!E341=\"\",\"\",様式３!E341)","v":""},{"$f":"IF(様式３!F341=\"\",\"\",様式３!F341)","v":"・"},{"$f":"IF(様式３!G341=\"\",\"\",様式３!G341)","v":""},{"$f":"IF(様式３!H341=\"\",\"\",様式３!H341)","v":"・"},{"$f":"IF(様式３!I341=\"\",\"\",様式３!I341)","v":""},{"$f":"IF(様式３!J341=\"\",\"\",様式３!J341)","v":0},{"$f":"IF(様式３!K341=\"\",\"\",様式３!K341)","v":0},{"$f":"IF(様式３!L341=\"\",\"\",様式３!L341)","v":0},{"$f":"IF(様式３!M341=\"\",\"\",様式３!M341)","v":0},{"$f":"IF(様式３!N341=\"\",\"\",様式３!N341)","v":0},{"$f":"IF(様式３!O341=\"\",\"\",様式３!O341)","v":""}]
[3,"",{"$f":"IF(様式３!B342=\"\",\"\",様式３!B342)","v":""},{"$f":"IF(様式３!C342=\"\",\"\",様式３!C342)","v":""},{"$f":"IF(様式３!D342=\"\",\"\",様式３!D342)","v":""},{"$f":"IF(様式３!E342=\"\",\"\",様式３!E342)","v":""},{"$f":"IF(様式３!F342=\"\",\"\",様式３!F342)","v":"・"},{"$f":"IF(様式３!G342=\"\",\"\",様式３!G342)","v":""},{"$f":"IF(様式３!H342=\"\",\"\",様式３!H342)","v":"・"},{"$f":"IF(様式３!I342=\"\",\"\",様式３!I342)","v":""},{"$f":"IF(様式３!J342=\"\",\"\",様式３!J342)","v":0},{"$f":"IF(様式３!K342=\"\",\"\",様式３!K342)","v":0},{"$f":"IF(様式３!L342=\"\",\"\",様式３!L342)","v":0},{"$f":"IF(様式３!M342=\"\",\"\",様式３!M342)","v":0},{"$f":"IF(様式３!N342=\"\",\"\",様式３!N342)","v":0},{"$f":"IF(様式３!O342=\"\",\"\",様式３!O342)","v":""}]
[4,"",{"$f":"IF(様式３!B343=\"\",\"\",様式３!B343)","v":""},{"$f":"IF(様式３!C343=\"\",\"\",様式３!C343)","v":""},{"$f":"IF(様式３!D343=\"\",\"\",様式３!D343)","v":""},{"$f":"IF(様式３!E343=\"\",\"\",様式３!E343)","v":""},{"$f":"IF(様式３!F343=\"\",\"\",様式３!F343)","v":"・"},{"$f":"IF(様式３!G343=\"\",\"\",様式３!G343)","v":""},{"$f":"IF(様式３!H343=\"\",\"\",様式３!H343)","v":"・"},{"$f":"IF(様式３!I343=\"\",\"\",様式３!I343)","v":""},{"$f":"IF(様式３!J343=\"\",\"\",様式３!J343)","v":0},{"$f":"IF(様式３!K343=\"\",\"\",様式３!K343)","v":0},{"$f":"IF(様式３!L343=\"\",\"\",様式３!L343)","v":0},{"$f":"IF(様式３!M343=\"\",\"\",様式３!M343)","v":0},{"$f":"IF(様式３!N343=\"\",\"\",様式３!N343)","v":0},{"$f":"IF(様式３!O343=\"\",\"\",様式３!O343)","v":""}]
[5,"",{"$f":"IF(様式３!B344=\"\",\"\",様式３!B344)","v":""},{"$f":"IF(様式３!C344=\"\",\"\",様式３!C344)","v":""},{"$f":"IF(様式３!D344=\"\",\"\",様式３!D344)","v":""},{"$f":"IF(様式３!E344=\"\",\"\",様式３!E344)","v":""},{"$f":"IF(様式３!F344=\"\",\"\",様式３!F344)","v":"・"},{"$f":"IF(様式３!G344=\"\",\"\",様式３!G344)","v":""},{"$f":"IF(様式３!H344=\"\",\"\",様式３!H344)","v":"・"},{"$f":"IF(様式３!I344=\"\",\"\",様式３!I344)","v":""},{"$f":"IF(様式３!J344=\"\",\"\",様式３!J344)","v":0},{"$f":"IF(様式３!K344=\"\",\"\",様式３!K344)","v":0},{"$f":"IF(様式３!L344=\"\",\"\",様式３!L344)","v":0},{"$f":"IF(様式３!M344=\"\",\"\",様式３!M344)","v":0},{"$f":"IF(様式３!N344=\"\",\"\",様式３!N344)","v":0},{"$f":"IF(様式３!O344=\"\",\"\",様式３!O344)","v":""}]
[6,"",{"$f":"IF(様式３!B345=\"\",\"\",様式３!B345)","v":""},{"$f":"IF(様式３!C345=\"\",\"\",様式３!C345)","v":""},{"$f":"IF(様式３!D345=\"\",\"\",様式３!D345)","v":""},{"$f":"IF(様式３!E345=\"\",\"\",様式３!E345)","v":""},{"$f":"IF(様式３!F345=\"\",\"\",様式３!F345)","v":"・"},{"$f":"IF(様式３!G345=\"\",\"\",様式３!G345)","v":""},{"$f":"IF(様式３!H345=\"\",\"\",様式３!H345)","v":"・"},{"$f":"IF(様式３!I345=\"\",\"\",様式３!I345)","v":""},{"$f":"IF(様式３!J345=\"\",\"\",様式３!J345)","v":0},{"$f":"IF(様式３!K345=\"\",\"\",様式３!K345)","v":0},{"$f":"IF(様式３!L345=\"\",\"\",様式３!L345)","v":0},{"$f":"IF(様式３!M345=\"\",\"\",様式３!M345)","v":0},{"$f":"IF(様式３!N345=\"\",\"\",様式３!N345)","v":0},{"$f":"IF(様式３!O345=\"\",\"\",様式３!O345)","v":""}]
[7,"",{"$f":"IF(様式３!B346=\"\",\"\",様式３!B346)","v":""},{"$f":"IF(様式３!C346=\"\",\"\",様式３!C346)","v":""},{"$f":"IF(様式３!D346=\"\",\"\",様式３!D346)","v":""},{"$f":"IF(様式３!E346=\"\",\"\",様式３!E346)","v":""},{"$f":"IF(様式３!F346=\"\",\"\",様式３!F346)","v":"・"},{"$f":"IF(様式３!G346=\"\",\"\",様式３!G346)","v":""},{"$f":"IF(様式３!H346=\"\",\"\",様式３!H346)","v":"・"},{"$f":"IF(様式３!I346=\"\",\"\",様式３!I346)","v":""},{"$f":"IF(様式３!J346=\"\",\"\",様式３!J346)","v":0},{"$f":"IF(様式３!K346=\"\",\"\",様式３!K346)","v":0},{"$f":"IF(様式３!L346=\"\",\"\",様式３!L346)","v":0},{"$f":"IF(様式３!M346=\"\",\"\",様式３!M346)","v":0},{"$f":"IF(様式３!N346=\"\",\"\",様式３!N346)","v":0},{"$f":"IF(様式３!O346=\"\",\"\",様式３!O346)","v":""}]
[8,"",{"$f":"IF(様式３!B347=\"\",\"\",様式３!B347)","v":""},{"$f":"IF(様式３!C347=\"\",\"\",様式３!C347)","v":""},{"$f":"IF(様式３!D347=\"\",\"\",様式３!D347)","v":""},{"$f":"IF(様式３!E347=\"\",\"\",様式３!E347)","v":""},{"$f":"IF(様式３!F347=\"\",\"\",様式３!F347)","v":"・"},{"$f":"IF(様式３!G347=\"\",\"\",様式３!G347)","v":""},{"$f":"IF(様式３!H347=\"\",\"\",様式３!H347)","v":"・"},{"$f":"IF(様式３!I347=\"\",\"\",様式３!I347)","v":""},{"$f":"IF(様式３!J347=\"\",\"\",様式３!J347)","v":0},{"$f":"IF(様式３!K347=\"\",\"\",様式３!K347)","v":0},{"$f":"IF(様式３!L347=\"\",\"\",様式３!L347)","v":0},{"$f":"IF(様式３!M347=\"\",\"\",様式３!M347)","v":0},{"$f":"IF(様式３!N347=\"\",\"\",様式３!N347)","v":0},{"$f":"IF(様式３!O347=\"\",\"\",様式３!O347)","v":""}]
[9,"",{"$f":"IF(様式３!B348=\"\",\"\",様式３!B348)","v":""},{"$f":"IF(様式３!C348=\"\",\"\",様式３!C348)","v":""},{"$f":"IF(様式３!D348=\"\",\"\",様式３!D348)","v":""},{"$f":"IF(様式３!E348=\"\",\"\",様式３!E348)","v":""},{"$f":"IF(様式３!F348=\"\",\"\",様式３!F348)","v":"・"},{"$f":"IF(様式３!G348=\"\",\"\",様式３!G348)","v":""},{"$f":"IF(様式３!H348=\"\",\"\",様式３!H348)","v":"・"},{"$f":"IF(様式３!I348=\"\",\"\",様式３!I348)","v":""},{"$f":"IF(様式３!J348=\"\",\"\",様式３!J348)","v":0},{"$f":"IF(様式３!K348=\"\",\"\",様式３!K348)","v":0},{"$f":"IF(様式３!L348=\"\",\"\",様式３!L348)","v":0},{"$f":"IF(様式３!M348=\"\",\"\",様式３!M348)","v":0},{"$f":"IF(様式３!N348=\"\",\"\",様式３!N348)","v":0},{"$f":"IF(様式３!O348=\"\",\"\",様式３!O348)","v":""}]
[10,"",{"$f":"IF(様式３!B349=\"\",\"\",様式３!B349)","v":""},{"$f":"IF(様式３!C349=\"\",\"\",様式３!C349)","v":""},{"$f":"IF(様式３!D349=\"\",\"\",様式３!D349)","v":""},{"$f":"IF(様式３!E349=\"\",\"\",様式３!E349)","v":""},{"$f":"IF(様式３!F349=\"\",\"\",様式３!F349)","v":"・"},{"$f":"IF(様式３!G349=\"\",\"\",様式３!G349)","v":""},{"$f":"IF(様式３!H349=\"\",\"\",様式３!H349)","v":"・"},{"$f":"IF(様式３!I349=\"\",\"\",様式３!I349)","v":""},{"$f":"IF(様式３!J349=\"\",\"\",様式３!J349)","v":0},{"$f":"IF(様式３!K349=\"\",\"\",様式３!K349)","v":0},{"$f":"IF(様式３!L349=\"\",\"\",様式３!L349)","v":0},{"$f":"IF(様式３!M349=\"\",\"\",様式３!M349)","v":0},{"$f":"IF(様式３!N349=\"\",\"\",様式３!N349)","v":0},{"$f":"IF(様式３!O349=\"\",\"\",様式３!O349)","v":""}]
[11,"",{"$f":"IF(様式３!B350=\"\",\"\",様式３!B350)","v":""},{"$f":"IF(様式３!C350=\"\",\"\",様式３!C350)","v":""},{"$f":"IF(様式３!D350=\"\",\"\",様式３!D350)","v":""},{"$f":"IF(様式３!E350=\"\",\"\",様式３!E350)","v":""},{"$f":"IF(様式３!F350=\"\",\"\",様式３!F350)","v":"・"},{"$f":"IF(様式３!G350=\"\",\"\",様式３!G350)","v":""},{"$f":"IF(様式３!H350=\"\",\"\",様式３!H350)","v":"・"},{"$f":"IF(様式３!I350=\"\",\"\",様式３!I350)","v":""},{"$f":"IF(様式３!J350=\"\",\"\",様式３!J350)","v":0},{"$f":"IF(様式３!K350=\"\",\"\",様式３!K350)","v":0},{"$f":"IF(様式３!L350=\"\",\"\",様式３!L350)","v":0},{"$f":"IF(様式３!M350=\"\",\"\",様式３!M350)","v":0},{"$f":"IF(様式３!N350=\"\",\"\",様式３!N350)","v":0},{"$f":"IF(様式３!O350=\"\",\"\",様式３!O350)","v":""}]
[12,"",{"$f":"IF(様式３!B351=\"\",\"\",様式３!B351)","v":""},{"$f":"IF(様式３!C351=\"\",\"\",様式３!C351)","v":""},{"$f":"IF(様式３!D351=\"\",\"\",様式３!D351)","v":""},{"$f":"IF(様式３!E351=\"\",\"\",様式３!E351)","v":""},{"$f":"IF(様式３!F351=\"\",\"\",様式３!F351)","v":"・"},{"$f":"IF(様式３!G351=\"\",\"\",様式３!G351)","v":""},{"$f":"IF(様式３!H351=\"\",\"\",様式３!H351)","v":"・"},{"$f":"IF(様式３!I351=\"\",\"\",様式３!I351)","v":""},{"$f":"IF(様式３!J351=\"\",\"\",様式３!J351)","v":0},{"$f":"IF(様式３!K351=\"\",\"\",様式３!K351)","v":0},{"$f":"IF(様式３!L351=\"\",\"\",様式３!L351)","v":0},{"$f":"IF(様式３!M351=\"\",\"\",様式３!M351)","v":0},{"$f":"IF(様式３!N351=\"\",\"\",様式３!N351)","v":0},{"$f":"IF(様式３!O351=\"\",\"\",様式３!O351)","v":""}]
[13,"",{"$f":"IF(様式３!B352=\"\",\"\",様式３!B352)","v":""},{"$f":"IF(様式３!C352=\"\",\"\",様式３!C352)","v":""},{"$f":"IF(様式３!D352=\"\",\"\",様式３!D352)","v":""},{"$f":"IF(様式３!E352=\"\",\"\",様式３!E352)","v":""},{"$f":"IF(様式３!F352=\"\",\"\",様式３!F352)","v":"・"},{"$f":"IF(様式３!G352=\"\",\"\",様式３!G352)","v":""},{"$f":"IF(様式３!H352=\"\",\"\",様式３!H352)","v":"・"},{"$f":"IF(様式３!I352=\"\",\"\",様式３!I352)","v":""},{"$f":"IF(様式３!J352=\"\",\"\",様式３!J352)","v":0},{"$f":"IF(様式３!K352=\"\",\"\",様式３!K352)","v":0},{"$f":"IF(様式３!L352=\"\",\"\",様式３!L352)","v":0},{"$f":"IF(様式３!M352=\"\",\"\",様式３!M352)","v":0},{"$f":"IF(様式３!N352=\"\",\"\",様式３!N352)","v":0},{"$f":"IF(様式３!O352=\"\",\"\",様式３!O352)","v":""}]
[14,"",{"$f":"IF(様式３!B353=\"\",\"\",様式３!B353)","v":""},{"$f":"IF(様式３!C353=\"\",\"\",様式３!C353)","v":""},{"$f":"IF(様式３!D353=\"\",\"\",様式３!D353)","v":""},{"$f":"IF(様式３!E353=\"\",\"\",様式３!E353)","v":""},{"$f":"IF(様式３!F353=\"\",\"\",様式３!F353)","v":"・"},{"$f":"IF(様式３!G353=\"\",\"\",様式３!G353)","v":""},{"$f":"IF(様式３!H353=\"\",\"\",様式３!H353)","v":"・"},{"$f":"IF(様式３!I353=\"\",\"\",様式３!I353)","v":""},{"$f":"IF(様式３!J353=\"\",\"\",様式３!J353)","v":0},{"$f":"IF(様式３!K353=\"\",\"\",様式３!K353)","v":0},{"$f":"IF(様式３!L353=\"\",\"\",様式３!L353)","v":0},{"$f":"IF(様式３!M353=\"\",\"\",様式３!M353)","v":0},{"$f":"IF(様式３!N353=\"\",\"\",様式３!N353)","v":0},{"$f":"IF(様式３!O353=\"\",\"\",様式３!O353)","v":""}]
[15,"",{"$f":"IF(様式３!B354=\"\",\"\",様式３!B354)","v":""},{"$f":"IF(様式３!C354=\"\",\"\",様式３!C354)","v":""},{"$f":"IF(様式３!D354=\"\",\"\",様式３!D354)","v":""},{"$f":"IF(様式３!E354=\"\",\"\",様式３!E354)","v":""},{"$f":"IF(様式３!F354=\"\",\"\",様式３!F354)","v":"・"},{"$f":"IF(様式３!G354=\"\",\"\",様式３!G354)","v":""},{"$f":"IF(様式３!H354=\"\",\"\",様式３!H354)","v":"・"},{"$f":"IF(様式３!I354=\"\",\"\",様式３!I354)","v":""},{"$f":"IF(様式３!J354=\"\",\"\",様式３!J354)","v":0},{"$f":"IF(様式３!K354=\"\",\"\",様式３!K354)","v":0},{"$f":"IF(様式３!L354=\"\",\"\",様式３!L354)","v":0},{"$f":"IF(様式３!M354=\"\",\"\",様式３!M354)","v":0},{"$f":"IF(様式３!N354=\"\",\"\",様式３!N354)","v":0},{"$f":"IF(様式３!O354=\"\",\"\",様式３!O354)","v":""}]
[null,{"$f":"B24","v":"※１　学科の欄には、大学科名を記入する。"}]
[null,{"$f":"B25","v":"※２　資格・試験等ランクの欄には、取得個数を記入する。"}]
[null,{"$f":"B26","v":"※３　得点合計欄には、得点の合計を記入する。"}]
[]
[null,"（様式６）",null,null,null,null,null,"（令和",null,{"$f":"+J298","v":0},"年度",null,{"$f":"+M298","v":0},"枚中",{"$f":"+O298+1","v":13},"枚目）"]
[]
[null,"埼玉県高校生専門資格等取得表彰証書発行台帳"]
[null,null,null,null,null,"学 校 名　　　　　　　　　　　",null,null,{"$f":"+I301","v":0},null,null,null,null,null,"学校"]
[null,null,null,null,null,"発行年月日 令和　　",null,null,null,null,{"$f":"+K302","v":0},"年",{"$f":"+M302","v":0},"月",{"$f":"+O302","v":0},"日"]
[null,"発行番号","学年　　　　　　　　　　　　　　　　　　　","学科","整理番号","生  年  月  日",null,null,null,null,"資格・試験等ﾗﾝｸ",null,null,null,"得点\n合計","備考"]
[null,null,null,null,null,null,null,null,null,null,"A","B","C","D"]
[null,null,null,null,null,null,null,null,null,null,6,3,2,1]
[1,{"$f":"IF(E333=\"\",\"\",B320+1)","v":""},{"$f":"IF(様式３!B370=\"\",\"\",様式３!B370)","v":""},{"$f":"IF(様式３!C370=\"\",\"\",様式３!C370)","v":""},{"$f":"IF(様式３!D370=\"\",\"\",様式３!D370)","v":""},{"$f":"IF(様式３!E370=\"\",\"\",様式３!E370)","v":""},{"$f":"IF(様式３!F370=\"\",\"\",様式３!F370)","v":"・"},{"$f":"IF(様式３!G370=\"\",\"\",様式３!G370)","v":""},{"$f":"IF(様式３!H370=\"\",\"\",様式３!H370)","v":"・"},{"$f":"IF(様式３!I370=\"\",\"\",様式３!I370)","v":""},{"$f":"IF(様式３!J370=\"\",\"\",様式３!J370)","v":0},{"$f":"IF(様式３!K370=\"\",\"\",様式３!K370)","v":0},{"$f":"IF(様式３!L370=\"\",\"\",様式３!L370)","v":0},{"$f":"IF(様式３!M370=\"\",\"\",様式３!M370)","v":0},{"$f":"IF(様式３!N370=\"\",\"\",様式３!N370)","v":0},{"$f":"IF(様式３!O370=\"\",\"\",様式３!O370)","v":""}]
[2,{"$f":"IF(E334=\"\",\"\",B333+1)","v":""},{"$f":"IF(様式３!B371=\"\",\"\",様式３!B371)","v":""},{"$f":"IF(様式３!C371=\"\",\"\",様式３!C371)","v":""},{"$f":"IF(様式３!D371=\"\",\"\",様式３!D371)","v":""},{"$f":"IF(様式３!E371=\"\",\"\",様式３!E371)","v":""},{"$f":"IF(様式３!F371=\"\",\"\",様式３!F371)","v":"・"},{"$f":"IF(様式３!G371=\"\",\"\",様式３!G371)","v":""},{"$f":"IF(様式３!H371=\"\",\"\",様式３!H371)","v":"・"},{"$f":"IF(様式３!I371=\"\",\"\",様式３!I371)","v":""},{"$f":"IF(様式３!J371=\"\",\"\",様式３!J371)","v":0},{"$f":"IF(様式３!K371=\"\",\"\",様式３!K371)","v":0},{"$f":"IF(様式３!L371=\"\",\"\",様式３!L371)","v":0},{"$f":"IF(様式３!M371=\"\",\"\",様式３!M371)","v":0},{"$f":"IF(様式３!N371=\"\",\"\",様式３!N371)","v":0},{"$f":"IF(様式３!O371=\"\",\"\",様式３!O371)","v":""}]
[3,"",{"$f":"IF(様式３!B372=\"\",\"\",様式３!B372)","v":""},{"$f":"IF(様式３!C372=\"\",\"\",様式３!C372)","v":""},{"$f":"IF(様式３!D372=\"\",\"\",様式３!D372)","v":""},{"$f":"IF(様式３!E372=\"\",\"\",様式３!E372)","v":""},{"$f":"IF(様式３!F372=\"\",\"\",様式３!F372)","v":"・"},{"$f":"IF(様式３!G372=\"\",\"\",様式３!G372)","v":""},{"$f":"IF(様式３!H372=\"\",\"\",様式３!H372)","v":"・"},{"$f":"IF(様式３!I372=\"\",\"\",様式３!I372)","v":""},{"$f":"IF(様式３!J372=\"\",\"\",様式３!J372)","v":0},{"$f":"IF(様式３!K372=\"\",\"\",様式３!K372)","v":0},{"$f":"IF(様式３!L372=\"\",\"\",様式３!L372)","v":0},{"$f":"IF(様式３!M372=\"\",\"\",様式３!M372)","v":0},{"$f":"IF(様式３!N372=\"\",\"\",様式３!N372)","v":0},{"$f":"IF(様式３!O372=\"\",\"\",様式３!O372)","v":""}]
[4,"",{"$f":"IF(様式３!B373=\"\",\"\",様式３!B373)","v":""},{"$f":"IF(様式３!C373=\"\",\"\",様式３!C373)","v":""},{"$f":"IF(様式３!D373=\"\",\"\",様式３!D373)","v":""},{"$f":"IF(様式３!E373=\"\",\"\",様式３!E373)","v":""},{"$f":"IF(様式３!F373=\"\",\"\",様式３!F373)","v":"・"},{"$f":"IF(様式３!G373=\"\",\"\",様式３!G373)","v":""},{"$f":"IF(様式３!H373=\"\",\"\",様式３!H373)","v":"・"},{"$f":"IF(様式３!I373=\"\",\"\",様式３!I373)","v":""},{"$f":"IF(様式３!J373=\"\",\"\",様式３!J373)","v":0},{"$f":"IF(様式３!K373=\"\",\"\",様式３!K373)","v":0},{"$f":"IF(様式３!L373=\"\",\"\",様式３!L373)","v":0},{"$f":"IF(様式３!M373=\"\",\"\",様式３!M373)","v":0},{"$f":"IF(様式３!N373=\"\",\"\",様式３!N373)","v":0},{"$f":"IF(様式３!O373=\"\",\"\",様式３!O373)","v":""}]
[5,"",{"$f":"IF(様式３!B374=\"\",\"\",様式３!B374)","v":""},{"$f":"IF(様式３!C374=\"\",\"\",様式３!C374)","v":""},{"$f":"IF(様式３!D374=\"\",\"\",様式３!D374)","v":""},{"$f":"IF(様式３!E374=\"\",\"\",様式３!E374)","v":""},{"$f":"IF(様式３!F374=\"\",\"\",様式３!F374)","v":"・"},{"$f":"IF(様式３!G374=\"\",\"\",様式３!G374)","v":""},{"$f":"IF(様式３!H374=\"\",\"\",様式３!H374)","v":"・"},{"$f":"IF(様式３!I374=\"\",\"\",様式３!I374)","v":""},{"$f":"IF(様式３!J374=\"\",\"\",様式３!J374)","v":0},{"$f":"IF(様式３!K374=\"\",\"\",様式３!K374)","v":0},{"$f":"IF(様式３!L374=\"\",\"\",様式３!L374)","v":0},{"$f":"IF(様式３!M374=\"\",\"\",様式３!M374)","v":0},{"$f":"IF(様式３!N374=\"\",\"\",様式３!N374)","v":0},{"$f":"IF(様式３!O374=\"\",\"\",様式３!O374)","v":""}]
[6,"",{"$f":"IF(様式３!B375=\"\",\"\",様式３!B375)","v":""},{"$f":"IF(様式３!C375=\"\",\"\",様式３!C375)","v":""},{"$f":"IF(様式３!D375=\"\",\"\",様式３!D375)","v":""},{"$f":"IF(様式３!E375=\"\",\"\",様式３!E375)","v":""},{"$f":"IF(様式３!F375=\"\",\"\",様式３!F375)","v":"・"},{"$f":"IF(様式３!G375=\"\",\"\",様式３!G375)","v":""},{"$f":"IF(様式３!H375=\"\",\"\",様式３!H375)","v":"・"},{"$f":"IF(様式３!I375=\"\",\"\",様式３!I375)","v":""},{"$f":"IF(様式３!J375=\"\",\"\",様式３!J375)","v":0},{"$f":"IF(様式３!K375=\"\",\"\",様式３!K375)","v":0},{"$f":"IF(様式３!L375=\"\",\"\",様式３!L375)","v":0},{"$f":"IF(様式３!M375=\"\",\"\",様式３!M375)","v":0},{"$f":"IF(様式３!N375=\"\",\"\",様式３!N375)","v":0},{"$f":"IF(様式３!O375=\"\",\"\",様式３!O375)","v":""}]
[7,"",{"$f":"IF(様式３!B376=\"\",\"\",様式３!B376)","v":""},{"$f":"IF(様式３!C376=\"\",\"\",様式３!C376)","v":""},{"$f":"IF(様式３!D376=\"\",\"\",様式３!D376)","v":""},{"$f":"IF(様式３!E376=\"\",\"\",様式３!E376)","v":""},{"$f":"IF(様式３!F376=\"\",\"\",様式３!F376)","v":"・"},{"$f":"IF(様式３!G376=\"\",\"\",様式３!G376)","v":""},{"$f":"IF(様式３!H376=\"\",\"\",様式３!H376)","v":"・"},{"$f":"IF(様式３!I376=\"\",\"\",様式３!I376)","v":""},{"$f":"IF(様式３!J376=\"\",\"\",様式３!J376)","v":0},{"$f":"IF(様式３!K376=\"\",\"\",様式３!K376)","v":0},{"$f":"IF(様式３!L376=\"\",\"\",様式３!L376)","v":0},{"$f":"IF(様式３!M376=\"\",\"\",様式３!M376)","v":0},{"$f":"IF(様式３!N376=\"\",\"\",様式３!N376)","v":0},{"$f":"IF(様式３!O376=\"\",\"\",様式３!O376)","v":""}]
[8,"",{"$f":"IF(様式３!B377=\"\",\"\",様式３!B377)","v":""},{"$f":"IF(様式３!C377=\"\",\"\",様式３!C377)","v":""},{"$f":"IF(様式３!D377=\"\",\"\",様式３!D377)","v":""},{"$f":"IF(様式３!E377=\"\",\"\",様式３!E377)","v":""},{"$f":"IF(様式３!F377=\"\",\"\",様式３!F377)","v":"・"},{"$f":"IF(様式３!G377=\"\",\"\",様式３!G377)","v":""},{"$f":"IF(様式３!H377=\"\",\"\",様式３!H377)","v":"・"},{"$f":"IF(様式３!I377=\"\",\"\",様式３!I377)","v":""},{"$f":"IF(様式３!J377=\"\",\"\",様式３!J377)","v":0},{"$f":"IF(様式３!K377=\"\",\"\",様式３!K377)","v":0},{"$f":"IF(様式３!L377=\"\",\"\",様式３!L377)","v":0},{"$f":"IF(様式３!M377=\"\",\"\",様式３!M377)","v":0},{"$f":"IF(様式３!N377=\"\",\"\",様式３!N377)","v":0},{"$f":"IF(様式３!O377=\"\",\"\",様式３!O377)","v":""}]
[9,"",{"$f":"IF(様式３!B378=\"\",\"\",様式３!B378)","v":""},{"$f":"IF(様式３!C378=\"\",\"\",様式３!C378)","v":""},{"$f":"IF(様式３!D378=\"\",\"\",様式３!D378)","v":""},{"$f":"IF(様式３!E378=\"\",\"\",様式３!E378)","v":""},{"$f":"IF(様式３!F378=\"\",\"\",様式３!F378)","v":"・"},{"$f":"IF(様式３!G378=\"\",\"\",様式３!G378)","v":""},{"$f":"IF(様式３!H378=\"\",\"\",様式３!H378)","v":"・"},{"$f":"IF(様式３!I378=\"\",\"\",様式３!I378)","v":""},{"$f":"IF(様式３!J378=\"\",\"\",様式３!J378)","v":0},{"$f":"IF(様式３!K378=\"\",\"\",様式３!K378)","v":0},{"$f":"IF(様式３!L378=\"\",\"\",様式３!L378)","v":0},{"$f":"IF(様式３!M378=\"\",\"\",様式３!M378)","v":0},{"$f":"IF(様式３!N378=\"\",\"\",様式３!N378)","v":0},{"$f":"IF(様式３!O378=\"\",\"\",様式３!O378)","v":""}]
[10,"",{"$f":"IF(様式３!B379=\"\",\"\",様式３!B379)","v":""},{"$f":"IF(様式３!C379=\"\",\"\",様式３!C379)","v":""},{"$f":"IF(様式３!D379=\"\",\"\",様式３!D379)","v":""},{"$f":"IF(様式３!E379=\"\",\"\",様式３!E379)","v":""},{"$f":"IF(様式３!F379=\"\",\"\",様式３!F379)","v":"・"},{"$f":"IF(様式３!G379=\"\",\"\",様式３!G379)","v":""},{"$f":"IF(様式３!H379=\"\",\"\",様式３!H379)","v":"・"},{"$f":"IF(様式３!I379=\"\",\"\",様式３!I379)","v":""},{"$f":"IF(様式３!J379=\"\",\"\",様式３!J379)","v":0},{"$f":"IF(様式３!K379=\"\",\"\",様式３!K379)","v":0},{"$f":"IF(様式３!L379=\"\",\"\",様式３!L379)","v":0},{"$f":"IF(様式３!M379=\"\",\"\",様式３!M379)","v":0},{"$f":"IF(様式３!N379=\"\",\"\",様式３!N379)","v":0},{"$f":"IF(様式３!O379=\"\",\"\",様式３!O379)","v":""}]
[11,"",{"$f":"IF(様式３!B380=\"\",\"\",様式３!B380)","v":""},{"$f":"IF(様式３!C380=\"\",\"\",様式３!C380)","v":""},{"$f":"IF(様式３!D380=\"\",\"\",様式３!D380)","v":""},{"$f":"IF(様式３!E380=\"\",\"\",様式３!E380)","v":""},{"$f":"IF(様式３!F380=\"\",\"\",様式３!F380)","v":"・"},{"$f":"IF(様式３!G380=\"\",\"\",様式３!G380)","v":""},{"$f":"IF(様式３!H380=\"\",\"\",様式３!H380)","v":"・"},{"$f":"IF(様式３!I380=\"\",\"\",様式３!I380)","v":""},{"$f":"IF(様式３!J380=\"\",\"\",様式３!J380)","v":0},{"$f":"IF(様式３!K380=\"\",\"\",様式３!K380)","v":0},{"$f":"IF(様式３!L380=\"\",\"\",様式３!L380)","v":0},{"$f":"IF(様式３!M380=\"\",\"\",様式３!M380)","v":0},{"$f":"IF(様式３!N380=\"\",\"\",様式３!N380)","v":0},{"$f":"IF(様式３!O380=\"\",\"\",様式３!O380)","v":""}]
[12,"",{"$f":"IF(様式３!B381=\"\",\"\",様式３!B381)","v":""},{"$f":"IF(様式３!C381=\"\",\"\",様式３!C381)","v":""},{"$f":"IF(様式３!D381=\"\",\"\",様式３!D381)","v":""},{"$f":"IF(様式３!E381=\"\",\"\",様式３!E381)","v":""},{"$f":"IF(様式３!F381=\"\",\"\",様式３!F381)","v":"・"},{"$f":"IF(様式３!G381=\"\",\"\",様式３!G381)","v":""},{"$f":"IF(様式３!H381=\"\",\"\",様式３!H381)","v":"・"},{"$f":"IF(様式３!I381=\"\",\"\",様式３!I381)","v":""},{"$f":"IF(様式３!J381=\"\",\"\",様式３!J381)","v":0},{"$f":"IF(様式３!K381=\"\",\"\",様式３!K381)","v":0},{"$f":"IF(様式３!L381=\"\",\"\",様式３!L381)","v":0},{"$f":"IF(様式３!M381=\"\",\"\",様式３!M381)","v":0},{"$f":"IF(様式３!N381=\"\",\"\",様式３!N381)","v":0},{"$f":"IF(様式３!O381=\"\",\"\",様式３!O381)","v":""}]
[13,"",{"$f":"IF(様式３!B382=\"\",\"\",様式３!B382)","v":""},{"$f":"IF(様式３!C382=\"\",\"\",様式３!C382)","v":""},{"$f":"IF(様式３!D382=\"\",\"\",様式３!D382)","v":""},{"$f":"IF(様式３!E382=\"\",\"\",様式３!E382)","v":""},{"$f":"IF(様式３!F382=\"\",\"\",様式３!F382)","v":"・"},{"$f":"IF(様式３!G382=\"\",\"\",様式３!G382)","v":""},{"$f":"IF(様式３!H382=\"\",\"\",様式３!H382)","v":"・"},{"$f":"IF(様式３!I382=\"\",\"\",様式３!I382)","v":""},{"$f":"IF(様式３!J382=\"\",\"\",様式３!J382)","v":0},{"$f":"IF(様式３!K382=\"\",\"\",様式３!K382)","v":0},{"$f":"IF(様式３!L382=\"\",\"\",様式３!L382)","v":0},{"$f":"IF(様式３!M382=\"\",\"\",様式３!M382)","v":0},{"$f":"IF(様式３!N382=\"\",\"\",様式３!N382)","v":0},{"$f":"IF(様式３!O382=\"\",\"\",様式３!O382)","v":""}]
[14,"",{"$f":"IF(様式３!B383=\"\",\"\",様式３!B383)","v":""},{"$f":"IF(様式３!C383=\"\",\"\",様式３!C383)","v":""},{"$f":"IF(様式３!D383=\"\",\"\",様式３!D383)","v":""},{"$f":"IF(様式３!E383=\"\",\"\",様式３!E383)","v":""},{"$f":"IF(様式３!F383=\"\",\"\",様式３!F383)","v":"・"},{"$f":"IF(様式３!G383=\"\",\"\",様式３!G383)","v":""},{"$f":"IF(様式３!H383=\"\",\"\",様式３!H383)","v":"・"},{"$f":"IF(様式３!I383=\"\",\"\",様式３!I383)","v":""},{"$f":"IF(様式３!J383=\"\",\"\",様式３!J383)","v":0},{"$f":"IF(様式３!K383=\"\",\"\",様式３!K383)","v":0},{"$f":"IF(様式３!L383=\"\",\"\",様式３!L383)","v":0},{"$f":"IF(様式３!M383=\"\",\"\",様式３!M383)","v":0},{"$f":"IF(様式３!N383=\"\",\"\",様式３!N383)","v":0},{"$f":"IF(様式３!O383=\"\",\"\",様式３!O383)","v":""}]
[15,"",{"$f":"IF(様式３!B384=\"\",\"\",様式３!B384)","v":""},{"$f":"IF(様式３!C384=\"\",\"\",様式３!C384)","v":""},{"$f":"IF(様式３!D384=\"\",\"\",様式３!D384)","v":""},{"$f":"IF(様式３!E384=\"\",\"\",様式３!E384)","v":""},{"$f":"IF(様式３!F384=\"\",\"\",様式３!F384)","v":"・"},{"$f":"IF(様式３!G384=\"\",\"\",様式３!G384)","v":""},{"$f":"IF(様式３!H384=\"\",\"\",様式３!H384)","v":"・"},{"$f":"IF(様式３!I384=\"\",\"\",様式３!I384)","v":""},{"$f":"IF(様式３!J384=\"\",\"\",様式３!J384)","v":0},{"$f":"IF(様式３!K384=\"\",\"\",様式３!K384)","v":0},{"$f":"IF(様式３!L384=\"\",\"\",様式３!L384)","v":0},{"$f":"IF(様式３!M384=\"\",\"\",様式３!M384)","v":0},{"$f":"IF(様式３!N384=\"\",\"\",様式３!N384)","v":0},{"$f":"IF(様式３!O384=\"\",\"\",様式３!O384)","v":""}]
[null,{"$f":"B24","v":"※１　学科の欄には、大学科名を記入する。"}]
[null,{"$f":"B25","v":"※２　資格・試験等ランクの欄には、取得個数を記入する。"}]
[null,{"$f":"B26","v":"※３　得点合計欄には、得点の合計を記入する。"}]
[]
[null,"（様式６）",null,null,null,null,null,"（令和",null,{"$f":"+J325","v":0},"年度",null,{"$f":"+M325","v":0},"枚中",{"$f":"+O325+1","v":14},"枚目）"]
[]
[null,"埼玉県高校生専門資格等取得表彰証書発行台帳"]
[null,null,null,null,null,"学 校 名　　　　　　　　　　　",null,null,{"$f":"+I328","v":0},null,null,null,null,null,"学校"]
[null,null,null,null,null,"発行年月日 令和　　",null,null,null,null,{"$f":"+K329","v":0},"年",{"$f":"+M329","v":0},"月",{"$f":"+O329","v":0},"日"]
[null,"発行番号","学年　　　　　　　　　　　　　　　　　　　","学科","整理番号","生  年  月  日",null,null,null,null,"資格・試験等ﾗﾝｸ",null,null,null,"得点\n合計","備考"]
[null,null,null,null,null,null,null,null,null,null,"A","B","C","D"]
[null,null,null,null,null,null,null,null,null,null,6,3,2,1]
[1,{"$f":"IF(E360=\"\",\"\",B347+1)","v":""},{"$f":"IF(様式３!B400=\"\",\"\",様式３!B400)","v":""},{"$f":"IF(様式３!C400=\"\",\"\",様式３!C400)","v":""},{"$f":"IF(様式３!D400=\"\",\"\",様式３!D400)","v":""},{"$f":"IF(様式３!E400=\"\",\"\",様式３!E400)","v":""},{"$f":"IF(様式３!F400=\"\",\"\",様式３!F400)","v":"・"},{"$f":"IF(様式３!G400=\"\",\"\",様式３!G400)","v":""},{"$f":"IF(様式３!H400=\"\",\"\",様式３!H400)","v":"・"},{"$f":"IF(様式３!I400=\"\",\"\",様式３!I400)","v":""},{"$f":"IF(様式３!J400=\"\",\"\",様式３!J400)","v":0},{"$f":"IF(様式３!K400=\"\",\"\",様式３!K400)","v":0},{"$f":"IF(様式３!L400=\"\",\"\",様式３!L400)","v":0},{"$f":"IF(様式３!M400=\"\",\"\",様式３!M400)","v":0},{"$f":"IF(様式３!N400=\"\",\"\",様式３!N400)","v":0},{"$f":"IF(様式３!O400=\"\",\"\",様式３!O400)","v":""}]
[2,{"$f":"IF(E361=\"\",\"\",B360+1)","v":""},{"$f":"IF(様式３!B401=\"\",\"\",様式３!B401)","v":""},{"$f":"IF(様式３!C401=\"\",\"\",様式３!C401)","v":""},{"$f":"IF(様式３!D401=\"\",\"\",様式３!D401)","v":""},{"$f":"IF(様式３!E401=\"\",\"\",様式３!E401)","v":""},{"$f":"IF(様式３!F401=\"\",\"\",様式３!F401)","v":"・"},{"$f":"IF(様式３!G401=\"\",\"\",様式３!G401)","v":""},{"$f":"IF(様式３!H401=\"\",\"\",様式３!H401)","v":"・"},{"$f":"IF(様式３!I401=\"\",\"\",様式３!I401)","v":""},{"$f":"IF(様式３!J401=\"\",\"\",様式３!J401)","v":0},{"$f":"IF(様式３!K401=\"\",\"\",様式３!K401)","v":0},{"$f":"IF(様式３!L401=\"\",\"\",様式３!L401)","v":0},{"$f":"IF(様式３!M401=\"\",\"\",様式３!M401)","v":0},{"$f":"IF(様式３!N401=\"\",\"\",様式３!N401)","v":0},{"$f":"IF(様式３!O401=\"\",\"\",様式３!O401)","v":""}]
[3,"",{"$f":"IF(様式３!B402=\"\",\"\",様式３!B402)","v":""},{"$f":"IF(様式３!C402=\"\",\"\",様式３!C402)","v":""},{"$f":"IF(様式３!D402=\"\",\"\",様式３!D402)","v":""},{"$f":"IF(様式３!E402=\"\",\"\",様式３!E402)","v":""},{"$f":"IF(様式３!F402=\"\",\"\",様式３!F402)","v":"・"},{"$f":"IF(様式３!G402=\"\",\"\",様式３!G402)","v":""},{"$f":"IF(様式３!H402=\"\",\"\",様式３!H402)","v":"・"},{"$f":"IF(様式３!I402=\"\",\"\",様式３!I402)","v":""},{"$f":"IF(様式３!J402=\"\",\"\",様式３!J402)","v":0},{"$f":"IF(様式３!K402=\"\",\"\",様式３!K402)","v":0},{"$f":"IF(様式３!L402=\"\",\"\",様式３!L402)","v":0},{"$f":"IF(様式３!M402=\"\",\"\",様式３!M402)","v":0},{"$f":"IF(様式３!N402=\"\",\"\",様式３!N402)","v":0},{"$f":"IF(様式３!O402=\"\",\"\",様式３!O402)","v":""}]
[4,"",{"$f":"IF(様式３!B403=\"\",\"\",様式３!B403)","v":""},{"$f":"IF(様式３!C403=\"\",\"\",様式３!C403)","v":""},{"$f":"IF(様式３!D403=\"\",\"\",様式３!D403)","v":""},{"$f":"IF(様式３!E403=\"\",\"\",様式３!E403)","v":""},{"$f":"IF(様式３!F403=\"\",\"\",様式３!F403)","v":"・"},{"$f":"IF(様式３!G403=\"\",\"\",様式３!G403)","v":""},{"$f":"IF(様式３!H403=\"\",\"\",様式３!H403)","v":"・"},{"$f":"IF(様式３!I403=\"\",\"\",様式３!I403)","v":""},{"$f":"IF(様式３!J403=\"\",\"\",様式３!J403)","v":0},{"$f":"IF(様式３!K403=\"\",\"\",様式３!K403)","v":0},{"$f":"IF(様式３!L403=\"\",\"\",様式３!L403)","v":0},{"$f":"IF(様式３!M403=\"\",\"\",様式３!M403)","v":0},{"$f":"IF(様式３!N403=\"\",\"\",様式３!N403)","v":0},{"$f":"IF(様式３!O403=\"\",\"\",様式３!O403)","v":""}]
[5,"",{"$f":"IF(様式３!B404=\"\",\"\",様式３!B404)","v":""},{"$f":"IF(様式３!C404=\"\",\"\",様式３!C404)","v":""},{"$f":"IF(様式３!D404=\"\",\"\",様式３!D404)","v":""},{"$f":"IF(様式３!E404=\"\",\"\",様式３!E404)","v":""},{"$f":"IF(様式３!F404=\"\",\"\",様式３!F404)","v":"・"},{"$f":"IF(様式３!G404=\"\",\"\",様式３!G404)","v":""},{"$f":"IF(様式３!H404=\"\",\"\",様式３!H404)","v":"・"},{"$f":"IF(様式３!I404=\"\",\"\",様式３!I404)","v":""},{"$f":"IF(様式３!J404=\"\",\"\",様式３!J404)","v":0},{"$f":"IF(様式３!K404=\"\",\"\",様式３!K404)","v":0},{"$f":"IF(様式３!L404=\"\",\"\",様式３!L404)","v":0},{"$f":"IF(様式３!M404=\"\",\"\",様式３!M404)","v":0},{"$f":"IF(様式３!N404=\"\",\"\",様式３!N404)","v":0},{"$f":"IF(様式３!O404=\"\",\"\",様式３!O404)","v":""}]
[6,"",{"$f":"IF(様式３!B405=\"\",\"\",様式３!B405)","v":""},{"$f":"IF(様式３!C405=\"\",\"\",様式３!C405)","v":""},{"$f":"IF(様式３!D405=\"\",\"\",様式３!D405)","v":""},{"$f":"IF(様式３!E405=\"\",\"\",様式３!E405)","v":""},{"$f":"IF(様式３!F405=\"\",\"\",様式３!F405)","v":"・"},{"$f":"IF(様式３!G405=\"\",\"\",様式３!G405)","v":""},{"$f":"IF(様式３!H405=\"\",\"\",様式３!H405)","v":"・"},{"$f":"IF(様式３!I405=\"\",\"\",様式３!I405)","v":""},{"$f":"IF(様式３!J405=\"\",\"\",様式３!J405)","v":0},{"$f":"IF(様式３!K405=\"\",\"\",様式３!K405)","v":0},{"$f":"IF(様式３!L405=\"\",\"\",様式３!L405)","v":0},{"$f":"IF(様式３!M405=\"\",\"\",様式３!M405)","v":0},{"$f":"IF(様式３!N405=\"\",\"\",様式３!N405)","v":0},{"$f":"IF(様式３!O405=\"\",\"\",様式３!O405)","v":""}]
[7,"",{"$f":"IF(様式３!B406=\"\",\"\",様式３!B406)","v":""},{"$f":"IF(様式３!C406=\"\",\"\",様式３!C406)","v":""},{"$f":"IF(様式３!D406=\"\",\"\",様式３!D406)","v":""},{"$f":"IF(様式３!E406=\"\",\"\",様式３!E406)","v":""},{"$f":"IF(様式３!F406=\"\",\"\",様式３!F406)","v":"・"},{"$f":"IF(様式３!G406=\"\",\"\",様式３!G406)","v":""},{"$f":"IF(様式３!H406=\"\",\"\",様式３!H406)","v":"・"},{"$f":"IF(様式３!I406=\"\",\"\",様式３!I406)","v":""},{"$f":"IF(様式３!J406=\"\",\"\",様式３!J406)","v":0},{"$f":"IF(様式３!K406=\"\",\"\",様式３!K406)","v":0},{"$f":"IF(様式３!L406=\"\",\"\",様式３!L406)","v":0},{"$f":"IF(様式３!M406=\"\",\"\",様式３!M406)","v":0},{"$f":"IF(様式３!N406=\"\",\"\",様式３!N406)","v":0},{"$f":"IF(様式３!O406=\"\",\"\",様式３!O406)","v":""}]
[8,"",{"$f":"IF(様式３!B407=\"\",\"\",様式３!B407)","v":""},{"$f":"IF(様式３!C407=\"\",\"\",様式３!C407)","v":""},{"$f":"IF(様式３!D407=\"\",\"\",様式３!D407)","v":""},{"$f":"IF(様式３!E407=\"\",\"\",様式３!E407)","v":""},{"$f":"IF(様式３!F407=\"\",\"\",様式３!F407)","v":"・"},{"$f":"IF(様式３!G407=\"\",\"\",様式３!G407)","v":""},{"$f":"IF(様式３!H407=\"\",\"\",様式３!H407)","v":"・"},{"$f":"IF(様式３!I407=\"\",\"\",様式３!I407)","v":""},{"$f":"IF(様式３!J407=\"\",\"\",様式３!J407)","v":0},{"$f":"IF(様式３!K407=\"\",\"\",様式３!K407)","v":0},{"$f":"IF(様式３!L407=\"\",\"\",様式３!L407)","v":0},{"$f":"IF(様式３!M407=\"\",\"\",様式３!M407)","v":0},{"$f":"IF(様式３!N407=\"\",\"\",様式３!N407)","v":0},{"$f":"IF(様式３!O407=\"\",\"\",様式３!O407)","v":""}]
[9,"",{"$f":"IF(様式３!B408=\"\",\"\",様式３!B408)","v":""},{"$f":"IF(様式３!C408=\"\",\"\",様式３!C408)","v":""},{"$f":"IF(様式３!D408=\"\",\"\",様式３!D408)","v":""},{"$f":"IF(様式３!E408=\"\",\"\",様式３!E408)","v":""},{"$f":"IF(様式３!F408=\"\",\"\",様式３!F408)","v":"・"},{"$f":"IF(様式３!G408=\"\",\"\",様式３!G408)","v":""},{"$f":"IF(様式３!H408=\"\",\"\",様式３!H408)","v":"・"},{"$f":"IF(様式３!I408=\"\",\"\",様式３!I408)","v":""},{"$f":"IF(様式３!J408=\"\",\"\",様式３!J408)","v":0},{"$f":"IF(様式３!K408=\"\",\"\",様式３!K408)","v":0},{"$f":"IF(様式３!L408=\"\",\"\",様式３!L408)","v":0},{"$f":"IF(様式３!M408=\"\",\"\",様式３!M408)","v":0},{"$f":"IF(様式３!N408=\"\",\"\",様式３!N408)","v":0},{"$f":"IF(様式３!O408=\"\",\"\",様式３!O408)","v":""}]
[10,"",{"$f":"IF(様式３!B409=\"\",\"\",様式３!B409)","v":""},{"$f":"IF(様式３!C409=\"\",\"\",様式３!C409)","v":""},{"$f":"IF(様式３!D409=\"\",\"\",様式３!D409)","v":""},{"$f":"IF(様式３!E409=\"\",\"\",様式３!E409)","v":""},{"$f":"IF(様式３!F409=\"\",\"\",様式３!F409)","v":"・"},{"$f":"IF(様式３!G409=\"\",\"\",様式３!G409)","v":""},{"$f":"IF(様式３!H409=\"\",\"\",様式３!H409)","v":"・"},{"$f":"IF(様式３!I409=\"\",\"\",様式３!I409)","v":""},{"$f":"IF(様式３!J409=\"\",\"\",様式３!J409)","v":0},{"$f":"IF(様式３!K409=\"\",\"\",様式３!K409)","v":0},{"$f":"IF(様式３!L409=\"\",\"\",様式３!L409)","v":0},{"$f":"IF(様式３!M409=\"\",\"\",様式３!M409)","v":0},{"$f":"IF(様式３!N409=\"\",\"\",様式３!N409)","v":0},{"$f":"IF(様式３!O409=\"\",\"\",様式３!O409)","v":""}]
[11,"",{"$f":"IF(様式３!B410=\"\",\"\",様式３!B410)","v":""},{"$f":"IF(様式３!C410=\"\",\"\",様式３!C410)","v":""},{"$f":"IF(様式３!D410=\"\",\"\",様式３!D410)","v":""},{"$f":"IF(様式３!E410=\"\",\"\",様式３!E410)","v":""},{"$f":"IF(様式３!F410=\"\",\"\",様式３!F410)","v":"・"},{"$f":"IF(様式３!G410=\"\",\"\",様式３!G410)","v":""},{"$f":"IF(様式３!H410=\"\",\"\",様式３!H410)","v":"・"},{"$f":"IF(様式３!I410=\"\",\"\",様式３!I410)","v":""},{"$f":"IF(様式３!J410=\"\",\"\",様式３!J410)","v":0},{"$f":"IF(様式３!K410=\"\",\"\",様式３!K410)","v":0},{"$f":"IF(様式３!L410=\"\",\"\",様式３!L410)","v":0},{"$f":"IF(様式３!M410=\"\",\"\",様式３!M410)","v":0},{"$f":"IF(様式３!N410=\"\",\"\",様式３!N410)","v":0},{"$f":"IF(様式３!O410=\"\",\"\",様式３!O410)","v":""}]
[12,"",{"$f":"IF(様式３!B411=\"\",\"\",様式３!B411)","v":""},{"$f":"IF(様式３!C411=\"\",\"\",様式３!C411)","v":""},{"$f":"IF(様式３!D411=\"\",\"\",様式３!D411)","v":""},{"$f":"IF(様式３!E411=\"\",\"\",様式３!E411)","v":""},{"$f":"IF(様式３!F411=\"\",\"\",様式３!F411)","v":"・"},{"$f":"IF(様式３!G411=\"\",\"\",様式３!G411)","v":""},{"$f":"IF(様式３!H411=\"\",\"\",様式３!H411)","v":"・"},{"$f":"IF(様式３!I411=\"\",\"\",様式３!I411)","v":""},{"$f":"IF(様式３!J411=\"\",\"\",様式３!J411)","v":0},{"$f":"IF(様式３!K411=\"\",\"\",様式３!K411)","v":0},{"$f":"IF(様式３!L411=\"\",\"\",様式３!L411)","v":0},{"$f":"IF(様式３!M411=\"\",\"\",様式３!M411)","v":0},{"$f":"IF(様式３!N411=\"\",\"\",様式３!N411)","v":0},{"$f":"IF(様式３!O411=\"\",\"\",様式３!O411)","v":""}]
[13,"",{"$f":"IF(様式３!B412=\"\",\"\",様式３!B412)","v":""},{"$f":"IF(様式３!C412=\"\",\"\",様式３!C412)","v":""},{"$f":"IF(様式３!D412=\"\",\"\",様式３!D412)","v":""},{"$f":"IF(様式３!E412=\"\",\"\",様式３!E412)","v":""},{"$f":"IF(様式３!F412=\"\",\"\",様式３!F412)","v":"・"},{"$f":"IF(様式３!G412=\"\",\"\",様式３!G412)","v":""},{"$f":"IF(様式３!H412=\"\",\"\",様式３!H412)","v":"・"},{"$f":"IF(様式３!I412=\"\",\"\",様式３!I412)","v":""},{"$f":"IF(様式３!J412=\"\",\"\",様式３!J412)","v":0},{"$f":"IF(様式３!K412=\"\",\"\",様式３!K412)","v":0},{"$f":"IF(様式３!L412=\"\",\"\",様式３!L412)","v":0},{"$f":"IF(様式３!M412=\"\",\"\",様式３!M412)","v":0},{"$f":"IF(様式３!N412=\"\",\"\",様式３!N412)","v":0},{"$f":"IF(様式３!O412=\"\",\"\",様式３!O412)","v":""}]
[14,"",{"$f":"IF(様式３!B413=\"\",\"\",様式３!B413)","v":""},{"$f":"IF(様式３!C413=\"\",\"\",様式３!C413)","v":""},{"$f":"IF(様式３!D413=\"\",\"\",様式３!D413)","v":""},{"$f":"IF(様式３!E413=\"\",\"\",様式３!E413)","v":""},{"$f":"IF(様式３!F413=\"\",\"\",様式３!F413)","v":"・"},{"$f":"IF(様式３!G413=\"\",\"\",様式３!G413)","v":""},{"$f":"IF(様式３!H413=\"\",\"\",様式３!H413)","v":"・"},{"$f":"IF(様式３!I413=\"\",\"\",様式３!I413)","v":""},{"$f":"IF(様式３!J413=\"\",\"\",様式３!J413)","v":0},{"$f":"IF(様式３!K413=\"\",\"\",様式３!K413)","v":0},{"$f":"IF(様式３!L413=\"\",\"\",様式３!L413)","v":0},{"$f":"IF(様式３!M413=\"\",\"\",様式３!M413)","v":0},{"$f":"IF(様式３!N413=\"\",\"\",様式３!N413)","v":0},{"$f":"IF(様式３!O413=\"\",\"\",様式３!O413)","v":""}]
[15,"",{"$f":"IF(様式３!B414=\"\",\"\",様式３!B414)","v":""},{"$f":"IF(様式３!C414=\"\",\"\",様式３!C414)","v":""},{"$f":"IF(様式３!D414=\"\",\"\",様式３!D414)","v":""},{"$f":"IF(様式３!E414=\"\",\"\",様式３!E414)","v":""},{"$f":"IF(様式３!F414=\"\",\"\",様式３!F414)","v":"・"},{"$f":"IF(様式３!G414=\"\",\"\",様式３!G414)","v":""},{"$f":"IF(様式３!H414=\"\",\"\",様式３!H414)","v":"・"},{"$f":"IF(様式３!I414=\"\",\"\",様式３!I414)","v":""},{"$f":"IF(様式３!J414=\"\",\"\",様式３!J414)","v":0},{"$f":"IF(様式３!K414=\"\",\"\",様式３!K414)","v":0},{"$f":"IF(様式３!L414=\"\",\"\",様式３!L414)","v":0},{"$f":"IF(様式３!M414=\"\",\"\",様式３!M414)","v":0},{"$f":"IF(様式３!N414=\"\",\"\",様式３!N414)","v":0},{"$f":"IF(様式３!O414=\"\",\"\",様式３!O414)","v":""}]
[null,{"$f":"B24","v":"※１　学科の欄には、大学科名を記入する。"}]
[null,{"$f":"B25","v":"※２　資格・試験等ランクの欄には、取得個数を記入する。"}]
[null,{"$f":"B26","v":"※３　得点合計欄には、得点の合計を記入する。"}]
[]
[null,"（様式６）",null,null,null,null,null,"（令和",null,{"$f":"+J352","v":0},"年度",null,{"$f":"+M352","v":0},"枚中",{"$f":"+O352+1","v":15},"枚目）"]
[]
[null,"埼玉県高校生専門資格等取得表彰証書発行台帳"]
[null,null,null,null,null,"学 校 名　　　　　　　　　　　",null,null,{"$f":"+I355","v":0},null,null,null,null,null,"学校"]
[null,null,null,null,null,"発行年月日 令和　　",null,null,null,null,{"$f":"+K356","v":0},"年",{"$f":"+M356","v":0},"月",{"$f":"+O356","v":0},"日"]
[null,"発行番号","学年　　　　　　　　　　　　　　　　　　　","学科","整理番号","生  年  月  日",null,null,null,null,"資格・試験等ﾗﾝｸ",null,null,null,"得点\n合計","備考"]
[null,null,null,null,null,null,null,null,null,null,"A","B","C","D"]
[null,null,null,null,null,null,null,null,null,null,6,3,2,1]
[1,{"$f":"IF(E387=\"\",\"\",B374+1)","v":""},{"$f":"IF(様式３!B430=\"\",\"\",様式３!B430)","v":""},{"$f":"IF(様式３!C430=\"\",\"\",様式３!C430)","v":""},{"$f":"IF(様式３!D430=\"\",\"\",様式３!D430)","v":""},{"$f":"IF(様式３!E430=\"\",\"\",様式３!E430)","v":""},{"$f":"IF(様式３!F430=\"\",\"\",様式３!F430)","v":"・"},{"$f":"IF(様式３!G430=\"\",\"\",様式３!G430)","v":""},{"$f":"IF(様式３!H430=\"\",\"\",様式３!H430)","v":"・"},{"$f":"IF(様式３!I430=\"\",\"\",様式３!I430)","v":""},{"$f":"IF(様式３!J430=\"\",\"\",様式３!J430)","v":0},{"$f":"IF(様式３!K430=\"\",\"\",様式３!K430)","v":0},{"$f":"IF(様式３!L430=\"\",\"\",様式３!L430)","v":0},{"$f":"IF(様式３!M430=\"\",\"\",様式３!M430)","v":0},{"$f":"IF(様式３!N430=\"\",\"\",様式３!N430)","v":0},{"$f":"IF(様式３!O430=\"\",\"\",様式３!O430)","v":""}]
[2,{"$f":"IF(E388=\"\",\"\",B387+1)","v":""},{"$f":"IF(様式３!B431=\"\",\"\",様式３!B431)","v":""},{"$f":"IF(様式３!C431=\"\",\"\",様式３!C431)","v":""},{"$f":"IF(様式３!D431=\"\",\"\",様式３!D431)","v":""},{"$f":"IF(様式３!E431=\"\",\"\",様式３!E431)","v":""},{"$f":"IF(様式３!F431=\"\",\"\",様式３!F431)","v":"・"},{"$f":"IF(様式３!G431=\"\",\"\",様式３!G431)","v":""},{"$f":"IF(様式３!H431=\"\",\"\",様式３!H431)","v":"・"},{"$f":"IF(様式３!I431=\"\",\"\",様式３!I431)","v":""},{"$f":"IF(様式３!J431=\"\",\"\",様式３!J431)","v":0},{"$f":"IF(様式３!K431=\"\",\"\",様式３!K431)","v":0},{"$f":"IF(様式３!L431=\"\",\"\",様式３!L431)","v":0},{"$f":"IF(様式３!M431=\"\",\"\",様式３!M431)","v":0},{"$f":"IF(様式３!N431=\"\",\"\",様式３!N431)","v":0},{"$f":"IF(様式３!O431=\"\",\"\",様式３!O431)","v":""}]
[3,"",{"$f":"IF(様式３!B432=\"\",\"\",様式３!B432)","v":""},{"$f":"IF(様式３!C432=\"\",\"\",様式３!C432)","v":""},{"$f":"IF(様式３!D432=\"\",\"\",様式３!D432)","v":""},{"$f":"IF(様式３!E432=\"\",\"\",様式３!E432)","v":""},{"$f":"IF(様式３!F432=\"\",\"\",様式３!F432)","v":"・"},{"$f":"IF(様式３!G432=\"\",\"\",様式３!G432)","v":""},{"$f":"IF(様式３!H432=\"\",\"\",様式３!H432)","v":"・"},{"$f":"IF(様式３!I432=\"\",\"\",様式３!I432)","v":""},{"$f":"IF(様式３!J432=\"\",\"\",様式３!J432)","v":0},{"$f":"IF(様式３!K432=\"\",\"\",様式３!K432)","v":0},{"$f":"IF(様式３!L432=\"\",\"\",様式３!L432)","v":0},{"$f":"IF(様式３!M432=\"\",\"\",様式３!M432)","v":0},{"$f":"IF(様式３!N432=\"\",\"\",様式３!N432)","v":0},{"$f":"IF(様式３!O432=\"\",\"\",様式３!O432)","v":""}]
[4,"",{"$f":"IF(様式３!B433=\"\",\"\",様式３!B433)","v":""},{"$f":"IF(様式３!C433=\"\",\"\",様式３!C433)","v":""},{"$f":"IF(様式３!D433=\"\",\"\",様式３!D433)","v":""},{"$f":"IF(様式３!E433=\"\",\"\",様式３!E433)","v":""},{"$f":"IF(様式３!F433=\"\",\"\",様式３!F433)","v":"・"},{"$f":"IF(様式３!G433=\"\",\"\",様式３!G433)","v":""},{"$f":"IF(様式３!H433=\"\",\"\",様式３!H433)","v":"・"},{"$f":"IF(様式３!I433=\"\",\"\",様式３!I433)","v":""},{"$f":"IF(様式３!J433=\"\",\"\",様式３!J433)","v":0},{"$f":"IF(様式３!K433=\"\",\"\",様式３!K433)","v":0},{"$f":"IF(様式３!L433=\"\",\"\",様式３!L433)","v":0},{"$f":"IF(様式３!M433=\"\",\"\",様式３!M433)","v":0},{"$f":"IF(様式３!N433=\"\",\"\",様式３!N433)","v":0},{"$f":"IF(様式３!O433=\"\",\"\",様式３!O433)","v":""}]
[5,"",{"$f":"IF(様式３!B434=\"\",\"\",様式３!B434)","v":""},{"$f":"IF(様式３!C434=\"\",\"\",様式３!C434)","v":""},{"$f":"IF(様式３!D434=\"\",\"\",様式３!D434)","v":""},{"$f":"IF(様式３!E434=\"\",\"\",様式３!E434)","v":""},{"$f":"IF(様式３!F434=\"\",\"\",様式３!F434)","v":"・"},{"$f":"IF(様式３!G434=\"\",\"\",様式３!G434)","v":""},{"$f":"IF(様式３!H434=\"\",\"\",様式３!H434)","v":"・"},{"$f":"IF(様式３!I434=\"\",\"\",様式３!I434)","v":""},{"$f":"IF(様式３!J434=\"\",\"\",様式３!J434)","v":0},{"$f":"IF(様式３!K434=\"\",\"\",様式３!K434)","v":0},{"$f":"IF(様式３!L434=\"\",\"\",様式３!L434)","v":0},{"$f":"IF(様式３!M434=\"\",\"\",様式３!M434)","v":0},{"$f":"IF(様式３!N434=\"\",\"\",様式３!N434)","v":0},{"$f":"IF(様式３!O434=\"\",\"\",様式３!O434)","v":""}]
[6,"",{"$f":"IF(様式３!B435=\"\",\"\",様式３!B435)","v":""},{"$f":"IF(様式３!C435=\"\",\"\",様式３!C435)","v":""},{"$f":"IF(様式３!D435=\"\",\"\",様式３!D435)","v":""},{"$f":"IF(様式３!E435=\"\",\"\",様式３!E435)","v":""},{"$f":"IF(様式３!F435=\"\",\"\",様式３!F435)","v":"・"},{"$f":"IF(様式３!G435=\"\",\"\",様式３!G435)","v":""},{"$f":"IF(様式３!H435=\"\",\"\",様式３!H435)","v":"・"},{"$f":"IF(様式３!I435=\"\",\"\",様式３!I435)","v":""},{"$f":"IF(様式３!J435=\"\",\"\",様式３!J435)","v":0},{"$f":"IF(様式３!K435=\"\",\"\",様式３!K435)","v":0},{"$f":"IF(様式３!L435=\"\",\"\",様式３!L435)","v":0},{"$f":"IF(様式３!M435=\"\",\"\",様式３!M435)","v":0},{"$f":"IF(様式３!N435=\"\",\"\",様式３!N435)","v":0},{"$f":"IF(様式３!O435=\"\",\"\",様式３!O435)","v":""}]
[7,"",{"$f":"IF(様式３!B436=\"\",\"\",様式３!B436)","v":""},{"$f":"IF(様式３!C436=\"\",\"\",様式３!C436)","v":""},{"$f":"IF(様式３!D436=\"\",\"\",様式３!D436)","v":""},{"$f":"IF(様式３!E436=\"\",\"\",様式３!E436)","v":""},{"$f":"IF(様式３!F436=\"\",\"\",様式３!F436)","v":"・"},{"$f":"IF(様式３!G436=\"\",\"\",様式３!G436)","v":""},{"$f":"IF(様式３!H436=\"\",\"\",様式３!H436)","v":"・"},{"$f":"IF(様式３!I436=\"\",\"\",様式３!I436)","v":""},{"$f":"IF(様式３!J436=\"\",\"\",様式３!J436)","v":0},{"$f":"IF(様式３!K436=\"\",\"\",様式３!K436)","v":0},{"$f":"IF(様式３!L436=\"\",\"\",様式３!L436)","v":0},{"$f":"IF(様式３!M436=\"\",\"\",様式３!M436)","v":0},{"$f":"IF(様式３!N436=\"\",\"\",様式３!N436)","v":0},{"$f":"IF(様式３!O436=\"\",\"\",様式３!O436)","v":""}]
[8,"",{"$f":"IF(様式３!B437=\"\",\"\",様式３!B437)","v":""},{"$f":"IF(様式３!C437=\"\",\"\",様式３!C437)","v":""},{"$f":"IF(様式３!D437=\"\",\"\",様式３!D437)","v":""},{"$f":"IF(様式３!E437=\"\",\"\",様式３!E437)","v":""},{"$f":"IF(様式３!F437=\"\",\"\",様式３!F437)","v":"・"},{"$f":"IF(様式３!G437=\"\",\"\",様式３!G437)","v":""},{"$f":"IF(様式３!H437=\"\",\"\",様式３!H437)","v":"・"},{"$f":"IF(様式３!I437=\"\",\"\",様式３!I437)","v":""},{"$f":"IF(様式３!J437=\"\",\"\",様式３!J437)","v":0},{"$f":"IF(様式３!K437=\"\",\"\",様式３!K437)","v":0},{"$f":"IF(様式３!L437=\"\",\"\",様式３!L437)","v":0},{"$f":"IF(様式３!M437=\"\",\"\",様式３!M437)","v":0},{"$f":"IF(様式３!N437=\"\",\"\",様式３!N437)","v":0},{"$f":"IF(様式３!O437=\"\",\"\",様式３!O437)","v":""}]
[9,"",{"$f":"IF(様式３!B438=\"\",\"\",様式３!B438)","v":""},{"$f":"IF(様式３!C438=\"\",\"\",様式３!C438)","v":""},{"$f":"IF(様式３!D438=\"\",\"\",様式３!D438)","v":""},{"$f":"IF(様式３!E438=\"\",\"\",様式３!E438)","v":""},{"$f":"IF(様式３!F438=\"\",\"\",様式３!F438)","v":"・"},{"$f":"IF(様式３!G438=\"\",\"\",様式３!G438)","v":""},{"$f":"IF(様式３!H438=\"\",\"\",様式３!H438)","v":"・"},{"$f":"IF(様式３!I438=\"\",\"\",様式３!I438)","v":""},{"$f":"IF(様式３!J438=\"\",\"\",様式３!J438)","v":0},{"$f":"IF(様式３!K438=\"\",\"\",様式３!K438)","v":0},{"$f":"IF(様式３!L438=\"\",\"\",様式３!L438)","v":0},{"$f":"IF(様式３!M438=\"\",\"\",様式３!M438)","v":0},{"$f":"IF(様式３!N438=\"\",\"\",様式３!N438)","v":0},{"$f":"IF(様式３!O438=\"\",\"\",様式３!O438)","v":""}]
[10,"",{"$f":"IF(様式３!B439=\"\",\"\",様式３!B439)","v":""},{"$f":"IF(様式３!C439=\"\",\"\",様式３!C439)","v":""},{"$f":"IF(様式３!D439=\"\",\"\",様式３!D439)","v":""},{"$f":"IF(様式３!E439=\"\",\"\",様式３!E439)","v":""},{"$f":"IF(様式３!F439=\"\",\"\",様式３!F439)","v":"・"},{"$f":"IF(様式３!G439=\"\",\"\",様式３!G439)","v":""},{"$f":"IF(様式３!H439=\"\",\"\",様式３!H439)","v":"・"},{"$f":"IF(様式３!I439=\"\",\"\",様式３!I439)","v":""},{"$f":"IF(様式３!J439=\"\",\"\",様式３!J439)","v":0},{"$f":"IF(様式３!K439=\"\",\"\",様式３!K439)","v":0},{"$f":"IF(様式３!L439=\"\",\"\",様式３!L439)","v":0},{"$f":"IF(様式３!M439=\"\",\"\",様式３!M439)","v":0},{"$f":"IF(様式３!N439=\"\",\"\",様式３!N439)","v":0},{"$f":"IF(様式３!O439=\"\",\"\",様式３!O439)","v":""}]
[11,"",{"$f":"IF(様式３!B440=\"\",\"\",様式３!B440)","v":""},{"$f":"IF(様式３!C440=\"\",\"\",様式３!C440)","v":""},{"$f":"IF(様式３!D440=\"\",\"\",様式３!D440)","v":""},{"$f":"IF(様式３!E440=\"\",\"\",様式３!E440)","v":""},{"$f":"IF(様式３!F440=\"\",\"\",様式３!F440)","v":"・"},{"$f":"IF(様式３!G440=\"\",\"\",様式３!G440)","v":""},{"$f":"IF(様式３!H440=\"\",\"\",様式３!H440)","v":"・"},{"$f":"IF(様式３!I440=\"\",\"\",様式３!I440)","v":""},{"$f":"IF(様式３!J440=\"\",\"\",様式３!J440)","v":0},{"$f":"IF(様式３!K440=\"\",\"\",様式３!K440)","v":0},{"$f":"IF(様式３!L440=\"\",\"\",様式３!L440)","v":0},{"$f":"IF(様式３!M440=\"\",\"\",様式３!M440)","v":0},{"$f":"IF(様式３!N440=\"\",\"\",様式３!N440)","v":0},{"$f":"IF(様式３!O440=\"\",\"\",様式３!O440)","v":""}]
[12,"",{"$f":"IF(様式３!B441=\"\",\"\",様式３!B441)","v":""},{"$f":"IF(様式３!C441=\"\",\"\",様式３!C441)","v":""},{"$f":"IF(様式３!D441=\"\",\"\",様式３!D441)","v":""},{"$f":"IF(様式３!E441=\"\",\"\",様式３!E441)","v":""},{"$f":"IF(様式３!F441=\"\",\"\",様式３!F441)","v":"・"},{"$f":"IF(様式３!G441=\"\",\"\",様式３!G441)","v":""},{"$f":"IF(様式３!H441=\"\",\"\",様式３!H441)","v":"・"},{"$f":"IF(様式３!I441=\"\",\"\",様式３!I441)","v":""},{"$f":"IF(様式３!J441=\"\",\"\",様式３!J441)","v":0},{"$f":"IF(様式３!K441=\"\",\"\",様式３!K441)","v":0},{"$f":"IF(様式３!L441=\"\",\"\",様式３!L441)","v":0},{"$f":"IF(様式３!M441=\"\",\"\",様式３!M441)","v":0},{"$f":"IF(様式３!N441=\"\",\"\",様式３!N441)","v":0},{"$f":"IF(様式３!O441=\"\",\"\",様式３!O441)","v":""}]
[13,"",{"$f":"IF(様式３!B442=\"\",\"\",様式３!B442)","v":""},{"$f":"IF(様式３!C442=\"\",\"\",様式３!C442)","v":""},{"$f":"IF(様式３!D442=\"\",\"\",様式３!D442)","v":""},{"$f":"IF(様式３!E442=\"\",\"\",様式３!E442)","v":""},{"$f":"IF(様式３!F442=\"\",\"\",様式３!F442)","v":"・"},{"$f":"IF(様式３!G442=\"\",\"\",様式３!G442)","v":""},{"$f":"IF(様式３!H442=\"\",\"\",様式３!H442)","v":"・"},{"$f":"IF(様式３!I442=\"\",\"\",様式３!I442)","v":""},{"$f":"IF(様式３!J442=\"\",\"\",様式３!J442)","v":0},{"$f":"IF(様式３!K442=\"\",\"\",様式３!K442)","v":0},{"$f":"IF(様式３!L442=\"\",\"\",様式３!L442)","v":0},{"$f":"IF(様式３!M442=\"\",\"\",様式３!M442)","v":0},{"$f":"IF(様式３!N442=\"\",\"\",様式３!N442)","v":0},{"$f":"IF(様式３!O442=\"\",\"\",様式３!O442)","v":""}]
[14,"",{"$f":"IF(様式３!B443=\"\",\"\",様式３!B443)","v":""},{"$f":"IF(様式３!C443=\"\",\"\",様式３!C443)","v":""},{"$f":"IF(様式３!D443=\"\",\"\",様式３!D443)","v":""},{"$f":"IF(様式３!E443=\"\",\"\",様式３!E443)","v":""},{"$f":"IF(様式３!F443=\"\",\"\",様式３!F443)","v":"・"},{"$f":"IF(様式３!G443=\"\",\"\",様式３!G443)","v":""},{"$f":"IF(様式３!H443=\"\",\"\",様式３!H443)","v":"・"},{"$f":"IF(様式３!I443=\"\",\"\",様式３!I443)","v":""},{"$f":"IF(様式３!J443=\"\",\"\",様式３!J443)","v":0},{"$f":"IF(様式３!K443=\"\",\"\",様式３!K443)","v":0},{"$f":"IF(様式３!L443=\"\",\"\",様式３!L443)","v":0},{"$f":"IF(様式３!M443=\"\",\"\",様式３!M443)","v":0},{"$f":"IF(様式３!N443=\"\",\"\",様式３!N443)","v":0},{"$f":"IF(様式３!O443=\"\",\"\",様式３!O443)","v":""}]
[15,"",{"$f":"IF(様式３!B444=\"\",\"\",様式３!B444)","v":""},{"$f":"IF(様式３!C444=\"\",\"\",様式３!C444)","v":""},{"$f":"IF(様式３!D444=\"\",\"\",様式３!D444)","v":""},{"$f":"IF(様式３!E444=\"\",\"\",様式３!E444)","v":""},{"$f":"IF(様式３!F444=\"\",\"\",様式３!F444)","v":"・"},{"$f":"IF(様式３!G444=\"\",\"\",様式３!G444)","v":""},{"$f":"IF(様式３!H444=\"\",\"\",様式３!H444)","v":"・"},{"$f":"IF(様式３!I444=\"\",\"\",様式３!I444)","v":""},{"$f":"IF(様式３!J444=\"\",\"\",様式３!J444)","v":0},{"$f":"IF(様式３!K444=\"\",\"\",様式３!K444)","v":0},{"$f":"IF(様式３!L444=\"\",\"\",様式３!L444)","v":0},{"$f":"IF(様式３!M444=\"\",\"\",様式３!M444)","v":0},{"$f":"IF(様式３!N444=\"\",\"\",様式３!N444)","v":0},{"$f":"IF(様式３!O444=\"\",\"\",様式３!O444)","v":""}]
[null,{"$f":"B24","v":"※１　学科の欄には、大学科名を記入する。"}]
[null,{"$f":"B25","v":"※２　資格・試験等ランクの欄には、取得個数を記入する。"}]
[null,{"$f":"B26","v":"※３　得点合計欄には、得点の合計を記入する。"}]
[]
[null,"（様式６）",null,null,null,null,null,"（令和",null,{"$f":"+J379","v":0},"年度",null,{"$f":"+M379","v":0},"枚中",{"$f":"+O379+1","v":16},"枚目）"]
[]
[null,"埼玉県高校生専門資格等取得表彰証書発行台帳"]
[null,null,null,null,null,"学 校 名　　　　　　　　　　　",null,null,{"$f":"+I382","v":0},null,null,null,null,null,"学校"]
[null,null,null,null,null,"発行年月日 令和　　",null,null,null,null,{"$f":"+K383","v":0},"年",{"$f":"+M383","v":0},"月",{"$f":"+O383","v":0},"日"]
[null,"発行番号","学年　　　　　　　　　　　　　　　　　　　","学科","整理番号","生  年  月  日",null,null,null,null,"資格・試験等ﾗﾝｸ",null,null,null,"得点\n合計","備考"]
[null,null,null,null,null,null,null,null,null,null,"A","B","C","D"]
[null,null,null,null,null,null,null,null,null,null,6,3,2,1]
[1,{"$f":"IF(E414=\"\",\"\",B401+1)","v":""},{"$f":"IF(様式３!B460=\"\",\"\",様式３!B460)","v":""},{"$f":"IF(様式３!C460=\"\",\"\",様式３!C460)","v":""},{"$f":"IF(様式３!D460=\"\",\"\",様式３!D460)","v":""},{"$f":"IF(様式３!E460=\"\",\"\",様式３!E460)","v":""},{"$f":"IF(様式３!F460=\"\",\"\",様式３!F460)","v":"・"},{"$f":"IF(様式３!G460=\"\",\"\",様式３!G460)","v":""},{"$f":"IF(様式３!H460=\"\",\"\",様式３!H460)","v":"・"},{"$f":"IF(様式３!I460=\"\",\"\",様式３!I460)","v":""},{"$f":"IF(様式３!J460=\"\",\"\",様式３!J460)","v":0},{"$f":"IF(様式３!K460=\"\",\"\",様式３!K460)","v":0},{"$f":"IF(様式３!L460=\"\",\"\",様式３!L460)","v":0},{"$f":"IF(様式３!M460=\"\",\"\",様式３!M460)","v":0},{"$f":"IF(様式３!N460=\"\",\"\",様式３!N460)","v":0},{"$f":"IF(様式３!O460=\"\",\"\",様式３!O460)","v":""}]
[2,{"$f":"IF(E415=\"\",\"\",B414+1)","v":""},{"$f":"IF(様式３!B461=\"\",\"\",様式３!B461)","v":""},{"$f":"IF(様式３!C461=\"\",\"\",様式３!C461)","v":""},{"$f":"IF(様式３!D461=\"\",\"\",様式３!D461)","v":""},{"$f":"IF(様式３!E461=\"\",\"\",様式３!E461)","v":""},{"$f":"IF(様式３!F461=\"\",\"\",様式３!F461)","v":"・"},{"$f":"IF(様式３!G461=\"\",\"\",様式３!G461)","v":""},{"$f":"IF(様式３!H461=\"\",\"\",様式３!H461)","v":"・"},{"$f":"IF(様式３!I461=\"\",\"\",様式３!I461)","v":""},{"$f":"IF(様式３!J461=\"\",\"\",様式３!J461)","v":0},{"$f":"IF(様式３!K461=\"\",\"\",様式３!K461)","v":0},{"$f":"IF(様式３!L461=\"\",\"\",様式３!L461)","v":0},{"$f":"IF(様式３!M461=\"\",\"\",様式３!M461)","v":0},{"$f":"IF(様式３!N461=\"\",\"\",様式３!N461)","v":0},{"$f":"IF(様式３!O461=\"\",\"\",様式３!O461)","v":""}]
[3,"",{"$f":"IF(様式３!B462=\"\",\"\",様式３!B462)","v":""},{"$f":"IF(様式３!C462=\"\",\"\",様式３!C462)","v":""},{"$f":"IF(様式３!D462=\"\",\"\",様式３!D462)","v":""},{"$f":"IF(様式３!E462=\"\",\"\",様式３!E462)","v":""},{"$f":"IF(様式３!F462=\"\",\"\",様式３!F462)","v":"・"},{"$f":"IF(様式３!G462=\"\",\"\",様式３!G462)","v":""},{"$f":"IF(様式３!H462=\"\",\"\",様式３!H462)","v":"・"},{"$f":"IF(様式３!I462=\"\",\"\",様式３!I462)","v":""},{"$f":"IF(様式３!J462=\"\",\"\",様式３!J462)","v":0},{"$f":"IF(様式３!K462=\"\",\"\",様式３!K462)","v":0},{"$f":"IF(様式３!L462=\"\",\"\",様式３!L462)","v":0},{"$f":"IF(様式３!M462=\"\",\"\",様式３!M462)","v":0},{"$f":"IF(様式３!N462=\"\",\"\",様式３!N462)","v":0},{"$f":"IF(様式３!O462=\"\",\"\",様式３!O462)","v":""}]
[4,"",{"$f":"IF(様式３!B463=\"\",\"\",様式３!B463)","v":""},{"$f":"IF(様式３!C463=\"\",\"\",様式３!C463)","v":""},{"$f":"IF(様式３!D463=\"\",\"\",様式３!D463)","v":""},{"$f":"IF(様式３!E463=\"\",\"\",様式３!E463)","v":""},{"$f":"IF(様式３!F463=\"\",\"\",様式３!F463)","v":"・"},{"$f":"IF(様式３!G463=\"\",\"\",様式３!G463)","v":""},{"$f":"IF(様式３!H463=\"\",\"\",様式３!H463)","v":"・"},{"$f":"IF(様式３!I463=\"\",\"\",様式３!I463)","v":""},{"$f":"IF(様式３!J463=\"\",\"\",様式３!J463)","v":0},{"$f":"IF(様式３!K463=\"\",\"\",様式３!K463)","v":0},{"$f":"IF(様式３!L463=\"\",\"\",様式３!L463)","v":0},{"$f":"IF(様式３!M463=\"\",\"\",様式３!M463)","v":0},{"$f":"IF(様式３!N463=\"\",\"\",様式３!N463)","v":0},{"$f":"IF(様式３!O463=\"\",\"\",様式３!O463)","v":""}]
[5,"",{"$f":"IF(様式３!B464=\"\",\"\",様式３!B464)","v":""},{"$f":"IF(様式３!C464=\"\",\"\",様式３!C464)","v":""},{"$f":"IF(様式３!D464=\"\",\"\",様式３!D464)","v":""},{"$f":"IF(様式３!E464=\"\",\"\",様式３!E464)","v":""},{"$f":"IF(様式３!F464=\"\",\"\",様式３!F464)","v":"・"},{"$f":"IF(様式３!G464=\"\",\"\",様式３!G464)","v":""},{"$f":"IF(様式３!H464=\"\",\"\",様式３!H464)","v":"・"},{"$f":"IF(様式３!I464=\"\",\"\",様式３!I464)","v":""},{"$f":"IF(様式３!J464=\"\",\"\",様式３!J464)","v":0},{"$f":"IF(様式３!K464=\"\",\"\",様式３!K464)","v":0},{"$f":"IF(様式３!L464=\"\",\"\",様式３!L464)","v":0},{"$f":"IF(様式３!M464=\"\",\"\",様式３!M464)","v":0},{"$f":"IF(様式３!N464=\"\",\"\",様式３!N464)","v":0},{"$f":"IF(様式３!O464=\"\",\"\",様式３!O464)","v":""}]
[6,"",{"$f":"IF(様式３!B465=\"\",\"\",様式３!B465)","v":""},{"$f":"IF(様式３!C465=\"\",\"\",様式３!C465)","v":""},{"$f":"IF(様式３!D465=\"\",\"\",様式３!D465)","v":""},{"$f":"IF(様式３!E465=\"\",\"\",様式３!E465)","v":""},{"$f":"IF(様式３!F465=\"\",\"\",様式３!F465)","v":"・"},{"$f":"IF(様式３!G465=\"\",\"\",様式３!G465)","v":""},{"$f":"IF(様式３!H465=\"\",\"\",様式３!H465)","v":"・"},{"$f":"IF(様式３!I465=\"\",\"\",様式３!I465)","v":""},{"$f":"IF(様式３!J465=\"\",\"\",様式３!J465)","v":0},{"$f":"IF(様式３!K465=\"\",\"\",様式３!K465)","v":0},{"$f":"IF(様式３!L465=\"\",\"\",様式３!L465)","v":0},{"$f":"IF(様式３!M465=\"\",\"\",様式３!M465)","v":0},{"$f":"IF(様式３!N465=\"\",\"\",様式３!N465)","v":0},{"$f":"IF(様式３!O465=\"\",\"\",様式３!O465)","v":""}]
[7,"",{"$f":"IF(様式３!B466=\"\",\"\",様式３!B466)","v":""},{"$f":"IF(様式３!C466=\"\",\"\",様式３!C466)","v":""},{"$f":"IF(様式３!D466=\"\",\"\",様式３!D466)","v":""},{"$f":"IF(様式３!E466=\"\",\"\",様式３!E466)","v":""},{"$f":"IF(様式３!F466=\"\",\"\",様式３!F466)","v":"・"},{"$f":"IF(様式３!G466=\"\",\"\",様式３!G466)","v":""},{"$f":"IF(様式３!H466=\"\",\"\",様式３!H466)","v":"・"},{"$f":"IF(様式３!I466=\"\",\"\",様式３!I466)","v":""},{"$f":"IF(様式３!J466=\"\",\"\",様式３!J466)","v":0},{"$f":"IF(様式３!K466=\"\",\"\",様式３!K466)","v":0},{"$f":"IF(様式３!L466=\"\",\"\",様式３!L466)","v":0},{"$f":"IF(様式３!M466=\"\",\"\",様式３!M466)","v":0},{"$f":"IF(様式３!N466=\"\",\"\",様式３!N466)","v":0},{"$f":"IF(様式３!O466=\"\",\"\",様式３!O466)","v":""}]
[8,"",{"$f":"IF(様式３!B467=\"\",\"\",様式３!B467)","v":""},{"$f":"IF(様式３!C467=\"\",\"\",様式３!C467)","v":""},{"$f":"IF(様式３!D467=\"\",\"\",様式３!D467)","v":""},{"$f":"IF(様式３!E467=\"\",\"\",様式３!E467)","v":""},{"$f":"IF(様式３!F467=\"\",\"\",様式３!F467)","v":"・"},{"$f":"IF(様式３!G467=\"\",\"\",様式３!G467)","v":""},{"$f":"IF(様式３!H467=\"\",\"\",様式３!H467)","v":"・"},{"$f":"IF(様式３!I467=\"\",\"\",様式３!I467)","v":""},{"$f":"IF(様式３!J467=\"\",\"\",様式３!J467)","v":0},{"$f":"IF(様式３!K467=\"\",\"\",様式３!K467)","v":0},{"$f":"IF(様式３!L467=\"\",\"\",様式３!L467)","v":0},{"$f":"IF(様式３!M467=\"\",\"\",様式３!M467)","v":0},{"$f":"IF(様式３!N467=\"\",\"\",様式３!N467)","v":0},{"$f":"IF(様式３!O467=\"\",\"\",様式３!O467)","v":""}]
[9,"",{"$f":"IF(様式３!B468=\"\",\"\",様式３!B468)","v":""},{"$f":"IF(様式３!C468=\"\",\"\",様式３!C468)","v":""},{"$f":"IF(様式３!D468=\"\",\"\",様式３!D468)","v":""},{"$f":"IF(様式３!E468=\"\",\"\",様式３!E468)","v":""},{"$f":"IF(様式３!F468=\"\",\"\",様式３!F468)","v":"・"},{"$f":"IF(様式３!G468=\"\",\"\",様式３!G468)","v":""},{"$f":"IF(様式３!H468=\"\",\"\",様式３!H468)","v":"・"},{"$f":"IF(様式３!I468=\"\",\"\",様式３!I468)","v":""},{"$f":"IF(様式３!J468=\"\",\"\",様式３!J468)","v":0},{"$f":"IF(様式３!K468=\"\",\"\",様式３!K468)","v":0},{"$f":"IF(様式３!L468=\"\",\"\",様式３!L468)","v":0},{"$f":"IF(様式３!M468=\"\",\"\",様式３!M468)","v":0},{"$f":"IF(様式３!N468=\"\",\"\",様式３!N468)","v":0},{"$f":"IF(様式３!O468=\"\",\"\",様式３!O468)","v":""}]
[10,"",{"$f":"IF(様式３!B469=\"\",\"\",様式３!B469)","v":""},{"$f":"IF(様式３!C469=\"\",\"\",様式３!C469)","v":""},{"$f":"IF(様式３!D469=\"\",\"\",様式３!D469)","v":""},{"$f":"IF(様式３!E469=\"\",\"\",様式３!E469)","v":""},{"$f":"IF(様式３!F469=\"\",\"\",様式３!F469)","v":"・"},{"$f":"IF(様式３!G469=\"\",\"\",様式３!G469)","v":""},{"$f":"IF(様式３!H469=\"\",\"\",様式３!H469)","v":"・"},{"$f":"IF(様式３!I469=\"\",\"\",様式３!I469)","v":""},{"$f":"IF(様式３!J469=\"\",\"\",様式３!J469)","v":0},{"$f":"IF(様式３!K469=\"\",\"\",様式３!K469)","v":0},{"$f":"IF(様式３!L469=\"\",\"\",様式３!L469)","v":0},{"$f":"IF(様式３!M469=\"\",\"\",様式３!M469)","v":0},{"$f":"IF(様式３!N469=\"\",\"\",様式３!N469)","v":0},{"$f":"IF(様式３!O469=\"\",\"\",様式３!O469)","v":""}]
[11,"",{"$f":"IF(様式３!B470=\"\",\"\",様式３!B470)","v":""},{"$f":"IF(様式３!C470=\"\",\"\",様式３!C470)","v":""},{"$f":"IF(様式３!D470=\"\",\"\",様式３!D470)","v":""},{"$f":"IF(様式３!E470=\"\",\"\",様式３!E470)","v":""},{"$f":"IF(様式３!F470=\"\",\"\",様式３!F470)","v":"・"},{"$f":"IF(様式３!G470=\"\",\"\",様式３!G470)","v":""},{"$f":"IF(様式３!H470=\"\",\"\",様式３!H470)","v":"・"},{"$f":"IF(様式３!I470=\"\",\"\",様式３!I470)","v":""},{"$f":"IF(様式３!J470=\"\",\"\",様式３!J470)","v":0},{"$f":"IF(様式３!K470=\"\",\"\",様式３!K470)","v":0},{"$f":"IF(様式３!L470=\"\",\"\",様式３!L470)","v":0},{"$f":"IF(様式３!M470=\"\",\"\",様式３!M470)","v":0},{"$f":"IF(様式３!N470=\"\",\"\",様式３!N470)","v":0},{"$f":"IF(様式３!O470=\"\",\"\",様式３!O470)","v":""}]
[12,"",{"$f":"IF(様式３!B471=\"\",\"\",様式３!B471)","v":""},{"$f":"IF(様式３!C471=\"\",\"\",様式３!C471)","v":""},{"$f":"IF(様式３!D471=\"\",\"\",様式３!D471)","v":""},{"$f":"IF(様式３!E471=\"\",\"\",様式３!E471)","v":""},{"$f":"IF(様式３!F471=\"\",\"\",様式３!F471)","v":"・"},{"$f":"IF(様式３!G471=\"\",\"\",様式３!G471)","v":""},{"$f":"IF(様式３!H471=\"\",\"\",様式３!H471)","v":"・"},{"$f":"IF(様式３!I471=\"\",\"\",様式３!I471)","v":""},{"$f":"IF(様式３!J471=\"\",\"\",様式３!J471)","v":0},{"$f":"IF(様式３!K471=\"\",\"\",様式３!K471)","v":0},{"$f":"IF(様式３!L471=\"\",\"\",様式３!L471)","v":0},{"$f":"IF(様式３!M471=\"\",\"\",様式３!M471)","v":0},{"$f":"IF(様式３!N471=\"\",\"\",様式３!N471)","v":0},{"$f":"IF(様式３!O471=\"\",\"\",様式３!O471)","v":""}]
[13,"",{"$f":"IF(様式３!B472=\"\",\"\",様式３!B472)","v":""},{"$f":"IF(様式３!C472=\"\",\"\",様式３!C472)","v":""},{"$f":"IF(様式３!D472=\"\",\"\",様式３!D472)","v":""},{"$f":"IF(様式３!E472=\"\",\"\",様式３!E472)","v":""},{"$f":"IF(様式３!F472=\"\",\"\",様式３!F472)","v":"・"},{"$f":"IF(様式３!G472=\"\",\"\",様式３!G472)","v":""},{"$f":"IF(様式３!H472=\"\",\"\",様式３!H472)","v":"・"},{"$f":"IF(様式３!I472=\"\",\"\",様式３!I472)","v":""},{"$f":"IF(様式３!J472=\"\",\"\",様式３!J472)","v":0},{"$f":"IF(様式３!K472=\"\",\"\",様式３!K472)","v":0},{"$f":"IF(様式３!L472=\"\",\"\",様式３!L472)","v":0},{"$f":"IF(様式３!M472=\"\",\"\",様式３!M472)","v":0},{"$f":"IF(様式３!N472=\"\",\"\",様式３!N472)","v":0},{"$f":"IF(様式３!O472=\"\",\"\",様式３!O472)","v":""}]
[14,"",{"$f":"IF(様式３!B473=\"\",\"\",様式３!B473)","v":""},{"$f":"IF(様式３!C473=\"\",\"\",様式３!C473)","v":""},{"$f":"IF(様式３!D473=\"\",\"\",様式３!D473)","v":""},{"$f":"IF(様式３!E473=\"\",\"\",様式３!E473)","v":""},{"$f":"IF(様式３!F473=\"\",\"\",様式３!F473)","v":"・"},{"$f":"IF(様式３!G473=\"\",\"\",様式３!G473)","v":""},{"$f":"IF(様式３!H473=\"\",\"\",様式３!H473)","v":"・"},{"$f":"IF(様式３!I473=\"\",\"\",様式３!I473)","v":""},{"$f":"IF(様式３!J473=\"\",\"\",様式３!J473)","v":0},{"$f":"IF(様式３!K473=\"\",\"\",様式３!K473)","v":0},{"$f":"IF(様式３!L473=\"\",\"\",様式３!L473)","v":0},{"$f":"IF(様式３!M473=\"\",\"\",様式３!M473)","v":0},{"$f":"IF(様式３!N473=\"\",\"\",様式３!N473)","v":0},{"$f":"IF(様式３!O473=\"\",\"\",様式３!O473)","v":""}]
[15,"",{"$f":"IF(様式３!B474=\"\",\"\",様式３!B474)","v":""},{"$f":"IF(様式３!C474=\"\",\"\",様式３!C474)","v":""},{"$f":"IF(様式３!D474=\"\",\"\",様式３!D474)","v":""},{"$f":"IF(様式３!E474=\"\",\"\",様式３!E474)","v":""},{"$f":"IF(様式３!F474=\"\",\"\",様式３!F474)","v":"・"},{"$f":"IF(様式３!G474=\"\",\"\",様式３!G474)","v":""},{"$f":"IF(様式３!H474=\"\",\"\",様式３!H474)","v":"・"},{"$f":"IF(様式３!I474=\"\",\"\",様式３!I474)","v":""},{"$f":"IF(様式３!J474=\"\",\"\",様式３!J474)","v":0},{"$f":"IF(様式３!K474=\"\",\"\",様式３!K474)","v":0},{"$f":"IF(様式３!L474=\"\",\"\",様式３!L474)","v":0},{"$f":"IF(様式３!M474=\"\",\"\",様式３!M474)","v":0},{"$f":"IF(様式３!N474=\"\",\"\",様式３!N474)","v":0},{"$f":"IF(様式３!O474=\"\",\"\",様式３!O474)","v":""}]
[null,{"$f":"B24","v":"※１　学科の欄には、大学科名を記入する。"}]
[null,{"$f":"B25","v":"※２　資格・試験等ランクの欄には、取得個数を記入する。"}]
[null,{"$f":"B26","v":"※３　得点合計欄には、得点の合計を記入する。"}]