{"text_format":"1","workbook":"xlsx","n_sheets":17,"sheets":["表紙","判別法","事前相談入力シート","事前相談チェックシート","事前相談書","コントロールシート（浸透施設のみ）","ピーク流量算定表","比浸透量","施設諸元（浸透）","施設諸元（浸透_道路管理者用）","調節計算結果","許可申請書","計画説明書","mkrain","runoff","逐次計算（概算）","浸透計算"],"not_rendered":{"charts":1,"images":5,"macros":1,"external_links":0,"defined_names":13,"comments":0,"pivot_tables":0},"unopened":[],"bounds":{"document_bytes":16777216,"sheet_cells":100000,"rows_first":2000,"rows_last":500,"rows_between":2000,"halvings":0,"cell_chars":16384,"cell_head_chars":4096},"cells_cut":0,"cells_raw":0,"read":"whole","date_system":"1900"}

{"sheet":"表紙","index":0,"n_rows":45,"n_cols":7,"rows_kept":45,"cut":false,"hidden":false,"merged":[[44,6,48,24],[10,1,11,29],[13,4,14,26]]}
[]
[]
[]
[]
[]
[]
[]
[]
[]
[]
[null,"【中川・綾瀬川流域（埼玉県版）】調整池容量計算システム"]
[]
[]
[]
[]
[]
[]
[]
[]
[]
[]
[]
[]
[]
[]
[]
[]
[]
[]
[]
[]
[]
[]
[]
[]
[]
[]
[]
[]
[]
[]
[]
[]
[]
[null,null,null,null,null,null,"令和７年３月\n\n中川・綾瀬川流域水害対策協議会"]

{"sheet":"判別法","index":1,"n_rows":0,"n_cols":0,"rows_kept":0,"cut":false,"hidden":false,"merged":[]}

{"sheet":"事前相談入力シート","index":2,"n_rows":54,"n_cols":24,"rows_kept":54,"cut":false,"hidden":false,"merged":[[1,4,1,11],[5,19,11,19],[5,20,11,20],[5,18,11,18],[3,13,4,14],[3,15,4,17],[5,4,11,4],[5,5,11,5],[3,2,4,12],[5,11,11,11],[5,12,11,12],[5,6,11,6],[5,7,11,7],[5,8,11,8],[2,1,2,20],[5,2,11,2],[53,16,55,20],[28,20,34,20],[46,2,46,20],[26,15,27,17],[26,18,27,20],[28,2,34,2],[28,3,34,3],[28,4,34,4],[28,5,34,5],[28,6,34,6],[28,10,34,10],[28,11,34,11],[28,13,34,13],[26,2,27,12],[50,16,50,20],[51,16,52,20],[26,1,34,1],[26,13,27,14],[28,14,34,14],[28,15,34,15],[28,16,34,16],[3,18,4,20],[28,19,34,19],[28,7,34,7],[28,8,34,8],[28,9,34,9],[28,17,34,17],[28,18,34,18],[5,3,11,3],[23,2,23,20],[5,16,11,16],[3,1,11,1],[46,21,46,22],[28,21,34,21],[28,22,34,22],[25,1,25,22],[26,21,27,22],[28,12,34,12],[5,17,11,17],[5,9,11,9],[5,10,11,10],[5,13,11,13],[5,14,11,14],[5,15,11,15]]}
[]
[null,"事前相談入力シート",null,null,"法第３０条の対策の対象とする面積に対して入力してください（※）",null,null,null,null,null,null,null,null,null,null,null,null,null,null,null,null,null,null,"【提出様式】"]
[null,"現況土地利用(ha) 【行為前】"]
[null,"エリアNo","宅地等",null,null,null,null,null,null,null,null,null,null,"舗装された土地",null,"その他土地からの流出雨水量を増加させるおそれのある行為に係る土地",null,null,"左記以外の土地"]
[]
[null,null,"宅地","池沼","水路","ため池","道路（法面を有しないものに限る。）","道路（法面を有するものに限る。）","鉄道線路（法面を有しないものに限る。）","鉄道線路（法面を有するものに限る。）","飛行場（法面を有しないものに限る。）","飛行場（法面を有するものに限る。）","太陽光\nパネル","コンクリート等の不浸透性の材料により覆われた土地（法面を除く）","コンクリート等の不浸透性の材料により覆われた法面","ゴルフ場（雨水を排除するための排水施設を伴うもの）","運動場その他これに類する施設（雨水を排除するための排水施設を伴うものに限る）","ローラーその他これに類する建設機械を用いて締め固められた土地","山地","人工的に造成された植生に覆われた法面","林地、耕地、原野その他ローラーその他これに類する建設機械を用いていない土地"]
[]
[]
[]
[]
[]
[]
[null,"①"]
[null,"②"]
[null,"③"]
[null,"④"]
[null,"⑤"]
[null,"⑥"]
[null,"⑦"]
[null,"⑧"]
[null,"⑨"]
[null,"⑩"]
[null,"小計",{"$f":"SUM(C13:C22)","v":0},0,0,0,0,0,0,0,0,0,0,0,0,0,0,0,0,0,0]
[null,"合　計",{"$f":"SUM(C23:U23)","v":0}]
[]
[null,"計画土地利用(ha) 【行為後】"]
[null,"エリアNo","宅地等",null,null,null,null,null,null,null,null,null,null,"舗装された土地",null,"その他土地からの流出雨水量を増加させるおそれのある行為に係る土地",null,null,"左記以外の土地",null,null,"埼玉県雨水流出抑制施設の設置等に関する条例に関する除外区域"]
[]
[null,null,"宅地","池沼","水路","ため池","道路（法面を有しないものに限る。）","道路（法面を有するものに限る。）","鉄道線路（法面を有しないものに限る。）","鉄道線路（法面を有するものに限る。）","飛行場（法面を有しないものに限る。）","飛行場（法面を有するものに限る。）","太陽光\nパネル","コンクリート等の不浸透性の材料により覆われた土地（法面を除く）","コンクリート等の不浸透性の材料により覆われた法面","ゴルフ場（雨水を排除するための排水施設を伴うもの）","運動場その他これに類する施設（雨水を排除するための排水施設を伴うものに限る）","ローラーその他これに類する建設機械を用いて締め固められた土地","山地","人工的に造成された植生に覆われた法面","林地、耕地、原野その他ローラーその他これに類する建設機械を用いていない土地","生産緑地法に基づく緑地","森林法に基づく残置森林"]
[]
[]
[]
[]
[]
[]
[null,"①"]
[null,"②"]
[null,"③"]
[null,"④"]
[null,"⑤"]
[null,"⑥"]
[null,"⑦"]
[null,"⑧"]
[null,"⑨"]
[null,"⑩"]
[null,"小計",{"$f":"SUM(C36:C45)","v":0},0,0,0,0,0,0,0,0,0,0,0,0,0,0,0,0,0,0,{"$f":"SUM(V36:V45)","v":0},{"$f":"SUM(W36:W45)","v":0}]
[null,"合　計",{"$f":"SUM(C46:U46)","v":0},null,null,null,null,null,null,null,null,null,null,null,null,null,null,null,null,null,null,{"$f":"SUM(V46:W46)","v":0}]
[]
[]
[]
[null,null,null,null,null,null,null,null,null,null,null,null,null,null,null,null,"入力データの整合チェック"]
[null,null,null,null,null,null,null,null,null,null,null,null,null,null,null,null,{"$f":"IF(C24=C47,IF(C24<>0,\"OK\",\"NG\"),\"NG\")","v":"NG"}]
[]
[null,null,null,null,null,null,null,null,null,null,null,null,null,null,null,null,{"$f":"IF(Q52=\"NG\",\"開発前後の面積が異なるか、面積が未入力です。\",\"\")","v":"開発前後の面積が異なるか、面積が未入力です。"}]

{"sheet":"事前相談チェックシート","index":3,"n_rows":30,"n_cols":28,"rows_kept":30,"cut":false,"hidden":false,"merged":[[20,3,20,9],[21,3,21,9],[23,1,26,2],[23,3,23,9],[22,3,22,9],[24,3,24,9],[25,3,25,9],[26,3,26,9],[5,20,5,22],[23,21,23,23],[2,16,2,18],[23,14,26,14],[23,18,23,19],[7,16,7,18],[13,20,14,22],[26,16,27,16],[26,17,27,17],[24,18,27,19],[24,20,27,20],[24,21,27,23],[17,16,17,18],[19,3,19,9],[2,1,3,9],[12,3,12,9],[9,3,9,9],[10,3,10,9],[11,3,11,9],[8,3,8,9],[29,9,29,14],[28,1,28,9],[13,3,13,9],[4,1,15,2],[16,1,18,2],[14,3,14,9],[4,3,4,9],[5,3,5,9],[6,3,6,9],[7,3,7,9],[16,3,16,9],[17,3,17,9],[15,3,15,9],[18,3,18,9],[27,1,27,9],[19,1,22,2]]}
[]
[null,"事前相談チェックシート",null,null,null,null,null,null,null,null,null,null,null,null,null,null,null,null,null,null,null,null,"【提出様式】"]
[null,"土　地　利　用　区　分",null,null,1.6069045212187549E+44,null,null,null,null,null,"流出係数","①現況土地利用【行為前】","②計画土地利用【行為後】","③面積差","雨水浸透阻害行為の\n該当面積",null,"各対象面積集計",null,null,null,"対象地域※２"]
[null,null,null,null,null,null,null,null,null,null,"―","面積（ha）","面積（ha）","（ha）②－①","面積（ha）",null,"開発区域面積※１",null,"(ha)",null,null,null,null,null,null,null,"埼玉県北部",0.47039999999999998]
[null,"宅地等",null,"宅　　　地",null,null,null,null,null,null,0.9,{"$f":"事前相談入力シート!C23","v":0},{"$f":"事前相談入力シート!C46","v":0},{"$f":"M5-L5","v":0},{"$f":"N5","v":0},null,"法第30条の対策の対象とする面積",{"$f":"O28","v":0},"(ha)",null,false,null,null,null,null,null,"埼玉県南部",0.43090000000000001]
[null,null,null,"池　　　沼",null,null,null,null,null,null,1,{"$f":"事前相談入力シート!D23","v":0},{"$f":"事前相談入力シート!D46","v":0},0,0,null,"開発区域面積から「対策の対象とならない面積」を引いた面積",{"$f":"IF(R4>=1,R4-V17,R4-V8)","v":0},"(ha)",null,"都市計画法に基づく開発指導等としての\n必要対策量(開発区域面積1ha未満)"]
[null,null,null,"水　　　路",null,null,null,null,null,null,1,{"$f":"事前相談入力シート!E23","v":0},{"$f":"事前相談入力シート!E46","v":0},0,0,null,null,null,null,null,"対策基準",null,"m3/ha"]
[null,null,null,"た  め　池",null,null,null,null,null,null,1,{"$f":"事前相談入力シート!F23","v":0},{"$f":"事前相談入力シート!F46","v":0},0,0,null,"特定都市河川浸水被害対策法\n第30条の必要対策量",null,null,null,"対策の対象とならない面積\n（控除面積）※４",null,"ha",null,null,null,null,{"$f":"IF(U4=AA4,AB4,IF(U4=AA5,AB5,IF(U4=AA6,AB6,AB7)))","v":0}]
[null,null,null,"道路（法面を有しないものに限る。）",null,null,null,null,null,null,0.9,{"$f":"事前相談入力シート!G23","v":0},{"$f":"事前相談入力シート!G46","v":0},0,0,null,"調整池深さ※３",null,"m",null,"許容比流量※５",null,"m3/s/ha"]
[null,null,null,"道路（法面を有するものに限る。）",null,null,null,null,null,null,null,{"$f":"事前相談入力シート!H23","v":0},{"$f":"事前相談入力シート!H46","v":0},0,0,null,"行為前の流出係数",{"$f":"L29","v":{"$error":"#DIV/0!"}},null,null,"許容放流量※６ ⑤\n(許容比流量×集水面積)",null,"m3/s"]
[null,null,null,"鉄道線路（法面を有しないものに限る。）",null,null,null,null,null,null,0.9,{"$f":"事前相談入力シート!I23","v":0},{"$f":"事前相談入力シート!I46","v":0},0,0,null,"行為前の流出雨水量（許容放流量） ④",{"$f":"runoff!B1","v":{"$error":"#DIV/0!"}},"m3/s",null,"オリフィス径（円・直径）",{"$f":"AA11","v":0},"m",null,null,null,0]
[null,null,null,"鉄道線路（法面を有するものに限る。）",null,null,null,null,null,null,null,{"$f":"事前相談入力シート!J23","v":0},{"$f":"事前相談入力シート!J46","v":0},0,0,null,"行為後の流出係数",{"$f":"M29","v":{"$error":"#DIV/0!"}},null,null,"必要対策量 ②",{"$f":"IF(U5=TRUE,\"不要\",IF(R26=\"不要\",\"不要\",ROUND(V7*R6,0)))","v":"不要"},"m3"]
[null,null,null,"飛行場（法面を有しないものに限る。）",null,null,null,null,null,null,0.9,{"$f":"事前相談入力シート!K23","v":0},{"$f":"事前相談入力シート!K46","v":0},0,0,null,"行為後の流出雨水量（未対策）",{"$f":"runoff!C1","v":{"$error":"#DIV/0!"}},"m3/s"]
[null,null,null,"飛行場（法面を有するものに限る。）",null,null,null,null,null,null,null,{"$f":"事前相談入力シート!L23","v":0},{"$f":"事前相談入力シート!L46","v":0},0,0,null,"オリフィス径(円・直径)",{"$f":"AA14","v":0.20399999999999999},"m",null,"都市計画法に基づく開発指導等としての\n必要対策量（開発区域面積1ha以上）\n【埼玉県雨水流出抑制施設の設置等に関する条例】",null,null,null,null,null,0.20399999999999999]
[null,null,null,"太陽光パネル",null,null,null,null,null,null,0.9,{"$f":"事前相談入力シート!M23","v":0},{"$f":"事前相談入力シート!M46","v":0},0,0,null,"haあたり必要対策量（概算）",{"$f":"AA15","v":650},"m3/ha",null,null,null,null,null,null,null,650]
[null,null,null,"小　　　計",null,null,null,null,null,null,null,{"$f":"SUM(L5:L15)","v":0},{"$f":"SUM(M5:M15)","v":0},0,{"$f":"SUM(O5:O15)","v":0},null,"必要対策量（概算） ①",{"$f":"IF(R25=\"不要\",\"不要\",R15*R5)","v":"不要"},"m3",null,"対策基準（地域別調整容量）",null,"m3/ha"]
[null,"舗装された土地",null,"コンクリート等の不浸透性の材料により覆われた土地（法面を除く）",null,null,null,null,null,null,0.95,{"$f":"事前相談入力シート!N23","v":0},{"$f":"事前相談入力シート!N46","v":0},0,{"$f":"N17","v":0},null,null,null,null,null,"対策の対象とならない面積\n（控除面積）※４",null,"ha"]
[null,null,null,"コンクリート等の不浸透性の材料により覆われた法面",null,null,null,null,null,null,1,{"$f":"事前相談入力シート!O23","v":0},{"$f":"事前相談入力シート!O46","v":0},0,{"$f":"N18","v":0},null,"下水道等の一時放流先との協議によるもの",null,null,null,"湛水区域対策量※７",null,"m3"]
[null,null,null,"小　　　計",null,null,null,null,null,null,null,{"$f":"SUM(L17:L18)","v":0},{"$f":"SUM(M17:M18)","v":0},0,{"$f":"SUM(O17:O18)","v":0},null,"許容比流量※８",null,"m3/s/ha",null,"許容比流量※５（≦0.05）",0.05,"m3/s/ha"]
[null,"その他土地からの流出雨水量を増加させるおそれのある行為に係る土地",null,"ゴルフ場（雨水を排除するための排水施設を伴うもの）",null,null,null,null,null,null,0.5,{"$f":"事前相談入力シート!P23","v":0},{"$f":"事前相談入力シート!P46","v":0},0,{"$f":"MAX(N20,0)","v":0},null,"許容放流量※６ ⑦\n(許容比流量×集水面積)",null,"m3/s",null,"許容放流量※６ ⑥\n(許容比流量×集水面積)",null,"m3/s"]
[null,null,null,"運動場その他これに類する施設（雨水を排除するための排水施設を伴うものに限る。",null,null,null,null,null,null,0.8,{"$f":"事前相談入力シート!Q23","v":0},{"$f":"事前相談入力シート!Q46","v":0},0,{"$f":"MAX(N21,0)","v":0},null,null,null,null,null,"オリフィス径（円・直径）",{"$f":"AA21","v":0},"m",null,null,null,0]
[null,null,null,"ローラーその他これに類する建設機械を用いて締め固められた土地",null,null,null,null,null,null,0.5,{"$f":"事前相談入力シート!R23","v":0},{"$f":"事前相談入力シート!R46","v":0},0,0,null,null,null,null,null,"必要対策量 ③",{"$f":"IF(U5=TRUE,\"不要\",IF(R27=\"不要\",\"不要\",ROUND(V16*R6+V18,0)))","v":"不要"},"m3"]
[null,null,null,"小　　　計",null,null,null,null,null,null,null,{"$f":"SUM(L20:L22)","v":0},{"$f":"SUM(M20:M22)","v":0},0,{"$f":"SUM(O20:O22)","v":0},null,"都市計画法の開発許可等との調整により双方の機能を兼ね備えた対策工事とする（流出抑制量が大きい方で対策）"]
[null,"上記に揚げる土地以外の土地",null,"山　　　地",null,null,null,null,null,null,0.3,{"$f":"事前相談入力シート!S23","v":0},{"$f":"事前相談入力シート!S46","v":0},0,null,null,"他法令等との調整別の対応","申請","必要対策量(m3)（概算）\n①②③を比べ大きい値",null,"許容放流量(m3/s)\n④⑤⑥⑦を比べ小さい値"]
[null,null,null,"人工的に造成された植生に覆われた法面",null,null,null,null,null,null,0.4,{"$f":"事前相談入力シート!T23","v":0},{"$f":"事前相談入力シート!T46","v":0},0,null,null,"法第30条の許可",{"$f":"IF(O28>=0.1,IF(L29<=M29,\"必要\",\"不要\"),\"不要\")","v":"不要"},{"$f":"MAX(R16,V12,V22)","v":0},null,{"$f":"MIN(Z25,Z26,Z27,Z28)","v":99999},{"$f":"MIN(AA25,AA26,AA27,AA28)","v":99999},null,null,{"$f":"IF(S25=R16,R14,IF(S25=V12,V11,V21))","v":0},{"$f":"IF(R25=\"必要\",R11,99999)","v":99999},{"$f":"IF(R14=0,99999,IF(R25=\"必要\",R14,99999))","v":99999}]
[null,null,null,"林地、耕地、原野その他ローラーその他これに類する建設機械を用いていない土地",null,null,null,null,null,null,0.2,{"$f":"事前相談入力シート!U23","v":0},{"$f":"事前相談入力シート!U46","v":0},0,null,null,{"$f":"U6","v":"都市計画法に基づく開発指導等としての\n必要対策量(開発区域面積1ha未満)"},{"$f":"IF(U5=TRUE,\"不要\",IF(AND(R4>=0.05,R4<1),\"必要\",\"不要\"))","v":"不要"},null,null,null,null,null,null,null,{"$f":"IF(V10=0,99999,IF(R26=\"必要\",V10,99999))","v":99999},{"$f":"IF(V11=0,99999,IF(R26=\"必要\",V11,99999))","v":99999}]
[null,null,null,"小　　　計",null,null,null,null,null,null,null,{"$f":"SUM(L24:L26)","v":0},{"$f":"SUM(M24:M26)","v":0},0,null,null,{"$f":"U14","v":"都市計画法に基づく開発指導等としての\n必要対策量（開発区域面積1ha以上）\n【埼玉県雨水流出抑制施設の設置等に関する条例】"},{"$f":"IF(U5=TRUE,\"不要\",IF(R4>=1,\"必要\",\"不要\"))","v":"不要"},null,null,null,null,null,null,null,{"$f":"IF(V20=0,99999,IF(R27=\"必要\",V20,99999))","v":99999},{"$f":"IF(V21=0,99999,IF(R27=\"必要\",V21,99999))","v":99999}]
[null,"合　　　計",null,null,null,null,null,null,null,null,null,{"$f":"L16+L19+L23+L27","v":0},{"$f":"M16+M19+M23+M27","v":0},{"$f":"IF(ABS(M28-L28)<0.000001,\"OK\",\"NG\")","v":"OK"},{"$f":"MAX(O16+O19+O23,0)","v":0},null,null,null,null,null,null,null,null,null,null,{"$f":"IF(R20>0,R20,99999)","v":99999},{"$f":"IF(R20=0,99999,ROUND((4*AB28/PI())^0.5,3))","v":99999},{"$f":"R20/0.6/(2*9.8*R9)^0.5","v":{"$error":"#DIV/0!"}}]
[null,"平均流出係数",null,null,null,null,null,null,null,null,null,{"$f":"ROUND((L5*$K5+L6*$K6+L7*$K7+L8*$K8+L9*$K9+L10*$K10+L11*$K11+L12*$K12+L13*$K13+L14*$K14+L15*$K15+L17*$K17+L18*$K18+L20*$K20+L21*$K21+L22*$K22+L24*$K24+L25*$K25+L26*$K26)/L28,3)","v":{"$error":"#DIV/0!"}},{"$f":"ROUND((M5*$K5+M6*$K6+M7*$K7+M8*$K8+M9*$K9+M10*$K10+M11*$K11+M12*$K12+M13*$K13+M14*$K14+M15*$K15+M17*$K17+M18*$K18+M20*$K20+M21*$K21+M22*$K22+M24*$K24+M25*$K25+M26*$K26)/M28,3)","v":{"$error":"#DIV/0!"}}]
[null,null,null,null,null,null,null,null,null,"雨水浸透阻害行為の該当面積が0.1ha以上の場合、法第30条の許可（協議）が必要です。"]

{"sheet":"事前相談書","index":4,"n_rows":25,"n_cols":32,"rows_kept":25,"cut":false,"hidden":false,"merged":[[17,1,18,5],[18,6,19,6],[20,6,21,6],[22,6,23,6],[20,25,21,25],[22,25,23,25],[20,7,21,13],[22,7,23,13],[24,7,24,10],[24,12,24,13],[0,12,0,13],[16,25,17,25],[17,20,18,24],[18,25,19,25],[7,6,9,13],[10,6,12,13],[13,6,15,13],[16,7,17,13],[18,7,19,13],[16,6,17,6],[5,6,5,13]]}
[null,null,null,null,null,null,null,null,null,null,null,null,"【提出様式】"]
[null,null,null,null,null,null,null,null,null,null,null,"№","－",null,null,null,null,null,null,null,null,null,null,null,null,null,null,null,null,null,"№","－"]
[null,"雨 水 浸 透 阻 害 行 為 事 前 相 談 書",null,null,null,null,null,null,null,null,null,null,null,null,null,null,null,null,null,null,"雨 水 浸 透 阻 害 行 為 事 前 相 談 書"]
[]
[]
[null,"事前相談日時",null,null,null,null,"　　　　　年　　月　　日（　）　：　　～　　：",null,null,null,null,null,null,null,null,null,null,null,null,null,"事前相談日時",null,null,null,null,"　　　○○年○○月○○日（○）XX：XX～　　："]
[]
[]
[null,"事業区域に含まれる地域の名称",null,null,null,null,null,null,null,null,null,null,null,null,null,null,null,null,null,null,"事業区域に含まれる地域の名称",null,null,null,null,"　○○市○○町101番地、102番地、103番地"]
[]
[null,null,null,null,null,null,{"$f":"事前相談チェックシート!R4","v":0}]
[null,"事業区域の面積",null,null,null,null,null,null,null,null,null,null,null,null,null,null,null,null,null,null,"事業区域の面積",null,null,null,null,"　0.250ha"]
[]
[]
[null,"予定する事業の計画の内容",null,null,null,null,null,null,null,null,null,null,null,null,null,null,null,null,null,null,"予定する事業の計画の内容",null,null,null,null,"　分譲住宅（１５宅地）の宅地造成"]
[]
[null,null,null,null,null,null,"住　所",null,null,null,null,null,null,null,null,null,null,null,null,null,null,null,null,null,null,"住　所"]
[null,"事業主又は建築主等の住所・氏名",null,null,null,null,null,null,null,null,null,null,null,null,null,null,null,null,null,null,"事業主又は建築主等の住所・氏名",null,null,null,null,null,null,"○○○○住宅建設株式会社"]
[null,null,null,null,null,null,"氏　名",null,null,null,null,null,null,null,null,null,null,null,null,null,null,null,null,null,null,"氏　名",null,"代表取締役　　○○　○○"]
[]
[null,null,null,null,null,null,"住　所",null,null,null,null,null,null,null,null,null,null,null,null,null,null,null,null,null,null,"住　所"]
[null,null,null,null,null,null,null,null,null,null,null,null,null,null,null,null,null,null,null,null,null,null,null,null,null,null,null,"○○市○○町１－１－１"]
[null,"代理人等の住所・氏名・連絡先",null,null,null,null,"氏　名",null,null,null,null,null,null,null,null,null,null,null,null,null,"代理人等の住所・氏名・連絡先",null,null,null,null,"氏　名",null,"○○○設計事務所株式会社"]
[]
[null,null,null,null,null,null,"連絡先",null,null,null,null,"担当者名",null,null,null,null,null,null,null,null,null,null,null,null,null,"連絡先","XXX","（XXX","）XXXX",null,"担当者名　○○"]

{"sheet":"コントロールシート（浸透施設のみ）","index":5,"n_rows":21,"n_cols":4,"rows_kept":21,"cut":false,"hidden":false,"merged":[[19,2,19,3],[21,2,21,3],[24,2,25,3],[14,2,14,3],[15,2,15,3],[16,2,16,3],[17,2,17,3],[18,2,18,3],[0,2,0,3],[1,2,1,3],[12,2,12,3],[13,2,13,3],[4,2,4,3],[5,2,6,3],[2,2,2,3],[3,2,3,3]]}
[null,null,"浸透施設の計算"]
[null,null,"事前に入力しておくシート"]
[null,null,"施設諸元（浸透）"]
[null,null,"施設諸元（浸透_道路管理者用）"]
[null,null,"その他、事前相談チェックシートに必要な項目"]
[null,null,"浸透施設に該当する項目にチェックを入れてください"]
[]
[null,null,2,"浸透施設なし"]
[null,null,null,"浸透施設あり\n※施設諸元(浸透)に入力した場合"]
[null,null,null,"浸透施設あり\n※施設諸元（浸透_道路管理者用）に入力した場合"]
[]
[]
[null,null,"計算結果"]
[null,null,"上のチェックを入れ、「浸透施設の計算」ボタンを押してください"]
[null,null,"Q1:許容放流量(m3/s)"]
[null,null,{"$f":"事前相談チェックシート!U25","v":99999}]
[null,null,"Q2:行為後ピーク流入量（浸透考慮前）(m3/s)"]
[null,null,{"$f":"浸透計算!B2","v":0.38900000000000001}]
[null,null,"Q3:行為後ピーク流入量（浸透考慮後）(m3/s)"]
[null,null,{"$f":"浸透計算!C2","v":0.38420300000000002}]
[null,null,"判定：",{"$f":"IF(C20<=C16,\"OK　　　Ｑ３≦Ｑ１\",\"NG　浸透施設を追加してください\")","v":"OK　　　Ｑ３≦Ｑ１"}]

{"sheet":"ピーク流量算定表","index":6,"n_rows":46,"n_cols":13,"rows_kept":46,"cut":false,"hidden":false,"merged":[[3,4,3,5],[4,4,4,5],[5,11,6,12]]}
[]
["使用降雨強度及び行為前後のピーク流入量"]
[]
["ピーク流入量（行為前）",null,null,null,{"$f":"事前相談チェックシート!R11","v":{"$error":"#DIV/0!"}},null,"m3／s"]
["ピーク流入量（行為後）",null,null,null,{"$f":"事前相談チェックシート!R13","v":{"$error":"#DIV/0!"}},null,"m3／s"]
[null,null,null,null,null,null,null,null,null,null,null,{"$f":"事前相談チェックシート!U4","v":0}]
[]
["降雨強度の推移表"]
[]
[null,"時","分","降雨量\n（mm/h）","時","分","降雨量\n（mm/h）","時","分","降雨量\n（mm/h）","時","分","降雨量\n（mm/h）"]
[null,0,"0－10",{"$f":"mkrain!G4","v":2.7},6,"0－10",{"$f":"mkrain!G40","v":4.3},12,"0－10",{"$f":"mkrain!G76","v":61.1},18,"0－10",{"$f":"mkrain!G112","v":4.2}]
[null,null,"10－20",{"$f":"mkrain!G5","v":2.7},null,"10－20",{"$f":"mkrain!G41","v":4.4000000000000004},null,"10－20",{"$f":"mkrain!G77","v":34.700000000000003},null,"10－20",{"$f":"mkrain!G113","v":4.0999999999999996}]
[null,null,"20－30",{"$f":"mkrain!G6","v":2.7},null,"20－30",{"$f":"mkrain!G42","v":4.5},null,"20－30",{"$f":"mkrain!G78","v":25.4},null,"20－30",{"$f":"mkrain!G114","v":4}]
[null,null,"30－40",{"$f":"mkrain!G7","v":2.7},null,"30－40",{"$f":"mkrain!G43","v":4.5999999999999996},null,"30－40",{"$f":"mkrain!G79","v":20.5},null,"30－40",{"$f":"mkrain!G115","v":4}]
[null,null,"40－50",{"$f":"mkrain!G8","v":2.8},null,"40－50",{"$f":"mkrain!G44","v":4.7},null,"40－50",{"$f":"mkrain!G80","v":17.399999999999999},null,"40－50",{"$f":"mkrain!G116","v":3.9}]
[null,null,"50－60",{"$f":"mkrain!G9","v":2.8},null,"50－60",{"$f":"mkrain!G45","v":4.8},null,"50－60",{"$f":"mkrain!G81","v":15.2},null,"50－60",{"$f":"mkrain!G117","v":3.8}]
[null,1,"0－10",{"$f":"mkrain!G10","v":2.8},7,"0－10",{"$f":"mkrain!G46","v":4.9000000000000004},13,"0－10",{"$f":"mkrain!G82","v":13.6},19,"0－10",{"$f":"mkrain!G118","v":3.8}]
[null,null,"10－20",{"$f":"mkrain!G11","v":2.9},null,"10－20",{"$f":"mkrain!G47","v":5},null,"10－20",{"$f":"mkrain!G83","v":12.3},null,"10－20",{"$f":"mkrain!G119","v":3.7}]
[null,null,"20－30",{"$f":"mkrain!G12","v":2.9},null,"20－30",{"$f":"mkrain!G48","v":5.0999999999999996},null,"20－30",{"$f":"mkrain!G84","v":11.3},null,"20－30",{"$f":"mkrain!G120","v":3.7}]
[null,null,"30－40",{"$f":"mkrain!G13","v":2.9},null,"30－40",{"$f":"mkrain!G49","v":5.3},null,"30－40",{"$f":"mkrain!G85","v":10.5},null,"30－40",{"$f":"mkrain!G121","v":3.6}]
[null,null,"40－50",{"$f":"mkrain!G14","v":2.9},null,"40－50",{"$f":"mkrain!G50","v":5.4},null,"40－50",{"$f":"mkrain!G86","v":9.8000000000000007},null,"40－50",{"$f":"mkrain!G122","v":3.5}]
[null,null,"50－60",{"$f":"mkrain!G15","v":3},null,"50－60",{"$f":"mkrain!G51","v":5.6},null,"50－60",{"$f":"mkrain!G87","v":9.1999999999999993},null,"50－60",{"$f":"mkrain!G123","v":3.5}]
[null,2,"0－10",{"$f":"mkrain!G16","v":3},8,"0－10",{"$f":"mkrain!G52","v":5.7},14,"0－10",{"$f":"mkrain!G88","v":8.6999999999999993},20,"0－10",{"$f":"mkrain!G124","v":3.4}]
[null,null,"10－20",{"$f":"mkrain!G17","v":3},null,"10－20",{"$f":"mkrain!G53","v":5.9},null,"10－20",{"$f":"mkrain!G89","v":8.1999999999999993},null,"10－20",{"$f":"mkrain!G125","v":3.4}]
[null,null,"20－30",{"$f":"mkrain!G18","v":3.1},null,"20－30",{"$f":"mkrain!G54","v":6.1},null,"20－30",{"$f":"mkrain!G90","v":7.9},null,"20－30",{"$f":"mkrain!G126","v":3.3}]
[null,null,"30－40",{"$f":"mkrain!G19","v":3.1},null,"30－40",{"$f":"mkrain!G55","v":6.3},null,"30－40",{"$f":"mkrain!G91","v":7.5},null,"30－40",{"$f":"mkrain!G127","v":3.3}]
[null,null,"40－50",{"$f":"mkrain!G20","v":3.2},null,"40－50",{"$f":"mkrain!G56","v":6.5},null,"40－50",{"$f":"mkrain!G92","v":7.2},null,"40－50",{"$f":"mkrain!G128","v":3.3}]
[null,null,"50－60",{"$f":"mkrain!G21","v":3.2},null,"50－60",{"$f":"mkrain!G57","v":6.8},null,"50－60",{"$f":"mkrain!G93","v":6.9},null,"50－60",{"$f":"mkrain!G129","v":3.2}]
[null,3,"0－10",{"$f":"mkrain!G22","v":3.2},9,"0－10",{"$f":"mkrain!G58","v":7},15,"0－10",{"$f":"mkrain!G94","v":6.6},21,"0－10",{"$f":"mkrain!G130","v":3.2}]
[null,null,"10－20",{"$f":"mkrain!G23","v":3.3},null,"10－20",{"$f":"mkrain!G59","v":7.3},null,"10－20",{"$f":"mkrain!G95","v":6.4},null,"10－20",{"$f":"mkrain!G131","v":3.1}]
[null,null,"20－30",{"$f":"mkrain!G24","v":3.3},null,"20－30",{"$f":"mkrain!G60","v":7.7},null,"20－30",{"$f":"mkrain!G96","v":6.2},null,"20－30",{"$f":"mkrain!G132","v":3.1}]
[null,null,"30－40",{"$f":"mkrain!G25","v":3.4},null,"30－40",{"$f":"mkrain!G61","v":8},null,"30－40",{"$f":"mkrain!G97","v":6},null,"30－40",{"$f":"mkrain!G133","v":3.1}]
[null,null,"40－50",{"$f":"mkrain!G26","v":3.4},null,"40－50",{"$f":"mkrain!G62","v":8.5},null,"40－50",{"$f":"mkrain!G98","v":5.8},null,"40－50",{"$f":"mkrain!G134","v":3}]
[null,null,"50－60",{"$f":"mkrain!G27","v":3.5},null,"50－60",{"$f":"mkrain!G63","v":8.9},null,"50－60",{"$f":"mkrain!G99","v":5.6},null,"50－60",{"$f":"mkrain!G135","v":3}]
[null,4,"0－10",{"$f":"mkrain!G28","v":3.5},10,"0－10",{"$f":"mkrain!G64","v":9.5},16,"0－10",{"$f":"mkrain!G100","v":5.5},22,"0－10",{"$f":"mkrain!G136","v":3}]
[null,null,"10－20",{"$f":"mkrain!G29","v":3.6},null,"10－20",{"$f":"mkrain!G65","v":10.1},null,"10－20",{"$f":"mkrain!G101","v":5.3},null,"10－20",{"$f":"mkrain!G137","v":2.9}]
[null,null,"20－30",{"$f":"mkrain!G30","v":3.6},null,"20－30",{"$f":"mkrain!G66","v":10.9},null,"20－30",{"$f":"mkrain!G102","v":5.2},null,"20－30",{"$f":"mkrain!G138","v":2.9}]
[null,null,"30－40",{"$f":"mkrain!G31","v":3.7},null,"30－40",{"$f":"mkrain!G67","v":11.8},null,"30－40",{"$f":"mkrain!G103","v":5.0999999999999996},null,"30－40",{"$f":"mkrain!G139","v":2.9}]
[null,null,"40－50",{"$f":"mkrain!G32","v":3.7},null,"40－50",{"$f":"mkrain!G68","v":12.9},null,"40－50",{"$f":"mkrain!G104","v":4.9000000000000004},null,"40－50",{"$f":"mkrain!G140","v":2.8}]
[null,null,"50－60",{"$f":"mkrain!G33","v":3.8},null,"50－60",{"$f":"mkrain!G69","v":14.3},null,"50－60",{"$f":"mkrain!G105","v":4.8},null,"50－60",{"$f":"mkrain!G141","v":2.8}]
[null,5,"0－10",{"$f":"mkrain!G34","v":3.9},11,"0－10",{"$f":"mkrain!G70","v":16.2},17,"0－10",{"$f":"mkrain!G106","v":4.7},23,"0－10",{"$f":"mkrain!G142","v":2.8}]
[null,null,"10－20",{"$f":"mkrain!G35","v":3.9},null,"10－20",{"$f":"mkrain!G71","v":18.8},null,"10－20",{"$f":"mkrain!G107","v":4.5999999999999996},null,"10－20",{"$f":"mkrain!G143","v":2.7}]
[null,null,"20－30",{"$f":"mkrain!G36","v":4},null,"20－30",{"$f":"mkrain!G72","v":22.6},null,"20－30",{"$f":"mkrain!G108","v":4.5},null,"20－30",{"$f":"mkrain!G144","v":2.7}]
[null,null,"30－40",{"$f":"mkrain!G37","v":4.0999999999999996},null,"30－40",{"$f":"mkrain!G73","v":29.2},null,"30－40",{"$f":"mkrain!G109","v":4.4000000000000004},null,"30－40",{"$f":"mkrain!G145","v":2.7}]
[null,null,"40－50",{"$f":"mkrain!G38","v":4.0999999999999996},null,"40－50",{"$f":"mkrain!G74","v":43.6},null,"40－50",{"$f":"mkrain!G110","v":4.3},null,"40－50",{"$f":"mkrain!G146","v":2.7}]
[null,null,"50－60",{"$f":"mkrain!G39","v":4.2},null,"50－60",{"$f":"mkrain!G75","v":127},null,"50－60",{"$f":"mkrain!G111","v":4.3},null,"50－60",{"$f":"mkrain!G147","v":2.6}]

{"sheet":"比浸透量","index":7,"n_rows":35,"n_cols":31,"rows_kept":35,"cut":false,"hidden":false,"merged":[[1,0,1,3],[1,10,1,11],[29,1,29,2],[30,1,30,2],[31,1,33,1],[24,10,24,11],[24,1,24,2],[24,5,24,6],[24,7,24,8],[26,1,26,2],[27,1,27,2],[28,1,28,2]]}
[1,null,null,null,null,null,null,null,null,null,null,null,null,null,null,null,null,null,null,null,null,null,null,null,null,null,null,null,null,null,1]
["比浸透量計算書",null,null,null,null,null,null,null,null,null,"【提出様式】"]
[null,null,null,null,null,null,null,null,null,null,null,null,null,null,"大型貯留槽"]
[null,null,"透水性舗装",null,null,null,null,null,null,null,null,null,null,null,"側面及び底面"]
[null,null,"浸透側溝および浸透トレンチ",null,null,null,null,null,null,null,null,null,null,null,"W","H","L","a1","a2","b","X","a","b","K"]
[null,null,"円筒ます（側面および底面）",null,null,null,null,null,null,null,null,null,null,1,5,{"$f":"D$14","v":0.5},{"$f":"D$17","v":30},8.83,-0.46100000000000002,7.03,{"$f":"D$17/D$15","v":15},{"$f":"R6*U6^S6","v":2.5338601017442319},{"$f":"T6","v":7.03},{"$f":"(V6*P6+W6)*Q6","v":248.9079015261635}]
[null,null,"円筒ます（底面）",null,null,null,null,null,null,null,null,null,null,2,10,{"$f":"D$14","v":0.5},{"$f":"D$17","v":30},7.88,-0.44600000000000001,14,{"$f":"D$17/D$15","v":15},{"$f":"R7*U7^S7","v":2.3549924327137859},{"$f":"T7","v":14},{"$f":"(V7*P7+W7)*Q7","v":455.32488649070677}]
[null,null,"正方形ます（側面および底面）",null,null,null,null,null,null,null,null,null,null,3,20,0.5,30,7.06,-0.45200000000000001,27.06,15,2.0759240100404734,27.06,842.93886015060707]
[null,null,"正方形ます（底面）",null,null,null,null,null,null,null,null,null,null,4,30,0.5,30,6.43,-0.44400000000000001,39.75,15,1.9320860013581751,39.75,1221.4812900203726]
[null,null,"矩形の桝",null,null,null,null,null,null,null,null,null,null,5,40,0.5,30,5.97,-0.44,52.25,15,1.8134023622990765,52.25,1594.7010354344861]
[null,null,"大型貯留浸透槽（側面及び底面）",null,null,null,null,null,null,null,null,null,null,6,50,0.5,30,5.62,-0.442,64.680000000000007,15,1.6978682184595342,64.680000000000007,1965.8680232768934]
[null,null,"大型貯留浸透槽（底面）",null,null,null,null,null,null,null,null,null,null,7,{"$f":"D15","v":2},{"$f":"D$14","v":0.5},{"$f":"D$17","v":30},{"$f":"R11","v":5.62},{"$f":"S11","v":-0.442},{"$f":"T11","v":64.680000000000007},{"$f":"D$17/D$15","v":15},{"$f":"R12*U12^S12","v":1.6978682184595342},64.680000000000007,{"$f":"(V12*P12+W12)*Q12","v":1965.8680232768934}]
[null,null,null,null,null,null,null,null,null,null,null,null,null,null,"上ランク","下ランク"]
[null,null,"H：設計水頭(m)",0.5,null,null,null,null,null,null,null,null,null,null,{"$f":"IF(D15<=O6,1,IF(D15<=O7,2,IF(D15<=O8,3,IF(D15<=O9,4,IF(D15<=O10,5,IF(D15<=O11,6,7))))))","v":1},{"$f":"IF(D15>=O11,7,IF(O14=1,1,O14-1))","v":1},null,"内挿パラ↓"]
[null,null,"W：施設幅(m)",2,null,null,null,null,null,null,null,null,null,"W",{"$f":"VLOOKUP(O14,$N$6:$O$12,2,FALSE)","v":5},{"$f":"VLOOKUP(P14,$N$6:$O$12,2,FALSE)","v":5},{"$f":"D15","v":2},{"$f":"IF(O14=P14,0,(Q15-P15)/(O15-P15))","v":0}]
[null,null,"D：施設直径(m)",1,null,null,null,null,null,null,null,null,null,"K",{"$f":"VLOOKUP(O14,$N$6:$X$12,11,FALSE)","v":248.9079015261635},{"$f":"VLOOKUP(P14,$N$6:$X$12,11,FALSE)","v":248.9079015261635},{"$f":"(O16-P16)*R15+P16","v":248.9079015261635}]
[null,null,"L：施設延長(m)",30]
[]
[null,null,"K：比浸透量",{"$f":"IFERROR(INDEX($D$35:$L$35,1,$A$1),\"適用外\")","v":1.2939999999999998}]
[null,null,null,null,null,null,null,null,null,null,null,null,null,null,"大型貯留槽"]
[null,null,null,null,null,null,null,null,null,null,null,null,null,null,"底面"]
[null,null,null,null,null,null,null,null,null,null,null,null,null,null,"W","H","L","a1","a2","b","X","a","b","K"]
[null,null,null,null,null,null,null,null,null,null,null,null,null,1,5,{"$f":"D$14","v":0.5},{"$f":"D$17","v":30},1.94,-0.32800000000000001,7.57,{"$f":"D$17/D$15","v":15},{"$f":"R23*U23^S23","v":0.79807516607938001},{"$f":"T23","v":7.57},{"$f":"(V23*P23+W23)*Q23","v":239.07112749119071}]
[null,null,null,null,null,null,null,null,null,null,null,null,null,2,10,{"$f":"D$14","v":0.5},{"$f":"D$17","v":30},2.29,-0.39700000000000002,13.84,{"$f":"D$17/D$15","v":15},{"$f":"R24*U24^S24","v":0.78149688717383092},{"$f":"T24","v":13.84},{"$f":"(V24*P24+W24)*Q24","v":426.92245330760744}]
[null,"施設",null,"透水性舗装\n（浸透池）","浸透側溝\nおよび\n浸透トレンチ","円筒ます",null,"正方形ます",null,"矩形\nのます","大型貯留槽",null,null,3,20,0.5,30,2.37,-0.48799999999999999,26.36,15,0.63214369637916767,26.36,800.28215544568752]
[null,"浸透面",null,"底面","側面\nおよび\n底面","側面\nおよび\n底面","底面","側面\nおよび\n底面","底面","側面\nおよび\n底面","側面\n及び\n底面","底面",null,4,30,0.5,30,2.17,-0.51800000000000002,38.79,15,0.53363519088624867,38.79,1171.7045278632936]
[null,"模式図",null,null,null,null,null,null,null,null,null,null,null,5,40,0.5,30,1.96,-0.55400000000000005,51.16,15,0.43722150399727927,51.16,1541.3583225599591]
[null,"H：設計水頭（m）",1,{"$f":"$D14","v":0.5},{"$f":"$D14","v":0.5},{"$f":"$D14","v":0.5},{"$f":"$D14","v":0.5},{"$f":"$D14","v":0.5},0.5,0.5,0.5,0.5,null,6,50,0.5,30,1.76,-0.60899999999999999,63.5,15,0.33827748342500441,63.5,1910.0741622513751]
[null,"W：施設幅(m)",null,{"$f":"$D15","v":2},{"$f":"$D15","v":2},{"$f":"$D15","v":2},2,2,2,2,2,2,null,7,{"$f":"D15","v":2},0.5,30,{"$f":"R28","v":1.76},{"$f":"S28","v":-0.60899999999999999},{"$f":"T28","v":63.5},15,0.33827748342500441,63.5,1910.0741622513751]
[null,"D：施設直径",null,{"$f":"$D16","v":1},1,1,1,1,1,1,1,1,null,null,"上ランク","下ランク"]
[null,"L：施設延長(m)",null,{"$f":"$D17","v":30},{"$f":"$D17","v":30},30,30,30,30,30,30,30,null,null,{"$f":"IF(D15<=O23,1,IF(D15<=O24,2,IF(D15<=O25,3,IF(D15<=O26,4,IF(D15<=O27,5,IF(D15<=O28,6,7))))))","v":1},{"$f":"IF(D32>=O28,7,IF(O31=1,1,O31-1))","v":1},null,"内挿パラ↓"]
[null,"係数","a",1.4E-2,3.093,{"$f":"IF(F30<0.2,\"適用外\",IF(F30<=1,0.475*F30+0.945,IF(F30<=10,6.244*F30+2.853,\"適用外\")))","v":1.42},{"$f":"IF(G30<0.3,\"適用外\",IF(G30<=1,1.497*G30-0.1,IF(G30<=10,2.556*G30-2.052,\"適用外\")))","v":1.397},{"$f":"IF(H29<=1,0.12*H29+0.985,IF(H29<=10,-0.453*H29^2+8.289*H29+0.753,IF(H29<=80,0.747*H29+21.355,\"適用外\")))","v":15.519},{"$f":"IF(I29<=1,1.676*I29-0.137,IF(I29<=10,-0.204*I29^2+3.166*I29-1.936,IF(I29<=80,1.265*I29-15.67,\"適用外\")))","v":3.58},{"$f":"3.297*J31+1.971*J29+4.663","v":107.515},"別途算定","別途算定",null,"W",{"$f":"VLOOKUP(O31,$N$23:$O$29,2,FALSE)","v":5},{"$f":"VLOOKUP(P31,$N$23:$O$29,2,FALSE)","v":5},{"$f":"D15","v":2},{"$f":"IF(O31=P31,0,(Q32-P32)/(O32-P32))","v":0}]
[null,null,"b",1.2869999999999999,{"$f":"1.34*E29+0.677","v":3.3570000000000002},{"$f":"IF(F30<0.2,\"適用外\",IF(F30<=1,6.07*F30+1.01,IF(F30<=10,0.93*F30^2+1.606*F30-0.773,\"適用外\")))","v":7.08},{"$f":"IF(G30<0.3,\"適用外\",IF(G30<=1,1.13*G30^2+0.638*G30-0.011,IF(G30<=10,0.924*G30^2+0.993*G30-0.087,\"適用外\")))","v":1.7569999999999999},{"$f":"IF(H29<=1,7.837*H29+0.82,IF(H29<=10,1.458*H29^2+1.27*H29+0.362,IF(H29<=80,1.263*H29^2+4.295*H29-7.649,\"適用外\")))","v":8.734},{"$f":"IF(I29<=1,1.496*I29^2+I29*0.671-0.015,IF(I29<=10,1.345*I29^2+0.736*I29+0.251,IF(I29<=80,1.259*I29^2+2.336*I29-8.13,\"適用外\")))","v":7.1030000000000006},{"$f":"(1.401*J29+0.684)*J31+1.214*J29-0.834","v":106.17400000000001},"別途算定","別途算定",null,"K",{"$f":"VLOOKUP(O31,$N$23:$X$29,11,FALSE)","v":239.07112749119071},{"$f":"VLOOKUP(P31,$N$23:$X$29,11,FALSE)","v":239.07112749119071},{"$f":"(O33-P33)*R32+P33","v":239.07112749119071}]
[null,null,"c","-","-",{"$f":"IF(F30<0.2,\"適用外\",IF(F30<=1,2.57*F30-0.188,IF(F30<=10,\"-\",\"適用外\")))","v":2.3819999999999997},{"$f":"IF(G29<=1,2.858*G29-0.283,IF(G29<80,\"-\",\"適用外\"))","v":"-"},{"$f":"IF(H29<=1,2.858*H29-0.283,IF(H29<=80,\"-\",\"適用外\"))","v":"-"},"-","-","-","-"]
[null,"比浸透量","K",{"$f":"IF(D28<=1.5,D32*D28+D33,\"適用外\")","v":1.2939999999999998},{"$f":"IF(AND(E28<=1.5,E29<=1.5),E32*E28+E33,\"適用外\")","v":"適用外"},{"$f":"IF(F28<=5,IF(F30<0.2,\"適用外\",IF(F30<=1,F32*F28^2+F33*F28+F34,IF(F30<=10,F32*F28+F33,\"適用外\"))),\"適用外\")","v":6.2769999999999992},{"$f":"IF(G28<=5,IF(G30<0.3,\"適用外\",IF(G30<10,G32*G30+G33,\"適用外\")),\"適用外\")","v":3.1539999999999999},{"$f":"IF(H28<=5,IF(H29<=1,H32*H28^2+H33*H28+H34,IF(H29<=80,H32*H28+H33,\"適用外\")),\"適用外\")","v":16.493500000000001},{"$f":"IF(AND(I29<=80,I28<=5),I32*I28+I33,\"適用外\")","v":8.8930000000000007},{"$f":"IF(AND(J28<=5,J29<=5,J31<=200),J32*J28+J33,\"適用外\")","v":159.9315},{"$f":"IF(OR(K28<0.5,K28>5),\"適用外\",Q16)","v":248.9079015261635},{"$f":"IF(OR(L28<0.5,L28>5),\"適用外\",Q33)","v":239.07112749119071}]

{"sheet":"施設諸元（浸透）","index":8,"n_rows":60,"n_cols":21,"rows_kept":60,"cut":false,"hidden":false,"merged":[[5,1,7,1],[5,2,5,3],[5,4,7,4],[6,2,7,2],[6,3,7,3],[19,1,21,1],[19,2,19,3],[19,4,21,4],[19,5,19,7],[19,13,21,13],[20,2,21,2],[20,3,21,3],[5,5,5,7],[5,13,7,13],[33,5,33,7],[33,13,35,13],[19,15,19,16],[5,15,5,16],[20,15,21,15],[20,16,21,16],[20,14,21,14],[33,14,35,14],[33,15,35,15],[6,14,7,14],[6,15,7,15],[6,16,7,16],[47,15,49,15],[48,2,49,2],[48,3,49,3],[34,3,35,3],[47,1,49,1],[47,2,47,3],[47,4,49,4],[47,5,47,7],[47,13,49,13],[34,2,35,2],[33,1,35,1],[33,2,33,3],[33,4,35,4],[47,14,49,14]]}
[null,null,null,null,null,null,null,null,null,null,null,null,null,null,null,null,"【提出様式】",null,null,null,{"$f":"MAX(D9:D18,D23:D32,D37:D46,D51:D60)","v":0}]
["流出抑制施設諸元（浸透施設）"]
[null,"浸透施設諸元",null,null,null,null,null,null,null,null,null,null,null,"空隙貯留量諸元"]
[null,"浸透能力",{"$f":"SUM(J9:J60)/3600","v":0},"m3/s",null,null,null,null,null,null,null,null,null,"空隙貯留量",{"$f":"SUM(K9:K60)","v":0},"m3"]
[]
[null,"【浸透ます】","単位設計浸透能",null,"設置数量\n（個）","影響係数",null,null,null,null,null,null,null,"【浸透ます】\n1個あたり","ます部","砕石部"]
[null,null,"比浸透量（㎡）","飽和透水係数\n（m/hr）",null,"（1）","（2）","（3）",null,null,null,null,null,null,"体積\n（ｍ3）","体積\n（ｍ3）","空隙率\n（％）"]
[null,null,null,null,null,"内容（１）","内容（２）","内容（３）"]
[null,1,null,0,null,0.9,0.9,1,{"$f":"D9","v":0},{"$f":"$C9*$I9*$E9*$F9*$G9*$H9","v":0},{"$f":"($O9+$P9*$Q9/100)*$E9","v":0},null,null,1]
[null,2,null,0,null,0.9,0.9,1,{"$f":"D10","v":0},{"$f":"$C10*$I10*$E10*$F10*$G10*$H10","v":0},{"$f":"($O10+$P10*$Q10/100)*$E10","v":0},null,null,2]
[null,3,null,0,null,0.9,0.9,1,0,0,0,null,null,3]
[null,4,null,0,null,0.9,0.9,1,0,0,0,null,null,4]
[null,5,null,0,null,0.9,0.9,1,0,0,0,null,null,5]
[null,6,null,0,null,0.9,0.9,1,0,0,0,null,null,6]
[null,7,null,0,null,0.9,0.9,1,0,0,0,null,null,7]
[null,8,null,0,null,0.9,0.9,1,0,0,0,null,null,8]
[null,9,null,0,null,0.9,0.9,1,0,0,0,null,null,9]
[null,10,null,0,null,0.9,0.9,1,0,0,0,null,null,10]
[]
[null,"【浸透トレンチ】","単位設計浸透能",null,"設置数量\n（ｍ）","影響係数",null,null,null,null,null,null,null,"【浸透トレンチ】\n1mあたり","浸透管部","砕石部"]
[null,null,"比浸透量（㎡）","飽和透水係数\n（m/hr）",null,"（1）","（2）","（3）",null,null,null,null,null,null,"体積\n（ｍ3）","体積\n（ｍ3）","空隙率\n（％）"]
[null,null,null,null,null,"内容（１）","内容（２）","内容（３）"]
[null,1,null,0,null,0.9,0.9,1,{"$f":"D23","v":0},{"$f":"$C23*$I23*$E23*$F23*$G23*$H23","v":0},{"$f":"($O23+$P23*$Q23/100)*$E23","v":0},null,null,1]
[null,2,null,0,null,0.9,0.9,1,0,{"$f":"$C24*$I24*$E24*$F24*$G24*$H24","v":0},0,null,null,2]
[null,3,null,0,null,0.9,0.9,1,0,0,0,null,null,3]
[null,4,null,0,null,0.9,0.9,1,0,0,0,null,null,4]
[null,5,null,0,null,0.9,0.9,1,0,0,0,null,null,5]
[null,6,null,0,null,0.9,0.9,1,0,0,0,null,null,6]
[null,7,null,0,null,0.9,0.9,1,0,0,0,null,null,7]
[null,8,null,0,null,0.9,0.9,1,0,0,0,null,null,8]
[null,9,null,0,null,0.9,0.9,1,0,0,0,null,null,9]
[null,10,null,0,null,0.9,0.9,1,0,0,0,null,null,10]
[]
[null,"【透水性舗装】","単位設計浸透能",null,"設置数量\n（㎡）","影響係数",null,null,null,null,null,null,null,"【透水性舗装】\n1㎡あたり","体積\n（ｍ3）","空隙率\n（％）"]
[null,null,"比浸透量（㎡）","飽和透水係数\n（m/hr）",null,"（1）","（2）","（3）"]
[null,null,null,null,null,"内容（１）","内容（２）","内容（３）"]
[null,1,null,0,null,0.9,0.9,1,{"$f":"D37","v":0},{"$f":"$C37*$I37*$E37*$F37*$G37*$H37","v":0},{"$f":"$E37*($P37/100*O37)","v":0},null,null,1]
[null,2,null,0,null,0.9,0.9,1,0,{"$f":"$C38*$I38*$E38*$F38*$G38*$H38","v":0},{"$f":"$E38*($P38/100*O38)","v":0},null,null,2]
[null,3,null,0,null,0.9,0.9,1,0,0,0,null,null,3]
[null,4,null,0,null,0.9,0.9,1,0,0,0,null,null,4]
[null,5,null,0,null,0.9,0.9,1,0,0,0,null,null,5]
[null,6,null,0,null,0.9,0.9,1,0,0,0,null,null,6]
[null,7,null,0,null,0.9,0.9,1,0,0,0,null,null,7]
[null,8,null,0,null,0.9,0.9,1,0,0,0,null,null,8]
[null,9,null,0,null,0.9,0.9,1,0,0,0,null,null,9]
[null,10,null,0,null,0.9,0.9,1,0,0,0,null,null,10]
[]
[null,"【その他】","単位設計浸透能",null,"設置数量\n（単位）","影響係数",null,null,null,null,null,null,null,"【その他】","体積\n（ｍ3）","空隙率\n（％）"]
[null,null,"比浸透量（㎡）","飽和透水係数\n（m/hr）",null,"（1）","（2）","（3）"]
[null,null,null,null,null,"内容（１）","内容（２）","内容（３）"]
[null,1,null,0,null,0.9,0.9,1,{"$f":"D51","v":0},{"$f":"$C51*$I51*$E51*$F51*$G51*$H51","v":0},{"$f":"$E51*($P51/100*O51)","v":0},null,null,1]
[null,2,null,0,null,0.9,0.9,1,0,{"$f":"$C52*$I52*$E52*$F52*$G52*$H52","v":0},{"$f":"$E52*($P52/100*O52)","v":0},null,null,2]
[null,3,null,0,null,0.9,0.9,1,0,0,0,null,null,3]
[null,4,null,0,null,0.9,0.9,1,0,0,0,null,null,4]
[null,5,null,0,null,0.9,0.9,1,0,0,0,null,null,5]
[null,6,null,0,null,0.9,0.9,1,0,0,0,null,null,6]
[null,7,null,0,null,0.9,0.9,1,0,0,0,null,null,7]
[null,8,null,0,null,0.9,0.9,1,0,0,0,null,null,8]
[null,9,null,0,null,0.9,0.9,1,0,0,0,null,null,9]
[null,10,null,0,null,0.9,0.9,1,0,0,0,null,null,10]

{"sheet":"施設諸元（浸透_道路管理者用）","index":9,"n_rows":62,"n_cols":19,"rows_kept":62,"cut":false,"hidden":false,"merged":[[10,1,11,1],[10,6,10,7],[11,6,11,7],[4,7,4,8],[6,1,6,6],[8,1,8,2],[9,1,9,2],[9,6,9,7],[19,1,19,2],[19,9,19,10],[12,1,13,1],[12,6,12,7],[13,6,13,7],[14,1,14,6],[15,1,15,3],[16,1,16,2],[16,9,16,10],[17,1,17,2],[17,9,17,10],[18,1,18,2],[18,9,18,10],[20,1,20,2],[20,9,20,10],[21,1,21,2],[21,9,21,10],[22,1,22,2],[22,9,22,10],[25,1,25,6],[27,1,29,2],[27,3,27,4],[27,5,29,5],[27,6,29,6],[28,3,29,3],[28,4,29,4],[27,17,29,17],[27,18,29,18],[28,11,29,11],[28,12,29,12],[28,13,29,13],[35,1,35,2],[27,10,29,10],[27,12,27,13],[27,15,29,15],[27,16,29,16],[27,7,27,8],[28,7,29,7],[28,8,29,8],[30,1,30,2],[31,1,31,2],[32,1,32,2],[33,1,33,2],[34,1,34,2],[42,11,43,11],[36,1,36,2],[37,1,37,2],[38,1,38,2],[39,1,39,2],[41,1,43,2],[41,3,41,4],[53,1,53,2],[42,12,43,12],[42,13,43,13],[44,1,44,2],[45,1,45,2],[46,1,46,2],[47,1,47,2],[41,5,43,5],[41,6,43,6],[41,7,41,8],[41,10,43,10],[41,12,41,13],[42,3,43,3],[42,4,43,4],[42,7,43,7],[42,8,43,8],[48,1,48,2],[49,1,49,2],[50,1,50,2],[51,1,51,2],[52,1,52,2],[56,1,56,2],[56,6,56,7],[57,1,57,2],[58,1,58,2],[59,1,59,6]]}
[null,null,null,null,null,null,null,null,null,null,null,null,null,"【提出様式】"]
["流出抑制施設諸元（浸透施設_道路管理者用）"]
[]
[]
[]
["透水性舗装"]
[]
[null,"基本諸元"]
[null,"設置数量(舗装面積) (m2)"]
[null,"飽和透水係数 （m/hr）",null,null,null,null,"上層路盤での貯留率(%)",null,{"$f":"L21","v":0}]
[null,"比浸透量算定定数\nK=aH+b","a",null,null,null,"下層路盤での貯留率(%)",null,{"$f":"L22","v":0}]
[null,null,"b",null,null,null,"下層路盤厚(mm)",null,{"$f":"D22","v":0}]
[null,"目詰まり\n係数","C1",null,null,null,"下層路盤での貯留量(mm)",null,{"$f":"M22","v":0}]
[null,null,"C2",null,null,null,"貯留量の合計(mm)",null,{"$f":"M23","v":0}]
[]
[null,"貯留率と水拘束率"]
[null,null,null,"厚さ(mm)","空気間隙率\n(%)","空気間隙率との関係","水拘束率\n(%)","水拘束量\n(mm)","貯留率\n(%)","貯留量\n(mm)",null,"STEP2での\n貯留率\n(%)","STEP2での\n貯留量\n(mm)"]
[null,"関係式",null,"a","b","b'","c","a×c/100","d (=b+b')","a×d/100",null,"d-c","a×(d-c)/100"]
[null,"表層",null,null,null,null,null,{"$f":"D19*G19/100","v":0},{"$f":"E19+F19","v":0},{"$f":"D19*I19/100","v":0},null,{"$f":"I19-G19","v":0},{"$f":"D19*(I19-G19)/100","v":0}]
[null,"中間層・基層",null,null,null,null,null,{"$f":"D20*G20/100","v":0},{"$f":"E20+F20","v":0},{"$f":"D20*I20/100","v":0},null,{"$f":"I20-G20","v":0},{"$f":"D20*(I20-G20)/100","v":0}]
[null,"上層路盤",null,null,null,null,null,{"$f":"D21*G21/100","v":0},{"$f":"E21+F21","v":0},{"$f":"D21*I21/100","v":0},null,{"$f":"I21-G21","v":0},{"$f":"D21*(I21-G21)/100","v":0}]
[null,"下層路盤",null,null,null,null,null,{"$f":"D22*G22/100","v":0},{"$f":"E22+F22","v":0},{"$f":"D22*I22/100","v":0},null,{"$f":"I22-G22","v":0},{"$f":"D22*(I22-G22)/100","v":0}]
[null,"合計",null,{"$f":"SUM(D19:D22)","v":0},"-","-","-",{"$f":"SUM(H19:H22)","v":0},"-",{"$f":"SUM(J19:J22)","v":0},null,"-",{"$f":"SUM(M19:M22)","v":0}]
[]
["浸透マス・トレンチ"]
[]
[null,"浸透能諸元",null,null,null,null,null,null,null,null,"空隙貯留諸元"]
[null,"【浸透ます】",null,"単位設計浸透能",null,"設置数量\n（個）","設計水頭\n(m)","影響係数",null,null,"【浸透ます】\n1個あたり","ます部","砕石部",null,null,"Σ","設計浸透量","平均設計水頭","設計空隙貯留量"]
[null,null,null,"比浸透量（㎡）","飽和透水係数\n（m/hr）",null,null,"地下水位\n係数","目詰まり\n係数",null,null,"体積\n（ｍ3）","体積\n（ｍ3）","空隙率\n（％）"]
[null,null,null,null,null,null,null,null,null,null,null,null,null,null,"小計"]
[null,1,null,null,null,null,null,1,1,null,1,null,null,null,null,{"$f":"D31*E31*F31*G31*H31*I31","v":0},{"$f":"D31*E31*F31*H31*I31","v":0},null,{"$f":"L31*M31/100","v":0}]
[null,2,null,null,null,null,null,1,1,null,2,null,null,null,null,{"$f":"D32*E32*F32*G32*H32*I32","v":0},{"$f":"D32*E32*F32*H32*I32","v":0},null,{"$f":"L32*M32/100","v":0}]
[null,3,null,null,null,null,null,1,1,null,3,null,null,null,null,0,0,null,0]
[null,4,null,null,null,null,null,1,1,null,4,null,null,null,null,0,0,null,0]
[null,5,null,null,null,null,null,1,1,null,5,null,null,null,null,0,0,null,0]
[null,6,null,null,null,null,null,1,1,null,6,null,null,null,null,0,0,null,0]
[null,7,null,null,null,null,null,1,1,null,7,null,null,null,null,0,0,null,0]
[null,8,null,null,null,null,null,1,1,null,8,null,null,null,null,0,0,null,0]
[null,9,null,null,null,null,null,1,1,null,9,null,null,null,null,0,0,null,0]
[null,10,null,null,null,null,null,1,1,null,10,null,null,null,null,0,0,null,0]
[]
[null,"【浸透トレンチ】",null,"単位設計浸透能",null,"設置数量\n（ｍ）","設計水頭\n(m)","影響係数",null,null,"【浸透トレンチ】\n1mあたり","浸透管部","砕石部"]
[null,null,null,"比浸透量（㎡）","飽和透水係数\n（m/hr）",null,null,"地下水位\n係数","目詰まり\n係数",null,null,"体積\n（ｍ3）","体積\n（ｍ3）","空隙率\n（％）"]
[]
[null,1,null,null,null,null,null,1,1,null,1,null,null,null,null,{"$f":"D45*E45*F45*G45*H45*I45","v":0},{"$f":"D45*E45*F45*H45*I45","v":0},null,{"$f":"L45*M45/100","v":0}]
[null,2,null,null,null,null,null,1,1,null,2,null,null,null,null,{"$f":"D46*E46*F46*G46*H46*I46","v":0},{"$f":"D46*E46*F46*H46*I46","v":0},null,0]
[null,3,null,null,null,null,null,1,1,null,3,null,null,null,null,0,0,null,0]
[null,4,null,null,null,null,null,1,1,null,4,null,null,null,null,0,0,null,0]
[null,5,null,null,null,null,null,1,1,null,5,null,null,null,null,0,0,null,0]
[null,6,null,null,null,null,null,1,1,null,6,null,null,null,null,0,0,null,0]
[null,7,null,null,null,null,null,1,1,null,7,null,null,null,null,0,0,null,0]
[null,8,null,null,null,null,null,1,1,null,8,null,null,null,null,0,0,null,0]
[null,9,null,null,null,null,null,1,1,null,9,null,null,null,null,0,0,null,0]
[null,10,null,null,null,null,null,1,1,null,10,null,null,null,null,0,0,null,0]
[]
[null,"統合諸元"]
[null,"設計浸透能(m3/hr)",null,{"$f":"Q59","v":0}]
[null,"平均設計水頭(m)",null,{"$f":"IF(D57>0,+R59,0)","v":0}]
[null,"設計空隙貯留量(m3)",null,{"$f":"S59","v":0},null,null,null,null,null,null,null,null,null,null,"総合計",{"$f":"P61+P62","v":0},{"$f":"Q61+Q62","v":0},{"$f":"P59/Q59","v":{"$error":"#DIV/0!"}},{"$f":"S61+S62","v":0}]
[]
[null,null,null,null,null,null,null,null,null,null,null,null,null,null,"マス",{"$f":"SUM(P31:P40)","v":0},{"$f":"SUM(Q31:Q40)","v":0},{"$f":"P61/Q61","v":{"$error":"#DIV/0!"}},{"$f":"SUM(S31:S40)","v":0}]
[null,null,null,null,null,null,null,null,null,null,null,null,null,null,"トレンチ",{"$f":"SUM(P45:P54)","v":0},{"$f":"SUM(Q45:Q54)","v":0},{"$f":"P62/Q62","v":{"$error":"#DIV/0!"}},{"$f":"SUM(S45:S54)","v":0}]

{"sheet":"調節計算結果","index":10,"n_rows":5,"n_cols":9,"rows_kept":5,"cut":false,"hidden":false,"merged":[]}
[null,null,null,null,null,null,null,null,"【提出様式】"]
["調節計算結果（流量ハイドログラフ）　　"]
[null,"【放流量】"]
[null,"最大放流量(行為後)",{"$f":"'コントロールシート（浸透施設のみ）'!C18","v":0.38900000000000001},"m3/s"]
[null,"最大放流量",{"$f":"'コントロールシート（浸透施設のみ）'!C20","v":0.38420300000000002},"m3/s","≦","許容放流量",{"$f":"事前相談チェックシート!U25","v":99999},"m3/s",{"$f":"IF(C5<=G5,\"OK\",\"NG\")","v":"OK"}]

{"sheet":"許可申請書","index":11,"n_rows":53,"n_cols":10,"rows_kept":53,"cut":false,"hidden":false,"merged":[[22,1,23,1],[22,2,23,5],[6,0,6,8],[9,0,9,8],[12,0,12,3],[18,0,28,0],[18,2,18,5],[18,6,18,10],[19,2,19,5],[19,6,19,10],[20,1,21,1],[20,2,21,5],[13,0,13,3],[27,2,27,5],[27,6,27,10],[28,2,28,5],[25,2,25,5],[42,2,44,10],[30,4,30,10],[31,4,31,6],[31,7,31,10],[33,7,34,10],[36,2,37,10],[39,2,41,10],[29,4,29,6],[29,7,29,10],[25,6,25,10],[26,2,26,5],[26,6,26,10],[28,6,28,10],[14,5,15,8],[16,5,17,8],[20,6,21,10],[22,6,23,10],[24,2,24,5],[24,6,24,10]]}
["別記様式第二（第十六条関係）"]
[null,null,null,null,null,null,"許可申請"]
[null,null,null,null,null,"雨水浸透阻害行為",null,"書"]
[null,null,null,null,null,null,"協　　議"]
[]
[null,null,null,null,"　第３０条",null,null,null,null,"※"]
["　特定都市河川浸水被害対策法　　    　　 の規定により、雨水浸透阻害行為",null,null,null,null,null,null,null,null,"手数料欄"]
[null,null,null,null,"第３５条"]
[null,null," 　　 許可を申請"]
["について　　　　　　 します。"]
[null,null,"　 協　　　議"]
[]
["　　年　　月　　日"]
["　　　　　　　 　殿　 "]
[null,null,null,null,"住所",{"$f":"事前相談書!H17","v":0}]
[]
[null,null,null,null,"氏名",{"$f":"事前相談書!H19","v":0}]
[]
["雨水浸透阻害行為等の概要","１","雨水浸透阻害行為の区域に含まれる地域の名称",null,null,null,{"$f":"事前相談書!G8","v":0}]
[null,"２","雨水浸透阻害行為区域の面積",null,null,null,{"$f":"事前相談チェックシート!R5*10000","v":0}]
[null,"３","雨水浸透阻害行為に関する工事の計画の概要",null,null,null,{"$f":"事前相談書!G14","v":0}]
[]
[null,"４","対策工事の計画の概要"]
[]
[null,"５","雨水浸透阻害行為に関する工事の着手予定日",null,null,null,"　　年　　月　　日"]
[null,"６","雨水浸透阻害行為に関する工事の完了予定日",null,null,null,"　　年　　月　　日"]
[null,"７","対策工事の着手予定日",null,null,null,"　　年　　月　　日"]
[null,"８","対策工事の完了予定日",null,null,null,"　　年　　月　　日"]
[null,"９","その他必要な事項"]
["※受付番号",null,null,null,"　　年　　月　　日",null,null,"第　　　　号"]
["※許可に付した条件"]
["※許可番号",null,null,null,"　　年　　月　　日",null,null,"第　　　　号"]
["備考"]
[null,"１","　「許可申請　、 「第３０ 条   、 「許可を申請",null,null,null,null,"については、該当するものを○で"]
[null,null,"　　協　　議」　   第３５条」　　 協　  　議」"]
[null,null,"囲むこと。"]
[null,"２","　許可申請者が法人である場合においては、氏名は、その法人の名称及び代表者の氏名を記載すること。"]
[]
[null,"３","　※印のある欄は記載しないこと。"]
[null,"４","　雨水浸透阻害行為に関する工事の計画及び対策工事の計画については、概要の記述の末尾に「（計画の詳細は、別葉の計画説明書及び計画図による。）」と記載し、それぞれ計画説明書及び計画図を別葉とすること。"]
[]
[]
[null,"５","　「その他の必要な事項」の欄には、雨水浸透阻害行為を行うことについて、都市計画法、農地法その他の法令による許可、認可等を要する場合には、その手続の状況を記載すること。"]
[]
[]
[]
[]
[]
[]
[]
[]
[]
[null,null,null,"　"]

{"sheet":"計画説明書","index":12,"n_rows":27,"n_cols":11,"rows_kept":27,"cut":false,"hidden":false,"merged":[[26,0,26,10],[19,0,24,0],[21,1,24,3],[25,1,25,10],[19,6,19,8],[19,9,19,10],[19,1,19,3],[19,4,19,5],[20,1,20,3],[20,4,20,5],[20,6,20,8],[20,9,20,10],[21,4,21,6],[21,7,21,10],[22,7,24,10],[22,4,24,6],[1,0,1,10],[6,1,6,10],[8,1,8,10],[9,0,13,0],[9,1,10,1],[9,2,10,2],[9,3,10,3],[9,4,10,4],[2,1,2,10],[3,1,3,10],[4,1,4,10],[5,1,5,10],[7,1,7,10],[14,0,18,0],[14,1,15,1],[14,2,15,2],[14,3,15,3],[14,4,15,4]]}
["様式－１（特定都市河川浸水被害対策法施行規則 第16条関係）"]
["計　画　説　明　書"]
["申請者"]
["設計者"]
["工事施工者"]
["施設管理者"]
["雨水浸透阻害行為の区域に含まれる地域の名称",{"$f":"事前相談書!G8","v":0}]
["雨水浸透阻害行為に関する工事の計画の概要"]
["対策工事の計画の概要"]
["行為区域(対策工事に係る雨水貯留浸透施設の集水区域が行為区域の範囲を超えるときは、当該超える区域を含む。)内の土地の現況(m2)","宅　地","池　沼","水　路","ため池","道　路","道　路","鉄道線路","鉄道線路","飛行場","飛行場"]
[null,null,null,null,null,"(法面無)","(法面有)","(法面無)","(法面有)","(法面無)","(法面有)"]
[null,{"$f":"事前相談入力シート!C23*10000","v":0},{"$f":"事前相談入力シート!D23*10000","v":0},{"$f":"事前相談入力シート!E23*10000","v":0},{"$f":"事前相談入力シート!F23*10000","v":0},{"$f":"事前相談入力シート!G23*10000","v":0},{"$f":"事前相談入力シート!H23*10000","v":0},{"$f":"事前相談入力シート!I23*10000","v":0},{"$f":"事前相談入力シート!J23*10000","v":0},{"$f":"事前相談入力シート!K23*10000","v":0},{"$f":"事前相談入力シート!L23*10000","v":0}]
[null,"太陽光\nパネル","舗装された土地(法面を除く。)","舗装された土地(法面)","ゴルフ場","運動場","締め固められた土地","山　地","植生に覆われた法面","林地・耕地・原野その他","合　計"]
[null,{"$f":"事前相談入力シート!M23*10000","v":0},{"$f":"事前相談入力シート!N23*10000","v":0},{"$f":"事前相談入力シート!O23*10000","v":0},{"$f":"事前相談入力シート!P23*10000","v":0},{"$f":"事前相談入力シート!Q23*10000","v":0},{"$f":"事前相談入力シート!R23*10000","v":0},{"$f":"事前相談入力シート!S23*10000","v":0},{"$f":"事前相談入力シート!T23*10000","v":0},{"$f":"事前相談入力シート!U23*10000","v":0},{"$f":"SUM(B12:K12,B14:J14)","v":0}]
["行為区域(対策工事に係る雨水貯留浸透施設の集水区域が行為区域の範囲を超えるときは、当該超える区域を含む。)内の土地利用計画(m2)","宅　地","池　沼","水　路","ため池","道　路","道　路","鉄道線路","鉄道線路","飛行場","飛行場"]
[null,null,null,null,null,"(法面無)","(法面有)","(法面無)","(法面有)","(法面無)","(法面有)"]
[null,{"$f":"事前相談入力シート!C46*10000","v":0},{"$f":"事前相談入力シート!D46*10000","v":0},{"$f":"事前相談入力シート!E46*10000","v":0},{"$f":"事前相談入力シート!F46*10000","v":0},{"$f":"事前相談入力シート!G46*10000","v":0},{"$f":"事前相談入力シート!H46*10000","v":0},{"$f":"事前相談入力シート!I46*10000","v":0},{"$f":"事前相談入力シート!J46*10000","v":0},{"$f":"事前相談入力シート!K46*10000","v":0},{"$f":"事前相談入力シート!L46*10000","v":0}]
[null,"太陽光\nパネル","舗装された土地(法面を除く。)","舗装された土地(法面)","ゴルフ場","運動場","締め固められた土地","山　地","植生に覆われた法面","林地・耕地・原野その他","合　計"]
[null,{"$f":"事前相談入力シート!M46*10000","v":0},{"$f":"事前相談入力シート!N46*10000","v":0},{"$f":"事前相談入力シート!O46*10000","v":0},{"$f":"事前相談入力シート!P46*10000","v":0},{"$f":"事前相談入力シート!Q46*10000","v":0},{"$f":"事前相談入力シート!R46*10000","v":0},{"$f":"事前相談入力シート!S46*10000","v":0},{"$f":"事前相談入力シート!T46*10000","v":0},{"$f":"事前相談入力シート!U46*10000","v":0},{"$f":"SUM(B17:K17,B19:J19)","v":0}]
["対策工事に係る雨水貯留浸透施設の計画","行為前の流出係数",null,null,{"$f":"事前相談チェックシート!R10","v":{"$error":"#DIV/0!"}},null,"行為後の流出係数",null,null,{"$f":"事前相談チェックシート!R12","v":{"$error":"#DIV/0!"}}]
[null,"行為前の流出雨水量",null,null,{"$f":"事前相談チェックシート!R11","v":{"$error":"#DIV/0!"}},null,"行為後の流出雨水量",null,null,{"$f":"事前相談チェックシート!R13","v":{"$error":"#DIV/0!"}}]
[null,"雨水貯留浸透施設の計画",null,null,"構造名称",null,null,"容量(浸透能力)"]
[]
[]
[]
["その他"]
["備考"]

{"sheet":"mkrain","index":13,"n_rows":147,"n_cols":8,"rows_kept":147,"cut":false,"hidden":true,"merged":[]}
[null,"降雨ハイエト",null,null,null,null,{"$f":"MAX(G4:G147)","v":127}]
[null,"埼玉県南部","埼玉県北部","東京都","茨城県",null,"対象エリア"]
[]
[null,4.0869999999999997,2.9617,4.0747,2.6570999999999998,1,{"$f":"ROUND(IF(事前相談チェックシート!$U$4=mkrain!B$2,mkrain!B4,IF(事前相談チェックシート!$U$4=mkrain!C$2,mkrain!C4,IF(事前相談チェックシート!$U$4=mkrain!D$2,mkrain!D4,mkrain!E4))),1)","v":2.7},"対象エリアによって参照を変更する"]
[null,4.1269,2.9901,4.1143000000000001,2.6827999999999999,2,{"$f":"ROUND(IF(事前相談チェックシート!$U$4=mkrain!B$2,mkrain!B5,IF(事前相談チェックシート!$U$4=mkrain!C$2,mkrain!C5,IF(事前相談チェックシート!$U$4=mkrain!D$2,mkrain!D5,mkrain!E5))),1)","v":2.7}]
[null,4.1677,3.0192000000000001,4.1548999999999996,2.7090999999999998,3,{"$f":"ROUND(IF(事前相談チェックシート!$U$4=mkrain!B$2,mkrain!B6,IF(事前相談チェックシート!$U$4=mkrain!C$2,mkrain!C6,IF(事前相談チェックシート!$U$4=mkrain!D$2,mkrain!D6,mkrain!E6))),1)","v":2.7}]
[null,4.2096,3.0489999999999999,4.1966000000000001,2.7361,4,{"$f":"ROUND(IF(事前相談チェックシート!$U$4=mkrain!B$2,mkrain!B7,IF(事前相談チェックシート!$U$4=mkrain!C$2,mkrain!C7,IF(事前相談チェックシート!$U$4=mkrain!D$2,mkrain!D7,mkrain!E7))),1)","v":2.7}]
[null,4.2525000000000004,3.0794999999999999,4.2393000000000001,2.7637999999999998,5,{"$f":"ROUND(IF(事前相談チェックシート!$U$4=mkrain!B$2,mkrain!B8,IF(事前相談チェックシート!$U$4=mkrain!C$2,mkrain!C8,IF(事前相談チェックシート!$U$4=mkrain!D$2,mkrain!D8,mkrain!E8))),1)","v":2.8}]
[null,4.2965,3.1107999999999998,4.2830000000000004,2.7921,6,{"$f":"ROUND(IF(事前相談チェックシート!$U$4=mkrain!B$2,mkrain!B9,IF(事前相談チェックシート!$U$4=mkrain!C$2,mkrain!C9,IF(事前相談チェックシート!$U$4=mkrain!D$2,mkrain!D9,mkrain!E9))),1)","v":2.8}]
[null,4.3417000000000003,3.1429999999999998,4.3280000000000003,2.8212000000000002,7,{"$f":"ROUND(IF(事前相談チェックシート!$U$4=mkrain!B$2,mkrain!B10,IF(事前相談チェックシート!$U$4=mkrain!C$2,mkrain!C10,IF(事前相談チェックシート!$U$4=mkrain!D$2,mkrain!D10,mkrain!E10))),1)","v":2.8}]
[null,4.3879999999999999,3.1760000000000002,4.3741000000000003,2.8511000000000002,8,{"$f":"ROUND(IF(事前相談チェックシート!$U$4=mkrain!B$2,mkrain!B11,IF(事前相談チェックシート!$U$4=mkrain!C$2,mkrain!C11,IF(事前相談チェックシート!$U$4=mkrain!D$2,mkrain!D11,mkrain!E11))),1)","v":2.9}]
[null,4.4356,3.2098,4.4214000000000002,2.8816999999999999,9,{"$f":"ROUND(IF(事前相談チェックシート!$U$4=mkrain!B$2,mkrain!B12,IF(事前相談チェックシート!$U$4=mkrain!C$2,mkrain!C12,IF(事前相談チェックシート!$U$4=mkrain!D$2,mkrain!D12,mkrain!E12))),1)","v":2.9}]
[null,4.4844999999999997,3.2446000000000002,4.47,2.9131999999999998,10,{"$f":"ROUND(IF(事前相談チェックシート!$U$4=mkrain!B$2,mkrain!B13,IF(事前相談チェックシート!$U$4=mkrain!C$2,mkrain!C13,IF(事前相談チェックシート!$U$4=mkrain!D$2,mkrain!D13,mkrain!E13))),1)","v":2.9}]
[null,4.5347999999999997,3.2803,4.5199999999999996,2.9456000000000002,11,{"$f":"ROUND(IF(事前相談チェックシート!$U$4=mkrain!B$2,mkrain!B14,IF(事前相談チェックシート!$U$4=mkrain!C$2,mkrain!C14,IF(事前相談チェックシート!$U$4=mkrain!D$2,mkrain!D14,mkrain!E14))),1)","v":2.9}]
[null,4.5864000000000003,3.3170000000000002,4.5713999999999997,2.9788999999999999,12,{"$f":"ROUND(IF(事前相談チェックシート!$U$4=mkrain!B$2,mkrain!B15,IF(事前相談チェックシート!$U$4=mkrain!C$2,mkrain!C15,IF(事前相談チェックシート!$U$4=mkrain!D$2,mkrain!D15,mkrain!E15))),1)","v":3}]
[null,4.6395999999999997,3.3548,4.6242000000000001,3.0131000000000001,13,{"$f":"ROUND(IF(事前相談チェックシート!$U$4=mkrain!B$2,mkrain!B16,IF(事前相談チェックシート!$U$4=mkrain!C$2,mkrain!C16,IF(事前相談チェックシート!$U$4=mkrain!D$2,mkrain!D16,mkrain!E16))),1)","v":3}]
[null,4.6943000000000001,3.3936000000000002,4.6786000000000003,3.0482999999999998,14,{"$f":"ROUND(IF(事前相談チェックシート!$U$4=mkrain!B$2,mkrain!B17,IF(事前相談チェックシート!$U$4=mkrain!C$2,mkrain!C17,IF(事前相談チェックシート!$U$4=mkrain!D$2,mkrain!D17,mkrain!E17))),1)","v":3}]
[null,4.7506000000000004,3.4336000000000002,4.7346000000000004,3.0844999999999998,15,{"$f":"ROUND(IF(事前相談チェックシート!$U$4=mkrain!B$2,mkrain!B18,IF(事前相談チェックシート!$U$4=mkrain!C$2,mkrain!C18,IF(事前相談チェックシート!$U$4=mkrain!D$2,mkrain!D18,mkrain!E18))),1)","v":3.1}]
[null,4.8086000000000002,3.4748000000000001,4.7923,3.1219000000000001,16,{"$f":"ROUND(IF(事前相談チェックシート!$U$4=mkrain!B$2,mkrain!B19,IF(事前相談チェックシート!$U$4=mkrain!C$2,mkrain!C19,IF(事前相談チェックシート!$U$4=mkrain!D$2,mkrain!D19,mkrain!E19))),1)","v":3.1}]
[null,4.8684000000000003,3.5171999999999999,4.8517999999999999,3.1602999999999999,17,{"$f":"ROUND(IF(事前相談チェックシート!$U$4=mkrain!B$2,mkrain!B20,IF(事前相談チェックシート!$U$4=mkrain!C$2,mkrain!C20,IF(事前相談チェックシート!$U$4=mkrain!D$2,mkrain!D20,mkrain!E20))),1)","v":3.2}]
[null,4.9301000000000004,3.5609000000000002,4.9131,3.2,18,{"$f":"ROUND(IF(事前相談チェックシート!$U$4=mkrain!B$2,mkrain!B21,IF(事前相談チェックシート!$U$4=mkrain!C$2,mkrain!C21,IF(事前相談チェックシート!$U$4=mkrain!D$2,mkrain!D21,mkrain!E21))),1)","v":3.2}]
[null,4.9936999999999996,3.6059999999999999,4.9763999999999999,3.2410000000000001,19,{"$f":"ROUND(IF(事前相談チェックシート!$U$4=mkrain!B$2,mkrain!B22,IF(事前相談チェックシート!$U$4=mkrain!C$2,mkrain!C22,IF(事前相談チェックシート!$U$4=mkrain!D$2,mkrain!D22,mkrain!E22))),1)","v":3.2}]
[null,5.0594000000000001,3.6526000000000001,5.0416999999999996,3.2831999999999999,20,{"$f":"ROUND(IF(事前相談チェックシート!$U$4=mkrain!B$2,mkrain!B23,IF(事前相談チェックシート!$U$4=mkrain!C$2,mkrain!C23,IF(事前相談チェックシート!$U$4=mkrain!D$2,mkrain!D23,mkrain!E23))),1)","v":3.3}]
[null,5.1273,3.7006999999999999,5.1092000000000004,3.3269000000000002,21,{"$f":"ROUND(IF(事前相談チェックシート!$U$4=mkrain!B$2,mkrain!B24,IF(事前相談チェックシート!$U$4=mkrain!C$2,mkrain!C24,IF(事前相談チェックシート!$U$4=mkrain!D$2,mkrain!D24,mkrain!E24))),1)","v":3.3}]
[null,5.1974999999999998,3.7504,5.1790000000000003,3.3719999999999999,22,{"$f":"ROUND(IF(事前相談チェックシート!$U$4=mkrain!B$2,mkrain!B25,IF(事前相談チェックシート!$U$4=mkrain!C$2,mkrain!C25,IF(事前相談チェックシート!$U$4=mkrain!D$2,mkrain!D25,mkrain!E25))),1)","v":3.4}]
[null,5.2701000000000002,3.8018000000000001,5.2511999999999999,3.4186999999999999,23,{"$f":"ROUND(IF(事前相談チェックシート!$U$4=mkrain!B$2,mkrain!B26,IF(事前相談チェックシート!$U$4=mkrain!C$2,mkrain!C26,IF(事前相談チェックシート!$U$4=mkrain!D$2,mkrain!D26,mkrain!E26))),1)","v":3.4}]
[null,5.3452999999999999,3.855,5.3258999999999999,3.4670000000000001,24,{"$f":"ROUND(IF(事前相談チェックシート!$U$4=mkrain!B$2,mkrain!B27,IF(事前相談チェックシート!$U$4=mkrain!C$2,mkrain!C27,IF(事前相談チェックシート!$U$4=mkrain!D$2,mkrain!D27,mkrain!E27))),1)","v":3.5}]
[null,5.4231999999999996,3.9100999999999999,5.4032999999999998,3.5171000000000001,25,{"$f":"ROUND(IF(事前相談チェックシート!$U$4=mkrain!B$2,mkrain!B28,IF(事前相談チェックシート!$U$4=mkrain!C$2,mkrain!C28,IF(事前相談チェックシート!$U$4=mkrain!D$2,mkrain!D28,mkrain!E28))),1)","v":3.5}]
[null,5.5038999999999998,3.9672000000000001,5.4836,3.5689000000000002,26,{"$f":"ROUND(IF(事前相談チェックシート!$U$4=mkrain!B$2,mkrain!B29,IF(事前相談チェックシート!$U$4=mkrain!C$2,mkrain!C29,IF(事前相談チェックシート!$U$4=mkrain!D$2,mkrain!D29,mkrain!E29))),1)","v":3.6}]
[null,5.5876999999999999,4.0265000000000004,5.5667999999999997,3.6227,27,{"$f":"ROUND(IF(事前相談チェックシート!$U$4=mkrain!B$2,mkrain!B30,IF(事前相談チェックシート!$U$4=mkrain!C$2,mkrain!C30,IF(事前相談チェックシート!$U$4=mkrain!D$2,mkrain!D30,mkrain!E30))),1)","v":3.6}]
[null,5.6746999999999996,4.0879000000000003,5.6532999999999998,3.6785999999999999,28,{"$f":"ROUND(IF(事前相談チェックシート!$U$4=mkrain!B$2,mkrain!B31,IF(事前相談チェックシート!$U$4=mkrain!C$2,mkrain!C31,IF(事前相談チェックシート!$U$4=mkrain!D$2,mkrain!D31,mkrain!E31))),1)","v":3.7}]
[null,5.7651000000000003,4.1517999999999997,5.7431000000000001,3.7366999999999999,29,{"$f":"ROUND(IF(事前相談チェックシート!$U$4=mkrain!B$2,mkrain!B32,IF(事前相談チェックシート!$U$4=mkrain!C$2,mkrain!C32,IF(事前相談チェックシート!$U$4=mkrain!D$2,mkrain!D32,mkrain!E32))),1)","v":3.7}]
[null,5.8590999999999998,4.2182000000000004,5.8365999999999998,3.7970999999999999,30,{"$f":"ROUND(IF(事前相談チェックシート!$U$4=mkrain!B$2,mkrain!B33,IF(事前相談チェックシート!$U$4=mkrain!C$2,mkrain!C33,IF(事前相談チェックシート!$U$4=mkrain!D$2,mkrain!D33,mkrain!E33))),1)","v":3.8}]
[null,5.9570999999999996,4.2873000000000001,5.9339000000000004,3.8599000000000001,31,{"$f":"ROUND(IF(事前相談チェックシート!$U$4=mkrain!B$2,mkrain!B34,IF(事前相談チェックシート!$U$4=mkrain!C$2,mkrain!C34,IF(事前相談チェックシート!$U$4=mkrain!D$2,mkrain!D34,mkrain!E34))),1)","v":3.9}]
[null,6.0590999999999999,4.3593000000000002,6.0354000000000001,3.9253999999999998,32,{"$f":"ROUND(IF(事前相談チェックシート!$U$4=mkrain!B$2,mkrain!B35,IF(事前相談チェックシート!$U$4=mkrain!C$2,mkrain!C35,IF(事前相談チェックシート!$U$4=mkrain!D$2,mkrain!D35,mkrain!E35))),1)","v":3.9}]
[null,6.1656000000000004,4.4344000000000001,6.1412000000000004,3.9937999999999998,33,{"$f":"ROUND(IF(事前相談チェックシート!$U$4=mkrain!B$2,mkrain!B36,IF(事前相談チェックシート!$U$4=mkrain!C$2,mkrain!C36,IF(事前相談チェックシート!$U$4=mkrain!D$2,mkrain!D36,mkrain!E36))),1)","v":4}]
[null,6.2767999999999997,4.5126999999999997,6.2516999999999996,4.0651000000000002,34,{"$f":"ROUND(IF(事前相談チェックシート!$U$4=mkrain!B$2,mkrain!B37,IF(事前相談チェックシート!$U$4=mkrain!C$2,mkrain!C37,IF(事前相談チェックシート!$U$4=mkrain!D$2,mkrain!D37,mkrain!E37))),1)","v":4.0999999999999996}]
[null,6.3930999999999996,4.5946999999999996,6.3673000000000002,4.1397000000000004,35,{"$f":"ROUND(IF(事前相談チェックシート!$U$4=mkrain!B$2,mkrain!B38,IF(事前相談チェックシート!$U$4=mkrain!C$2,mkrain!C38,IF(事前相談チェックシート!$U$4=mkrain!D$2,mkrain!D38,mkrain!E38))),1)","v":4.0999999999999996}]
[null,6.5148999999999999,4.6803999999999997,6.4882,4.2178000000000004,36,{"$f":"ROUND(IF(事前相談チェックシート!$U$4=mkrain!B$2,mkrain!B39,IF(事前相談チェックシート!$U$4=mkrain!C$2,mkrain!C39,IF(事前相談チェックシート!$U$4=mkrain!D$2,mkrain!D39,mkrain!E39))),1)","v":4.2}]
[null,6.6425000000000001,4.7702,6.6150000000000002,4.2996999999999996,37,{"$f":"ROUND(IF(事前相談チェックシート!$U$4=mkrain!B$2,mkrain!B40,IF(事前相談チェックシート!$U$4=mkrain!C$2,mkrain!C40,IF(事前相談チェックシート!$U$4=mkrain!D$2,mkrain!D40,mkrain!E40))),1)","v":4.3}]
[null,6.7765000000000004,4.8643999999999998,6.7481999999999998,4.3855000000000004,38,{"$f":"ROUND(IF(事前相談チェックシート!$U$4=mkrain!B$2,mkrain!B41,IF(事前相談チェックシート!$U$4=mkrain!C$2,mkrain!C41,IF(事前相談チェックシート!$U$4=mkrain!D$2,mkrain!D41,mkrain!E41))),1)","v":4.4000000000000004}]
[null,6.9173,4.9634,6.8880999999999997,4.4757999999999996,39,{"$f":"ROUND(IF(事前相談チェックシート!$U$4=mkrain!B$2,mkrain!B42,IF(事前相談チェックシート!$U$4=mkrain!C$2,mkrain!C42,IF(事前相談チェックシート!$U$4=mkrain!D$2,mkrain!D42,mkrain!E42))),1)","v":4.5}]
[null,7.0655000000000001,5.0675999999999997,7.0353000000000003,4.5708000000000002,40,{"$f":"ROUND(IF(事前相談チェックシート!$U$4=mkrain!B$2,mkrain!B43,IF(事前相談チェックシート!$U$4=mkrain!C$2,mkrain!C43,IF(事前相談チェックシート!$U$4=mkrain!D$2,mkrain!D43,mkrain!E43))),1)","v":4.5999999999999996}]
[null,7.2218,5.1773999999999996,7.1905999999999999,4.6710000000000003,41,{"$f":"ROUND(IF(事前相談チェックシート!$U$4=mkrain!B$2,mkrain!B44,IF(事前相談チェックシート!$U$4=mkrain!C$2,mkrain!C44,IF(事前相談チェックシート!$U$4=mkrain!D$2,mkrain!D44,mkrain!E44))),1)","v":4.7}]
[null,7.3868999999999998,5.2933000000000003,7.3547000000000002,4.7766999999999999,42,{"$f":"ROUND(IF(事前相談チェックシート!$U$4=mkrain!B$2,mkrain!B45,IF(事前相談チェックシート!$U$4=mkrain!C$2,mkrain!C45,IF(事前相談チェックシート!$U$4=mkrain!D$2,mkrain!D45,mkrain!E45))),1)","v":4.8}]
[null,7.5616000000000003,5.4157999999999999,7.5282,4.8886000000000003,43,{"$f":"ROUND(IF(事前相談チェックシート!$U$4=mkrain!B$2,mkrain!B46,IF(事前相談チェックシート!$U$4=mkrain!C$2,mkrain!C46,IF(事前相談チェックシート!$U$4=mkrain!D$2,mkrain!D46,mkrain!E46))),1)","v":4.9000000000000004}]
[null,7.7468000000000004,5.5457000000000001,7.7122000000000002,5.0072000000000001,44,{"$f":"ROUND(IF(事前相談チェックシート!$U$4=mkrain!B$2,mkrain!B47,IF(事前相談チェックシート!$U$4=mkrain!C$2,mkrain!C47,IF(事前相談チェックシート!$U$4=mkrain!D$2,mkrain!D47,mkrain!E47))),1)","v":5}]
[null,7.9436,5.6836000000000002,7.9076000000000004,5.1332000000000004,45,{"$f":"ROUND(IF(事前相談チェックシート!$U$4=mkrain!B$2,mkrain!B48,IF(事前相談チェックシート!$U$4=mkrain!C$2,mkrain!C48,IF(事前相談チェックシート!$U$4=mkrain!D$2,mkrain!D48,mkrain!E48))),1)","v":5.0999999999999996}]
[null,8.1531000000000002,5.8303000000000003,8.1158000000000001,5.2674000000000003,46,{"$f":"ROUND(IF(事前相談チェックシート!$U$4=mkrain!B$2,mkrain!B49,IF(事前相談チェックシート!$U$4=mkrain!C$2,mkrain!C49,IF(事前相談チェックシート!$U$4=mkrain!D$2,mkrain!D49,mkrain!E49))),1)","v":5.3}]
[null,8.3766999999999996,5.9867999999999997,8.3378999999999994,5.4104999999999999,47,{"$f":"ROUND(IF(事前相談チェックシート!$U$4=mkrain!B$2,mkrain!B50,IF(事前相談チェックシート!$U$4=mkrain!C$2,mkrain!C50,IF(事前相談チェックシート!$U$4=mkrain!D$2,mkrain!D50,mkrain!E50))),1)","v":5.4}]
[null,8.6159999999999997,6.1542000000000003,8.5755999999999997,5.5636000000000001,48,{"$f":"ROUND(IF(事前相談チェックシート!$U$4=mkrain!B$2,mkrain!B51,IF(事前相談チェックシート!$U$4=mkrain!C$2,mkrain!C51,IF(事前相談チェックシート!$U$4=mkrain!D$2,mkrain!D51,mkrain!E51))),1)","v":5.6}]
[null,8.8727,6.3337000000000003,8.8306000000000004,5.7279,49,{"$f":"ROUND(IF(事前相談チェックシート!$U$4=mkrain!B$2,mkrain!B52,IF(事前相談チェックシート!$U$4=mkrain!C$2,mkrain!C52,IF(事前相談チェックシート!$U$4=mkrain!D$2,mkrain!D52,mkrain!E52))),1)","v":5.7}]
[null,9.1491000000000007,6.5267999999999997,9.1051000000000002,5.9047000000000001,50,{"$f":"ROUND(IF(事前相談チェックシート!$U$4=mkrain!B$2,mkrain!B53,IF(事前相談チェックシート!$U$4=mkrain!C$2,mkrain!C53,IF(事前相談チェックシート!$U$4=mkrain!D$2,mkrain!D53,mkrain!E53))),1)","v":5.9}]
[null,9.4474999999999998,6.7351999999999999,9.4016000000000002,6.0956000000000001,51,{"$f":"ROUND(IF(事前相談チェックシート!$U$4=mkrain!B$2,mkrain!B54,IF(事前相談チェックシート!$U$4=mkrain!C$2,mkrain!C54,IF(事前相談チェックシート!$U$4=mkrain!D$2,mkrain!D54,mkrain!E54))),1)","v":6.1}]
[null,9.7708999999999993,6.9608999999999996,9.7227999999999994,6.3025000000000002,52,{"$f":"ROUND(IF(事前相談チェックシート!$U$4=mkrain!B$2,mkrain!B55,IF(事前相談チェックシート!$U$4=mkrain!C$2,mkrain!C55,IF(事前相談チェックシート!$U$4=mkrain!D$2,mkrain!D55,mkrain!E55))),1)","v":6.3}]
[null,10.1229,7.2064000000000004,10.0725,6.5277000000000003,53,{"$f":"ROUND(IF(事前相談チェックシート!$U$4=mkrain!B$2,mkrain!B56,IF(事前相談チェックシート!$U$4=mkrain!C$2,mkrain!C56,IF(事前相談チェックシート!$U$4=mkrain!D$2,mkrain!D56,mkrain!E56))),1)","v":6.5}]
[null,10.5075,7.4745999999999997,10.454599999999999,6.7736999999999998,54,{"$f":"ROUND(IF(事前相談チェックシート!$U$4=mkrain!B$2,mkrain!B57,IF(事前相談チェックシート!$U$4=mkrain!C$2,mkrain!C57,IF(事前相談チェックシート!$U$4=mkrain!D$2,mkrain!D57,mkrain!E57))),1)","v":6.8}]
[null,10.9299,7.7689000000000004,10.8742,7.0438999999999998,55,{"$f":"ROUND(IF(事前相談チェックシート!$U$4=mkrain!B$2,mkrain!B58,IF(事前相談チェックシート!$U$4=mkrain!C$2,mkrain!C58,IF(事前相談チェックシート!$U$4=mkrain!D$2,mkrain!D58,mkrain!E58))),1)","v":7}]
[null,11.3962,8.0937000000000001,11.3376,7.3422000000000001,56,{"$f":"ROUND(IF(事前相談チェックシート!$U$4=mkrain!B$2,mkrain!B59,IF(事前相談チェックシート!$U$4=mkrain!C$2,mkrain!C59,IF(事前相談チェックシート!$U$4=mkrain!D$2,mkrain!D59,mkrain!E59))),1)","v":7.3}]
[null,11.914300000000001,8.4544999999999995,11.852399999999999,7.6737000000000002,57,{"$f":"ROUND(IF(事前相談チェックシート!$U$4=mkrain!B$2,mkrain!B60,IF(事前相談チェックシート!$U$4=mkrain!C$2,mkrain!C60,IF(事前相談チェックシート!$U$4=mkrain!D$2,mkrain!D60,mkrain!E60))),1)","v":7.7}]
[null,12.4937,8.8577999999999992,12.4283,8.0446000000000009,58,{"$f":"ROUND(IF(事前相談チェックシート!$U$4=mkrain!B$2,mkrain!B61,IF(事前相談チェックシート!$U$4=mkrain!C$2,mkrain!C61,IF(事前相談チェックシート!$U$4=mkrain!D$2,mkrain!D61,mkrain!E61))),1)","v":8}]
[null,13.1469,9.3124000000000002,13.077500000000001,8.4627999999999997,59,{"$f":"ROUND(IF(事前相談チェックシート!$U$4=mkrain!B$2,mkrain!B62,IF(事前相談チェックシート!$U$4=mkrain!C$2,mkrain!C62,IF(事前相談チェックシート!$U$4=mkrain!D$2,mkrain!D62,mkrain!E62))),1)","v":8.5}]
[null,13.889799999999999,9.8294999999999995,13.8162,8.9387000000000008,60,{"$f":"ROUND(IF(事前相談チェックシート!$U$4=mkrain!B$2,mkrain!B63,IF(事前相談チェックシート!$U$4=mkrain!C$2,mkrain!C63,IF(事前相談チェックシート!$U$4=mkrain!D$2,mkrain!D63,mkrain!E63))),1)","v":8.9}]
[null,14.743499999999999,10.4239,14.6653,9.4861000000000004,61,{"$f":"ROUND(IF(事前相談チェックシート!$U$4=mkrain!B$2,mkrain!B64,IF(事前相談チェックシート!$U$4=mkrain!C$2,mkrain!C64,IF(事前相談チェックシート!$U$4=mkrain!D$2,mkrain!D64,mkrain!E64))),1)","v":9.5}]
[null,15.736700000000001,11.1158,15.653600000000001,10.1236,62,{"$f":"ROUND(IF(事前相談チェックシート!$U$4=mkrain!B$2,mkrain!B65,IF(事前相談チェックシート!$U$4=mkrain!C$2,mkrain!C65,IF(事前相談チェックシート!$U$4=mkrain!D$2,mkrain!D65,mkrain!E65))),1)","v":10.1}]
[null,16.909099999999999,11.9335,16.820699999999999,10.8772,63,{"$f":"ROUND(IF(事前相談チェックシート!$U$4=mkrain!B$2,mkrain!B66,IF(事前相談チェックシート!$U$4=mkrain!C$2,mkrain!C66,IF(事前相談チェックシート!$U$4=mkrain!D$2,mkrain!D66,mkrain!E66))),1)","v":10.9}]
[null,18.317499999999999,12.9176,18.223800000000001,11.7844,64,{"$f":"ROUND(IF(事前相談チェックシート!$U$4=mkrain!B$2,mkrain!B67,IF(事前相談チェックシート!$U$4=mkrain!C$2,mkrain!C67,IF(事前相談チェックシート!$U$4=mkrain!D$2,mkrain!D67,mkrain!E67))),1)","v":11.8}]
[null,20.046700000000001,14.129300000000001,19.948,12.901199999999999,65,{"$f":"ROUND(IF(事前相談チェックシート!$U$4=mkrain!B$2,mkrain!B68,IF(事前相談チェックシート!$U$4=mkrain!C$2,mkrain!C68,IF(事前相談チェックシート!$U$4=mkrain!D$2,mkrain!D68,mkrain!E68))),1)","v":12.9}]
[null,22.229099999999999,15.6655,22.126999999999999,14.3164,66,{"$f":"ROUND(IF(事前相談チェックシート!$U$4=mkrain!B$2,mkrain!B69,IF(事前相談チェックシート!$U$4=mkrain!C$2,mkrain!C69,IF(事前相談チェックシート!$U$4=mkrain!D$2,mkrain!D69,mkrain!E69))),1)","v":14.3}]
[null,25.085100000000001,17.690000000000001,24.983499999999999,16.178999999999998,67,{"$f":"ROUND(IF(事前相談チェックシート!$U$4=mkrain!B$2,mkrain!B70,IF(事前相談チェックシート!$U$4=mkrain!C$2,mkrain!C70,IF(事前相談チェックシート!$U$4=mkrain!D$2,mkrain!D70,mkrain!E70))),1)","v":16.2}]
[null,29.012899999999998,20.505800000000001,28.922000000000001,18.762599999999999,68,{"$f":"ROUND(IF(事前相談チェックシート!$U$4=mkrain!B$2,mkrain!B71,IF(事前相談チェックシート!$U$4=mkrain!C$2,mkrain!C71,IF(事前相談チェックシート!$U$4=mkrain!D$2,mkrain!D71,mkrain!E71))),1)","v":18.8}]
[null,34.82,24.7499,34.7682,22.634899999999998,69,{"$f":"ROUND(IF(事前相談チェックシート!$U$4=mkrain!B$2,mkrain!B72,IF(事前相談チェックシート!$U$4=mkrain!C$2,mkrain!C72,IF(事前相談チェックシート!$U$4=mkrain!D$2,mkrain!D72,mkrain!E72))),1)","v":22.6}]
[null,44.465800000000002,32.059399999999997,44.544400000000003,29.223600000000001,70,{"$f":"ROUND(IF(事前相談チェックシート!$U$4=mkrain!B$2,mkrain!B73,IF(事前相談チェックシート!$U$4=mkrain!C$2,mkrain!C73,IF(事前相談チェックシート!$U$4=mkrain!D$2,mkrain!D73,mkrain!E73))),1)","v":29.2}]
[null,64.504400000000004,48.560499999999998,65.132000000000005,43.628399999999999,71,{"$f":"ROUND(IF(事前相談チェックシート!$U$4=mkrain!B$2,mkrain!B74,IF(事前相談チェックシート!$U$4=mkrain!C$2,mkrain!C74,IF(事前相談チェックシート!$U$4=mkrain!D$2,mkrain!D74,mkrain!E74))),1)","v":43.6}]
[null,155.57599999999999,172.3177,164.08529999999999,127.002,72,{"$f":"ROUND(IF(事前相談チェックシート!$U$4=mkrain!B$2,mkrain!B75,IF(事前相談チェックシート!$U$4=mkrain!C$2,mkrain!C75,IF(事前相談チェックシート!$U$4=mkrain!D$2,mkrain!D75,mkrain!E75))),1)","v":127}]
[null,86.984200000000001,69.827200000000005,88.694000000000003,61.113900000000001,73,{"$f":"ROUND(IF(事前相談チェックシート!$U$4=mkrain!B$2,mkrain!B76,IF(事前相談チェックシート!$U$4=mkrain!C$2,mkrain!C76,IF(事前相談チェックシート!$U$4=mkrain!D$2,mkrain!D76,mkrain!E76))),1)","v":61.1}]
[null,52.301299999999998,38.279200000000003,52.548999999999999,34.7346,74,{"$f":"ROUND(IF(事前相談チェックシート!$U$4=mkrain!B$2,mkrain!B77,IF(事前相談チェックシート!$U$4=mkrain!C$2,mkrain!C77,IF(事前相談チェックシート!$U$4=mkrain!D$2,mkrain!D77,mkrain!E77))),1)","v":34.700000000000003}]
[null,38.9467,27.834099999999999,38.940399999999997,25.428599999999999,75,{"$f":"ROUND(IF(事前相談チェックシート!$U$4=mkrain!B$2,mkrain!B78,IF(事前相談チェックシート!$U$4=mkrain!C$2,mkrain!C78,IF(事前相談チェックシート!$U$4=mkrain!D$2,mkrain!D78,mkrain!E78))),1)","v":25.4}]
[null,31.602,22.385200000000001,31.524999999999999,20.480899999999998,76,{"$f":"ROUND(IF(事前相談チェックシート!$U$4=mkrain!B$2,mkrain!B79,IF(事前相談チェックシート!$U$4=mkrain!C$2,mkrain!C79,IF(事前相談チェックシート!$U$4=mkrain!D$2,mkrain!D79,mkrain!E79))),1)","v":20.5}]
[null,26.878699999999998,18.9709,26.7805,17.355399999999999,77,{"$f":"ROUND(IF(事前相談チェックシート!$U$4=mkrain!B$2,mkrain!B80,IF(事前相談チェックシート!$U$4=mkrain!C$2,mkrain!C80,IF(事前相談チェックシート!$U$4=mkrain!D$2,mkrain!D80,mkrain!E80))),1)","v":17.399999999999999}]
[null,23.553799999999999,16.6023,23.4512,15.178800000000001,78,{"$f":"ROUND(IF(事前相談チェックシート!$U$4=mkrain!B$2,mkrain!B81,IF(事前相談チェックシート!$U$4=mkrain!C$2,mkrain!C81,IF(事前相談チェックシート!$U$4=mkrain!D$2,mkrain!D81,mkrain!E81))),1)","v":15.2}]
[null,21.0702,14.848699999999999,20.9695,13.5641,79,{"$f":"ROUND(IF(事前相談チェックシート!$U$4=mkrain!B$2,mkrain!B82,IF(事前相談チェックシート!$U$4=mkrain!C$2,mkrain!C82,IF(事前相談チェックシート!$U$4=mkrain!D$2,mkrain!D82,mkrain!E82))),1)","v":13.6}]
[null,19.135100000000001,13.49,19.038900000000002,12.311999999999999,80,{"$f":"ROUND(IF(事前相談チェックシート!$U$4=mkrain!B$2,mkrain!B83,IF(事前相談チェックシート!$U$4=mkrain!C$2,mkrain!C83,IF(事前相談チェックシート!$U$4=mkrain!D$2,mkrain!D83,mkrain!E83))),1)","v":12.3}]
[null,17.5793,12.4015,17.488299999999999,11.3086,81,{"$f":"ROUND(IF(事前相談チェックシート!$U$4=mkrain!B$2,mkrain!B84,IF(事前相談チェックシート!$U$4=mkrain!C$2,mkrain!C84,IF(事前相談チェックシート!$U$4=mkrain!D$2,mkrain!D84,mkrain!E84))),1)","v":11.3}]
[null,16.297499999999999,11.5067,16.2117,10.4839,82,{"$f":"ROUND(IF(事前相談チェックシート!$U$4=mkrain!B$2,mkrain!B85,IF(事前相談チェックシート!$U$4=mkrain!C$2,mkrain!C85,IF(事前相談チェックシート!$U$4=mkrain!D$2,mkrain!D85,mkrain!E85))),1)","v":10.5}]
[null,15.220499999999999,10.7561,15.139900000000001,9.7921999999999993,83,{"$f":"ROUND(IF(事前相談チェックシート!$U$4=mkrain!B$2,mkrain!B86,IF(事前相談チェックシート!$U$4=mkrain!C$2,mkrain!C86,IF(事前相談チェックシート!$U$4=mkrain!D$2,mkrain!D86,mkrain!E86))),1)","v":9.8000000000000007}]
[null,14.3012,10.1159,14.2254,9.2025000000000006,84,{"$f":"ROUND(IF(事前相談チェックシート!$U$4=mkrain!B$2,mkrain!B87,IF(事前相談チェックシート!$U$4=mkrain!C$2,mkrain!C87,IF(事前相談チェックシート!$U$4=mkrain!D$2,mkrain!D87,mkrain!E87))),1)","v":9.1999999999999993}]
[null,13.5059,9.5623000000000005,13.4345,8.6928000000000001,85,{"$f":"ROUND(IF(事前相談チェックシート!$U$4=mkrain!B$2,mkrain!B88,IF(事前相談チェックシート!$U$4=mkrain!C$2,mkrain!C88,IF(事前相談チェックシート!$U$4=mkrain!D$2,mkrain!D88,mkrain!E88))),1)","v":8.6999999999999993}]
[null,12.8102,9.0780999999999992,12.742800000000001,8.2471999999999994,86,{"$f":"ROUND(IF(事前相談チェックシート!$U$4=mkrain!B$2,mkrain!B89,IF(事前相談チェックシート!$U$4=mkrain!C$2,mkrain!C89,IF(事前相談チェックシート!$U$4=mkrain!D$2,mkrain!D89,mkrain!E89))),1)","v":8.1999999999999993}]
[null,12.195600000000001,8.6502999999999997,12.132,7.8537999999999997,87,{"$f":"ROUND(IF(事前相談チェックシート!$U$4=mkrain!B$2,mkrain!B90,IF(事前相談チェックシート!$U$4=mkrain!C$2,mkrain!C90,IF(事前相談チェックシート!$U$4=mkrain!D$2,mkrain!D90,mkrain!E90))),1)","v":7.9}]
[null,11.648199999999999,8.2691999999999997,11.587999999999999,7.5034999999999998,88,{"$f":"ROUND(IF(事前相談チェックシート!$U$4=mkrain!B$2,mkrain!B91,IF(事前相談チェックシート!$U$4=mkrain!C$2,mkrain!C91,IF(事前相談チェックシート!$U$4=mkrain!D$2,mkrain!D91,mkrain!E91))),1)","v":7.5}]
[null,11.1571,7.9272,11.1,7.1891999999999996,89,{"$f":"ROUND(IF(事前相談チェックシート!$U$4=mkrain!B$2,mkrain!B92,IF(事前相談チェックシート!$U$4=mkrain!C$2,mkrain!C92,IF(事前相談チェックシート!$U$4=mkrain!D$2,mkrain!D92,mkrain!E92))),1)","v":7.2}]
[null,10.7136,7.6181999999999999,10.6593,6.9055,90,{"$f":"ROUND(IF(事前相談チェックシート!$U$4=mkrain!B$2,mkrain!B93,IF(事前相談チェックシート!$U$4=mkrain!C$2,mkrain!C93,IF(事前相談チェックシート!$U$4=mkrain!D$2,mkrain!D93,mkrain!E93))),1)","v":6.9}]
[null,10.3108,7.3375000000000004,10.2592,6.6478999999999999,91,{"$f":"ROUND(IF(事前相談チェックシート!$U$4=mkrain!B$2,mkrain!B94,IF(事前相談チェックシート!$U$4=mkrain!C$2,mkrain!C94,IF(事前相談チェックシート!$U$4=mkrain!D$2,mkrain!D94,mkrain!E94))),1)","v":6.6}]
[null,9.9430999999999994,7.0810000000000004,9.8939000000000004,6.4127000000000001,92,{"$f":"ROUND(IF(事前相談チェックシート!$U$4=mkrain!B$2,mkrain!B95,IF(事前相談チェックシート!$U$4=mkrain!C$2,mkrain!C95,IF(事前相談チェックシート!$U$4=mkrain!D$2,mkrain!D95,mkrain!E95))),1)","v":6.4}]
[null,9.6059000000000001,6.8457999999999997,9.5588999999999995,6.1970000000000001,93,{"$f":"ROUND(IF(事前相談チェックシート!$U$4=mkrain!B$2,mkrain!B96,IF(事前相談チェックシート!$U$4=mkrain!C$2,mkrain!C96,IF(事前相談チェックシート!$U$4=mkrain!D$2,mkrain!D96,mkrain!E96))),1)","v":6.2}]
[null,9.2954000000000008,6.6289999999999996,9.2504000000000008,5.9983000000000004,94,{"$f":"ROUND(IF(事前相談チェックシート!$U$4=mkrain!B$2,mkrain!B97,IF(事前相談チェックシート!$U$4=mkrain!C$2,mkrain!C97,IF(事前相談チェックシート!$U$4=mkrain!D$2,mkrain!D97,mkrain!E97))),1)","v":6}]
[null,9.0083000000000002,6.4284999999999997,8.9652999999999992,5.8147000000000002,95,{"$f":"ROUND(IF(事前相談チェックシート!$U$4=mkrain!B$2,mkrain!B98,IF(事前相談チェックシート!$U$4=mkrain!C$2,mkrain!C98,IF(事前相談チェックシート!$U$4=mkrain!D$2,mkrain!D98,mkrain!E98))),1)","v":5.8}]
[null,8.7420000000000009,6.2423000000000002,8.7007999999999992,5.6443000000000003,96,{"$f":"ROUND(IF(事前相談チェックシート!$U$4=mkrain!B$2,mkrain!B99,IF(事前相談チェックシート!$U$4=mkrain!C$2,mkrain!C99,IF(事前相談チェックシート!$U$4=mkrain!D$2,mkrain!D99,mkrain!E99))),1)","v":5.6}]
[null,8.4943000000000008,6.0690999999999997,8.4547000000000008,5.4856999999999996,97,{"$f":"ROUND(IF(事前相談チェックシート!$U$4=mkrain!B$2,mkrain!B100,IF(事前相談チェックシート!$U$4=mkrain!C$2,mkrain!C100,IF(事前相談チェックシート!$U$4=mkrain!D$2,mkrain!D100,mkrain!E100))),1)","v":5.5}]
[null,8.2629999999999999,5.9073000000000002,8.2249999999999996,5.3376999999999999,98,{"$f":"ROUND(IF(事前相談チェックシート!$U$4=mkrain!B$2,mkrain!B101,IF(事前相談チェックシート!$U$4=mkrain!C$2,mkrain!C101,IF(事前相談チェックシート!$U$4=mkrain!D$2,mkrain!D101,mkrain!E101))),1)","v":5.3}]
[null,8.0466999999999995,5.7557999999999998,8.01,5.1992000000000003,99,{"$f":"ROUND(IF(事前相談チェックシート!$U$4=mkrain!B$2,mkrain!B102,IF(事前相談チェックシート!$U$4=mkrain!C$2,mkrain!C102,IF(事前相談チェックシート!$U$4=mkrain!D$2,mkrain!D102,mkrain!E102))),1)","v":5.2}]
[null,7.8437000000000001,5.6135999999999999,7.8083999999999998,5.0693000000000001,100,{"$f":"ROUND(IF(事前相談チェックシート!$U$4=mkrain!B$2,mkrain!B103,IF(事前相談チェックシート!$U$4=mkrain!C$2,mkrain!C103,IF(事前相談チェックシート!$U$4=mkrain!D$2,mkrain!D103,mkrain!E103))),1)","v":5.0999999999999996}]
[null,7.6528,5.4798,7.6188000000000002,4.9470999999999998,101,{"$f":"ROUND(IF(事前相談チェックシート!$U$4=mkrain!B$2,mkrain!B104,IF(事前相談チェックシート!$U$4=mkrain!C$2,mkrain!C104,IF(事前相談チェックシート!$U$4=mkrain!D$2,mkrain!D104,mkrain!E104))),1)","v":4.9000000000000004}]
[null,7.4729999999999999,5.3536999999999999,7.4401999999999999,4.8319000000000001,102,{"$f":"ROUND(IF(事前相談チェックシート!$U$4=mkrain!B$2,mkrain!B105,IF(事前相談チェックシート!$U$4=mkrain!C$2,mkrain!C105,IF(事前相談チェックシート!$U$4=mkrain!D$2,mkrain!D105,mkrain!E105))),1)","v":4.8}]
[null,7.3032000000000004,5.2344999999999997,7.2714999999999996,4.7230999999999996,103,{"$f":"ROUND(IF(事前相談チェックシート!$U$4=mkrain!B$2,mkrain!B106,IF(事前相談チェックシート!$U$4=mkrain!C$2,mkrain!C106,IF(事前相談チェックシート!$U$4=mkrain!D$2,mkrain!D106,mkrain!E106))),1)","v":4.7}]
[null,7.1425999999999998,5.1218000000000004,7.1119000000000003,4.6201999999999996,104,{"$f":"ROUND(IF(事前相談チェックシート!$U$4=mkrain!B$2,mkrain!B107,IF(事前相談チェックシート!$U$4=mkrain!C$2,mkrain!C107,IF(事前相談チェックシート!$U$4=mkrain!D$2,mkrain!D107,mkrain!E107))),1)","v":4.5999999999999996}]
[null,6.9904000000000002,5.0148999999999999,6.9607000000000001,4.5227000000000004,105,{"$f":"ROUND(IF(事前相談チェックシート!$U$4=mkrain!B$2,mkrain!B108,IF(事前相談チェックシート!$U$4=mkrain!C$2,mkrain!C108,IF(事前相談チェックシート!$U$4=mkrain!D$2,mkrain!D108,mkrain!E108))),1)","v":4.5}]
[null,6.8460000000000001,4.9132999999999996,6.8171999999999997,4.4301000000000004,106,{"$f":"ROUND(IF(事前相談チェックシート!$U$4=mkrain!B$2,mkrain!B109,IF(事前相談チェックシート!$U$4=mkrain!C$2,mkrain!C109,IF(事前相談チェックシート!$U$4=mkrain!D$2,mkrain!D109,mkrain!E109))),1)","v":4.4000000000000004}]
[null,6.7085999999999997,4.8167999999999997,6.6807999999999996,4.3421000000000003,107,{"$f":"ROUND(IF(事前相談チェックシート!$U$4=mkrain!B$2,mkrain!B110,IF(事前相談チェックシート!$U$4=mkrain!C$2,mkrain!C110,IF(事前相談チェックシート!$U$4=mkrain!D$2,mkrain!D110,mkrain!E110))),1)","v":4.3}]
[null,6.5778999999999996,4.7248000000000001,6.5509000000000004,4.2583000000000002,108,{"$f":"ROUND(IF(事前相談チェックシート!$U$4=mkrain!B$2,mkrain!B111,IF(事前相談チェックシート!$U$4=mkrain!C$2,mkrain!C111,IF(事前相談チェックシート!$U$4=mkrain!D$2,mkrain!D111,mkrain!E111))),1)","v":4.3}]
[null,6.4532999999999996,4.6369999999999996,6.4269999999999996,4.1783000000000001,109,{"$f":"ROUND(IF(事前相談チェックシート!$U$4=mkrain!B$2,mkrain!B112,IF(事前相談チェックシート!$U$4=mkrain!C$2,mkrain!C112,IF(事前相談チェックシート!$U$4=mkrain!D$2,mkrain!D112,mkrain!E112))),1)","v":4.2}]
[null,6.3342999999999998,4.5532000000000004,6.3087999999999997,4.1020000000000003,110,{"$f":"ROUND(IF(事前相談チェックシート!$U$4=mkrain!B$2,mkrain!B113,IF(事前相談チェックシート!$U$4=mkrain!C$2,mkrain!C113,IF(事前相談チェックシート!$U$4=mkrain!D$2,mkrain!D113,mkrain!E113))),1)","v":4.0999999999999996}]
[null,6.2206000000000001,4.4730999999999996,6.1958000000000002,4.0290999999999997,111,{"$f":"ROUND(IF(事前相談チェックシート!$U$4=mkrain!B$2,mkrain!B114,IF(事前相談チェックシート!$U$4=mkrain!C$2,mkrain!C114,IF(事前相談チェックシート!$U$4=mkrain!D$2,mkrain!D114,mkrain!E114))),1)","v":4}]
[null,6.1117999999999997,4.3963999999999999,6.0876999999999999,3.9592000000000001,112,{"$f":"ROUND(IF(事前相談チェックシート!$U$4=mkrain!B$2,mkrain!B115,IF(事前相談チェックシート!$U$4=mkrain!C$2,mkrain!C115,IF(事前相談チェックシート!$U$4=mkrain!D$2,mkrain!D115,mkrain!E115))),1)","v":4}]
[null,6.0075000000000003,4.3228999999999997,5.9840999999999998,3.8923000000000001,113,{"$f":"ROUND(IF(事前相談チェックシート!$U$4=mkrain!B$2,mkrain!B116,IF(事前相談チェックシート!$U$4=mkrain!C$2,mkrain!C116,IF(事前相談チェックシート!$U$4=mkrain!D$2,mkrain!D116,mkrain!E116))),1)","v":3.9}]
[null,5.9076000000000004,4.2523999999999997,5.8848000000000003,3.8281999999999998,114,{"$f":"ROUND(IF(事前相談チェックシート!$U$4=mkrain!B$2,mkrain!B117,IF(事前相談チェックシート!$U$4=mkrain!C$2,mkrain!C117,IF(事前相談チェックシート!$U$4=mkrain!D$2,mkrain!D117,mkrain!E117))),1)","v":3.8}]
[null,5.8116000000000003,4.1845999999999997,5.7893999999999997,3.7665999999999999,115,{"$f":"ROUND(IF(事前相談チェックシート!$U$4=mkrain!B$2,mkrain!B118,IF(事前相談チェックシート!$U$4=mkrain!C$2,mkrain!C118,IF(事前相談チェックシート!$U$4=mkrain!D$2,mkrain!D118,mkrain!E118))),1)","v":3.8}]
[null,5.7194000000000003,4.1195000000000004,5.6978,3.7073999999999998,116,{"$f":"ROUND(IF(事前相談チェックシート!$U$4=mkrain!B$2,mkrain!B119,IF(事前相談チェックシート!$U$4=mkrain!C$2,mkrain!C119,IF(事前相談チェックシート!$U$4=mkrain!D$2,mkrain!D119,mkrain!E119))),1)","v":3.7}]
[null,5.6307999999999998,4.0568999999999997,5.6096000000000004,3.6503999999999999,117,{"$f":"ROUND(IF(事前相談チェックシート!$U$4=mkrain!B$2,mkrain!B120,IF(事前相談チェックシート!$U$4=mkrain!C$2,mkrain!C120,IF(事前相談チェックシート!$U$4=mkrain!D$2,mkrain!D120,mkrain!E120))),1)","v":3.7}]
[null,5.5453999999999999,3.9965999999999999,5.5247999999999999,3.5956000000000001,118,{"$f":"ROUND(IF(事前相談チェックシート!$U$4=mkrain!B$2,mkrain!B121,IF(事前相談チェックシート!$U$4=mkrain!C$2,mkrain!C121,IF(事前相談チェックシート!$U$4=mkrain!D$2,mkrain!D121,mkrain!E121))),1)","v":3.6}]
[null,5.4631999999999996,3.9384000000000001,5.4431000000000003,3.5428000000000002,119,{"$f":"ROUND(IF(事前相談チェックシート!$U$4=mkrain!B$2,mkrain!B122,IF(事前相談チェックシート!$U$4=mkrain!C$2,mkrain!C122,IF(事前相談チェックシート!$U$4=mkrain!D$2,mkrain!D122,mkrain!E122))),1)","v":3.5}]
[null,5.3838999999999997,3.8822999999999999,5.3642000000000003,3.4918,120,{"$f":"ROUND(IF(事前相談チェックシート!$U$4=mkrain!B$2,mkrain!B123,IF(事前相談チェックシート!$U$4=mkrain!C$2,mkrain!C123,IF(事前相談チェックシート!$U$4=mkrain!D$2,mkrain!D123,mkrain!E123))),1)","v":3.5}]
[null,5.3074000000000003,3.8281999999999998,5.2881999999999998,3.4426000000000001,121,{"$f":"ROUND(IF(事前相談チェックシート!$U$4=mkrain!B$2,mkrain!B124,IF(事前相談チェックシート!$U$4=mkrain!C$2,mkrain!C124,IF(事前相談チェックシート!$U$4=mkrain!D$2,mkrain!D124,mkrain!E124))),1)","v":3.4}]
[null,5.2335000000000003,3.7759,5.2148000000000003,3.3952,122,{"$f":"ROUND(IF(事前相談チェックシート!$U$4=mkrain!B$2,mkrain!B125,IF(事前相談チェックシート!$U$4=mkrain!C$2,mkrain!C125,IF(事前相談チェックシート!$U$4=mkrain!D$2,mkrain!D125,mkrain!E125))),1)","v":3.4}]
[null,5.1620999999999997,3.7254,5.1437999999999997,3.3492999999999999,123,{"$f":"ROUND(IF(事前相談チェックシート!$U$4=mkrain!B$2,mkrain!B126,IF(事前相談チェックシート!$U$4=mkrain!C$2,mkrain!C126,IF(事前相談チェックシート!$U$4=mkrain!D$2,mkrain!D126,mkrain!E126))),1)","v":3.3}]
[null,5.0930999999999997,3.6764999999999999,5.0751999999999997,3.3048999999999999,124,{"$f":"ROUND(IF(事前相談チェックシート!$U$4=mkrain!B$2,mkrain!B127,IF(事前相談チェックシート!$U$4=mkrain!C$2,mkrain!C127,IF(事前相談チェックシート!$U$4=mkrain!D$2,mkrain!D127,mkrain!E127))),1)","v":3.3}]
[null,5.0263,3.6291000000000002,5.0087999999999999,3.2618999999999998,125,{"$f":"ROUND(IF(事前相談チェックシート!$U$4=mkrain!B$2,mkrain!B128,IF(事前相談チェックシート!$U$4=mkrain!C$2,mkrain!C128,IF(事前相談チェックシート!$U$4=mkrain!D$2,mkrain!D128,mkrain!E128))),1)","v":3.3}]
[null,4.9617000000000004,3.5832999999999999,4.9444999999999997,3.2202999999999999,126,{"$f":"ROUND(IF(事前相談チェックシート!$U$4=mkrain!B$2,mkrain!B129,IF(事前相談チェックシート!$U$4=mkrain!C$2,mkrain!C129,IF(事前相談チェックシート!$U$4=mkrain!D$2,mkrain!D129,mkrain!E129))),1)","v":3.2}]
[null,4.899,3.5388999999999999,4.8822000000000001,3.18,127,{"$f":"ROUND(IF(事前相談チェックシート!$U$4=mkrain!B$2,mkrain!B130,IF(事前相談チェックシート!$U$4=mkrain!C$2,mkrain!C130,IF(事前相談チェックシート!$U$4=mkrain!D$2,mkrain!D130,mkrain!E130))),1)","v":3.2}]
[null,4.8383000000000003,3.4958,4.8217999999999996,3.141,128,{"$f":"ROUND(IF(事前相談チェックシート!$U$4=mkrain!B$2,mkrain!B131,IF(事前相談チェックシート!$U$4=mkrain!C$2,mkrain!C131,IF(事前相談チェックシート!$U$4=mkrain!D$2,mkrain!D131,mkrain!E131))),1)","v":3.1}]
[null,4.7793999999999999,3.4540000000000002,4.7632000000000003,3.1031,129,{"$f":"ROUND(IF(事前相談チェックシート!$U$4=mkrain!B$2,mkrain!B132,IF(事前相談チェックシート!$U$4=mkrain!C$2,mkrain!C132,IF(事前相談チェックシート!$U$4=mkrain!D$2,mkrain!D132,mkrain!E132))),1)","v":3.1}]
[null,4.7222,3.4134000000000002,4.7064000000000004,3.0663,130,{"$f":"ROUND(IF(事前相談チェックシート!$U$4=mkrain!B$2,mkrain!B133,IF(事前相談チェックシート!$U$4=mkrain!C$2,mkrain!C133,IF(事前相談チェックシート!$U$4=mkrain!D$2,mkrain!D133,mkrain!E133))),1)","v":3.1}]
[null,4.6666999999999996,3.3740000000000001,4.6512000000000002,3.0306000000000002,131,{"$f":"ROUND(IF(事前相談チェックシート!$U$4=mkrain!B$2,mkrain!B134,IF(事前相談チェックシート!$U$4=mkrain!C$2,mkrain!C134,IF(事前相談チェックシート!$U$4=mkrain!D$2,mkrain!D134,mkrain!E134))),1)","v":3}]
[null,4.6128,3.3357000000000001,4.5975999999999999,2.9958,132,{"$f":"ROUND(IF(事前相談チェックシート!$U$4=mkrain!B$2,mkrain!B135,IF(事前相談チェックシート!$U$4=mkrain!C$2,mkrain!C135,IF(事前相談チェックシート!$U$4=mkrain!D$2,mkrain!D135,mkrain!E135))),1)","v":3}]
[null,4.5603999999999996,3.2985000000000002,4.5454999999999997,2.9621,133,{"$f":"ROUND(IF(事前相談チェックシート!$U$4=mkrain!B$2,mkrain!B136,IF(事前相談チェックシート!$U$4=mkrain!C$2,mkrain!C136,IF(事前相談チェックシート!$U$4=mkrain!D$2,mkrain!D136,mkrain!E136))),1)","v":3}]
[null,4.5095000000000001,3.2623000000000002,4.4947999999999997,2.9293,134,{"$f":"ROUND(IF(事前相談チェックシート!$U$4=mkrain!B$2,mkrain!B137,IF(事前相談チェックシート!$U$4=mkrain!C$2,mkrain!C137,IF(事前相談チェックシート!$U$4=mkrain!D$2,mkrain!D137,mkrain!E137))),1)","v":2.9}]
[null,4.4599000000000002,3.2271000000000001,4.4455,2.8974000000000002,135,{"$f":"ROUND(IF(事前相談チェックシート!$U$4=mkrain!B$2,mkrain!B138,IF(事前相談チェックシート!$U$4=mkrain!C$2,mkrain!C138,IF(事前相談チェックシート!$U$4=mkrain!D$2,mkrain!D138,mkrain!E138))),1)","v":2.9}]
[null,4.4116999999999997,3.1928000000000001,4.3975999999999997,2.8662999999999998,136,{"$f":"ROUND(IF(事前相談チェックシート!$U$4=mkrain!B$2,mkrain!B139,IF(事前相談チェックシート!$U$4=mkrain!C$2,mkrain!C139,IF(事前相談チェックシート!$U$4=mkrain!D$2,mkrain!D139,mkrain!E139))),1)","v":2.9}]
[null,4.3647,3.1594000000000002,4.3507999999999996,2.8361000000000001,137,{"$f":"ROUND(IF(事前相談チェックシート!$U$4=mkrain!B$2,mkrain!B140,IF(事前相談チェックシート!$U$4=mkrain!C$2,mkrain!C140,IF(事前相談チェックシート!$U$4=mkrain!D$2,mkrain!D140,mkrain!E140))),1)","v":2.8}]
[null,4.319,3.1267999999999998,4.3052999999999999,2.8066,138,{"$f":"ROUND(IF(事前相談チェックシート!$U$4=mkrain!B$2,mkrain!B141,IF(事前相談チェックシート!$U$4=mkrain!C$2,mkrain!C141,IF(事前相談チェックシート!$U$4=mkrain!D$2,mkrain!D141,mkrain!E141))),1)","v":2.8}]
[null,4.2744,3.0951,4.2610000000000001,2.7778999999999998,139,{"$f":"ROUND(IF(事前相談チェックシート!$U$4=mkrain!B$2,mkrain!B142,IF(事前相談チェックシート!$U$4=mkrain!C$2,mkrain!C142,IF(事前相談チェックシート!$U$4=mkrain!D$2,mkrain!D142,mkrain!E142))),1)","v":2.8}]
[null,4.2309000000000001,3.0642,4.2178000000000004,2.7498999999999998,140,{"$f":"ROUND(IF(事前相談チェックシート!$U$4=mkrain!B$2,mkrain!B143,IF(事前相談チェックシート!$U$4=mkrain!C$2,mkrain!C143,IF(事前相談チェックシート!$U$4=mkrain!D$2,mkrain!D143,mkrain!E143))),1)","v":2.7}]
[null,4.1885000000000003,3.0339999999999998,4.1756000000000002,2.7225000000000001,141,{"$f":"ROUND(IF(事前相談チェックシート!$U$4=mkrain!B$2,mkrain!B144,IF(事前相談チェックシート!$U$4=mkrain!C$2,mkrain!C144,IF(事前相談チェックシート!$U$4=mkrain!D$2,mkrain!D144,mkrain!E144))),1)","v":2.7}]
[null,4.1471999999999998,3.0045000000000002,4.1345000000000001,2.6959,142,{"$f":"ROUND(IF(事前相談チェックシート!$U$4=mkrain!B$2,mkrain!B145,IF(事前相談チェックシート!$U$4=mkrain!C$2,mkrain!C145,IF(事前相談チェックシート!$U$4=mkrain!D$2,mkrain!D145,mkrain!E145))),1)","v":2.7}]
[null,4.1069000000000004,2.9758,4.0944000000000003,2.6699000000000002,143,{"$f":"ROUND(IF(事前相談チェックシート!$U$4=mkrain!B$2,mkrain!B146,IF(事前相談チェックシート!$U$4=mkrain!C$2,mkrain!C146,IF(事前相談チェックシート!$U$4=mkrain!D$2,mkrain!D146,mkrain!E146))),1)","v":2.7}]
[null,4.0674999999999999,2.9477000000000002,4.0552000000000001,2.6444999999999999,144,{"$f":"ROUND(IF(事前相談チェックシート!$U$4=mkrain!B$2,mkrain!B147,IF(事前相談チェックシート!$U$4=mkrain!C$2,mkrain!C147,IF(事前相談チェックシート!$U$4=mkrain!D$2,mkrain!D147,mkrain!E147))),1)","v":2.6}]

{"sheet":"runoff","index":14,"n_rows":148,"n_cols":3,"rows_kept":148,"cut":false,"hidden":true,"merged":[]}
[null,{"$f":"MAX(B4:B148)","v":{"$error":"#DIV/0!"}},{"$f":"MAX(C4:C148)","v":{"$error":"#DIV/0!"}}]
[null,"行為前","行為後"]
[null,"流出量","流出量"]
["00:00:00",0,0]
["00:10:00",{"$f":"ROUND(1/360*事前相談チェックシート!$R$10*mkrain!$G4*事前相談チェックシート!$L$28,5)","v":{"$error":"#DIV/0!"}},{"$f":"ROUND(1/360*事前相談チェックシート!$R$12*mkrain!$G4*事前相談チェックシート!$M$28,5)","v":{"$error":"#DIV/0!"}}]
["00:20:00",{"$f":"ROUND(1/360*事前相談チェックシート!$R$10*mkrain!$G5*事前相談チェックシート!$L$28,5)","v":{"$error":"#DIV/0!"}},{"$f":"ROUND(1/360*事前相談チェックシート!$R$12*mkrain!$G5*事前相談チェックシート!$M$28,5)","v":{"$error":"#DIV/0!"}}]
["00:30:00",{"$f":"ROUND(1/360*事前相談チェックシート!$R$10*mkrain!$G6*事前相談チェックシート!$L$28,5)","v":{"$error":"#DIV/0!"}},{"$f":"ROUND(1/360*事前相談チェックシート!$R$12*mkrain!$G6*事前相談チェックシート!$M$28,5)","v":{"$error":"#DIV/0!"}}]
["00:40:00",{"$f":"ROUND(1/360*事前相談チェックシート!$R$10*mkrain!$G7*事前相談チェックシート!$L$28,5)","v":{"$error":"#DIV/0!"}},{"$f":"ROUND(1/360*事前相談チェックシート!$R$12*mkrain!$G7*事前相談チェックシート!$M$28,5)","v":{"$error":"#DIV/0!"}}]
["00:50:00",{"$f":"ROUND(1/360*事前相談チェックシート!$R$10*mkrain!$G8*事前相談チェックシート!$L$28,5)","v":{"$error":"#DIV/0!"}},{"$f":"ROUND(1/360*事前相談チェックシート!$R$12*mkrain!$G8*事前相談チェックシート!$M$28,5)","v":{"$error":"#DIV/0!"}}]
["01:00:00",{"$f":"ROUND(1/360*事前相談チェックシート!$R$10*mkrain!$G9*事前相談チェックシート!$L$28,5)","v":{"$error":"#DIV/0!"}},{"$f":"ROUND(1/360*事前相談チェックシート!$R$12*mkrain!$G9*事前相談チェックシート!$M$28,5)","v":{"$error":"#DIV/0!"}}]
["01:10:00",{"$f":"ROUND(1/360*事前相談チェックシート!$R$10*mkrain!$G10*事前相談チェックシート!$L$28,5)","v":{"$error":"#DIV/0!"}},{"$f":"ROUND(1/360*事前相談チェックシート!$R$12*mkrain!$G10*事前相談チェックシート!$M$28,5)","v":{"$error":"#DIV/0!"}}]
["01:20:00",{"$f":"ROUND(1/360*事前相談チェックシート!$R$10*mkrain!$G11*事前相談チェックシート!$L$28,5)","v":{"$error":"#DIV/0!"}},{"$f":"ROUND(1/360*事前相談チェックシート!$R$12*mkrain!$G11*事前相談チェックシート!$M$28,5)","v":{"$error":"#DIV/0!"}}]
["01:30:00",{"$f":"ROUND(1/360*事前相談チェックシート!$R$10*mkrain!$G12*事前相談チェックシート!$L$28,5)","v":{"$error":"#DIV/0!"}},{"$f":"ROUND(1/360*事前相談チェックシート!$R$12*mkrain!$G12*事前相談チェックシート!$M$28,5)","v":{"$error":"#DIV/0!"}}]
["01:40:00",{"$f":"ROUND(1/360*事前相談チェックシート!$R$10*mkrain!$G13*事前相談チェックシート!$L$28,5)","v":{"$error":"#DIV/0!"}},{"$f":"ROUND(1/360*事前相談チェックシート!$R$12*mkrain!$G13*事前相談チェックシート!$M$28,5)","v":{"$error":"#DIV/0!"}}]
["01:50:00",{"$f":"ROUND(1/360*事前相談チェックシート!$R$10*mkrain!$G14*事前相談チェックシート!$L$28,5)","v":{"$error":"#DIV/0!"}},{"$f":"ROUND(1/360*事前相談チェックシート!$R$12*mkrain!$G14*事前相談チェックシート!$M$28,5)","v":{"$error":"#DIV/0!"}}]
["02:00:00",{"$f":"ROUND(1/360*事前相談チェックシート!$R$10*mkrain!$G15*事前相談チェックシート!$L$28,5)","v":{"$error":"#DIV/0!"}},{"$f":"ROUND(1/360*事前相談チェックシート!$R$12*mkrain!$G15*事前相談チェックシート!$M$28,5)","v":{"$error":"#DIV/0!"}}]
["02:10:00",{"$f":"ROUND(1/360*事前相談チェックシート!$R$10*mkrain!$G16*事前相談チェックシート!$L$28,5)","v":{"$error":"#DIV/0!"}},{"$f":"ROUND(1/360*事前相談チェックシート!$R$12*mkrain!$G16*事前相談チェックシート!$M$28,5)","v":{"$error":"#DIV/0!"}}]
["02:20:00",{"$f":"ROUND(1/360*事前相談チェックシート!$R$10*mkrain!$G17*事前相談チェックシート!$L$28,5)","v":{"$error":"#DIV/0!"}},{"$f":"ROUND(1/360*事前相談チェックシート!$R$12*mkrain!$G17*事前相談チェックシート!$M$28,5)","v":{"$error":"#DIV/0!"}}]
["02:30:00",{"$f":"ROUND(1/360*事前相談チェックシート!$R$10*mkrain!$G18*事前相談チェックシート!$L$28,5)","v":{"$error":"#DIV/0!"}},{"$f":"ROUND(1/360*事前相談チェックシート!$R$12*mkrain!$G18*事前相談チェックシート!$M$28,5)","v":{"$error":"#DIV/0!"}}]
["02:40:00",{"$f":"ROUND(1/360*事前相談チェックシート!$R$10*mkrain!$G19*事前相談チェックシート!$L$28,5)","v":{"$error":"#DIV/0!"}},{"$f":"ROUND(1/360*事前相談チェックシート!$R$12*mkrain!$G19*事前相談チェックシート!$M$28,5)","v":{"$error":"#DIV/0!"}}]
["02:50:00",{"$f":"ROUND(1/360*事前相談チェックシート!$R$10*mkrain!$G20*事前相談チェックシート!$L$28,5)","v":{"$error":"#DIV/0!"}},{"$f":"ROUND(1/360*事前相談チェックシート!$R$12*mkrain!$G20*事前相談チェックシート!$M$28,5)","v":{"$error":"#DIV/0!"}}]
["03:00:00",{"$f":"ROUND(1/360*事前相談チェックシート!$R$10*mkrain!$G21*事前相談チェックシート!$L$28,5)","v":{"$error":"#DIV/0!"}},{"$f":"ROUND(1/360*事前相談チェックシート!$R$12*mkrain!$G21*事前相談チェックシート!$M$28,5)","v":{"$error":"#DIV/0!"}}]
["03:10:00",{"$f":"ROUND(1/360*事前相談チェックシート!$R$10*mkrain!$G22*事前相談チェックシート!$L$28,5)","v":{"$error":"#DIV/0!"}},{"$f":"ROUND(1/360*事前相談チェックシート!$R$12*mkrain!$G22*事前相談チェックシート!$M$28,5)","v":{"$error":"#DIV/0!"}}]
["03:20:00",{"$f":"ROUND(1/360*事前相談チェックシート!$R$10*mkrain!$G23*事前相談チェックシート!$L$28,5)","v":{"$error":"#DIV/0!"}},{"$f":"ROUND(1/360*事前相談チェックシート!$R$12*mkrain!$G23*事前相談チェックシート!$M$28,5)","v":{"$error":"#DIV/0!"}}]
["03:30:00",{"$f":"ROUND(1/360*事前相談チェックシート!$R$10*mkrain!$G24*事前相談チェックシート!$L$28,5)","v":{"$error":"#DIV/0!"}},{"$f":"ROUND(1/360*事前相談チェックシート!$R$12*mkrain!$G24*事前相談チェックシート!$M$28,5)","v":{"$error":"#DIV/0!"}}]
["03:40:00",{"$f":"ROUND(1/360*事前相談チェックシート!$R$10*mkrain!$G25*事前相談チェックシート!$L$28,5)","v":{"$error":"#DIV/0!"}},{"$f":"ROUND(1/360*事前相談チェックシート!$R$12*mkrain!$G25*事前相談チェックシート!$M$28,5)","v":{"$error":"#DIV/0!"}}]
["03:50:00",{"$f":"ROUND(1/360*事前相談チェックシート!$R$10*mkrain!$G26*事前相談チェックシート!$L$28,5)","v":{"$error":"#DIV/0!"}},{"$f":"ROUND(1/360*事前相談チェックシート!$R$12*mkrain!$G26*事前相談チェックシート!$M$28,5)","v":{"$error":"#DIV/0!"}}]
["04:00:00",{"$f":"ROUND(1/360*事前相談チェックシート!$R$10*mkrain!$G27*事前相談チェックシート!$L$28,5)","v":{"$error":"#DIV/0!"}},{"$f":"ROUND(1/360*事前相談チェックシート!$R$12*mkrain!$G27*事前相談チェックシート!$M$28,5)","v":{"$error":"#DIV/0!"}}]
["04:10:00",{"$f":"ROUND(1/360*事前相談チェックシート!$R$10*mkrain!$G28*事前相談チェックシート!$L$28,5)","v":{"$error":"#DIV/0!"}},{"$f":"ROUND(1/360*事前相談チェックシート!$R$12*mkrain!$G28*事前相談チェックシート!$M$28,5)","v":{"$error":"#DIV/0!"}}]
["04:20:00",{"$f":"ROUND(1/360*事前相談チェックシート!$R$10*mkrain!$G29*事前相談チェックシート!$L$28,5)","v":{"$error":"#DIV/0!"}},{"$f":"ROUND(1/360*事前相談チェックシート!$R$12*mkrain!$G29*事前相談チェックシート!$M$28,5)","v":{"$error":"#DIV/0!"}}]
["04:30:00",{"$f":"ROUND(1/360*事前相談チェックシート!$R$10*mkrain!$G30*事前相談チェックシート!$L$28,5)","v":{"$error":"#DIV/0!"}},{"$f":"ROUND(1/360*事前相談チェックシート!$R$12*mkrain!$G30*事前相談チェックシート!$M$28,5)","v":{"$error":"#DIV/0!"}}]
["04:40:00",{"$f":"ROUND(1/360*事前相談チェックシート!$R$10*mkrain!$G31*事前相談チェックシート!$L$28,5)","v":{"$error":"#DIV/0!"}},{"$f":"ROUND(1/360*事前相談チェックシート!$R$12*mkrain!$G31*事前相談チェックシート!$M$28,5)","v":{"$error":"#DIV/0!"}}]
["04:50:00",{"$f":"ROUND(1/360*事前相談チェックシート!$R$10*mkrain!$G32*事前相談チェックシート!$L$28,5)","v":{"$error":"#DIV/0!"}},{"$f":"ROUND(1/360*事前相談チェックシート!$R$12*mkrain!$G32*事前相談チェックシート!$M$28,5)","v":{"$error":"#DIV/0!"}}]
["05:00:00",{"$f":"ROUND(1/360*事前相談チェックシート!$R$10*mkrain!$G33*事前相談チェックシート!$L$28,5)","v":{"$error":"#DIV/0!"}},{"$f":"ROUND(1/360*事前相談チェックシート!$R$12*mkrain!$G33*事前相談チェックシート!$M$28,5)","v":{"$error":"#DIV/0!"}}]
["05:10:00",{"$f":"ROUND(1/360*事前相談チェックシート!$R$10*mkrain!$G34*事前相談チェックシート!$L$28,5)","v":{"$error":"#DIV/0!"}},{"$f":"ROUND(1/360*事前相談チェックシート!$R$12*mkrain!$G34*事前相談チェックシート!$M$28,5)","v":{"$error":"#DIV/0!"}}]
["05:20:00",{"$f":"ROUND(1/360*事前相談チェックシート!$R$10*mkrain!$G35*事前相談チェックシート!$L$28,5)","v":{"$error":"#DIV/0!"}},{"$f":"ROUND(1/360*事前相談チェックシート!$R$12*mkrain!$G35*事前相談チェックシート!$M$28,5)","v":{"$error":"#DIV/0!"}}]
["05:30:00",{"$f":"ROUND(1/360*事前相談チェックシート!$R$10*mkrain!$G36*事前相談チェックシート!$L$28,5)","v":{"$error":"#DIV/0!"}},{"$f":"ROUND(1/360*事前相談チェックシート!$R$12*mkrain!$G36*事前相談チェックシート!$M$28,5)","v":{"$error":"#DIV/0!"}}]
["05:40:00",{"$f":"ROUND(1/360*事前相談チェックシート!$R$10*mkrain!$G37*事前相談チェックシート!$L$28,5)","v":{"$error":"#DIV/0!"}},{"$f":"ROUND(1/360*事前相談チェックシート!$R$12*mkrain!$G37*事前相談チェックシート!$M$28,5)","v":{"$error":"#DIV/0!"}}]
["05:50:00",{"$f":"ROUND(1/360*事前相談チェックシート!$R$10*mkrain!$G38*事前相談チェックシート!$L$28,5)","v":{"$error":"#DIV/0!"}},{"$f":"ROUND(1/360*事前相談チェックシート!$R$12*mkrain!$G38*事前相談チェックシート!$M$28,5)","v":{"$error":"#DIV/0!"}}]
["06:00:00",{"$f":"ROUND(1/360*事前相談チェックシート!$R$10*mkrain!$G39*事前相談チェックシート!$L$28,5)","v":{"$error":"#DIV/0!"}},{"$f":"ROUND(1/360*事前相談チェックシート!$R$12*mkrain!$G39*事前相談チェックシート!$M$28,5)","v":{"$error":"#DIV/0!"}}]
["06:10:00",{"$f":"ROUND(1/360*事前相談チェックシート!$R$10*mkrain!$G40*事前相談チェックシート!$L$28,5)","v":{"$error":"#DIV/0!"}},{"$f":"ROUND(1/360*事前相談チェックシート!$R$12*mkrain!$G40*事前相談チェックシート!$M$28,5)","v":{"$error":"#DIV/0!"}}]
["06:20:00",{"$f":"ROUND(1/360*事前相談チェックシート!$R$10*mkrain!$G41*事前相談チェックシート!$L$28,5)","v":{"$error":"#DIV/0!"}},{"$f":"ROUND(1/360*事前相談チェックシート!$R$12*mkrain!$G41*事前相談チェックシート!$M$28,5)","v":{"$error":"#DIV/0!"}}]
["06:30:00",{"$f":"ROUND(1/360*事前相談チェックシート!$R$10*mkrain!$G42*事前相談チェックシート!$L$28,5)","v":{"$error":"#DIV/0!"}},{"$f":"ROUND(1/360*事前相談チェックシート!$R$12*mkrain!$G42*事前相談チェックシート!$M$28,5)","v":{"$error":"#DIV/0!"}}]
["06:40:00",{"$f":"ROUND(1/360*事前相談チェックシート!$R$10*mkrain!$G43*事前相談チェックシート!$L$28,5)","v":{"$error":"#DIV/0!"}},{"$f":"ROUND(1/360*事前相談チェックシート!$R$12*mkrain!$G43*事前相談チェックシート!$M$28,5)","v":{"$error":"#DIV/0!"}}]
["06:50:00",{"$f":"ROUND(1/360*事前相談チェックシート!$R$10*mkrain!$G44*事前相談チェックシート!$L$28,5)","v":{"$error":"#DIV/0!"}},{"$f":"ROUND(1/360*事前相談チェックシート!$R$12*mkrain!$G44*事前相談チェックシート!$M$28,5)","v":{"$error":"#DIV/0!"}}]
["07:00:00",{"$f":"ROUND(1/360*事前相談チェックシート!$R$10*mkrain!$G45*事前相談チェックシート!$L$28,5)","v":{"$error":"#DIV/0!"}},{"$f":"ROUND(1/360*事前相談チェックシート!$R$12*mkrain!$G45*事前相談チェックシート!$M$28,5)","v":{"$error":"#DIV/0!"}}]
["07:10:00",{"$f":"ROUND(1/360*事前相談チェックシート!$R$10*mkrain!$G46*事前相談チェックシート!$L$28,5)","v":{"$error":"#DIV/0!"}},{"$f":"ROUND(1/360*事前相談チェックシート!$R$12*mkrain!$G46*事前相談チェックシート!$M$28,5)","v":{"$error":"#DIV/0!"}}]
["07:20:00",{"$f":"ROUND(1/360*事前相談チェックシート!$R$10*mkrain!$G47*事前相談チェックシート!$L$28,5)","v":{"$error":"#DIV/0!"}},{"$f":"ROUND(1/360*事前相談チェックシート!$R$12*mkrain!$G47*事前相談チェックシート!$M$28,5)","v":{"$error":"#DIV/0!"}}]
["07:30:00",{"$f":"ROUND(1/360*事前相談チェックシート!$R$10*mkrain!$G48*事前相談チェックシート!$L$28,5)","v":{"$error":"#DIV/0!"}},{"$f":"ROUND(1/360*事前相談チェックシート!$R$12*mkrain!$G48*事前相談チェックシート!$M$28,5)","v":{"$error":"#DIV/0!"}}]
["07:40:00",{"$f":"ROUND(1/360*事前相談チェックシート!$R$10*mkrain!$G49*事前相談チェックシート!$L$28,5)","v":{"$error":"#DIV/0!"}},{"$f":"ROUND(1/360*事前相談チェックシート!$R$12*mkrain!$G49*事前相談チェックシート!$M$28,5)","v":{"$error":"#DIV/0!"}}]
["07:50:00",{"$f":"ROUND(1/360*事前相談チェックシート!$R$10*mkrain!$G50*事前相談チェックシート!$L$28,5)","v":{"$error":"#DIV/0!"}},{"$f":"ROUND(1/360*事前相談チェックシート!$R$12*mkrain!$G50*事前相談チェックシート!$M$28,5)","v":{"$error":"#DIV/0!"}}]
["08:00:00",{"$f":"ROUND(1/360*事前相談チェックシート!$R$10*mkrain!$G51*事前相談チェックシート!$L$28,5)","v":{"$error":"#DIV/0!"}},{"$f":"ROUND(1/360*事前相談チェックシート!$R$12*mkrain!$G51*事前相談チェックシート!$M$28,5)","v":{"$error":"#DIV/0!"}}]
["08:10:00",{"$f":"ROUND(1/360*事前相談チェックシート!$R$10*mkrain!$G52*事前相談チェックシート!$L$28,5)","v":{"$error":"#DIV/0!"}},{"$f":"ROUND(1/360*事前相談チェックシート!$R$12*mkrain!$G52*事前相談チェックシート!$M$28,5)","v":{"$error":"#DIV/0!"}}]
["08:20:00",{"$f":"ROUND(1/360*事前相談チェックシート!$R$10*mkrain!$G53*事前相談チェックシート!$L$28,5)","v":{"$error":"#DIV/0!"}},{"$f":"ROUND(1/360*事前相談チェックシート!$R$12*mkrain!$G53*事前相談チェックシート!$M$28,5)","v":{"$error":"#DIV/0!"}}]
["08:30:00",{"$f":"ROUND(1/360*事前相談チェックシート!$R$10*mkrain!$G54*事前相談チェックシート!$L$28,5)","v":{"$error":"#DIV/0!"}},{"$f":"ROUND(1/360*事前相談チェックシート!$R$12*mkrain!$G54*事前相談チェックシート!$M$28,5)","v":{"$error":"#DIV/0!"}}]
["08:40:00",{"$f":"ROUND(1/360*事前相談チェックシート!$R$10*mkrain!$G55*事前相談チェックシート!$L$28,5)","v":{"$error":"#DIV/0!"}},{"$f":"ROUND(1/360*事前相談チェックシート!$R$12*mkrain!$G55*事前相談チェックシート!$M$28,5)","v":{"$error":"#DIV/0!"}}]
["08:50:00",{"$f":"ROUND(1/360*事前相談チェックシート!$R$10*mkrain!$G56*事前相談チェックシート!$L$28,5)","v":{"$error":"#DIV/0!"}},{"$f":"ROUND(1/360*事前相談チェックシート!$R$12*mkrain!$G56*事前相談チェックシート!$M$28,5)","v":{"$error":"#DIV/0!"}}]
["09:00:00",{"$f":"ROUND(1/360*事前相談チェックシート!$R$10*mkrain!$G57*事前相談チェックシート!$L$28,5)","v":{"$error":"#DIV/0!"}},{"$f":"ROUND(1/360*事前相談チェックシート!$R$12*mkrain!$G57*事前相談チェックシート!$M$28,5)","v":{"$error":"#DIV/0!"}}]
["09:10:00",{"$f":"ROUND(1/360*事前相談チェックシート!$R$10*mkrain!$G58*事前相談チェックシート!$L$28,5)","v":{"$error":"#DIV/0!"}},{"$f":"ROUND(1/360*事前相談チェックシート!$R$12*mkrain!$G58*事前相談チェックシート!$M$28,5)","v":{"$error":"#DIV/0!"}}]
["09:20:00",{"$f":"ROUND(1/360*事前相談チェックシート!$R$10*mkrain!$G59*事前相談チェックシート!$L$28,5)","v":{"$error":"#DIV/0!"}},{"$f":"ROUND(1/360*事前相談チェックシート!$R$12*mkrain!$G59*事前相談チェックシート!$M$28,5)","v":{"$error":"#DIV/0!"}}]
["09:30:00",{"$f":"ROUND(1/360*事前相談チェックシート!$R$10*mkrain!$G60*事前相談チェックシート!$L$28,5)","v":{"$error":"#DIV/0!"}},{"$f":"ROUND(1/360*事前相談チェックシート!$R$12*mkrain!$G60*事前相談チェックシート!$M$28,5)","v":{"$error":"#DIV/0!"}}]
["09:40:00",{"$f":"ROUND(1/360*事前相談チェックシート!$R$10*mkrain!$G61*事前相談チェックシート!$L$28,5)","v":{"$error":"#DIV/0!"}},{"$f":"ROUND(1/360*事前相談チェックシート!$R$12*mkrain!$G61*事前相談チェックシート!$M$28,5)","v":{"$error":"#DIV/0!"}}]
["09:50:00",{"$f":"ROUND(1/360*事前相談チェックシート!$R$10*mkrain!$G62*事前相談チェックシート!$L$28,5)","v":{"$error":"#DIV/0!"}},{"$f":"ROUND(1/360*事前相談チェックシート!$R$12*mkrain!$G62*事前相談チェックシート!$M$28,5)","v":{"$error":"#DIV/0!"}}]
["10:00:00",{"$f":"ROUND(1/360*事前相談チェックシート!$R$10*mkrain!$G63*事前相談チェックシート!$L$28,5)","v":{"$error":"#DIV/0!"}},{"$f":"ROUND(1/360*事前相談チェックシート!$R$12*mkrain!$G63*事前相談チェックシート!$M$28,5)","v":{"$error":"#DIV/0!"}}]
["10:10:00",{"$f":"ROUND(1/360*事前相談チェックシート!$R$10*mkrain!$G64*事前相談チェックシート!$L$28,5)","v":{"$error":"#DIV/0!"}},{"$f":"ROUND(1/360*事前相談チェックシート!$R$12*mkrain!$G64*事前相談チェックシート!$M$28,5)","v":{"$error":"#DIV/0!"}}]
["10:20:00",{"$f":"ROUND(1/360*事前相談チェックシート!$R$10*mkrain!$G65*事前相談チェックシート!$L$28,5)","v":{"$error":"#DIV/0!"}},{"$f":"ROUND(1/360*事前相談チェックシート!$R$12*mkrain!$G65*事前相談チェックシート!$M$28,5)","v":{"$error":"#DIV/0!"}}]
["10:30:00",{"$f":"ROUND(1/360*事前相談チェックシート!$R$10*mkrain!$G66*事前相談チェックシート!$L$28,5)","v":{"$error":"#DIV/0!"}},{"$f":"ROUND(1/360*事前相談チェックシート!$R$12*mkrain!$G66*事前相談チェックシート!$M$28,5)","v":{"$error":"#DIV/0!"}}]
["10:40:00",{"$f":"ROUND(1/360*事前相談チェックシート!$R$10*mkrain!$G67*事前相談チェックシート!$L$28,5)","v":{"$error":"#DIV/0!"}},{"$f":"ROUND(1/360*事前相談チェックシート!$R$12*mkrain!$G67*事前相談チェックシート!$M$28,5)","v":{"$error":"#DIV/0!"}}]
["10:50:00",{"$f":"ROUND(1/360*事前相談チェックシート!$R$10*mkrain!$G68*事前相談チェックシート!$L$28,5)","v":{"$error":"#DIV/0!"}},{"$f":"ROUND(1/360*事前相談チェックシート!$R$12*mkrain!$G68*事前相談チェックシート!$M$28,5)","v":{"$error":"#DIV/0!"}}]
["11:00:00",{"$f":"ROUND(1/360*事前相談チェックシート!$R$10*mkrain!$G69*事前相談チェックシート!$L$28,5)","v":{"$error":"#DIV/0!"}},{"$f":"ROUND(1/360*事前相談チェックシート!$R$12*mkrain!$G69*事前相談チェックシート!$M$28,5)","v":{"$error":"#DIV/0!"}}]
["11:10:00",{"$f":"ROUND(1/360*事前相談チェックシート!$R$10*mkrain!$G70*事前相談チェックシート!$L$28,5)","v":{"$error":"#DIV/0!"}},{"$f":"ROUND(1/360*事前相談チェックシート!$R$12*mkrain!$G70*事前相談チェックシート!$M$28,5)","v":{"$error":"#DIV/0!"}}]
["11:20:00",{"$f":"ROUND(1/360*事前相談チェックシート!$R$10*mkrain!$G71*事前相談チェックシート!$L$28,5)","v":{"$error":"#DIV/0!"}},{"$f":"ROUND(1/360*事前相談チェックシート!$R$12*mkrain!$G71*事前相談チェックシート!$M$28,5)","v":{"$error":"#DIV/0!"}}]
["11:30:00",{"$f":"ROUND(1/360*事前相談チェックシート!$R$10*mkrain!$G72*事前相談チェックシート!$L$28,5)","v":{"$error":"#DIV/0!"}},{"$f":"ROUND(1/360*事前相談チェックシート!$R$12*mkrain!$G72*事前相談チェックシート!$M$28,5)","v":{"$error":"#DIV/0!"}}]
["11:40:00",{"$f":"ROUND(1/360*事前相談チェックシート!$R$10*mkrain!$G73*事前相談チェックシート!$L$28,5)","v":{"$error":"#DIV/0!"}},{"$f":"ROUND(1/360*事前相談チェックシート!$R$12*mkrain!$G73*事前相談チェックシート!$M$28,5)","v":{"$error":"#DIV/0!"}}]
["11:50:00",{"$f":"ROUND(1/360*事前相談チェックシート!$R$10*mkrain!$G74*事前相談チェックシート!$L$28,5)","v":{"$error":"#DIV/0!"}},{"$f":"ROUND(1/360*事前相談チェックシート!$R$12*mkrain!$G74*事前相談チェックシート!$M$28,5)","v":{"$error":"#DIV/0!"}}]
["12:00:00",{"$f":"ROUND(1/360*事前相談チェックシート!$R$10*mkrain!$G75*事前相談チェックシート!$L$28,5)","v":{"$error":"#DIV/0!"}},{"$f":"ROUND(1/360*事前相談チェックシート!$R$12*mkrain!$G75*事前相談チェックシート!$M$28,5)","v":{"$error":"#DIV/0!"}}]
["12:10:00",{"$f":"ROUND(1/360*事前相談チェックシート!$R$10*mkrain!$G76*事前相談チェックシート!$L$28,5)","v":{"$error":"#DIV/0!"}},{"$f":"ROUND(1/360*事前相談チェックシート!$R$12*mkrain!$G76*事前相談チェックシート!$M$28,5)","v":{"$error":"#DIV/0!"}}]
["12:20:00",{"$f":"ROUND(1/360*事前相談チェックシート!$R$10*mkrain!$G77*事前相談チェックシート!$L$28,5)","v":{"$error":"#DIV/0!"}},{"$f":"ROUND(1/360*事前相談チェックシート!$R$12*mkrain!$G77*事前相談チェックシート!$M$28,5)","v":{"$error":"#DIV/0!"}}]
["12:30:00",{"$f":"ROUND(1/360*事前相談チェックシート!$R$10*mkrain!$G78*事前相談チェックシート!$L$28,5)","v":{"$error":"#DIV/0!"}},{"$f":"ROUND(1/360*事前相談チェックシート!$R$12*mkrain!$G78*事前相談チェックシート!$M$28,5)","v":{"$error":"#DIV/0!"}}]
["12:40:00",{"$f":"ROUND(1/360*事前相談チェックシート!$R$10*mkrain!$G79*事前相談チェックシート!$L$28,5)","v":{"$error":"#DIV/0!"}},{"$f":"ROUND(1/360*事前相談チェックシート!$R$12*mkrain!$G79*事前相談チェックシート!$M$28,5)","v":{"$error":"#DIV/0!"}}]
["12:50:00",{"$f":"ROUND(1/360*事前相談チェックシート!$R$10*mkrain!$G80*事前相談チェックシート!$L$28,5)","v":{"$error":"#DIV/0!"}},{"$f":"ROUND(1/360*事前相談チェックシート!$R$12*mkrain!$G80*事前相談チェックシート!$M$28,5)","v":{"$error":"#DIV/0!"}}]
["13:00:00",{"$f":"ROUND(1/360*事前相談チェックシート!$R$10*mkrain!$G81*事前相談チェックシート!$L$28,5)","v":{"$error":"#DIV/0!"}},{"$f":"ROUND(1/360*事前相談チェックシート!$R$12*mkrain!$G81*事前相談チェックシート!$M$28,5)","v":{"$error":"#DIV/0!"}}]
["13:10:00",{"$f":"ROUND(1/360*事前相談チェックシート!$R$10*mkrain!$G82*事前相談チェックシート!$L$28,5)","v":{"$error":"#DIV/0!"}},{"$f":"ROUND(1/360*事前相談チェックシート!$R$12*mkrain!$G82*事前相談チェックシート!$M$28,5)","v":{"$error":"#DIV/0!"}}]
["13:20:00",{"$f":"ROUND(1/360*事前相談チェックシート!$R$10*mkrain!$G83*事前相談チェックシート!$L$28,5)","v":{"$error":"#DIV/0!"}},{"$f":"ROUND(1/360*事前相談チェックシート!$R$12*mkrain!$G83*事前相談チェックシート!$M$28,5)","v":{"$error":"#DIV/0!"}}]
["13:30:00",{"$f":"ROUND(1/360*事前相談チェックシート!$R$10*mkrain!$G84*事前相談チェックシート!$L$28,5)","v":{"$error":"#DIV/0!"}},{"$f":"ROUND(1/360*事前相談チェックシート!$R$12*mkrain!$G84*事前相談チェックシート!$M$28,5)","v":{"$error":"#DIV/0!"}}]
["13:40:00",{"$f":"ROUND(1/360*事前相談チェックシート!$R$10*mkrain!$G85*事前相談チェックシート!$L$28,5)","v":{"$error":"#DIV/0!"}},{"$f":"ROUND(1/360*事前相談チェックシート!$R$12*mkrain!$G85*事前相談チェックシート!$M$28,5)","v":{"$error":"#DIV/0!"}}]
["13:50:00",{"$f":"ROUND(1/360*事前相談チェックシート!$R$10*mkrain!$G86*事前相談チェックシート!$L$28,5)","v":{"$error":"#DIV/0!"}},{"$f":"ROUND(1/360*事前相談チェックシート!$R$12*mkrain!$G86*事前相談チェックシート!$M$28,5)","v":{"$error":"#DIV/0!"}}]
["14:00:00",{"$f":"ROUND(1/360*事前相談チェックシート!$R$10*mkrain!$G87*事前相談チェックシート!$L$28,5)","v":{"$error":"#DIV/0!"}},{"$f":"ROUND(1/360*事前相談チェックシート!$R$12*mkrain!$G87*事前相談チェックシート!$M$28,5)","v":{"$error":"#DIV/0!"}}]
["14:10:00",{"$f":"ROUND(1/360*事前相談チェックシート!$R$10*mkrain!$G88*事前相談チェックシート!$L$28,5)","v":{"$error":"#DIV/0!"}},{"$f":"ROUND(1/360*事前相談チェックシート!$R$12*mkrain!$G88*事前相談チェックシート!$M$28,5)","v":{"$error":"#DIV/0!"}}]
["14:20:00",{"$f":"ROUND(1/360*事前相談チェックシート!$R$10*mkrain!$G89*事前相談チェックシート!$L$28,5)","v":{"$error":"#DIV/0!"}},{"$f":"ROUND(1/360*事前相談チェックシート!$R$12*mkrain!$G89*事前相談チェックシート!$M$28,5)","v":{"$error":"#DIV/0!"}}]
["14:30:00",{"$f":"ROUND(1/360*事前相談チェックシート!$R$10*mkrain!$G90*事前相談チェックシート!$L$28,5)","v":{"$error":"#DIV/0!"}},{"$f":"ROUND(1/360*事前相談チェックシート!$R$12*mkrain!$G90*事前相談チェックシート!$M$28,5)","v":{"$error":"#DIV/0!"}}]
["14:40:00",{"$f":"ROUND(1/360*事前相談チェックシート!$R$10*mkrain!$G91*事前相談チェックシート!$L$28,5)","v":{"$error":"#DIV/0!"}},{"$f":"ROUND(1/360*事前相談チェックシート!$R$12*mkrain!$G91*事前相談チェックシート!$M$28,5)","v":{"$error":"#DIV/0!"}}]
["14:50:00",{"$f":"ROUND(1/360*事前相談チェックシート!$R$10*mkrain!$G92*事前相談チェックシート!$L$28,5)","v":{"$error":"#DIV/0!"}},{"$f":"ROUND(1/360*事前相談チェックシート!$R$12*mkrain!$G92*事前相談チェックシート!$M$28,5)","v":{"$error":"#DIV/0!"}}]
["15:00:00",{"$f":"ROUND(1/360*事前相談チェックシート!$R$10*mkrain!$G93*事前相談チェックシート!$L$28,5)","v":{"$error":"#DIV/0!"}},{"$f":"ROUND(1/360*事前相談チェックシート!$R$12*mkrain!$G93*事前相談チェックシート!$M$28,5)","v":{"$error":"#DIV/0!"}}]
["15:10:00",{"$f":"ROUND(1/360*事前相談チェックシート!$R$10*mkrain!$G94*事前相談チェックシート!$L$28,5)","v":{"$error":"#DIV/0!"}},{"$f":"ROUND(1/360*事前相談チェックシート!$R$12*mkrain!$G94*事前相談チェックシート!$M$28,5)","v":{"$error":"#DIV/0!"}}]
["15:20:00",{"$f":"ROUND(1/360*事前相談チェックシート!$R$10*mkrain!$G95*事前相談チェックシート!$L$28,5)","v":{"$error":"#DIV/0!"}},{"$f":"ROUND(1/360*事前相談チェックシート!$R$12*mkrain!$G95*事前相談チェックシート!$M$28,5)","v":{"$error":"#DIV/0!"}}]
["15:30:00",{"$f":"ROUND(1/360*事前相談チェックシート!$R$10*mkrain!$G96*事前相談チェックシート!$L$28,5)","v":{"$error":"#DIV/0!"}},{"$f":"ROUND(1/360*事前相談チェックシート!$R$12*mkrain!$G96*事前相談チェックシート!$M$28,5)","v":{"$error":"#DIV/0!"}}]
["15:40:00",{"$f":"ROUND(1/360*事前相談チェックシート!$R$10*mkrain!$G97*事前相談チェックシート!$L$28,5)","v":{"$error":"#DIV/0!"}},{"$f":"ROUND(1/360*事前相談チェックシート!$R$12*mkrain!$G97*事前相談チェックシート!$M$28,5)","v":{"$error":"#DIV/0!"}}]
["15:50:00",{"$f":"ROUND(1/360*事前相談チェックシート!$R$10*mkrain!$G98*事前相談チェックシート!$L$28,5)","v":{"$error":"#DIV/0!"}},{"$f":"ROUND(1/360*事前相談チェックシート!$R$12*mkrain!$G98*事前相談チェックシート!$M$28,5)","v":{"$error":"#DIV/0!"}}]
["16:00:00",{"$f":"ROUND(1/360*事前相談チェックシート!$R$10*mkrain!$G99*事前相談チェックシート!$L$28,5)","v":{"$error":"#DIV/0!"}},{"$f":"ROUND(1/360*事前相談チェックシート!$R$12*mkrain!$G99*事前相談チェックシート!$M$28,5)","v":{"$error":"#DIV/0!"}}]
["16:10:00",{"$f":"ROUND(1/360*事前相談チェックシート!$R$10*mkrain!$G100*事前相談チェックシート!$L$28,5)","v":{"$error":"#DIV/0!"}},{"$f":"ROUND(1/360*事前相談チェックシート!$R$12*mkrain!$G100*事前相談チェックシート!$M$28,5)","v":{"$error":"#DIV/0!"}}]
["16:20:00",{"$f":"ROUND(1/360*事前相談チェックシート!$R$10*mkrain!$G101*事前相談チェックシート!$L$28,5)","v":{"$error":"#DIV/0!"}},{"$f":"ROUND(1/360*事前相談チェックシート!$R$12*mkrain!$G101*事前相談チェックシート!$M$28,5)","v":{"$error":"#DIV/0!"}}]
["16:30:00",{"$f":"ROUND(1/360*事前相談チェックシート!$R$10*mkrain!$G102*事前相談チェックシート!$L$28,5)","v":{"$error":"#DIV/0!"}},{"$f":"ROUND(1/360*事前相談チェックシート!$R$12*mkrain!$G102*事前相談チェックシート!$M$28,5)","v":{"$error":"#DIV/0!"}}]
["16:40:00",{"$f":"ROUND(1/360*事前相談チェックシート!$R$10*mkrain!$G103*事前相談チェックシート!$L$28,5)","v":{"$error":"#DIV/0!"}},{"$f":"ROUND(1/360*事前相談チェックシート!$R$12*mkrain!$G103*事前相談チェックシート!$M$28,5)","v":{"$error":"#DIV/0!"}}]
["16:50:00",{"$f":"ROUND(1/360*事前相談チェックシート!$R$10*mkrain!$G104*事前相談チェックシート!$L$28,5)","v":{"$error":"#DIV/0!"}},{"$f":"ROUND(1/360*事前相談チェックシート!$R$12*mkrain!$G104*事前相談チェックシート!$M$28,5)","v":{"$error":"#DIV/0!"}}]
["17:00:00",{"$f":"ROUND(1/360*事前相談チェックシート!$R$10*mkrain!$G105*事前相談チェックシート!$L$28,5)","v":{"$error":"#DIV/0!"}},{"$f":"ROUND(1/360*事前相談チェックシート!$R$12*mkrain!$G105*事前相談チェックシート!$M$28,5)","v":{"$error":"#DIV/0!"}}]
["17:10:00",{"$f":"ROUND(1/360*事前相談チェックシート!$R$10*mkrain!$G106*事前相談チェックシート!$L$28,5)","v":{"$error":"#DIV/0!"}},{"$f":"ROUND(1/360*事前相談チェックシート!$R$12*mkrain!$G106*事前相談チェックシート!$M$28,5)","v":{"$error":"#DIV/0!"}}]
["17:20:00",{"$f":"ROUND(1/360*事前相談チェックシート!$R$10*mkrain!$G107*事前相談チェックシート!$L$28,5)","v":{"$error":"#DIV/0!"}},{"$f":"ROUND(1/360*事前相談チェックシート!$R$12*mkrain!$G107*事前相談チェックシート!$M$28,5)","v":{"$error":"#DIV/0!"}}]
["17:30:00",{"$f":"ROUND(1/360*事前相談チェックシート!$R$10*mkrain!$G108*事前相談チェックシート!$L$28,5)","v":{"$error":"#DIV/0!"}},{"$f":"ROUND(1/360*事前相談チェックシート!$R$12*mkrain!$G108*事前相談チェックシート!$M$28,5)","v":{"$error":"#DIV/0!"}}]
["17:40:00",{"$f":"ROUND(1/360*事前相談チェックシート!$R$10*mkrain!$G109*事前相談チェックシート!$L$28,5)","v":{"$error":"#DIV/0!"}},{"$f":"ROUND(1/360*事前相談チェックシート!$R$12*mkrain!$G109*事前相談チェックシート!$M$28,5)","v":{"$error":"#DIV/0!"}}]
["17:50:00",{"$f":"ROUND(1/360*事前相談チェックシート!$R$10*mkrain!$G110*事前相談チェックシート!$L$28,5)","v":{"$error":"#DIV/0!"}},{"$f":"ROUND(1/360*事前相談チェックシート!$R$12*mkrain!$G110*事前相談チェックシート!$M$28,5)","v":{"$error":"#DIV/0!"}}]
["18:00:00",{"$f":"ROUND(1/360*事前相談チェックシート!$R$10*mkrain!$G111*事前相談チェックシート!$L$28,5)","v":{"$error":"#DIV/0!"}},{"$f":"ROUND(1/360*事前相談チェックシート!$R$12*mkrain!$G111*事前相談チェックシート!$M$28,5)","v":{"$error":"#DIV/0!"}}]
["18:10:00",{"$f":"ROUND(1/360*事前相談チェックシート!$R$10*mkrain!$G112*事前相談チェックシート!$L$28,5)","v":{"$error":"#DIV/0!"}},{"$f":"ROUND(1/360*事前相談チェックシート!$R$12*mkrain!$G112*事前相談チェックシート!$M$28,5)","v":{"$error":"#DIV/0!"}}]
["18:20:00",{"$f":"ROUND(1/360*事前相談チェックシート!$R$10*mkrain!$G113*事前相談チェックシート!$L$28,5)","v":{"$error":"#DIV/0!"}},{"$f":"ROUND(1/360*事前相談チェックシート!$R$12*mkrain!$G113*事前相談チェックシート!$M$28,5)","v":{"$error":"#DIV/0!"}}]
["18:30:00",{"$f":"ROUND(1/360*事前相談チェックシート!$R$10*mkrain!$G114*事前相談チェックシート!$L$28,5)","v":{"$error":"#DIV/0!"}},{"$f":"ROUND(1/360*事前相談チェックシート!$R$12*mkrain!$G114*事前相談チェックシート!$M$28,5)","v":{"$error":"#DIV/0!"}}]
["18:40:00",{"$f":"ROUND(1/360*事前相談チェックシート!$R$10*mkrain!$G115*事前相談チェックシート!$L$28,5)","v":{"$error":"#DIV/0!"}},{"$f":"ROUND(1/360*事前相談チェックシート!$R$12*mkrain!$G115*事前相談チェックシート!$M$28,5)","v":{"$error":"#DIV/0!"}}]
["18:50:00",{"$f":"ROUND(1/360*事前相談チェックシート!$R$10*mkrain!$G116*事前相談チェックシート!$L$28,5)","v":{"$error":"#DIV/0!"}},{"$f":"ROUND(1/360*事前相談チェックシート!$R$12*mkrain!$G116*事前相談チェックシート!$M$28,5)","v":{"$error":"#DIV/0!"}}]
["19:00:00",{"$f":"ROUND(1/360*事前相談チェックシート!$R$10*mkrain!$G117*事前相談チェックシート!$L$28,5)","v":{"$error":"#DIV/0!"}},{"$f":"ROUND(1/360*事前相談チェックシート!$R$12*mkrain!$G117*事前相談チェックシート!$M$28,5)","v":{"$error":"#DIV/0!"}}]
["19:10:00",{"$f":"ROUND(1/360*事前相談チェックシート!$R$10*mkrain!$G118*事前相談チェックシート!$L$28,5)","v":{"$error":"#DIV/0!"}},{"$f":"ROUND(1/360*事前相談チェックシート!$R$12*mkrain!$G118*事前相談チェックシート!$M$28,5)","v":{"$error":"#DIV/0!"}}]
["19:20:00",{"$f":"ROUND(1/360*事前相談チェックシート!$R$10*mkrain!$G119*事前相談チェックシート!$L$28,5)","v":{"$error":"#DIV/0!"}},{"$f":"ROUND(1/360*事前相談チェックシート!$R$12*mkrain!$G119*事前相談チェックシート!$M$28,5)","v":{"$error":"#DIV/0!"}}]
["19:30:00",{"$f":"ROUND(1/360*事前相談チェックシート!$R$10*mkrain!$G120*事前相談チェックシート!$L$28,5)","v":{"$error":"#DIV/0!"}},{"$f":"ROUND(1/360*事前相談チェックシート!$R$12*mkrain!$G120*事前相談チェックシート!$M$28,5)","v":{"$error":"#DIV/0!"}}]
["19:40:00",{"$f":"ROUND(1/360*事前相談チェックシート!$R$10*mkrain!$G121*事前相談チェックシート!$L$28,5)","v":{"$error":"#DIV/0!"}},{"$f":"ROUND(1/360*事前相談チェックシート!$R$12*mkrain!$G121*事前相談チェックシート!$M$28,5)","v":{"$error":"#DIV/0!"}}]
["19:50:00",{"$f":"ROUND(1/360*事前相談チェックシート!$R$10*mkrain!$G122*事前相談チェックシート!$L$28,5)","v":{"$error":"#DIV/0!"}},{"$f":"ROUND(1/360*事前相談チェックシート!$R$12*mkrain!$G122*事前相談チェックシート!$M$28,5)","v":{"$error":"#DIV/0!"}}]
["20:00:00",{"$f":"ROUND(1/360*事前相談チェックシート!$R$10*mkrain!$G123*事前相談チェックシート!$L$28,5)","v":{"$error":"#DIV/0!"}},{"$f":"ROUND(1/360*事前相談チェックシート!$R$12*mkrain!$G123*事前相談チェックシート!$M$28,5)","v":{"$error":"#DIV/0!"}}]
["20:10:00",{"$f":"ROUND(1/360*事前相談チェックシート!$R$10*mkrain!$G124*事前相談チェックシート!$L$28,5)","v":{"$error":"#DIV/0!"}},{"$f":"ROUND(1/360*事前相談チェックシート!$R$12*mkrain!$G124*事前相談チェックシート!$M$28,5)","v":{"$error":"#DIV/0!"}}]
["20:20:00",{"$f":"ROUND(1/360*事前相談チェックシート!$R$10*mkrain!$G125*事前相談チェックシート!$L$28,5)","v":{"$error":"#DIV/0!"}},{"$f":"ROUND(1/360*事前相談チェックシート!$R$12*mkrain!$G125*事前相談チェックシート!$M$28,5)","v":{"$error":"#DIV/0!"}}]
["20:30:00",{"$f":"ROUND(1/360*事前相談チェックシート!$R$10*mkrain!$G126*事前相談チェックシート!$L$28,5)","v":{"$error":"#DIV/0!"}},{"$f":"ROUND(1/360*事前相談チェックシート!$R$12*mkrain!$G126*事前相談チェックシート!$M$28,5)","v":{"$error":"#DIV/0!"}}]
["20:40:00",{"$f":"ROUND(1/360*事前相談チェックシート!$R$10*mkrain!$G127*事前相談チェックシート!$L$28,5)","v":{"$error":"#DIV/0!"}},{"$f":"ROUND(1/360*事前相談チェックシート!$R$12*mkrain!$G127*事前相談チェックシート!$M$28,5)","v":{"$error":"#DIV/0!"}}]
["20:50:00",{"$f":"ROUND(1/360*事前相談チェックシート!$R$10*mkrain!$G128*事前相談チェックシート!$L$28,5)","v":{"$error":"#DIV/0!"}},{"$f":"ROUND(1/360*事前相談チェックシート!$R$12*mkrain!$G128*事前相談チェックシート!$M$28,5)","v":{"$error":"#DIV/0!"}}]
["21:00:00",{"$f":"ROUND(1/360*事前相談チェックシート!$R$10*mkrain!$G129*事前相談チェックシート!$L$28,5)","v":{"$error":"#DIV/0!"}},{"$f":"ROUND(1/360*事前相談チェックシート!$R$12*mkrain!$G129*事前相談チェックシート!$M$28,5)","v":{"$error":"#DIV/0!"}}]
["21:10:00",{"$f":"ROUND(1/360*事前相談チェックシート!$R$10*mkrain!$G130*事前相談チェックシート!$L$28,5)","v":{"$error":"#DIV/0!"}},{"$f":"ROUND(1/360*事前相談チェックシート!$R$12*mkrain!$G130*事前相談チェックシート!$M$28,5)","v":{"$error":"#DIV/0!"}}]
["21:20:00",{"$f":"ROUND(1/360*事前相談チェックシート!$R$10*mkrain!$G131*事前相談チェックシート!$L$28,5)","v":{"$error":"#DIV/0!"}},{"$f":"ROUND(1/360*事前相談チェックシート!$R$12*mkrain!$G131*事前相談チェックシート!$M$28,5)","v":{"$error":"#DIV/0!"}}]
["21:30:00",{"$f":"ROUND(1/360*事前相談チェックシート!$R$10*mkrain!$G132*事前相談チェックシート!$L$28,5)","v":{"$error":"#DIV/0!"}},{"$f":"ROUND(1/360*事前相談チェックシート!$R$12*mkrain!$G132*事前相談チェックシート!$M$28,5)","v":{"$error":"#DIV/0!"}}]
["21:40:00",{"$f":"ROUND(1/360*事前相談チェックシート!$R$10*mkrain!$G133*事前相談チェックシート!$L$28,5)","v":{"$error":"#DIV/0!"}},{"$f":"ROUND(1/360*事前相談チェックシート!$R$12*mkrain!$G133*事前相談チェックシート!$M$28,5)","v":{"$error":"#DIV/0!"}}]
["21:50:00",{"$f":"ROUND(1/360*事前相談チェックシート!$R$10*mkrain!$G134*事前相談チェックシート!$L$28,5)","v":{"$error":"#DIV/0!"}},{"$f":"ROUND(1/360*事前相談チェックシート!$R$12*mkrain!$G134*事前相談チェックシート!$M$28,5)","v":{"$error":"#DIV/0!"}}]
["22:00:00",{"$f":"ROUND(1/360*事前相談チェックシート!$R$10*mkrain!$G135*事前相談チェックシート!$L$28,5)","v":{"$error":"#DIV/0!"}},{"$f":"ROUND(1/360*事前相談チェックシート!$R$12*mkrain!$G135*事前相談チェックシート!$M$28,5)","v":{"$error":"#DIV/0!"}}]
["22:10:00",{"$f":"ROUND(1/360*事前相談チェックシート!$R$10*mkrain!$G136*事前相談チェックシート!$L$28,5)","v":{"$error":"#DIV/0!"}},{"$f":"ROUND(1/360*事前相談チェックシート!$R$12*mkrain!$G136*事前相談チェックシート!$M$28,5)","v":{"$error":"#DIV/0!"}}]
["22:20:00",{"$f":"ROUND(1/360*事前相談チェックシート!$R$10*mkrain!$G137*事前相談チェックシート!$L$28,5)","v":{"$error":"#DIV/0!"}},{"$f":"ROUND(1/360*事前相談チェックシート!$R$12*mkrain!$G137*事前相談チェックシート!$M$28,5)","v":{"$error":"#DIV/0!"}}]
["22:30:00",{"$f":"ROUND(1/360*事前相談チェックシート!$R$10*mkrain!$G138*事前相談チェックシート!$L$28,5)","v":{"$error":"#DIV/0!"}},{"$f":"ROUND(1/360*事前相談チェックシート!$R$12*mkrain!$G138*事前相談チェックシート!$M$28,5)","v":{"$error":"#DIV/0!"}}]
["22:40:00",{"$f":"ROUND(1/360*事前相談チェックシート!$R$10*mkrain!$G139*事前相談チェックシート!$L$28,5)","v":{"$error":"#DIV/0!"}},{"$f":"ROUND(1/360*事前相談チェックシート!$R$12*mkrain!$G139*事前相談チェックシート!$M$28,5)","v":{"$error":"#DIV/0!"}}]
["22:50:00",{"$f":"ROUND(1/360*事前相談チェックシート!$R$10*mkrain!$G140*事前相談チェックシート!$L$28,5)","v":{"$error":"#DIV/0!"}},{"$f":"ROUND(1/360*事前相談チェックシート!$R$12*mkrain!$G140*事前相談チェックシート!$M$28,5)","v":{"$error":"#DIV/0!"}}]
["23:00:00",{"$f":"ROUND(1/360*事前相談チェックシート!$R$10*mkrain!$G141*事前相談チェックシート!$L$28,5)","v":{"$error":"#DIV/0!"}},{"$f":"ROUND(1/360*事前相談チェックシート!$R$12*mkrain!$G141*事前相談チェックシート!$M$28,5)","v":{"$error":"#DIV/0!"}}]
["23:10:00",{"$f":"ROUND(1/360*事前相談チェックシート!$R$10*mkrain!$G142*事前相談チェックシート!$L$28,5)","v":{"$error":"#DIV/0!"}},{"$f":"ROUND(1/360*事前相談チェックシート!$R$12*mkrain!$G142*事前相談チェックシート!$M$28,5)","v":{"$error":"#DIV/0!"}}]
["23:20:00",{"$f":"ROUND(1/360*事前相談チェックシート!$R$10*mkrain!$G143*事前相談チェックシート!$L$28,5)","v":{"$error":"#DIV/0!"}},{"$f":"ROUND(1/360*事前相談チェックシート!$R$12*mkrain!$G143*事前相談チェックシート!$M$28,5)","v":{"$error":"#DIV/0!"}}]
["23:30:00",{"$f":"ROUND(1/360*事前相談チェックシート!$R$10*mkrain!$G144*事前相談チェックシート!$L$28,5)","v":{"$error":"#DIV/0!"}},{"$f":"ROUND(1/360*事前相談チェックシート!$R$12*mkrain!$G144*事前相談チェックシート!$M$28,5)","v":{"$error":"#DIV/0!"}}]
["23:40:00",{"$f":"ROUND(1/360*事前相談チェックシート!$R$10*mkrain!$G145*事前相談チェックシート!$L$28,5)","v":{"$error":"#DIV/0!"}},{"$f":"ROUND(1/360*事前相談チェックシート!$R$12*mkrain!$G145*事前相談チェックシート!$M$28,5)","v":{"$error":"#DIV/0!"}}]
["23:50:00",{"$f":"ROUND(1/360*事前相談チェックシート!$R$10*mkrain!$G146*事前相談チェックシート!$L$28,5)","v":{"$error":"#DIV/0!"}},{"$f":"ROUND(1/360*事前相談チェックシート!$R$12*mkrain!$G146*事前相談チェックシート!$M$28,5)","v":{"$error":"#DIV/0!"}}]
[1,{"$f":"ROUND(1/360*事前相談チェックシート!$R$10*mkrain!$G147*事前相談チェックシート!$L$28,5)","v":{"$error":"#DIV/0!"}},{"$f":"ROUND(1/360*事前相談チェックシート!$R$12*mkrain!$G147*事前相談チェックシート!$M$28,5)","v":{"$error":"#DIV/0!"}}]

{"sheet":"逐次計算（概算）","index":15,"n_rows":147,"n_cols":5,"rows_kept":147,"cut":false,"hidden":true,"merged":[]}
["時刻","行為後流入量","許容放流量","調整池水位","調節後放流量"]
[]
[{"$f":"runoff!A4","v":"00:00:00"},{"$f":"runoff!C4","v":0},{"$f":"runoff!$B$1","v":{"$error":"#DIV/0!"}},0,0]
[{"$f":"runoff!A5","v":"00:10:00"},{"$f":"runoff!C5","v":{"$error":"#DIV/0!"}},{"$f":"runoff!$B$1","v":{"$error":"#DIV/0!"}},4.6834226502474293E-3,1.025842577972371E-4]
[{"$f":"runoff!A6","v":"00:20:00"},{"$f":"runoff!C6","v":{"$error":"#DIV/0!"}},{"$f":"runoff!$B$1","v":{"$error":"#DIV/0!"}},1.3851594482178856E-2,5.3304343968467525E-4]
[{"$f":"runoff!A7","v":"00:30:00"},{"$f":"runoff!C7","v":{"$error":"#DIV/0!"}},{"$f":"runoff!$B$1","v":{"$error":"#DIV/0!"}},2.2669774698385839E-2,1.1108994252001995E-3]
[{"$f":"runoff!A8","v":"00:40:00"},{"$f":"runoff!C8","v":{"$error":"#DIV/0!"}},{"$f":"runoff!$B$1","v":{"$error":"#DIV/0!"}},3.103115143351496E-2,1.7727843153533718E-3]
[{"$f":"runoff!A9","v":"00:50:00"},{"$f":"runoff!C9","v":{"$error":"#DIV/0!"}},{"$f":"runoff!$B$1","v":{"$error":"#DIV/0!"}},3.8874452751372787E-2,2.4833961626213349E-3]
[{"$f":"runoff!A10","v":"01:00:00"},{"$f":"runoff!C10","v":{"$error":"#DIV/0!"}},{"$f":"runoff!$B$1","v":{"$error":"#DIV/0!"}},4.6165921164367713E-2,3.2184222758896547E-3]
[{"$f":"runoff!A11","v":"01:10:00"},{"$f":"runoff!C11","v":{"$error":"#DIV/0!"}},{"$f":"runoff!$B$1","v":{"$error":"#DIV/0!"}},5.2788730326979602E-2,3.9321578717845963E-3]
[{"$f":"runoff!A12","v":"01:20:00"},{"$f":"runoff!C12","v":{"$error":"#DIV/0!"}},{"$f":"runoff!$B$1","v":{"$error":"#DIV/0!"}},5.8873482764609429E-2,4.6342118466841178E-3]
[{"$f":"runoff!A13","v":"01:30:00"},{"$f":"runoff!C13","v":{"$error":"#DIV/0!"}},{"$f":"runoff!$B$1","v":{"$error":"#DIV/0!"}},6.4436215501205291E-2,5.3132005573581897E-3]
[{"$f":"runoff!A14","v":"01:40:00"},{"$f":"runoff!C14","v":{"$error":"#DIV/0!"}},{"$f":"runoff!$B$1","v":{"$error":"#DIV/0!"}},6.9502612091435559E-2,5.9596068304762148E-3]
[{"$f":"runoff!A15","v":"01:50:00"},{"$f":"runoff!C15","v":{"$error":"#DIV/0!"}},{"$f":"runoff!$B$1","v":{"$error":"#DIV/0!"}},7.4113931255851251E-2,6.5492016466231328E-3]
[{"$f":"runoff!A16","v":"02:00:00"},{"$f":"runoff!C16","v":{"$error":"#DIV/0!"}},{"$f":"runoff!$B$1","v":{"$error":"#DIV/0!"}},7.8311023227962046E-2,7.1070990804701422E-3]
[{"$f":"runoff!A17","v":"02:10:00"},{"$f":"runoff!C17","v":{"$error":"#DIV/0!"}},{"$f":"runoff!$B$1","v":{"$error":"#DIV/0!"}},8.2117336963941925E-2,7.6458878249067693E-3]
[{"$f":"runoff!A18","v":"02:20:00"},{"$f":"runoff!C18","v":{"$error":"#DIV/0!"}},{"$f":"runoff!$B$1","v":{"$error":"#DIV/0!"}},8.5567861869785267E-2,8.1279748790993398E-3]
[{"$f":"runoff!A19","v":"02:30:00"},{"$f":"runoff!C19","v":{"$error":"#DIV/0!"}},{"$f":"runoff!$B$1","v":{"$error":"#DIV/0!"}},8.8816023944845376E-2,8.5843406249370841E-3]
[{"$f":"runoff!A20","v":"02:40:00"},{"$f":"runoff!C20","v":{"$error":"#DIV/0!"}},{"$f":"runoff!$B$1","v":{"$error":"#DIV/0!"}},9.1771137155323312E-2,9.0129140856940754E-3]
[{"$f":"runoff!A21","v":"02:50:00"},{"$f":"runoff!C21","v":{"$error":"#DIV/0!"}},{"$f":"runoff!$B$1","v":{"$error":"#DIV/0!"}},9.4459711882743116E-2,9.411840671563006E-3]
[{"$f":"runoff!A22","v":"03:00:00"},{"$f":"runoff!C22","v":{"$error":"#DIV/0!"}},{"$f":"runoff!$B$1","v":{"$error":"#DIV/0!"}},9.6901337997396447E-2,9.7979694133547846E-3]
[{"$f":"runoff!A23","v":"03:10:00"},{"$f":"runoff!C23","v":{"$error":"#DIV/0!"}},{"$f":"runoff!$B$1","v":{"$error":"#DIV/0!"}},9.9125491671069876E-2,1.0133030960352779E-2]
[{"$f":"runoff!A24","v":"03:20:00"},{"$f":"runoff!C24","v":{"$error":"#DIV/0!"}},{"$f":"runoff!$B$1","v":{"$error":"#DIV/0!"}},0.10126940332089091,1.0471827131701684E-2]
[{"$f":"runoff!A25","v":"03:30:00"},{"$f":"runoff!C25","v":{"$error":"#DIV/0!"}},{"$f":"runoff!$B$1","v":{"$error":"#DIV/0!"}},0.10323190699529636,1.0776081573753163E-2]
[{"$f":"runoff!A26","v":"03:40:00"},{"$f":"runoff!C26","v":{"$error":"#DIV/0!"}},{"$f":"runoff!$B$1","v":{"$error":"#DIV/0!"}},0.10504540323674845,1.1044676569767301E-2]
[{"$f":"runoff!A27","v":"03:50:00"},{"$f":"runoff!C27","v":{"$error":"#DIV/0!"}},{"$f":"runoff!$B$1","v":{"$error":"#DIV/0!"}},0.10683175597828427,1.1334892490238417E-2]
[{"$f":"runoff!A28","v":"04:00:00"},{"$f":"runoff!C28","v":{"$error":"#DIV/0!"}},{"$f":"runoff!$B$1","v":{"$error":"#DIV/0!"}},0.10847349090191741,1.1608015175223124E-2]
[{"$f":"runoff!A29","v":"04:10:00"},{"$f":"runoff!C29","v":{"$error":"#DIV/0!"}},{"$f":"runoff!$B$1","v":{"$error":"#DIV/0!"}},0.10999571183718417,1.1843839465032258E-2]
[{"$f":"runoff!A30","v":"04:20:00"},{"$f":"runoff!C30","v":{"$error":"#DIV/0!"}},{"$f":"runoff!$B$1","v":{"$error":"#DIV/0!"}},0.11153029080064895,1.2081239447460685E-2]
[{"$f":"runoff!A31","v":"04:30:00"},{"$f":"runoff!C31","v":{"$error":"#DIV/0!"}},{"$f":"runoff!$B$1","v":{"$error":"#DIV/0!"}},0.11306655466713655,1.2340188841816176E-2]
[{"$f":"runoff!A32","v":"04:40:00"},{"$f":"runoff!C32","v":{"$error":"#DIV/0!"}},{"$f":"runoff!$B$1","v":{"$error":"#DIV/0!"}},0.11459371565317436,1.2600962355101908E-2]
[{"$f":"runoff!A33","v":"04:50:00"},{"$f":"runoff!C33","v":{"$error":"#DIV/0!"}},{"$f":"runoff!$B$1","v":{"$error":"#DIV/0!"}},0.11611944789935673,1.2843284444836277E-2]
[{"$f":"runoff!A34","v":"05:00:00"},{"$f":"runoff!C34","v":{"$error":"#DIV/0!"}},{"$f":"runoff!$B$1","v":{"$error":"#DIV/0!"}},0.11765155958133924,1.3087140244201585E-2]
[{"$f":"runoff!A35","v":"05:10:00"},{"$f":"runoff!C35","v":{"$error":"#DIV/0!"}},{"$f":"runoff!$B$1","v":{"$error":"#DIV/0!"}},0.11916969592878207,1.3373564336338965E-2]
[{"$f":"runoff!A36","v":"05:20:00"},{"$f":"runoff!C36","v":{"$error":"#DIV/0!"}},{"$f":"runoff!$B$1","v":{"$error":"#DIV/0!"}},0.1206723383009566,1.3620710523949548E-2]
[{"$f":"runoff!A37","v":"05:30:00"},{"$f":"runoff!C37","v":{"$error":"#DIV/0!"}},{"$f":"runoff!$B$1","v":{"$error":"#DIV/0!"}},0.12217692082827017,1.3869360666871021E-2]
[{"$f":"runoff!A38","v":"05:40:00"},{"$f":"runoff!C38","v":{"$error":"#DIV/0!"}},{"$f":"runoff!$B$1","v":{"$error":"#DIV/0!"}},0.12368205941761674,1.4119505722878093E-2]
[{"$f":"runoff!A39","v":"05:50:00"},{"$f":"runoff!C39","v":{"$error":"#DIV/0!"}},{"$f":"runoff!$B$1","v":{"$error":"#DIV/0!"}},0.12518637824817794,1.4371136810906002E-2]
[{"$f":"runoff!A40","v":"06:00:00"},{"$f":"runoff!C40","v":{"$error":"#DIV/0!"}},{"$f":"runoff!$B$1","v":{"$error":"#DIV/0!"}},0.12667874403384241,1.4645403986820953E-2]
[{"$f":"runoff!A41","v":"06:10:00"},{"$f":"runoff!C41","v":{"$error":"#DIV/0!"}},{"$f":"runoff!$B$1","v":{"$error":"#DIV/0!"}},0.12815774074956254,1.4900103129118769E-2]
[{"$f":"runoff!A42","v":"06:20:00"},{"$f":"runoff!C42","v":{"$error":"#DIV/0!"}},{"$f":"runoff!$B$1","v":{"$error":"#DIV/0!"}},0.12973722819456127,1.5177674073384049E-2]
[{"$f":"runoff!A43","v":"06:30:00"},{"$f":"runoff!C43","v":{"$error":"#DIV/0!"}},{"$f":"runoff!$B$1","v":{"$error":"#DIV/0!"}},0.13139591693295816,1.5478500326756019E-2]
[{"$f":"runoff!A44","v":"06:40:00"},{"$f":"runoff!C44","v":{"$error":"#DIV/0!"}},{"$f":"runoff!$B$1","v":{"$error":"#DIV/0!"}},0.1331221683726766,1.5781288220520683E-2]
[{"$f":"runoff!A45","v":"06:50:00"},{"$f":"runoff!C45","v":{"$error":"#DIV/0!"}},{"$f":"runoff!$B$1","v":{"$error":"#DIV/0!"}},0.13491417759672655,1.60860251273711E-2]
[{"$f":"runoff!A46","v":"07:00:00"},{"$f":"runoff!C46","v":{"$error":"#DIV/0!"}},{"$f":"runoff!$B$1","v":{"$error":"#DIV/0!"}},0.13674985836286979,1.643666654598519E-2]
[{"$f":"runoff!A47","v":"07:10:00"},{"$f":"runoff!C47","v":{"$error":"#DIV/0!"}},{"$f":"runoff!$B$1","v":{"$error":"#DIV/0!"}},0.13872224949870823,1.6789819326364887E-2]
[{"$f":"runoff!A48","v":"07:20:00"},{"$f":"runoff!C48","v":{"$error":"#DIV/0!"}},{"$f":"runoff!$B$1","v":{"$error":"#DIV/0!"}},0.14071365639349703,1.7145465734926046E-2]
[{"$f":"runoff!A49","v":"07:30:00"},{"$f":"runoff!C49","v":{"$error":"#DIV/0!"}},{"$f":"runoff!$B$1","v":{"$error":"#DIV/0!"}},0.14272178525036042,1.7503588408536632E-2]
[{"$f":"runoff!A50","v":"07:40:00"},{"$f":"runoff!C50","v":{"$error":"#DIV/0!"}},{"$f":"runoff!$B$1","v":{"$error":"#DIV/0!"}},0.14495424513870081,1.7909415166725843E-2]
[{"$f":"runoff!A51","v":"07:50:00"},{"$f":"runoff!C51","v":{"$error":"#DIV/0!"}},{"$f":"runoff!$B$1","v":{"$error":"#DIV/0!"}},0.1473665356163236,1.8363955465091477E-2]
[{"$f":"runoff!A52","v":"08:00:00"},{"$f":"runoff!C52","v":{"$error":"#DIV/0!"}},{"$f":"runoff!$B$1","v":{"$error":"#DIV/0!"}},0.14981904352228109,1.8822277405333879E-2]
[{"$f":"runoff!A53","v":"08:10:00"},{"$f":"runoff!C53","v":{"$error":"#DIV/0!"}},{"$f":"runoff!$B$1","v":{"$error":"#DIV/0!"}},0.15240225591018003,1.9330762420885113E-2]
[{"$f":"runoff!A54","v":"08:20:00"},{"$f":"runoff!C54","v":{"$error":"#DIV/0!"}},{"$f":"runoff!$B$1","v":{"$error":"#DIV/0!"}},0.15509094449723257,1.9843745640501047E-2]
[{"$f":"runoff!A55","v":"08:30:00"},{"$f":"runoff!C55","v":{"$error":"#DIV/0!"}},{"$f":"runoff!$B$1","v":{"$error":"#DIV/0!"}},0.15788097514264363,2.0361187961108331E-2]
[{"$f":"runoff!A56","v":"08:40:00"},{"$f":"runoff!C56","v":{"$error":"#DIV/0!"}},{"$f":"runoff!$B$1","v":{"$error":"#DIV/0!"}},0.16095500796578463,2.097840758875286E-2]
[{"$f":"runoff!A57","v":"08:50:00"},{"$f":"runoff!C57","v":{"$error":"#DIV/0!"}},{"$f":"runoff!$B$1","v":{"$error":"#DIV/0!"}},0.16426417021164685,2.1601740878545658E-2]
[{"$f":"runoff!A58","v":"09:00:00"},{"$f":"runoff!C58","v":{"$error":"#DIV/0!"}},{"$f":"runoff!$B$1","v":{"$error":"#DIV/0!"}},0.16775790936059723,2.2328490965395218E-2]
[{"$f":"runoff!A59","v":"09:10:00"},{"$f":"runoff!C59","v":{"$error":"#DIV/0!"}},{"$f":"runoff!$B$1","v":{"$error":"#DIV/0!"}},0.17150019978533962,2.306321311432958E-2]
[{"$f":"runoff!A60","v":"09:20:00"},{"$f":"runoff!C60","v":{"$error":"#DIV/0!"}},{"$f":"runoff!$B$1","v":{"$error":"#DIV/0!"}},0.17556463381661469,2.3880513151241119E-2]
[{"$f":"runoff!A61","v":"09:30:00"},{"$f":"runoff!C61","v":{"$error":"#DIV/0!"}},{"$f":"runoff!$B$1","v":{"$error":"#DIV/0!"}},0.17998922746612336,2.4782867274823418E-2]
[{"$f":"runoff!A62","v":"09:40:00"},{"$f":"runoff!C62","v":{"$error":"#DIV/0!"}},{"$f":"runoff!$B$1","v":{"$error":"#DIV/0!"}},0.18479783587860163,2.5798481164806982E-2]
[{"$f":"runoff!A63","v":"09:50:00"},{"$f":"runoff!C63","v":{"$error":"#DIV/0!"}},{"$f":"runoff!$B$1","v":{"$error":"#DIV/0!"}},0.1900234250591242,2.6879408944060792E-2]
[{"$f":"runoff!A64","v":"10:00:00"},{"$f":"runoff!C64","v":{"$error":"#DIV/0!"}},{"$f":"runoff!$B$1","v":{"$error":"#DIV/0!"}},0.19578705343289193,2.8132729579442427E-2]
[{"$f":"runoff!A65","v":"10:10:00"},{"$f":"runoff!C65","v":{"$error":"#DIV/0!"}},{"$f":"runoff!$B$1","v":{"$error":"#DIV/0!"}},0.20218188200278672,2.9511808519118839E-2]
[{"$f":"runoff!A66","v":"10:20:00"},{"$f":"runoff!C66","v":{"$error":"#DIV/0!"}},{"$f":"runoff!$B$1","v":{"$error":"#DIV/0!"}},0.20929531873987811,3.1075745217183166E-2]
[{"$f":"runoff!A67","v":"10:30:00"},{"$f":"runoff!C67","v":{"$error":"#DIV/0!"}},{"$f":"runoff!$B$1","v":{"$error":"#DIV/0!"}},0.21737625630875843,3.2915556716909489E-2]
[{"$f":"runoff!A68","v":"10:40:00"},{"$f":"runoff!C68","v":{"$error":"#DIV/0!"}},{"$f":"runoff!$B$1","v":{"$error":"#DIV/0!"}},0.2266253375034093,3.5044767361346971E-2]
[{"$f":"runoff!A69","v":"10:50:00"},{"$f":"runoff!C69","v":{"$error":"#DIV/0!"}},{"$f":"runoff!$B$1","v":{"$error":"#DIV/0!"}},0.23731876063181601,3.7536149193771837E-2]
[{"$f":"runoff!A70","v":"11:00:00"},{"$f":"runoff!C70","v":{"$error":"#DIV/0!"}},{"$f":"runoff!$B$1","v":{"$error":"#DIV/0!"}},0.25042384255367423,3.9569506642202067E-2]
[{"$f":"runoff!A71","v":"11:10:00"},{"$f":"runoff!C71","v":{"$error":"#DIV/0!"}},{"$f":"runoff!$B$1","v":{"$error":"#DIV/0!"}},0.26813132577648885,4.0314279708366089E-2]
[{"$f":"runoff!A72","v":"11:20:00"},{"$f":"runoff!C72","v":{"$error":"#DIV/0!"}},{"$f":"runoff!$B$1","v":{"$error":"#DIV/0!"}},0.29285664151866603,4.1364202850250095E-2]
[{"$f":"runoff!A73","v":"11:30:00"},{"$f":"runoff!C73","v":{"$error":"#DIV/0!"}},{"$f":"runoff!$B$1","v":{"$error":"#DIV/0!"}},0.32761175058384995,4.2833060841851366E-2]
[{"$f":"runoff!A74","v":"11:40:00"},{"$f":"runoff!C74","v":{"$error":"#DIV/0!"}},{"$f":"runoff!$B$1","v":{"$error":"#DIV/0!"}},0.37837209295838919,4.5436197346646848E-2]
[{"$f":"runoff!A75","v":"11:50:00"},{"$f":"runoff!C75","v":{"$error":"#DIV/0!"}},{"$f":"runoff!$B$1","v":{"$error":"#DIV/0!"}},0.45932178582451288,5.1672801443418355E-2]
[{"$f":"runoff!A76","v":"12:00:00"},{"$f":"runoff!C76","v":{"$error":"#DIV/0!"}},{"$f":"runoff!$B$1","v":{"$error":"#DIV/0!"}},0.65964485580645571,6.4543880262372191E-2]
[{"$f":"runoff!A77","v":"12:10:00"},{"$f":"runoff!C77","v":{"$error":"#DIV/0!"}},{"$f":"runoff!$B$1","v":{"$error":"#DIV/0!"}},0.87471057009725162,7.5980405440903398E-2]
[{"$f":"runoff!A78","v":"12:20:00"},{"$f":"runoff!C78","v":{"$error":"#DIV/0!"}},{"$f":"runoff!$B$1","v":{"$error":"#DIV/0!"}},0.96334635362806642,8.0225396908997909E-2]
[{"$f":"runoff!A79","v":"12:30:00"},{"$f":"runoff!C79","v":{"$error":"#DIV/0!"}},{"$f":"runoff!$B$1","v":{"$error":"#DIV/0!"}},0.99387270712507203,8.1634170514156487E-2]
[{"$f":"runoff!A80","v":"12:40:00"},{"$f":"runoff!C80","v":{"$error":"#DIV/0!"}},{"$f":"runoff!$B$1","v":{"$error":"#DIV/0!"}},0.9997406828038955,8.1901882181726296E-2]
[{"$f":"runoff!A81","v":"12:50:00"},{"$f":"runoff!C81","v":{"$error":"#DIV/0!"}},{"$f":"runoff!$B$1","v":{"$error":"#DIV/0!"}},0.99180636247806397,8.1539145190908546E-2]
[{"$f":"runoff!A82","v":"13:00:00"},{"$f":"runoff!C82","v":{"$error":"#DIV/0!"}},{"$f":"runoff!$B$1","v":{"$error":"#DIV/0!"}},0.97516141011041557,8.0774918272329826E-2]
[{"$f":"runoff!A83","v":"13:10:00"},{"$f":"runoff!C83","v":{"$error":"#DIV/0!"}},{"$f":"runoff!$B$1","v":{"$error":"#DIV/0!"}},0.95265946073361318,7.9729305377408521E-2]
[{"$f":"runoff!A84","v":"13:20:00"},{"$f":"runoff!C84","v":{"$error":"#DIV/0!"}},{"$f":"runoff!$B$1","v":{"$error":"#DIV/0!"}},0.92603056295813746,7.8466639802788979E-2]
[{"$f":"runoff!A85","v":"13:30:00"},{"$f":"runoff!C85","v":{"$error":"#DIV/0!"}},{"$f":"runoff!$B$1","v":{"$error":"#DIV/0!"}},0.89659831934703682,7.705322135459565E-2]
[{"$f":"runoff!A86","v":"13:40:00"},{"$f":"runoff!C86","v":{"$error":"#DIV/0!"}},{"$f":"runoff!$B$1","v":{"$error":"#DIV/0!"}},0.86529397261365903,7.5522863234389587E-2]
[{"$f":"runoff!A87","v":"13:50:00"},{"$f":"runoff!C87","v":{"$error":"#DIV/0!"}},{"$f":"runoff!$B$1","v":{"$error":"#DIV/0!"}},0.83268181260734464,7.3886816779291306E-2]
[{"$f":"runoff!A88","v":"14:00:00"},{"$f":"runoff!C88","v":{"$error":"#DIV/0!"}},{"$f":"runoff!$B$1","v":{"$error":"#DIV/0!"}},0.79930383667402649,7.2182131076231393E-2]
[{"$f":"runoff!A89","v":"14:10:00"},{"$f":"runoff!C89","v":{"$error":"#DIV/0!"}},{"$f":"runoff!$B$1","v":{"$error":"#DIV/0!"}},0.76556588029743344,7.0416774406387009E-2]
[{"$f":"runoff!A90","v":"14:20:00"},{"$f":"runoff!C90","v":{"$error":"#DIV/0!"}},{"$f":"runoff!$B$1","v":{"$error":"#DIV/0!"}},0.7317538101143326,6.8592710990331374E-2]
[{"$f":"runoff!A91","v":"14:30:00"},{"$f":"runoff!C91","v":{"$error":"#DIV/0!"}},{"$f":"runoff!$B$1","v":{"$error":"#DIV/0!"}},0.69813903580573566,6.6739300011628741E-2]
[{"$f":"runoff!A92","v":"14:40:00"},{"$f":"runoff!C92","v":{"$error":"#DIV/0!"}},{"$f":"runoff!$B$1","v":{"$error":"#DIV/0!"}},0.66486519329975813,6.4854025417989195E-2]
[{"$f":"runoff!A93","v":"14:50:00"},{"$f":"runoff!C93","v":{"$error":"#DIV/0!"}},{"$f":"runoff!$B$1","v":{"$error":"#DIV/0!"}},0.6321904416917149,6.2941269732771032E-2]
[{"$f":"runoff!A94","v":"15:00:00"},{"$f":"runoff!C94","v":{"$error":"#DIV/0!"}},{"$f":"runoff!$B$1","v":{"$error":"#DIV/0!"}},0.60024982548828143,6.1013398708001536E-2]
[{"$f":"runoff!A95","v":"15:10:00"},{"$f":"runoff!C95","v":{"$error":"#DIV/0!"}},{"$f":"runoff!$B$1","v":{"$error":"#DIV/0!"}},0.56905798037313104,5.9068932374824273E-2]
[{"$f":"runoff!A96","v":"15:20:00"},{"$f":"runoff!C96","v":{"$error":"#DIV/0!"}},{"$f":"runoff!$B$1","v":{"$error":"#DIV/0!"}},0.53873902148753772,5.7122145210627931E-2]
[{"$f":"runoff!A97","v":"15:30:00"},{"$f":"runoff!C97","v":{"$error":"#DIV/0!"}},{"$f":"runoff!$B$1","v":{"$error":"#DIV/0!"}},0.50941058913995318,5.5172791542471941E-2]
[{"$f":"runoff!A98","v":"15:40:00"},{"$f":"runoff!C98","v":{"$error":"#DIV/0!"}},{"$f":"runoff!$B$1","v":{"$error":"#DIV/0!"}},0.48118661258484147,5.3229157660269949E-2]
[{"$f":"runoff!A99","v":"15:50:00"},{"$f":"runoff!C99","v":{"$error":"#DIV/0!"}},{"$f":"runoff!$B$1","v":{"$error":"#DIV/0!"}},0.45406151191189642,5.1291893797777648E-2]
[{"$f":"runoff!A100","v":"16:00:00"},{"$f":"runoff!C100","v":{"$error":"#DIV/0!"}},{"$f":"runoff!$B$1","v":{"$error":"#DIV/0!"}},0.42803332544191713,4.9352510220510827E-2]
[{"$f":"runoff!A101","v":"16:10:00"},{"$f":"runoff!C101","v":{"$error":"#DIV/0!"}},{"$f":"runoff!$B$1","v":{"$error":"#DIV/0!"}},0.40320619985627665,4.7439595215043602E-2]
[{"$f":"runoff!A102","v":"16:20:00"},{"$f":"runoff!C102","v":{"$error":"#DIV/0!"}},{"$f":"runoff!$B$1","v":{"$error":"#DIV/0!"}},0.37966954830484639,4.5556483146388597E-2]
[{"$f":"runoff!A103","v":"16:30:00"},{"$f":"runoff!C103","v":{"$error":"#DIV/0!"}},{"$f":"runoff!$B$1","v":{"$error":"#DIV/0!"}},0.35710438991921095,4.4084693355821464E-2]
[{"$f":"runoff!A104","v":"16:40:00"},{"$f":"runoff!C104","v":{"$error":"#DIV/0!"}},{"$f":"runoff!$B$1","v":{"$error":"#DIV/0!"}},0.33507127282123966,4.3153727023116435E-2]
[{"$f":"runoff!A105","v":"16:50:00"},{"$f":"runoff!C105","v":{"$error":"#DIV/0!"}},{"$f":"runoff!$B$1","v":{"$error":"#DIV/0!"}},0.3135418070423529,4.2243448831138182E-2]
[{"$f":"runoff!A106","v":"17:00:00"},{"$f":"runoff!C106","v":{"$error":"#DIV/0!"}},{"$f":"runoff!$B$1","v":{"$error":"#DIV/0!"}},0.29249928293042532,4.1348686744705015E-2]
[{"$f":"runoff!A107","v":"17:10:00"},{"$f":"runoff!C107","v":{"$error":"#DIV/0!"}},{"$f":"runoff!$B$1","v":{"$error":"#DIV/0!"}},0.2718139933111075,4.0469440763816929E-2]
[{"$f":"runoff!A108","v":"17:20:00"},{"$f":"runoff!C108","v":{"$error":"#DIV/0!"}},{"$f":"runoff!$B$1","v":{"$error":"#DIV/0!"}},0.25146922853227399,3.9610882923655624E-2]
[{"$f":"runoff!A109","v":"17:30:00"},{"$f":"runoff!C109","v":{"$error":"#DIV/0!"}},{"$f":"runoff!$B$1","v":{"$error":"#DIV/0!"}},0.23263761411656084,3.6440948310389555E-2]
[{"$f":"runoff!A110","v":"17:40:00"},{"$f":"runoff!C110","v":{"$error":"#DIV/0!"}},{"$f":"runoff!$B$1","v":{"$error":"#DIV/0!"}},0.21663947255516627,3.2721691739298606E-2]
[{"$f":"runoff!A111","v":"17:50:00"},{"$f":"runoff!C111","v":{"$error":"#DIV/0!"}},{"$f":"runoff!$B$1","v":{"$error":"#DIV/0!"}},0.20336967847004575,2.977952877846261E-2]
[{"$f":"runoff!A112","v":"18:00:00"},{"$f":"runoff!C112","v":{"$error":"#DIV/0!"}},{"$f":"runoff!$B$1","v":{"$error":"#DIV/0!"}},0.19232559846920805,2.7399311223352422E-2]
[{"$f":"runoff!A113","v":"18:10:00"},{"$f":"runoff!C113","v":{"$error":"#DIV/0!"}},{"$f":"runoff!$B$1","v":{"$error":"#DIV/0!"}},0.18305292985494273,2.5441470774222392E-2]
[{"$f":"runoff!A114","v":"18:20:00"},{"$f":"runoff!C114","v":{"$error":"#DIV/0!"}},{"$f":"runoff!$B$1","v":{"$error":"#DIV/0!"}},0.17510412398375014,2.3780941946694934E-2]
[{"$f":"runoff!A115","v":"18:30:00"},{"$f":"runoff!C115","v":{"$error":"#DIV/0!"}},{"$f":"runoff!$B$1","v":{"$error":"#DIV/0!"}},0.168212178836947,2.2401605871378502E-2]
[{"$f":"runoff!A116","v":"18:40:00"},{"$f":"runoff!C116","v":{"$error":"#DIV/0!"}},{"$f":"runoff!$B$1","v":{"$error":"#DIV/0!"}},0.16226156864555016,2.1241382876647976E-2]
[{"$f":"runoff!A117","v":"18:50:00"},{"$f":"runoff!C117","v":{"$error":"#DIV/0!"}},{"$f":"runoff!$B$1","v":{"$error":"#DIV/0!"}},0.15708725625787234,2.021962729665398E-2]
[{"$f":"runoff!A118","v":"19:00:00"},{"$f":"runoff!C118","v":{"$error":"#DIV/0!"}},{"$f":"runoff!$B$1","v":{"$error":"#DIV/0!"}},0.15255328248047434,1.9353982554375038E-2]
[{"$f":"runoff!A119","v":"19:10:00"},{"$f":"runoff!C119","v":{"$error":"#DIV/0!"}},{"$f":"runoff!$B$1","v":{"$error":"#DIV/0!"}},0.14853945406360808,1.8592645682168576E-2]
[{"$f":"runoff!A120","v":"19:20:00"},{"$f":"runoff!C120","v":{"$error":"#DIV/0!"}},{"$f":"runoff!$B$1","v":{"$error":"#DIV/0!"}},0.1449511321113377,1.7932051881083891E-2]
[{"$f":"runoff!A121","v":"19:30:00"},{"$f":"runoff!C121","v":{"$error":"#DIV/0!"}},{"$f":"runoff!$B$1","v":{"$error":"#DIV/0!"}},0.1417174688079095,1.732421860967719E-2]
[{"$f":"runoff!A122","v":"19:40:00"},{"$f":"runoff!C122","v":{"$error":"#DIV/0!"}},{"$f":"runoff!$B$1","v":{"$error":"#DIV/0!"}},0.13878022052973624,1.6789819326364887E-2]
[{"$f":"runoff!A123","v":"19:50:00"},{"$f":"runoff!C123","v":{"$error":"#DIV/0!"}},{"$f":"runoff!$B$1","v":{"$error":"#DIV/0!"}},0.13618792523276027,1.6326820483749702E-2]
[{"$f":"runoff!A124","v":"20:00:00"},{"$f":"runoff!C124","v":{"$error":"#DIV/0!"}},{"$f":"runoff!$B$1","v":{"$error":"#DIV/0!"}},0.13388555339793354,1.5911651825041565E-2]
[{"$f":"runoff!A125","v":"20:10:00"},{"$f":"runoff!C125","v":{"$error":"#DIV/0!"}},{"$f":"runoff!$B$1","v":{"$error":"#DIV/0!"}},0.13172403596935048,1.5521635936888453E-2]
[{"$f":"runoff!A126","v":"20:20:00"},{"$f":"runoff!C126","v":{"$error":"#DIV/0!"}},{"$f":"runoff!$B$1","v":{"$error":"#DIV/0!"}},0.12968039082066135,1.5156261885271336E-2]
[{"$f":"runoff!A127","v":"20:30:00"},{"$f":"runoff!C127","v":{"$error":"#DIV/0!"}},{"$f":"runoff!$B$1","v":{"$error":"#DIV/0!"}},0.12783767402195892,1.4836291178583861E-2]
[{"$f":"runoff!A128","v":"20:40:00"},{"$f":"runoff!C128","v":{"$error":"#DIV/0!"}},{"$f":"runoff!$B$1","v":{"$error":"#DIV/0!"}},0.12615438728663955,1.4560830081274793E-2]
[{"$f":"runoff!A129","v":"20:50:00"},{"$f":"runoff!C129","v":{"$error":"#DIV/0!"}},{"$f":"runoff!$B$1","v":{"$error":"#DIV/0!"}},0.12450349163690366,1.4266110493152975E-2]
[{"$f":"runoff!A130","v":"21:00:00"},{"$f":"runoff!C130","v":{"$error":"#DIV/0!"}},{"$f":"runoff!$B$1","v":{"$error":"#DIV/0!"}},0.12298908794038252,1.4015097515976177E-2]
[{"$f":"runoff!A131","v":"21:10:00"},{"$f":"runoff!C131","v":{"$error":"#DIV/0!"}},{"$f":"runoff!$B$1","v":{"$error":"#DIV/0!"}},0.12159031635516905,1.3765574251986325E-2]
[{"$f":"runoff!A132","v":"21:20:00"},{"$f":"runoff!C132","v":{"$error":"#DIV/0!"}},{"$f":"runoff!$B$1","v":{"$error":"#DIV/0!"}},0.12019041301633905,1.3517549648812032E-2]
[{"$f":"runoff!A133","v":"21:30:00"},{"$f":"runoff!C133","v":{"$error":"#DIV/0!"}},{"$f":"runoff!$B$1","v":{"$error":"#DIV/0!"}},0.11888446062865744,1.3312013857831482E-2]
[{"$f":"runoff!A134","v":"21:40:00"},{"$f":"runoff!C134","v":{"$error":"#DIV/0!"}},{"$f":"runoff!$B$1","v":{"$error":"#DIV/0!"}},0.11765236323782069,1.3107530488981492E-2]
[{"$f":"runoff!A135","v":"21:50:00"},{"$f":"runoff!C135","v":{"$error":"#DIV/0!"}},{"$f":"runoff!$B$1","v":{"$error":"#DIV/0!"}},0.11649314686431607,1.2904104986945204E-2]
[{"$f":"runoff!A136","v":"22:00:00"},{"$f":"runoff!C136","v":{"$error":"#DIV/0!"}},{"$f":"runoff!$B$1","v":{"$error":"#DIV/0!"}},0.11538719227217008,1.2742129962704454E-2]
[{"$f":"runoff!A137","v":"22:10:00"},{"$f":"runoff!C137","v":{"$error":"#DIV/0!"}},{"$f":"runoff!$B$1","v":{"$error":"#DIV/0!"}},0.11433361415913658,1.2540622615534788E-2]
[{"$f":"runoff!A138","v":"22:20:00"},{"$f":"runoff!C138","v":{"$error":"#DIV/0!"}},{"$f":"runoff!$B$1","v":{"$error":"#DIV/0!"}},0.11333170090526581,1.2380189434518539E-2]
[{"$f":"runoff!A139","v":"22:30:00"},{"$f":"runoff!C139","v":{"$error":"#DIV/0!"}},{"$f":"runoff!$B$1","v":{"$error":"#DIV/0!"}},0.1123621767228635,1.2220446294019837E-2]
[{"$f":"runoff!A140","v":"22:40:00"},{"$f":"runoff!C140","v":{"$error":"#DIV/0!"}},{"$f":"runoff!$B$1","v":{"$error":"#DIV/0!"}},0.11142440326972641,1.206139618777716E-2]
[{"$f":"runoff!A141","v":"22:50:00"},{"$f":"runoff!C141","v":{"$error":"#DIV/0!"}},{"$f":"runoff!$B$1","v":{"$error":"#DIV/0!"}},0.11049949799772632,1.1942565234889731E-2]
[{"$f":"runoff!A142","v":"23:00:00"},{"$f":"runoff!C142","v":{"$error":"#DIV/0!"}},{"$f":"runoff!$B$1","v":{"$error":"#DIV/0!"}},0.1095868977688569,1.1784735260993976E-2]
[{"$f":"runoff!A143","v":"23:10:00"},{"$f":"runoff!C143","v":{"$error":"#DIV/0!"}},{"$f":"runoff!$B$1","v":{"$error":"#DIV/0!"}},0.10870427837481265,1.1627606759435244E-2]
[{"$f":"runoff!A144","v":"23:20:00"},{"$f":"runoff!C144","v":{"$error":"#DIV/0!"}},{"$f":"runoff!$B$1","v":{"$error":"#DIV/0!"}},0.10783297250958583,1.1510222615222878E-2]
[{"$f":"runoff!A145","v":"23:30:00"},{"$f":"runoff!C145","v":{"$error":"#DIV/0!"}},{"$f":"runoff!$B$1","v":{"$error":"#DIV/0!"}},0.10697241009399014,1.1354329285234445E-2]
[{"$f":"runoff!A146","v":"23:40:00"},{"$f":"runoff!C146","v":{"$error":"#DIV/0!"}},{"$f":"runoff!$B$1","v":{"$error":"#DIV/0!"}},0.10612216187189814,1.1237875195964841E-2]
[{"$f":"runoff!A147","v":"23:50:00"},{"$f":"runoff!C147","v":{"$error":"#DIV/0!"}},{"$f":"runoff!$B$1","v":{"$error":"#DIV/0!"}},0.10528165321103077,1.1083226902581154E-2]
[{"$f":"runoff!A148","v":1},{"$f":"runoff!C148","v":{"$error":"#DIV/0!"}},{"$f":"runoff!$B$1","v":{"$error":"#DIV/0!"}},0.10456583601468633,1.0967710356165106E-2]

{"sheet":"浸透計算","index":16,"n_rows":149,"n_cols":7,"rows_kept":149,"cut":false,"hidden":true,"merged":[]}
[8,9,10]
[null,{"$f":"MAX(B5:B149)","v":0.38900000000000001},{"$f":"MAX(C5:C149)","v":0.38420300000000002}]
[]
["時刻","浸透考慮前","浸透考慮後","許容放流量"]
["00:00:00",0,0,{"$f":"事前相談チェックシート!U25","v":99999},null,null,0]
["00:10:00",1.025E-2,0,{"$f":"D5","v":99999},null,null,{"$f":"G5+1/6","v":0.16666666666666666}]
["00:20:00",1.025E-2,0,{"$f":"D6","v":99999},null,null,{"$f":"G6+1/6","v":0.33333333333333331}]
["00:30:00",1.0500000000000001E-2,0,99999,null,null,0.5]
["00:40:00",1.0500000000000001E-2,0,99999,null,null,0.66666666666666663]
["00:50:00",1.0749999999999999E-2,0,99999,null,null,0.83333333333333326]
["01:00:00",1.0749999999999999E-2,0,99999,null,null,0.99999999999999989]
["01:10:00",1.0749999999999999E-2,0,99999,null,null,1.1666666666666665]
["01:20:00",1.0999999999999999E-2,0,99999,null,null,1.3333333333333333]
["01:30:00",1.0999999999999999E-2,0,99999,null,null,1.5]
["01:40:00",1.125E-2,0,99999,null,null,1.6666666666666667]
["01:50:00",1.125E-2,0,99999,null,null,1.8333333333333335]
["02:00:00",1.15E-2,0,99999,null,null,2]
["02:10:00",1.15E-2,0,99999,null,null,2.1666666666666665]
["02:20:00",1.175E-2,0,99999,null,null,2.333333333333333]
["02:30:00",1.2E-2,0,99999,null,null,2.4999999999999996]
["02:40:00",1.2E-2,0,99999,null,null,2.6666666666666661]
["02:50:00",1.225E-2,0,99999,null,null,2.8333333333333326]
["03:00:00",1.225E-2,0,99999,null,null,2.9999999999999991]
["03:10:00",1.2500000000000001E-2,0,99999,null,null,3.1666666666666656]
["03:20:00",1.2749999999999999E-2,0,99999,null,null,3.3333333333333321]
["03:30:00",1.2749999999999999E-2,0,99999,null,null,3.4999999999999987]
["03:40:00",1.2999999999999999E-2,0,99999,null,null,3.6666666666666652]
["03:50:00",1.325E-2,0,99999,null,null,3.8333333333333317]
["04:00:00",1.325E-2,0,99999,null,null,3.9999999999999982]
["04:10:00",1.35E-2,0,99999,null,null,4.1666666666666652]
["04:20:00",1.375E-2,0,99999,null,null,4.3333333333333321]
["04:30:00",1.4E-2,0,99999,null,null,4.4999999999999991]
["04:40:00",1.4250000000000001E-2,1.84E-4,99999,null,null,4.6666666666666661]
["04:50:00",1.4500000000000001E-2,9.7029999999999998E-3,99999,null,null,4.833333333333333]
["05:00:00",1.4749999999999999E-2,9.953E-3,99999,null,null,5]
["05:10:00",1.4999999999999999E-2,1.0203E-2,99999,null,null,5.166666666666667]
["05:20:00",1.525E-2,1.0453E-2,99999,null,null,5.3333333333333339]
["05:30:00",1.55E-2,1.0703000000000001E-2,99999,null,null,5.5000000000000009]
["05:40:00",1.575E-2,1.0952999999999999E-2,99999,null,null,5.6666666666666679]
["05:50:00",1.6E-2,1.1202999999999999E-2,99999,null,null,5.8333333333333348]
["06:00:00",1.6250000000000001E-2,1.1453E-2,99999,null,null,6.0000000000000018]
["06:10:00",1.6500000000000001E-2,1.1703E-2,99999,null,null,6.1666666666666687]
["06:20:00",1.7000000000000001E-2,1.2203E-2,99999,null,null,6.3333333333333357]
["06:30:00",1.7250000000000001E-2,1.2453000000000001E-2,99999,null,null,6.5000000000000027]
["06:40:00",1.7749999999999998E-2,1.2952999999999999E-2,99999,null,null,6.6666666666666696]
["06:50:00",1.7999999999999999E-2,1.3202999999999999E-2,99999,null,null,6.8333333333333366]
["07:00:00",1.8499999999999999E-2,1.3703E-2,99999,null,null,7.0000000000000036]
["07:10:00",1.9E-2,1.4203E-2,99999,null,null,7.1666666666666705]
["07:20:00",1.925E-2,1.4453000000000001E-2,99999,null,null,7.3333333333333375]
["07:30:00",1.975E-2,1.4952999999999999E-2,99999,null,null,7.5000000000000044]
["07:40:00",2.0500000000000001E-2,1.5703000000000002E-2,99999,null,null,7.6666666666666714]
["07:50:00",2.1000000000000001E-2,1.6202999999999999E-2,99999,null,null,7.8333333333333384]
["08:00:00",2.1499999999999998E-2,1.6702999999999999E-2,99999,null,null,8.0000000000000053]
["08:10:00",2.2249999999999999E-2,1.7453E-2,99999,null,null,8.1666666666666714]
["08:20:00",2.2749999999999999E-2,1.7953E-2,99999,null,null,8.3333333333333375]
["08:30:00",2.35E-2,1.8703000000000001E-2,99999,null,null,8.5000000000000036]
["08:40:00",2.4500000000000001E-2,1.9702999999999998E-2,99999,null,null,8.6666666666666696]
["08:50:00",2.5250000000000002E-2,2.0452999999999999E-2,99999,null,null,8.8333333333333357]
["09:00:00",2.6249999999999999E-2,2.1453E-2,99999,null,null,9.0000000000000018]
["09:10:00",2.725E-2,2.2453000000000001E-2,99999,null,null,9.1666666666666679]
["09:20:00",2.8500000000000001E-2,2.3702999999999998E-2,99999,null,null,9.3333333333333339]
["09:30:00",2.9749999999999999E-2,2.4952999999999999E-2,99999,null,null,9.5]
["09:40:00",3.125E-2,2.6453000000000001E-2,99999,null,null,9.6666666666666661]
["09:50:00",3.2750000000000001E-2,2.7952999999999999E-2,99999,null,null,9.8333333333333321]
["10:00:00",3.4750000000000003E-2,2.9953E-2,99999,null,null,9.9999999999999982]
["10:10:00",3.6749999999999998E-2,3.1953000000000002E-2,99999,null,null,10.166666666666664]
["10:20:00",3.925E-2,3.4452999999999998E-2,99999,null,null,10.33333333333333]
["10:30:00",4.2250000000000003E-2,3.7453E-2,99999,null,null,10.499999999999996]
["10:40:00",4.5749999999999999E-2,4.0953000000000003E-2,99999,null,null,10.666666666666663]
["10:50:00",0.05,4.5203E-2,99999,null,null,10.833333333333329]
["11:00:00",5.5500000000000001E-2,5.0702999999999998E-2,{"$f":"D70","v":99999},null,null,{"$f":"G70+1/6","v":10.999999999999995}]
["11:10:00",6.275E-2,5.7952999999999998E-2,99999,null,null,11.166666666666661]
["11:20:00",7.2499999999999995E-2,6.7702999999999999E-2,99999,null,null,11.333333333333327]
["11:30:00",8.6999999999999994E-2,8.2202999999999998E-2,99999,null,null,11.499999999999993]
["11:40:00",0.11125,0.10645300000000001,99999,null,null,11.666666666666659]
["11:50:00",0.16125,0.15645300000000001,99999,null,null,11.833333333333325]
["12:00:00",0.38900000000000001,0.38420300000000002,99999,null,null,11.999999999999991]
["12:10:00",0.2175,0.212703,99999,null,null,12.166666666666657]
["12:20:00",0.13075000000000001,0.12595300000000001,99999,null,null,12.333333333333323]
["12:30:00",9.7250000000000003E-2,9.2452999999999994E-2,99999,null,null,12.499999999999989]
["12:40:00",7.9000000000000001E-2,7.4203000000000005E-2,99999,null,null,12.666666666666655]
["12:50:00",6.7250000000000004E-2,6.2453000000000002E-2,99999,null,null,12.833333333333321]
["13:00:00",5.8999999999999997E-2,5.4203000000000001E-2,99999,null,null,12.999999999999988]
["13:10:00",5.2749999999999998E-2,4.7953000000000003E-2,99999,null,null,13.166666666666654]
["13:20:00",4.7750000000000001E-2,4.2952999999999998E-2,99999,null,null,13.33333333333332]
["13:30:00",4.3999999999999997E-2,3.9203000000000002E-2,99999,null,null,13.499999999999986]
["13:40:00",4.0750000000000001E-2,3.5952999999999999E-2,99999,null,null,13.666666666666652]
["13:50:00",3.7999999999999999E-2,3.3203000000000003E-2,99999,null,null,13.833333333333318]
["14:00:00",3.5749999999999997E-2,3.0953000000000001E-2,99999,null,null,13.999999999999984]
["14:10:00",3.3750000000000002E-2,2.8953E-2,99999,null,null,14.16666666666665]
["14:20:00",3.2000000000000001E-2,2.7203000000000001E-2,99999,null,null,14.333333333333316]
["14:30:00",3.0499999999999999E-2,2.5703E-2,99999,null,null,14.499999999999982]
["14:40:00",2.9000000000000001E-2,2.4202999999999999E-2,99999,null,null,14.666666666666648]
["14:50:00",2.8000000000000001E-2,2.3203000000000001E-2,99999,null,null,14.833333333333314]
["15:00:00",2.6749999999999999E-2,2.1953E-2,99999,null,null,14.99999999999998]
["15:10:00",2.5749999999999999E-2,2.0952999999999999E-2,99999,null,null,15.166666666666647]
["15:20:00",2.4750000000000001E-2,1.9952999999999999E-2,99999,null,null,15.333333333333313]
["15:30:00",2.4E-2,1.9203000000000001E-2,99999,null,null,15.499999999999979]
["15:40:00",2.325E-2,1.8453000000000001E-2,99999,null,null,15.666666666666645]
["15:50:00",2.2499999999999999E-2,1.7703E-2,99999,null,null,15.833333333333311]
["16:00:00",2.1749999999999999E-2,1.6952999999999999E-2,99999,null,null,15.999999999999977]
["16:10:00",2.1250000000000002E-2,1.6452999999999999E-2,99999,null,null,16.166666666666643]
["16:20:00",2.0750000000000001E-2,1.5952999999999998E-2,99999,null,null,16.333333333333311]
["16:30:00",0.02,1.5203E-2,99999,null,null,16.499999999999979]
["16:40:00",1.95E-2,1.4703000000000001E-2,99999,null,null,16.666666666666647]
["16:50:00",1.925E-2,1.4453000000000001E-2,99999,null,null,16.833333333333314]
["17:00:00",1.8749999999999999E-2,1.3953E-2,99999,null,null,16.999999999999982]
["17:10:00",1.8249999999999999E-2,1.3453E-2,99999,null,null,17.16666666666665]
["17:20:00",1.7749999999999998E-2,1.2952999999999999E-2,99999,null,null,17.333333333333318]
["17:30:00",1.7500000000000002E-2,1.2703000000000001E-2,99999,null,null,17.499999999999986]
["17:40:00",1.7000000000000001E-2,1.2203E-2,99999,null,null,17.666666666666654]
["17:50:00",1.6750000000000001E-2,1.1953E-2,99999,null,null,17.833333333333321]
["18:00:00",1.6500000000000001E-2,1.1703E-2,99999,null,null,17.999999999999989]
["18:10:00",1.6250000000000001E-2,1.1453E-2,99999,null,null,18.166666666666657]
["18:20:00",1.575E-2,1.0952999999999999E-2,99999,null,null,18.333333333333325]
["18:30:00",1.55E-2,1.0703000000000001E-2,99999,null,null,18.499999999999993]
["18:40:00",1.525E-2,1.0453E-2,99999,null,null,18.666666666666661]
["18:50:00",1.4999999999999999E-2,1.0203E-2,99999,null,null,18.833333333333329]
["19:00:00",1.4749999999999999E-2,9.953E-3,99999,null,null,18.999999999999996]
["19:10:00",1.4500000000000001E-2,9.7029999999999998E-3,99999,null,null,19.166666666666664]
["19:20:00",1.4250000000000001E-2,9.4529999999999996E-3,99999,null,null,19.333333333333332]
["19:30:00",1.4E-2,9.2029999999999994E-3,99999,null,null,19.5]
["19:40:00",1.375E-2,8.9529999999999992E-3,99999,null,null,19.666666666666668]
["19:50:00",1.375E-2,8.9529999999999992E-3,99999,null,null,19.833333333333336]
["20:00:00",1.35E-2,8.7030000000000007E-3,99999,null,null,20.000000000000004]
["20:10:00",1.325E-2,8.4530000000000004E-3,99999,null,null,20.166666666666671]
["20:20:00",1.2999999999999999E-2,8.2030000000000002E-3,99999,null,null,20.333333333333339]
["20:30:00",1.2999999999999999E-2,8.2030000000000002E-3,99999,null,null,20.500000000000007]
["20:40:00",1.2749999999999999E-2,7.953E-3,99999,null,null,20.666666666666675]
["20:50:00",1.2500000000000001E-2,7.7029999999999998E-3,99999,null,null,20.833333333333343]
["21:00:00",1.2500000000000001E-2,7.7029999999999998E-3,99999,null,null,21.000000000000011]
["21:10:00",1.225E-2,7.4530000000000004E-3,99999,null,null,21.166666666666679]
["21:20:00",1.2E-2,7.2030000000000002E-3,99999,null,null,21.333333333333346]
["21:30:00",1.2E-2,7.2030000000000002E-3,99999,null,null,21.500000000000014]
["21:40:00",1.175E-2,6.953E-3,{"$f":"D134","v":99999},null,null,{"$f":"G134+1/6","v":21.666666666666682}]
["21:50:00",1.175E-2,6.953E-3,99999,null,null,21.83333333333335]
["22:00:00",1.15E-2,6.7029999999999998E-3,99999,null,null,22.000000000000018]
["22:10:00",1.15E-2,6.7029999999999998E-3,99999,null,null,22.166666666666686]
["22:20:00",1.125E-2,6.4530000000000004E-3,99999,null,null,22.333333333333353]
["22:30:00",1.125E-2,6.4530000000000004E-3,99999,null,null,22.500000000000021]
["22:40:00",1.0999999999999999E-2,6.2030000000000002E-3,99999,null,null,22.666666666666689]
["22:50:00",1.0999999999999999E-2,6.2030000000000002E-3,99999,null,null,22.833333333333357]
["23:00:00",1.0749999999999999E-2,5.953E-3,99999,null,null,23.000000000000025]
["23:10:00",1.0749999999999999E-2,5.953E-3,99999,null,null,23.166666666666693]
["23:20:00",1.0500000000000001E-2,5.7029999999999997E-3,99999,null,null,23.333333333333361]
["23:30:00",1.0500000000000001E-2,5.7029999999999997E-3,99999,null,null,23.500000000000028]
["23:40:00",1.025E-2,5.4530000000000004E-3,99999,null,null,23.666666666666696]
["23:50:00",1.025E-2,5.4530000000000004E-3,99999,null,null,23.833333333333364]
[1,1.025E-2,5.4530000000000004E-3,99999,null,null,24.000000000000032]