{"text_format":"1","workbook":"xlsx","n_sheets":14,"sheets":["説明","事業所","４月分","５月分","６月分","７月分","８月分","９月分","１０月分","１１月分","１２月分","１月分","２月分","３月分"],"not_rendered":{"charts":0,"images":5,"macros":1,"external_links":0,"defined_names":1,"comments":0,"pivot_tables":0},"unopened":[],"bounds":{"document_bytes":16777216,"sheet_cells":100000,"rows_first":2000,"rows_last":500,"rows_between":2000,"halvings":0,"cell_chars":16384,"cell_head_chars":4096},"cells_cut":0,"cells_raw":0,"read":"whole","date_system":"1900"}

{"sheet":"説明","index":0,"n_rows":118,"n_cols":10,"rows_kept":118,"cut":false,"hidden":false,"merged":[[110,1,110,9],[91,1,91,9],[94,1,94,9],[98,1,98,9],[100,1,100,2],[100,3,100,4],[106,1,106,9],[99,5,99,6],[100,5,100,6],[100,7,100,8],[104,1,104,9],[4,1,4,9],[15,1,15,9],[18,1,18,9],[11,1,11,9],[99,7,99,8],[92,1,92,9],[57,1,57,9],[86,1,86,9],[89,1,89,9],[99,1,99,2],[99,3,99,4],[13,1,13,9]]}
[]
[null,"汚濁負荷量等測定結果 電子報告についての入力説明"]
[]
[null,"【報告の方法】"]
[null,"　下記の「入力についての注意」及び「記入要領」に従い、「事業所」シート及び「各月分」のシートに必要なデータを入力してください。"]
[]
[null,"すべての入力を終えましたら下のボタンを押してください。入力のチェックが行われます。"]
[]
[]
[]
[null,"〔電子申請・届出サービスによる報告方法〕"]
[null,"１）ファイル名を以下の通り変更し、、「提出前報告書入力チェック」ボタンを押してください。\n　　　「XXXX_工場番号.xls」(XXXXは報告年度）\n２）チェック完了後、作成された報告用ファイルをメールに添付してください。"]
[]
[]
[]
[]
[null,"【入力についての注意】"]
[null,null,"色のセルが記入項目となります。"]
[null,"値を入力する際には、セルのコピー＆ペーストやドラッグ＆ドロップは絶対にしないでください。\n報告書の数値が読みとれなくなりますので、セルのコピー等はしないで、個々の数値を入力してください。\n\n"]
[]
[null,"【記入要領】"]
[null,"１．事業所情報の入力"]
[null,"シート名”事業所”のシートに以下の入力項目あります。すべての項目について入力をお願いします。"]
[]
[]
[]
[]
[]
[]
[]
[]
[null,"市町村：数値３桁の市町村番号を入力します。"]
[null,"事業所：数値４桁の事業所番号を入力します。（前０の入力は不要です。）"]
[null,"チェックデジット：チェックデジット用の数値１桁を入力します。(0でも入力をお願いします。）"]
[null,"住所：市町村名からの住所を入力します。"]
[null,"名称：事業所の正式名称を入力します。"]
[null,"報告書作成担当者：この報告書を入力する担当者名を入力します。"]
[null,"所属・ＴＥＬ：担当者の所属と電話番号を入力します。"]
[null,"※市町村、事業所、チェックデジットの値は別途メールを参照してください。"]
[]
[null,"２．月データの入力"]
[null,"シート名”○月分”のシートには大きく分けて４つの入力項目のグループがあります。"]
[null,"1)稼働（排水）日数"]
[]
[null,"当月の特定排出水を排出した日数（排水日数）を入力します。"]
[]
[null,"２)最終排水口における実測データ（当該月に未測定は報告不要）"]
[]
[]
[]
[]
[]
[]
[null,"最終排水口で採水した検体を自主測定した結果について入力します。"]
[null,"・最終排水口での自主測定と汚濁負荷量測定の検体採取位置が同じ場合には、ＢＯＤのみ記入します。"]
[null,"・最終排水口での水質測定を一月当たり複数回行っている場合は平均、最小及び最大を記入します。"]
[null,"・測定回数が１回の場合は平均の欄のみ記入します。"]
[null,"・排水口が複数ある場合は、当該排水口の届出あるいは実測の水量と水質（BOD、COD、全窒素及び全りん）がわかる表を添付してください。"]
[]
[]
[null,"３）非特定排出水（冷却水等）"]
[]
[]
[]
[null,"水質総量規制の対象外である間接冷却水等の非特定排出水について入力します。"]
[]
[null,"４）特定排出水"]
[]
[]
[]
[]
[]
[]
[]
[]
[]
[]
[]
[]
[]
[]
[null,"汚濁負荷量測定ごとの特定排出水の排水量および水質を入力します。"]
[null,"汚濁負荷量、月平均等の水色のセルの項目は自動計算されますので、入力を行う必要はありません。"]
[]
[]
[null,"【注意事項】"]
[null,"１．汚濁負荷量は次の式により求めます。"]
[null,null,"汚染状態測定結果(ｍｇ/L) × 特定排出水量(m3/日) ÷ 1000 ＝ 汚濁負荷量(kg/日)"]
[]
[null,"２．特定排水量は整数で、ＣＯＤ及び窒素含有量は小数点以下第１位まで、りん含有量は小数点以下第２位まで入力が可能です。それ以下の端数は四捨五入してください。\nまた、自動計算の結果（水色のセル）ではそれ以下の端数は四捨五入されます。\n"]
[]
[null,"３．原則として通常の操業状態での数値を記入してください。機器の故障や雨水の流入などがあった異常日、休みなどのため排水量が著しく少ない日などは除き、その旨を申請入力画面※の備考欄に入力してください。"]
[null,"　※電子申請・届出サービスでの申込画面を指します。"]
[]
[null,"４．測定場所が複数の場合は、特定排出水量は合計、汚染状態測定結果（濃度）は特定排出水量で加重平均して１つのデータにして入力してください。その場合各項目の分析データ（濃度）については、排水口ごとのデータが分かるような資料を添付してください。"]
[]
[]
[null,"【測定回数】"]
[null,"COD、窒素含有量及びりん含有量に係る汚染状態の測定回数及び特定排出水量の測定回数は、日平均排水量（特定施設の届出書記入数値）によって原則として下表のとおり定められています。"]
[null,"日平均排水量",null,"400m3／日以上",null,"200～400m3／日",null,"100～200m3／日",null,"50～100m3／日"]
[null,"測定回数",null,"毎日",null,"１回／７日",null,"1回／14日",null,"1回／30日"]
[]
[]
[null,"【その他】"]
[null,"１．事業場の名称、所在地に変更があった場合は、変更内容を申請入力画面の備考欄に記入してくださるようお願いします。また、管轄の環境管理事務所長あてに該当する届出書の提出もお願いします。"]
[]
[null,"２．事業場等の名称、所在地に誤りがあった場合、また、メールの送信先に変更がある場合等は、お手数ですが、申請入力画面の備考欄に訂正事項や必要な内容を記入してくださるようお願いします。\n"]
[]
[null,"３．その他連絡事項がある場合は、申請入力画面の備考欄に記入してください。"]
[]
[null,"４．測定結果の報告は当該年度の4月～3月分をまとめて御報告いただきます。"]
[]
[null,"【お問い合わせ先】"]
[null,"当報告に関するお問い合わせは下記までお願いします。"]
[null,"埼玉県環境部水環境課水環境担当"]
[null,"TEL　０４８－８３０－３０８１"]
[null,"FAX　０４８－８３０－４７７３"]
[null,"mail  a3070-05@pref.saitama.lg.jp　"]

{"sheet":"事業所","index":1,"n_rows":13,"n_cols":6,"rows_kept":13,"cut":false,"hidden":false,"merged":[[12,1,12,2],[12,3,12,7],[11,1,11,2],[11,3,11,7],[7,2,7,7],[8,2,8,7],[10,1,10,2],[10,3,10,7]]}
[]
[]
[]
[null,"令和６年度　汚濁負荷量等測定結果 電子報告"]
[]
[null,"以下の項目を記入してから月データの入力をお願いします。"]
[null,"市町村",null,"事業所",null,"チェックデジット"]
[null,"住所"]
[null,"名称"]
[]
[null,"報告書作成担当者"]
[null,"所属・ＴＥＬ"]
[null,"メールアドレス"]

{"sheet":"４月分","index":2,"n_rows":40,"n_cols":26,"rows_kept":40,"cut":false,"hidden":false,"merged":[[1,17,3,17],[1,9,3,10],[1,11,3,11],[1,12,3,12],[1,13,3,13],[1,14,3,14],[1,16,3,16],[1,15,3,15],[8,9,8,10],[9,9,9,10],[8,1,8,4],[8,5,8,6],[5,9,7,9],[5,1,5,2],[5,3,5,7],[6,1,6,2],[1,5,1,7],[2,2,2,7],[4,9,4,10],[3,2,3,7],[13,2,13,3],[13,4,13,5],[13,6,13,7],[13,9,13,10],[6,3,6,7],[12,2,12,3],[12,4,12,5],[12,6,12,7],[10,9,10,10],[11,9,11,10],[12,9,12,10],[11,2,11,3],[11,4,11,5],[11,6,11,7],[39,9,39,10],[33,9,33,10],[34,9,34,10],[35,9,35,10],[36,9,36,10],[26,9,26,10],[27,9,27,10],[20,9,20,10],[21,9,21,10],[22,9,22,10],[23,9,23,10],[25,9,25,10],[32,9,32,10],[37,9,37,10],[0,1,0,4],[24,9,24,10],[15,2,15,3],[15,4,15,5],[15,6,15,7],[15,9,15,10],[19,9,19,10],[16,9,16,10],[18,2,18,3],[18,4,18,7],[17,9,17,10],[18,9,18,10],[14,2,14,3],[14,4,14,5],[14,6,14,7],[14,9,14,10],[38,9,38,10],[28,9,28,10],[29,9,29,10],[30,9,30,10],[31,9,31,10]]}
[null,null,null,null,null,null,null,null,null,"汚濁負荷量測定結果報告記入用紙"]
[null,"市町村",{"$f":"IF(事業所!C7=\"\",\"\",事業所!C7)","v":""},"事業所",{"$f":"IF(事業所!E7=\"\",\"\",事業所!E7)","v":""},null,null,null,null,null,null,"特定排水量\n(m3/日)","ＣＯＤ水質\n(mg/L)","ＣＯＤ\n汚濁負荷量\n(kg/日)","窒素水質\n(mg/L)","窒素\n汚濁負荷量\n(kg/日)","りん水質\n(mg/L)","りん\n汚濁負荷量\n(kg/日)"]
[null,"住所",{"$f":"IF(事業所!C8=\"\",\"\",事業所!C8)","v":""},{"$f":"IF(事業所!D8=\"\",\"\",事業所!D8)","v":""},{"$f":"IF(事業所!E8=\"\",\"\",事業所!E8)","v":""},{"$f":"IF(事業所!F8=\"\",\"\",事業所!F8)","v":""},{"$f":"IF(事業所!G8=\"\",\"\",事業所!G8)","v":""},{"$f":"IF(事業所!H8=\"\",\"\",事業所!H8)","v":""}]
[null,"名称",{"$f":"IF(事業所!C9=\"\",\"\",事業所!C9)","v":""},{"$f":"IF(事業所!D9=\"\",\"\",事業所!D9)","v":""},{"$f":"IF(事業所!E9=\"\",\"\",事業所!E9)","v":""},{"$f":"IF(事業所!F9=\"\",\"\",事業所!F9)","v":""},{"$f":"IF(事業所!G9=\"\",\"\",事業所!G9)","v":""},{"$f":"IF(事業所!H9=\"\",\"\",事業所!H9)","v":""}]
[null,null,null,null,null,null,null,null,null,"月平均",null,{"$f":"IF(COUNT(L10:L40)=0,\"\",AVERAGE(L10:L40))","v":""},{"$f":"IF(COUNT($L$5,N5)<2,\"\",N5/$L$5*1000)","v":""},{"$f":"IF(COUNT(N10:N40)=0,\"\",AVERAGE(N10:N40))","v":""},{"$f":"IF(COUNT($L$5,P5)<2,\"\",P5/$L$5*1000)","v":""},{"$f":"IF(COUNT(P10:P40)=0,\"\",AVERAGE(P10:P40))","v":""},{"$f":"IF(COUNT($L$5,R5)<2,\"\",R5/$L$5*1000)","v":""},{"$f":"IF(COUNT(R10:R40)=0,\"\",AVERAGE(R10:R40))","v":""}]
[null,"報告書作成担当者",null,{"$f":"IF(事業所!D11=\"\",\"\",事業所!D11)","v":""},{"$f":"IF(事業所!E11=\"\",\"\",事業所!E11)","v":""},{"$f":"IF(事業所!F11=\"\",\"\",事業所!F11)","v":""},{"$f":"IF(事業所!G11=\"\",\"\",事業所!G11)","v":""},{"$f":"IF(事業所!H11=\"\",\"\",事業所!H11)","v":""},null,"負荷量最大日","ＣＯＤ",{"$f":"IF(COUNT($V10:$V40)=0,\"\",IF(OFFSET(T10,MATCH(MAX($V10:$V40),$V10:$V40,0)-1,0)=\"\",\"\",OFFSET(T10,MATCH(MAX($V10:$V40),$V10:$V40,0)-1,0)))","v":""},"","","","","",""]
[null,"所属・ＴＥＬ",null,{"$f":"IF(事業所!D12=\"\",\"\",事業所!D12)","v":""},{"$f":"IF(事業所!E12=\"\",\"\",事業所!E12)","v":""},{"$f":"IF(事業所!F12=\"\",\"\",事業所!F12)","v":""},{"$f":"IF(事業所!G12=\"\",\"\",事業所!G12)","v":""},{"$f":"IF(事業所!H12=\"\",\"\",事業所!H12)","v":""},null,null,"窒素",{"$f":"IF(COUNT($X10:$X40)=0,\"\",IF(OFFSET(T10,MATCH(MAX($X10:$X40),$X10:$X40,0)-1,0)=\"\",\"\",OFFSET(T10,MATCH(MAX($X10:$X40),$X10:$X40,0)-1,0)))","v":""},{"$f":"IF(COUNT($X10:$X40)=0,\"\",IF(OFFSET(U10,MATCH(MAX($X10:$X40),$X10:$X40,0)-1,0)=\"\",\"\",OFFSET(U10,MATCH(MAX($X10:$X40),$X10:$X40,0)-1,0)))","v":""},"","","","",""]
[null,null,null,null,null,null,null,null,null,null,"りん",{"$f":"IF(COUNT($Z10:$Z40)=0,\"\",IF(OFFSET(T10,MATCH(MAX($Z10:$Z40),$Z10:$Z40,0)-1,0)=\"\",\"\",OFFSET(T10,MATCH(MAX($Z10:$Z40),$Z10:$Z40,0)-1,0)))","v":""},"","","","","",""]
[null,"４月分汚濁負荷量等測定結果",null,null,null,"稼働（排水）日数",null,null,"日","排水量最大日",null,{"$f":"IF(COUNT($T10:$T40)=0,\"\",IF(OFFSET(T10,MATCH(MAX($T10:$T40),$T10:$T40,0)-1,0)=\"\",\"\",OFFSET(T10,MATCH(MAX($T10:$T40),$T10:$T40,0)-1,0)))","v":""},"","","","","",""]
[null,null,null,null,null,null,null,null,null,"１日",null,null,null,{"$f":"IF(COUNT(L10,M10)<2,\"\",L10*M10*0.001)","v":""},null,{"$f":"IF(COUNT(L10,O10)<2,\"\",L10*O10*0.001)","v":""},null,{"$f":"IF(COUNT(L10,Q10)<2,\"\",L10*Q10*0.001)","v":""},{"$f":"IF(COUNT(N10)=1,1,\"\")","v":""},{"$f":"IF($S10=\"\",\"\",$S10*L10)","v":""},{"$f":"IF($S10=\"\",\"\",$S10*M10)","v":""},{"$f":"IF(N10=\"\",\"\",IF($S10=\"\",\"\",$S10*N10))","v":""},{"$f":"IF(O10=\"\",\"\",IF($S10=\"\",\"\",$S10*O10))","v":""},{"$f":"IF(P10=\"\",\"\",IF($S10=\"\",\"\",$S10*P10))","v":""},{"$f":"IF(Q10=\"\",\"\",IF($S10=\"\",\"\",$S10*Q10))","v":""},{"$f":"IF(R10=\"\",\"\",IF($S10=\"\",\"\",$S10*R10))","v":""}]
[null,"最終排水口における実測データ（当該月に未測定は報告不要）",null,null,null,null,null,null,null,"２日",null,null,null,"",null,"",null,"",{"$f":"IF(COUNT(N11)=1,1,\"\")","v":""},{"$f":"IF($S11=\"\",\"\",$S11*L11)","v":""},{"$f":"IF($S11=\"\",\"\",$S11*M11)","v":""},{"$f":"IF(N11=\"\",\"\",IF($S11=\"\",\"\",$S11*N11))","v":""},{"$f":"IF(O11=\"\",\"\",IF($S11=\"\",\"\",$S11*O11))","v":""},{"$f":"IF(P11=\"\",\"\",IF($S11=\"\",\"\",$S11*P11))","v":""},{"$f":"IF(Q11=\"\",\"\",IF($S11=\"\",\"\",$S11*Q11))","v":""},{"$f":"IF(R11=\"\",\"\",IF($S11=\"\",\"\",$S11*R11))","v":""}]
[null,"実測水質","平均",null,"最小",null,"最大",null,null,"３日",null,null,null,"",null,"",null,"","","","","","","","",""]
[null,"ＢＯＤ(mg/L)",null,null,null,null,null,null,null,"４日",null,null,null,"",null,"",null,"","","","","","","","",""]
[null,"ＣＯＤ(mg/L)",null,null,null,null,null,null,null,"５日",null,null,null,"",null,"",null,"","","","","","","","",""]
[null,"窒素(mg/L)",null,null,null,null,null,null,null,"６日",null,null,null,"",null,"",null,"","","","","","","","",""]
[null,"りん(mg/L)",null,null,null,null,null,null,null,"７日",null,null,null,"",null,"",null,"","","","","","","","",""]
[null,null,null,null,null,null,null,null,null,"８日",null,null,null,"",null,"",null,"","","","","","","","",""]
[null,"非特定排出水（冷却水等）",null,null,null,null,null,null,null,"９日",null,null,null,"",null,"",null,"","","","","","","","",""]
[null,"実測水量(m3/日)",null,null,null,null,null,null,null,"１０日",null,null,null,"",null,"",null,"","","","","","","","",""]
[null,"実測水質(mg/L)","COD",null,"Ｔ－Ｎ",null,"Ｔ－Ｐ",null,null,"１１日",null,null,null,"",null,"",null,"","","","","","","","",""]
[null,null,null,null,null,null,null,null,null,"１２日",null,null,null,"",null,"",null,"","","","","","","","",""]
[null,null,null,null,null,null,null,null,null,"１３日",null,null,null,"",null,"",null,"","","","","","","","",""]
[null,null,null,null,null,null,null,null,null,"１４日",null,null,null,"",null,"",null,"","","","","","","","",""]
[null,null,null,null,null,null,null,null,null,"１５日",null,null,null,"",null,"",null,"","","","","","","","",""]
[null,null,null,null,null,null,null,null,null,"１６日",null,null,null,"",null,"",null,"","","","","","","","",""]
[null,null,null,null,null,null,null,null,null,"１７日",null,null,null,"",null,"",null,"","","","","","","","",""]
[null,null,null,null,null,null,null,null,null,"１８日",null,null,null,"",null,"",null,"","","","","","","","",""]
[null,null,null,null,null,null,null,null,null,"１９日",null,null,null,"",null,"",null,"","","","","","","","",""]
[null,null,null,null,null,null,null,null,null,"２０日",null,null,null,"",null,"",null,"","","","","","","","",""]
[null,null,null,null,null,null,null,null,null,"２１日",null,null,null,"",null,"",null,"","","","","","","","",""]
[null,null,null,null,null,null,null,null,null,"２２日",null,null,null,"",null,"",null,"","","","","","","","",""]
[null,null,null,null,null,null,null,null,null,"２３日",null,null,null,"",null,"",null,"","","","","","","","",""]
[null,null,null,null,null,null,null,null,null,"２４日",null,null,null,"",null,"",null,"","","","","","","","",""]
[null,null,null,null,null,null,null,null,null,"２５日",null,null,null,"",null,"",null,"","","","","","","","",""]
[null,null,null,null,null,null,null,null,null,"２６日",null,null,null,"",null,"",null,"","","","","","","","",""]
[null,null,null,null,null,null,null,null,null,"２７日",null,null,null,"",null,"",null,"","","","","","","","",""]
[null,null,null,null,null,null,null,null,null,"２８日",null,null,null,"",null,"",null,"","","","","","","","",""]
[null,null,null,null,null,null,null,null,null,"２９日",null,null,null,"",null,"",null,"","","","","","","","",""]
[null,null,null,null,null,null,null,null,null,"３０日",null,null,null,"",null,"",null,"","","","","","","","",""]
[null,null,null,null,null,null,null,null,null,null,null,null,null,null,null,null,null,null,"","","","","","","",""]

{"sheet":"５月分","index":3,"n_rows":40,"n_cols":26,"rows_kept":40,"cut":false,"hidden":false,"merged":[[0,1,0,4],[24,9,24,10],[25,9,25,10],[18,2,18,3],[18,4,18,7],[17,9,17,10],[18,9,18,10],[19,9,19,10],[12,2,12,3],[12,4,12,5],[12,6,12,7],[8,9,8,10],[13,2,13,3],[22,9,22,10],[23,9,23,10],[26,9,26,10],[37,9,37,10],[38,9,38,10],[28,9,28,10],[29,9,29,10],[30,9,30,10],[31,9,31,10],[32,9,32,10],[39,9,39,10],[33,9,33,10],[34,9,34,10],[35,9,35,10],[36,9,36,10],[27,9,27,10],[20,9,20,10],[13,9,13,10],[12,9,12,10],[14,2,14,3],[14,4,14,5],[14,6,14,7],[14,9,14,10],[16,9,16,10],[15,2,15,3],[15,4,15,5],[15,6,15,7],[15,9,15,10],[13,4,13,5],[13,6,13,7],[21,9,21,10],[1,5,1,7],[2,2,2,7],[4,9,4,10],[3,2,3,7],[5,9,7,9],[5,1,5,2],[5,3,5,7],[6,1,6,2],[6,3,6,7],[9,9,9,10],[8,1,8,4],[8,5,8,6],[10,9,10,10],[11,9,11,10],[11,2,11,3],[11,4,11,5],[11,6,11,7],[1,17,3,17],[1,9,3,10],[1,11,3,11],[1,12,3,12],[1,13,3,13],[1,14,3,14],[1,15,3,15],[1,16,3,16]]}
[null,null,null,null,null,null,null,null,null,"汚濁負荷量測定結果報告記入用紙"]
[null,"市町村",{"$f":"IF(事業所!C7=\"\",\"\",事業所!C7)","v":""},"事業所",{"$f":"IF(事業所!E7=\"\",\"\",事業所!E7)","v":""},null,null,null,null,null,null,"特定排水量\n(m3/日)","ＣＯＤ水質\n(mg/L)","ＣＯＤ\n汚濁負荷量\n(kg/日)","窒素水質\n(mg/L)","窒素\n汚濁負荷量\n(kg/日)","りん水質\n(mg/L)","りん\n汚濁負荷量\n(kg/日)"]
[null,"住所",{"$f":"IF(事業所!C8=\"\",\"\",事業所!C8)","v":""},{"$f":"IF(事業所!D8=\"\",\"\",事業所!D8)","v":""},{"$f":"IF(事業所!E8=\"\",\"\",事業所!E8)","v":""},{"$f":"IF(事業所!F8=\"\",\"\",事業所!F8)","v":""},{"$f":"IF(事業所!G8=\"\",\"\",事業所!G8)","v":""},{"$f":"IF(事業所!H8=\"\",\"\",事業所!H8)","v":""}]
[null,"名称",{"$f":"IF(事業所!C9=\"\",\"\",事業所!C9)","v":""},{"$f":"IF(事業所!D9=\"\",\"\",事業所!D9)","v":""},{"$f":"IF(事業所!E9=\"\",\"\",事業所!E9)","v":""},{"$f":"IF(事業所!F9=\"\",\"\",事業所!F9)","v":""},{"$f":"IF(事業所!G9=\"\",\"\",事業所!G9)","v":""},{"$f":"IF(事業所!H9=\"\",\"\",事業所!H9)","v":""}]
[null,null,null,null,null,null,null,null,null,"月平均",null,{"$f":"IF(COUNT(L10:L40)=0,\"\",AVERAGE(L10:L40))","v":""},{"$f":"IF(COUNT($L$5,N5)<2,\"\",N5/$L$5*1000)","v":""},{"$f":"IF(COUNT(N10:N40)=0,\"\",AVERAGE(N10:N40))","v":""},{"$f":"IF(COUNT($L$5,P5)<2,\"\",P5/$L$5*1000)","v":""},{"$f":"IF(COUNT(P10:P40)=0,\"\",AVERAGE(P10:P40))","v":""},{"$f":"IF(COUNT($L$5,R5)<2,\"\",R5/$L$5*1000)","v":""},{"$f":"IF(COUNT(R10:R40)=0,\"\",AVERAGE(R10:R40))","v":""}]
[null,"報告書作成担当者",null,{"$f":"IF(事業所!D11=\"\",\"\",事業所!D11)","v":""},{"$f":"IF(事業所!E11=\"\",\"\",事業所!E11)","v":""},{"$f":"IF(事業所!F11=\"\",\"\",事業所!F11)","v":""},{"$f":"IF(事業所!G11=\"\",\"\",事業所!G11)","v":""},{"$f":"IF(事業所!H11=\"\",\"\",事業所!H11)","v":""},null,"負荷量最大日","ＣＯＤ",{"$f":"IF(COUNT($V10:$V40)=0,\"\",IF(OFFSET(T10,MATCH(MAX($V10:$V40),$V10:$V40,0)-1,0)=\"\",\"\",OFFSET(T10,MATCH(MAX($V10:$V40),$V10:$V40,0)-1,0)))","v":""},"","","","","",""]
[null,"所属・ＴＥＬ",null,{"$f":"IF(事業所!D12=\"\",\"\",事業所!D12)","v":""},{"$f":"IF(事業所!E12=\"\",\"\",事業所!E12)","v":""},{"$f":"IF(事業所!F12=\"\",\"\",事業所!F12)","v":""},{"$f":"IF(事業所!G12=\"\",\"\",事業所!G12)","v":""},{"$f":"IF(事業所!H12=\"\",\"\",事業所!H12)","v":""},null,null,"窒素",{"$f":"IF(COUNT($X10:$X40)=0,\"\",IF(OFFSET(T10,MATCH(MAX($X10:$X40),$X10:$X40,0)-1,0)=\"\",\"\",OFFSET(T10,MATCH(MAX($X10:$X40),$X10:$X40,0)-1,0)))","v":""},"","","","","",""]
[null,null,null,null,null,null,null,null,null,null,"りん",{"$f":"IF(COUNT($Z10:$Z40)=0,\"\",IF(OFFSET(T10,MATCH(MAX($Z10:$Z40),$Z10:$Z40,0)-1,0)=\"\",\"\",OFFSET(T10,MATCH(MAX($Z10:$Z40),$Z10:$Z40,0)-1,0)))","v":""},"","","","","",""]
[null,"５月分汚濁負荷量等測定結果",null,null,null,"稼働（排水）日数",null,null,"日","排水量最大日",null,{"$f":"IF(COUNT($T10:$T40)=0,\"\",IF(OFFSET(T10,MATCH(MAX($T10:$T40),$T10:$T40,0)-1,0)=\"\",\"\",OFFSET(T10,MATCH(MAX($T10:$T40),$T10:$T40,0)-1,0)))","v":""},{"$f":"IF(COUNT($T10:$T40)=0,\"\",IF(OFFSET(U10,MATCH(MAX($T10:$T40),$T10:$T40,0)-1,0)=\"\",\"\",OFFSET(U10,MATCH(MAX($T10:$T40),$T10:$T40,0)-1,0)))","v":""},"","","","",""]
[null,null,null,null,null,null,null,null,null,"１日",null,null,null,{"$f":"IF(COUNT(L10,M10)<2,\"\",L10*M10*0.001)","v":""},null,{"$f":"IF(COUNT(L10,O10)<2,\"\",L10*O10*0.001)","v":""},null,{"$f":"IF(COUNT(L10,Q10)<2,\"\",L10*Q10*0.001)","v":""},{"$f":"IF(COUNT(N10)=1,1,\"\")","v":""},{"$f":"IF($S10=\"\",\"\",$S10*L10)","v":""},{"$f":"IF($S10=\"\",\"\",$S10*M10)","v":""},{"$f":"IF(N10=\"\",\"\",IF($S10=\"\",\"\",$S10*N10))","v":""},{"$f":"IF(O10=\"\",\"\",IF($S10=\"\",\"\",$S10*O10))","v":""},{"$f":"IF(P10=\"\",\"\",IF($S10=\"\",\"\",$S10*P10))","v":""},{"$f":"IF(Q10=\"\",\"\",IF($S10=\"\",\"\",$S10*Q10))","v":""},{"$f":"IF(R10=\"\",\"\",IF($S10=\"\",\"\",$S10*R10))","v":""}]
[null,"最終排水口における実測データ（当該月に未測定は報告不要）",null,null,null,null,null,null,null,"２日",null,null,null,"",null,"",null,"","","","","","","","",""]
[null,"実測水質","平均",null,"最小",null,"最大",null,null,"３日",null,null,null,"",null,"",null,"","","","","","","","",""]
[null,"ＢＯＤ(mg/L)",null,null,null,null,null,null,null,"４日",null,null,null,"",null,"",null,"","","","","","","","",""]
[null,"ＣＯＤ(mg/L)",null,null,null,null,null,null,null,"５日",null,null,null,"",null,"",null,"","","","","","","","",""]
[null,"窒素(mg/L)",null,null,null,null,null,null,null,"６日",null,null,null,"",null,"",null,"","","","","","","","",""]
[null,"りん(mg/L)",null,null,null,null,null,null,null,"７日",null,null,null,"",null,"",null,"","","","","","","","",""]
[null,null,null,null,null,null,null,null,null,"８日",null,null,null,"",null,"",null,"","","","","","","","",""]
[null,"非特定排出水（冷却水等）",null,null,null,null,null,null,null,"９日",null,null,null,"",null,"",null,"","","","","","","","",""]
[null,"実測水量(m3/日)",null,null,null,null,null,null,null,"１０日",null,null,null,"",null,"",null,"","","","","","","","",""]
[null,"実測水質(mg/L)","COD",null,"Ｔ－Ｎ",null,"Ｔ－Ｐ",null,null,"１１日",null,null,null,"",null,"",null,"","","","","","","","",""]
[null,null,null,null,null,null,null,null,null,"１２日",null,null,null,"",null,"",null,"","","","","","","","",""]
[null,null,null,null,null,null,null,null,null,"１３日",null,null,null,"",null,"",null,"","","","","","","","",""]
[null,null,null,null,null,null,null,null,null,"１４日",null,null,null,"",null,"",null,"","","","","","","","",""]
[null,null,null,null,null,null,null,null,null,"１５日",null,null,null,"",null,"",null,"","","","","","","","",""]
[null,null,null,null,null,null,null,null,null,"１６日",null,null,null,"",null,"",null,"","","","","","","","",""]
[null,null,null,null,null,null,null,null,null,"１７日",null,null,null,"",null,"",null,"","","","","","","","",""]
[null,null,null,null,null,null,null,null,null,"１８日",null,null,null,"",null,"",null,"","","","","","","","",""]
[null,null,null,null,null,null,null,null,null,"１９日",null,null,null,"",null,"",null,"","","","","","","","",""]
[null,null,null,null,null,null,null,null,null,"２０日",null,null,null,"",null,"",null,"","","","","","","","",""]
[null,null,null,null,null,null,null,null,null,"２１日",null,null,null,"",null,"",null,"","","","","","","","",""]
[null,null,null,null,null,null,null,null,null,"２２日",null,null,null,"",null,"",null,"","","","","","","","",""]
[null,null,null,null,null,null,null,null,null,"２３日",null,null,null,"",null,"",null,"","","","","","","","",""]
[null,null,null,null,null,null,null,null,null,"２４日",null,null,null,"",null,"",null,"","","","","","","","",""]
[null,null,null,null,null,null,null,null,null,"２５日",null,null,null,"",null,"",null,"","","","","","","","",""]
[null,null,null,null,null,null,null,null,null,"２６日",null,null,null,"",null,"",null,"","","","","","","","",""]
[null,null,null,null,null,null,null,null,null,"２７日",null,null,null,"",null,"",null,"","","","","","","","",""]
[null,null,null,null,null,null,null,null,null,"２８日",null,null,null,"",null,"",null,"","","","","","","","",""]
[null,null,null,null,null,null,null,null,null,"２９日",null,null,null,"",null,"",null,"","","","","","","","",""]
[null,null,null,null,null,null,null,null,null,"３０日",null,null,null,"",null,"",null,"","","","","","","","",""]
[null,null,null,null,null,null,null,null,null,"３１日",null,null,null,"",null,"",null,"","","","","","","","",""]

{"sheet":"６月分","index":4,"n_rows":39,"n_cols":26,"rows_kept":39,"cut":false,"hidden":false,"merged":[[1,17,3,17],[1,9,3,10],[1,11,3,11],[1,12,3,12],[1,13,3,13],[1,14,3,14],[1,16,3,16],[1,15,3,15],[8,9,8,10],[9,9,9,10],[8,1,8,4],[8,5,8,6],[5,9,7,9],[5,1,5,2],[5,3,5,7],[6,1,6,2],[1,5,1,7],[2,2,2,7],[4,9,4,10],[3,2,3,7],[13,2,13,3],[13,4,13,5],[13,6,13,7],[13,9,13,10],[6,3,6,7],[12,2,12,3],[12,4,12,5],[12,6,12,7],[10,9,10,10],[11,9,11,10],[12,9,12,10],[11,2,11,3],[11,4,11,5],[11,6,11,7],[39,9,39,10],[33,9,33,10],[34,9,34,10],[35,9,35,10],[36,9,36,10],[26,9,26,10],[27,9,27,10],[20,9,20,10],[21,9,21,10],[22,9,22,10],[23,9,23,10],[25,9,25,10],[32,9,32,10],[37,9,37,10],[0,1,0,4],[24,9,24,10],[15,2,15,3],[15,4,15,5],[15,6,15,7],[15,9,15,10],[19,9,19,10],[16,9,16,10],[18,2,18,3],[18,4,18,7],[17,9,17,10],[18,9,18,10],[14,2,14,3],[14,4,14,5],[14,6,14,7],[14,9,14,10],[38,9,38,10],[28,9,28,10],[29,9,29,10],[30,9,30,10],[31,9,31,10]]}
[null,null,null,null,null,null,null,null,null,"汚濁負荷量測定結果報告記入用紙"]
[null,"市町村",{"$f":"IF(事業所!C7=\"\",\"\",事業所!C7)","v":""},"事業所",{"$f":"IF(事業所!E7=\"\",\"\",事業所!E7)","v":""},null,null,null,null,null,null,"特定排水量\n(m3/日)","ＣＯＤ水質\n(mg/L)","ＣＯＤ\n汚濁負荷量\n(kg/日)","窒素水質\n(mg/L)","窒素\n汚濁負荷量\n(kg/日)","りん水質\n(mg/L)","りん\n汚濁負荷量\n(kg/日)"]
[null,"住所",{"$f":"IF(事業所!C8=\"\",\"\",事業所!C8)","v":""},{"$f":"IF(事業所!D8=\"\",\"\",事業所!D8)","v":""},{"$f":"IF(事業所!E8=\"\",\"\",事業所!E8)","v":""},{"$f":"IF(事業所!F8=\"\",\"\",事業所!F8)","v":""},{"$f":"IF(事業所!G8=\"\",\"\",事業所!G8)","v":""},{"$f":"IF(事業所!H8=\"\",\"\",事業所!H8)","v":""}]
[null,"名称",{"$f":"IF(事業所!C9=\"\",\"\",事業所!C9)","v":""},{"$f":"IF(事業所!D9=\"\",\"\",事業所!D9)","v":""},{"$f":"IF(事業所!E9=\"\",\"\",事業所!E9)","v":""},{"$f":"IF(事業所!F9=\"\",\"\",事業所!F9)","v":""},{"$f":"IF(事業所!G9=\"\",\"\",事業所!G9)","v":""},{"$f":"IF(事業所!H9=\"\",\"\",事業所!H9)","v":""}]
[null,null,null,null,null,null,null,null,null,"月平均",null,{"$f":"IF(COUNT(L10:L40)=0,\"\",AVERAGE(L10:L40))","v":""},{"$f":"IF(COUNT($L$5,N5)<2,\"\",N5/$L$5*1000)","v":""},{"$f":"IF(COUNT(N10:N40)=0,\"\",AVERAGE(N10:N40))","v":""},{"$f":"IF(COUNT($L$5,P5)<2,\"\",P5/$L$5*1000)","v":""},{"$f":"IF(COUNT(P10:P40)=0,\"\",AVERAGE(P10:P40))","v":""},{"$f":"IF(COUNT($L$5,R5)<2,\"\",R5/$L$5*1000)","v":""},{"$f":"IF(COUNT(R10:R40)=0,\"\",AVERAGE(R10:R40))","v":""}]
[null,"報告書作成担当者",null,{"$f":"IF(事業所!D11=\"\",\"\",事業所!D11)","v":""},{"$f":"IF(事業所!E11=\"\",\"\",事業所!E11)","v":""},{"$f":"IF(事業所!F11=\"\",\"\",事業所!F11)","v":""},{"$f":"IF(事業所!G11=\"\",\"\",事業所!G11)","v":""},{"$f":"IF(事業所!H11=\"\",\"\",事業所!H11)","v":""},null,"負荷量最大日","ＣＯＤ",{"$f":"IF(COUNT($V10:$V40)=0,\"\",IF(OFFSET(T10,MATCH(MAX($V10:$V40),$V10:$V40,0)-1,0)=\"\",\"\",OFFSET(T10,MATCH(MAX($V10:$V40),$V10:$V40,0)-1,0)))","v":""},"","","","","",""]
[null,"所属・ＴＥＬ",null,{"$f":"IF(事業所!D12=\"\",\"\",事業所!D12)","v":""},{"$f":"IF(事業所!E12=\"\",\"\",事業所!E12)","v":""},{"$f":"IF(事業所!F12=\"\",\"\",事業所!F12)","v":""},{"$f":"IF(事業所!G12=\"\",\"\",事業所!G12)","v":""},{"$f":"IF(事業所!H12=\"\",\"\",事業所!H12)","v":""},null,null,"窒素",{"$f":"IF(COUNT($X10:$X40)=0,\"\",IF(OFFSET(T10,MATCH(MAX($X10:$X40),$X10:$X40,0)-1,0)=\"\",\"\",OFFSET(T10,MATCH(MAX($X10:$X40),$X10:$X40,0)-1,0)))","v":""},"","","","","",""]
[null,null,null,null,null,null,null,null,null,null,"りん",{"$f":"IF(COUNT($Z10:$Z40)=0,\"\",IF(OFFSET(T10,MATCH(MAX($Z10:$Z40),$Z10:$Z40,0)-1,0)=\"\",\"\",OFFSET(T10,MATCH(MAX($Z10:$Z40),$Z10:$Z40,0)-1,0)))","v":""},"","","","","",""]
[null,"６月分汚濁負荷量等測定結果",null,null,null,"稼働（排水）日数",null,null,"日","排水量最大日",null,{"$f":"IF(COUNT($T10:$T40)=0,\"\",IF(OFFSET(T10,MATCH(MAX($T10:$T40),$T10:$T40,0)-1,0)=\"\",\"\",OFFSET(T10,MATCH(MAX($T10:$T40),$T10:$T40,0)-1,0)))","v":""},"","","","","",""]
[null,null,null,null,null,null,null,null,null,"１日",null,null,null,{"$f":"IF(COUNT(L10,M10)<2,\"\",L10*M10*0.001)","v":""},null,{"$f":"IF(COUNT(L10,O10)<2,\"\",L10*O10*0.001)","v":""},null,{"$f":"IF(COUNT(L10,Q10)<2,\"\",L10*Q10*0.001)","v":""},{"$f":"IF(COUNT(N10)=1,1,\"\")","v":""},{"$f":"IF($S10=\"\",\"\",$S10*L10)","v":""},{"$f":"IF($S10=\"\",\"\",$S10*M10)","v":""},{"$f":"IF(N10=\"\",\"\",IF($S10=\"\",\"\",$S10*N10))","v":""},{"$f":"IF(O10=\"\",\"\",IF($S10=\"\",\"\",$S10*O10))","v":""},{"$f":"IF(P10=\"\",\"\",IF($S10=\"\",\"\",$S10*P10))","v":""},{"$f":"IF(Q10=\"\",\"\",IF($S10=\"\",\"\",$S10*Q10))","v":""},{"$f":"IF(R10=\"\",\"\",IF($S10=\"\",\"\",$S10*R10))","v":""}]
[null,"最終排水口における実測データ（当該月に未測定は報告不要）",null,null,null,null,null,null,null,"２日",null,null,null,"",null,"",null,"","","","","","","","",""]
[null,"実測水質","平均",null,"最小",null,"最大",null,null,"３日",null,null,null,"",null,"",null,"","","","","","","","",""]
[null,"ＢＯＤ(mg/L)",null,null,null,null,null,null,null,"４日",null,null,null,"",null,"",null,"","","","","","","","",""]
[null,"ＣＯＤ(mg/L)",null,null,null,null,null,null,null,"５日",null,null,null,"",null,"",null,"","","","","","","","",""]
[null,"窒素(mg/L)",null,null,null,null,null,null,null,"６日",null,null,null,"",null,"",null,"","","","","","","","",""]
[null,"りん(mg/L)",null,null,null,null,null,null,null,"７日",null,null,null,"",null,"",null,"","","","","","","","",""]
[null,null,null,null,null,null,null,null,null,"８日",null,null,null,"",null,"",null,"","","","","","","","",""]
[null,"非特定排出水（冷却水等）",null,null,null,null,null,null,null,"９日",null,null,null,"",null,"",null,"","","","","","","","",""]
[null,"実測水量(m3/日)",null,null,null,null,null,null,null,"１０日",null,null,null,"",null,"",null,"","","","","","","","",""]
[null,"実測水質(mg/L)","COD",null,"Ｔ－Ｎ",null,"Ｔ－Ｐ",null,null,"１１日",null,null,null,"",null,"",null,"","","","","","","","",""]
[null,null,null,null,null,null,null,null,null,"１２日",null,null,null,"",null,"",null,"","","","","","","","",""]
[null,null,null,null,null,null,null,null,null,"１３日",null,null,null,"",null,"",null,"","","","","","","","",""]
[null,null,null,null,null,null,null,null,null,"１４日",null,null,null,"",null,"",null,"","","","","","","","",""]
[null,null,null,null,null,null,null,null,null,"１５日",null,null,null,"",null,"",null,"","","","","","","","",""]
[null,null,null,null,null,null,null,null,null,"１６日",null,null,null,"",null,"",null,"","","","","","","","",""]
[null,null,null,null,null,null,null,null,null,"１７日",null,null,null,"",null,"",null,"","","","","","","","",""]
[null,null,null,null,null,null,null,null,null,"１８日",null,null,null,"",null,"",null,"","","","","","","","",""]
[null,null,null,null,null,null,null,null,null,"１９日",null,null,null,"",null,"",null,"","","","","","","","",""]
[null,null,null,null,null,null,null,null,null,"２０日",null,null,null,"",null,"",null,"","","","","","","","",""]
[null,null,null,null,null,null,null,null,null,"２１日",null,null,null,"",null,"",null,"","","","","","","","",""]
[null,null,null,null,null,null,null,null,null,"２２日",null,null,null,"",null,"",null,"","","","","","","","",""]
[null,null,null,null,null,null,null,null,null,"２３日",null,null,null,"",null,"",null,"","","","","","","","",""]
[null,null,null,null,null,null,null,null,null,"２４日",null,null,null,"",null,"",null,"","","","","","","","",""]
[null,null,null,null,null,null,null,null,null,"２５日",null,null,null,"",null,"",null,"","","","","","","","",""]
[null,null,null,null,null,null,null,null,null,"２６日",null,null,null,"",null,"",null,"","","","","","","","",""]
[null,null,null,null,null,null,null,null,null,"２７日",null,null,null,"",null,"",null,"","","","","","","","",""]
[null,null,null,null,null,null,null,null,null,"２８日",null,null,null,"",null,"",null,"","","","","","","","",""]
[null,null,null,null,null,null,null,null,null,"２９日",null,null,null,"",null,"",null,"","","","","","","","",""]
[null,null,null,null,null,null,null,null,null,"３０日",null,null,null,"",null,"",null,"","","","","","","","",""]

{"sheet":"７月分","index":5,"n_rows":40,"n_cols":26,"rows_kept":40,"cut":false,"hidden":false,"merged":[[0,1,0,4],[24,9,24,10],[25,9,25,10],[18,2,18,3],[18,4,18,7],[17,9,17,10],[18,9,18,10],[19,9,19,10],[12,2,12,3],[12,4,12,5],[12,6,12,7],[8,9,8,10],[13,2,13,3],[22,9,22,10],[23,9,23,10],[26,9,26,10],[37,9,37,10],[38,9,38,10],[28,9,28,10],[29,9,29,10],[30,9,30,10],[31,9,31,10],[32,9,32,10],[39,9,39,10],[33,9,33,10],[34,9,34,10],[35,9,35,10],[36,9,36,10],[27,9,27,10],[20,9,20,10],[13,9,13,10],[12,9,12,10],[14,2,14,3],[14,4,14,5],[14,6,14,7],[14,9,14,10],[16,9,16,10],[15,2,15,3],[15,4,15,5],[15,6,15,7],[15,9,15,10],[13,4,13,5],[13,6,13,7],[21,9,21,10],[1,5,1,7],[2,2,2,7],[4,9,4,10],[3,2,3,7],[5,9,7,9],[5,1,5,2],[5,3,5,7],[6,1,6,2],[6,3,6,7],[9,9,9,10],[8,1,8,4],[8,5,8,6],[10,9,10,10],[11,9,11,10],[11,2,11,3],[11,4,11,5],[11,6,11,7],[1,17,3,17],[1,9,3,10],[1,11,3,11],[1,12,3,12],[1,13,3,13],[1,14,3,14],[1,15,3,15],[1,16,3,16]]}
[null,null,null,null,null,null,null,null,null,"汚濁負荷量測定結果報告記入用紙"]
[null,"市町村",{"$f":"IF(事業所!C7=\"\",\"\",事業所!C7)","v":""},"事業所",{"$f":"IF(事業所!E7=\"\",\"\",事業所!E7)","v":""},null,null,null,null,null,null,"特定排水量\n(m3/日)","ＣＯＤ水質\n(mg/L)","ＣＯＤ\n汚濁負荷量\n(kg/日)","窒素水質\n(mg/L)","窒素\n汚濁負荷量\n(kg/日)","りん水質\n(mg/L)","りん\n汚濁負荷量\n(kg/日)"]
[null,"住所",{"$f":"IF(事業所!C8=\"\",\"\",事業所!C8)","v":""},{"$f":"IF(事業所!D8=\"\",\"\",事業所!D8)","v":""},{"$f":"IF(事業所!E8=\"\",\"\",事業所!E8)","v":""},{"$f":"IF(事業所!F8=\"\",\"\",事業所!F8)","v":""},{"$f":"IF(事業所!G8=\"\",\"\",事業所!G8)","v":""},{"$f":"IF(事業所!H8=\"\",\"\",事業所!H8)","v":""}]
[null,"名称",{"$f":"IF(事業所!C9=\"\",\"\",事業所!C9)","v":""},{"$f":"IF(事業所!D9=\"\",\"\",事業所!D9)","v":""},{"$f":"IF(事業所!E9=\"\",\"\",事業所!E9)","v":""},{"$f":"IF(事業所!F9=\"\",\"\",事業所!F9)","v":""},{"$f":"IF(事業所!G9=\"\",\"\",事業所!G9)","v":""},{"$f":"IF(事業所!H9=\"\",\"\",事業所!H9)","v":""}]
[null,null,null,null,null,null,null,null,null,"月平均",null,{"$f":"IF(COUNT(L10:L40)=0,\"\",AVERAGE(L10:L40))","v":""},{"$f":"IF(COUNT($L$5,N5)<2,\"\",N5/$L$5*1000)","v":""},{"$f":"IF(COUNT(N10:N40)=0,\"\",AVERAGE(N10:N40))","v":""},{"$f":"IF(COUNT($L$5,P5)<2,\"\",P5/$L$5*1000)","v":""},{"$f":"IF(COUNT(P10:P40)=0,\"\",AVERAGE(P10:P40))","v":""},{"$f":"IF(COUNT($L$5,R5)<2,\"\",R5/$L$5*1000)","v":""},{"$f":"IF(COUNT(R10:R40)=0,\"\",AVERAGE(R10:R40))","v":""}]
[null,"報告書作成担当者",null,{"$f":"IF(事業所!D11=\"\",\"\",事業所!D11)","v":""},{"$f":"IF(事業所!E11=\"\",\"\",事業所!E11)","v":""},{"$f":"IF(事業所!F11=\"\",\"\",事業所!F11)","v":""},{"$f":"IF(事業所!G11=\"\",\"\",事業所!G11)","v":""},{"$f":"IF(事業所!H11=\"\",\"\",事業所!H11)","v":""},null,"負荷量最大日","ＣＯＤ",{"$f":"IF(COUNT($V10:$V40)=0,\"\",IF(OFFSET(T10,MATCH(MAX($V10:$V40),$V10:$V40,0)-1,0)=\"\",\"\",OFFSET(T10,MATCH(MAX($V10:$V40),$V10:$V40,0)-1,0)))","v":""},"","","","","",""]
[null,"所属・ＴＥＬ",null,{"$f":"IF(事業所!D12=\"\",\"\",事業所!D12)","v":""},{"$f":"IF(事業所!E12=\"\",\"\",事業所!E12)","v":""},{"$f":"IF(事業所!F12=\"\",\"\",事業所!F12)","v":""},{"$f":"IF(事業所!G12=\"\",\"\",事業所!G12)","v":""},{"$f":"IF(事業所!H12=\"\",\"\",事業所!H12)","v":""},null,null,"窒素",{"$f":"IF(COUNT($X10:$X40)=0,\"\",IF(OFFSET(T10,MATCH(MAX($X10:$X40),$X10:$X40,0)-1,0)=\"\",\"\",OFFSET(T10,MATCH(MAX($X10:$X40),$X10:$X40,0)-1,0)))","v":""},"","","","","",""]
[null,null,null,null,null,null,null,null,null,null,"りん",{"$f":"IF(COUNT($Z10:$Z40)=0,\"\",IF(OFFSET(T10,MATCH(MAX($Z10:$Z40),$Z10:$Z40,0)-1,0)=\"\",\"\",OFFSET(T10,MATCH(MAX($Z10:$Z40),$Z10:$Z40,0)-1,0)))","v":""},"","","","","",""]
[null,"７月分汚濁負荷量等測定結果",null,null,null,"稼働（排水）日数",null,null,"日","排水量最大日",null,{"$f":"IF(COUNT($T10:$T40)=0,\"\",IF(OFFSET(T10,MATCH(MAX($T10:$T40),$T10:$T40,0)-1,0)=\"\",\"\",OFFSET(T10,MATCH(MAX($T10:$T40),$T10:$T40,0)-1,0)))","v":""},"","","","","",""]
[null,null,null,null,null,null,null,null,null,"１日",null,null,null,{"$f":"IF(COUNT(L10,M10)<2,\"\",L10*M10*0.001)","v":""},null,{"$f":"IF(COUNT(L10,O10)<2,\"\",L10*O10*0.001)","v":""},null,{"$f":"IF(COUNT(L10,Q10)<2,\"\",L10*Q10*0.001)","v":""},{"$f":"IF(COUNT(N10)=1,1,\"\")","v":""},{"$f":"IF($S10=\"\",\"\",$S10*L10)","v":""},{"$f":"IF($S10=\"\",\"\",$S10*M10)","v":""},{"$f":"IF(N10=\"\",\"\",IF($S10=\"\",\"\",$S10*N10))","v":""},{"$f":"IF(O10=\"\",\"\",IF($S10=\"\",\"\",$S10*O10))","v":""},{"$f":"IF(P10=\"\",\"\",IF($S10=\"\",\"\",$S10*P10))","v":""},{"$f":"IF(Q10=\"\",\"\",IF($S10=\"\",\"\",$S10*Q10))","v":""},{"$f":"IF(R10=\"\",\"\",IF($S10=\"\",\"\",$S10*R10))","v":""}]
[null,"最終排水口における実測データ（当該月に未測定は報告不要）",null,null,null,null,null,null,null,"２日",null,null,null,"",null,"",null,"","","","","","","","",""]
[null,"実測水質","平均",null,"最小",null,"最大",null,null,"３日",null,null,null,"",null,"",null,"","","","","","","","",""]
[null,"ＢＯＤ(mg/L)",null,null,null,null,null,null,null,"４日",null,null,null,"",null,"",null,"","","","","","","","",""]
[null,"ＣＯＤ(mg/L)",null,null,null,null,null,null,null,"５日",null,null,null,"",null,"",null,"","","","","","","","",""]
[null,"窒素(mg/L)",null,null,null,null,null,null,null,"６日",null,null,null,"",null,"",null,"","","","","","","","",""]
[null,"りん(mg/L)",null,null,null,null,null,null,null,"７日",null,null,null,"",null,"",null,"","","","","","","","",""]
[null,null,null,null,null,null,null,null,null,"８日",null,null,null,"",null,"",null,"","","","","","","","",""]
[null,"非特定排出水（冷却水等）",null,null,null,null,null,null,null,"９日",null,null,null,"",null,"",null,"","","","","","","","",""]
[null,"実測水量(m3/日)",null,null,null,null,null,null,null,"１０日",null,null,null,"",null,"",null,"","","","","","","","",""]
[null,"実測水質(mg/L)","COD",null,"Ｔ－Ｎ",null,"Ｔ－Ｐ",null,null,"１１日",null,null,null,"",null,"",null,"","","","","","","","",""]
[null,null,null,null,null,null,null,null,null,"１２日",null,null,null,"",null,"",null,"","","","","","","","",""]
[null,null,null,null,null,null,null,null,null,"１３日",null,null,null,"",null,"",null,"","","","","","","","",""]
[null,null,null,null,null,null,null,null,null,"１４日",null,null,null,"",null,"",null,"","","","","","","","",""]
[null,null,null,null,null,null,null,null,null,"１５日",null,null,null,"",null,"",null,"","","","","","","","",""]
[null,null,null,null,null,null,null,null,null,"１６日",null,null,null,"",null,"",null,"","","","","","","","",""]
[null,null,null,null,null,null,null,null,null,"１７日",null,null,null,"",null,"",null,"","","","","","","","",""]
[null,null,null,null,null,null,null,null,null,"１８日",null,null,null,"",null,"",null,"","","","","","","","",""]
[null,null,null,null,null,null,null,null,null,"１９日",null,null,null,"",null,"",null,"","","","","","","","",""]
[null,null,null,null,null,null,null,null,null,"２０日",null,null,null,"",null,"",null,"","","","","","","","",""]
[null,null,null,null,null,null,null,null,null,"２１日",null,null,null,"",null,"",null,"","","","","","","","",""]
[null,null,null,null,null,null,null,null,null,"２２日",null,null,null,"",null,"",null,"","","","","","","","",""]
[null,null,null,null,null,null,null,null,null,"２３日",null,null,null,"",null,"",null,"","","","","","","","",""]
[null,null,null,null,null,null,null,null,null,"２４日",null,null,null,"",null,"",null,"","","","","","","","",""]
[null,null,null,null,null,null,null,null,null,"２５日",null,null,null,"",null,"",null,"","","","","","","","",""]
[null,null,null,null,null,null,null,null,null,"２６日",null,null,null,"",null,"",null,"","","","","","","","",""]
[null,null,null,null,null,null,null,null,null,"２７日",null,null,null,"",null,"",null,"","","","","","","","",""]
[null,null,null,null,null,null,null,null,null,"２８日",null,null,null,"",null,"",null,"","","","","","","","",""]
[null,null,null,null,null,null,null,null,null,"２９日",null,null,null,"",null,"",null,"","","","","","","","",""]
[null,null,null,null,null,null,null,null,null,"３０日",null,null,null,"",null,"",null,"","","","","","","","",""]
[null,null,null,null,null,null,null,null,null,"３１日",null,null,null,"",null,"",null,"","","","","","","","",""]

{"sheet":"８月分","index":6,"n_rows":40,"n_cols":26,"rows_kept":40,"cut":false,"hidden":false,"merged":[[1,17,3,17],[1,9,3,10],[1,11,3,11],[1,12,3,12],[1,13,3,13],[1,14,3,14],[1,16,3,16],[1,15,3,15],[8,9,8,10],[9,9,9,10],[8,1,8,4],[8,5,8,6],[5,9,7,9],[5,1,5,2],[5,3,5,7],[6,1,6,2],[1,5,1,7],[2,2,2,7],[4,9,4,10],[3,2,3,7],[13,2,13,3],[13,4,13,5],[13,6,13,7],[13,9,13,10],[6,3,6,7],[12,2,12,3],[12,4,12,5],[12,6,12,7],[10,9,10,10],[11,9,11,10],[12,9,12,10],[11,2,11,3],[11,4,11,5],[11,6,11,7],[39,9,39,10],[33,9,33,10],[34,9,34,10],[35,9,35,10],[36,9,36,10],[26,9,26,10],[27,9,27,10],[20,9,20,10],[21,9,21,10],[22,9,22,10],[23,9,23,10],[25,9,25,10],[32,9,32,10],[37,9,37,10],[0,1,0,4],[24,9,24,10],[15,2,15,3],[15,4,15,5],[15,6,15,7],[15,9,15,10],[19,9,19,10],[16,9,16,10],[18,2,18,3],[18,4,18,7],[17,9,17,10],[18,9,18,10],[14,2,14,3],[14,4,14,5],[14,6,14,7],[14,9,14,10],[38,9,38,10],[28,9,28,10],[29,9,29,10],[30,9,30,10],[31,9,31,10]]}
[null,null,null,null,null,null,null,null,null,"汚濁負荷量測定結果報告記入用紙"]
[null,"市町村",{"$f":"IF(事業所!C7=\"\",\"\",事業所!C7)","v":""},"事業所",{"$f":"IF(事業所!E7=\"\",\"\",事業所!E7)","v":""},null,null,null,null,null,null,"特定排水量\n(m3/日)","ＣＯＤ水質\n(mg/L)","ＣＯＤ\n汚濁負荷量\n(kg/日)","窒素水質\n(mg/L)","窒素\n汚濁負荷量\n(kg/日)","りん水質\n(mg/L)","りん\n汚濁負荷量\n(kg/日)"]
[null,"住所",{"$f":"IF(事業所!C8=\"\",\"\",事業所!C8)","v":""},{"$f":"IF(事業所!D8=\"\",\"\",事業所!D8)","v":""},{"$f":"IF(事業所!E8=\"\",\"\",事業所!E8)","v":""},{"$f":"IF(事業所!F8=\"\",\"\",事業所!F8)","v":""},{"$f":"IF(事業所!G8=\"\",\"\",事業所!G8)","v":""},{"$f":"IF(事業所!H8=\"\",\"\",事業所!H8)","v":""}]
[null,"名称",{"$f":"IF(事業所!C9=\"\",\"\",事業所!C9)","v":""},{"$f":"IF(事業所!D9=\"\",\"\",事業所!D9)","v":""},{"$f":"IF(事業所!E9=\"\",\"\",事業所!E9)","v":""},{"$f":"IF(事業所!F9=\"\",\"\",事業所!F9)","v":""},{"$f":"IF(事業所!G9=\"\",\"\",事業所!G9)","v":""},{"$f":"IF(事業所!H9=\"\",\"\",事業所!H9)","v":""}]
[null,null,null,null,null,null,null,null,null,"月平均",null,{"$f":"IF(COUNT(L10:L40)=0,\"\",AVERAGE(L10:L40))","v":""},{"$f":"IF(COUNT($L$5,N5)<2,\"\",N5/$L$5*1000)","v":""},{"$f":"IF(COUNT(N10:N40)=0,\"\",AVERAGE(N10:N40))","v":""},{"$f":"IF(COUNT($L$5,P5)<2,\"\",P5/$L$5*1000)","v":""},{"$f":"IF(COUNT(P10:P40)=0,\"\",AVERAGE(P10:P40))","v":""},{"$f":"IF(COUNT($L$5,R5)<2,\"\",R5/$L$5*1000)","v":""},{"$f":"IF(COUNT(R10:R40)=0,\"\",AVERAGE(R10:R40))","v":""}]
[null,"報告書作成担当者",null,{"$f":"IF(事業所!D11=\"\",\"\",事業所!D11)","v":""},{"$f":"IF(事業所!E11=\"\",\"\",事業所!E11)","v":""},{"$f":"IF(事業所!F11=\"\",\"\",事業所!F11)","v":""},{"$f":"IF(事業所!G11=\"\",\"\",事業所!G11)","v":""},{"$f":"IF(事業所!H11=\"\",\"\",事業所!H11)","v":""},null,"負荷量最大日","ＣＯＤ",{"$f":"IF(COUNT($V10:$V40)=0,\"\",IF(OFFSET(T10,MATCH(MAX($V10:$V40),$V10:$V40,0)-1,0)=\"\",\"\",OFFSET(T10,MATCH(MAX($V10:$V40),$V10:$V40,0)-1,0)))","v":""},"","","","","",""]
[null,"所属・ＴＥＬ",null,{"$f":"IF(事業所!D12=\"\",\"\",事業所!D12)","v":""},{"$f":"IF(事業所!E12=\"\",\"\",事業所!E12)","v":""},{"$f":"IF(事業所!F12=\"\",\"\",事業所!F12)","v":""},{"$f":"IF(事業所!G12=\"\",\"\",事業所!G12)","v":""},{"$f":"IF(事業所!H12=\"\",\"\",事業所!H12)","v":""},null,null,"窒素",{"$f":"IF(COUNT($X10:$X40)=0,\"\",IF(OFFSET(T10,MATCH(MAX($X10:$X40),$X10:$X40,0)-1,0)=\"\",\"\",OFFSET(T10,MATCH(MAX($X10:$X40),$X10:$X40,0)-1,0)))","v":""},"","","","","",""]
[null,null,null,null,null,null,null,null,null,null,"りん",{"$f":"IF(COUNT($Z10:$Z40)=0,\"\",IF(OFFSET(T10,MATCH(MAX($Z10:$Z40),$Z10:$Z40,0)-1,0)=\"\",\"\",OFFSET(T10,MATCH(MAX($Z10:$Z40),$Z10:$Z40,0)-1,0)))","v":""},"","","","","",""]
[null,"８月分汚濁負荷量等測定結果",null,null,null,"稼働（排水）日数",null,null,"日","排水量最大日",null,{"$f":"IF(COUNT($T10:$T40)=0,\"\",IF(OFFSET(T10,MATCH(MAX($T10:$T40),$T10:$T40,0)-1,0)=\"\",\"\",OFFSET(T10,MATCH(MAX($T10:$T40),$T10:$T40,0)-1,0)))","v":""},"","","","","",""]
[null,null,null,null,null,null,null,null,null,"１日",null,null,null,{"$f":"IF(COUNT(L10,M10)<2,\"\",L10*M10*0.001)","v":""},null,{"$f":"IF(COUNT(L10,O10)<2,\"\",L10*O10*0.001)","v":""},null,{"$f":"IF(COUNT(L10,Q10)<2,\"\",L10*Q10*0.001)","v":""},{"$f":"IF(COUNT(N10)=1,1,\"\")","v":""},{"$f":"IF($S10=\"\",\"\",$S10*L10)","v":""},{"$f":"IF($S10=\"\",\"\",$S10*M10)","v":""},{"$f":"IF(N10=\"\",\"\",IF($S10=\"\",\"\",$S10*N10))","v":""},{"$f":"IF(O10=\"\",\"\",IF($S10=\"\",\"\",$S10*O10))","v":""},{"$f":"IF(P10=\"\",\"\",IF($S10=\"\",\"\",$S10*P10))","v":""},{"$f":"IF(Q10=\"\",\"\",IF($S10=\"\",\"\",$S10*Q10))","v":""},{"$f":"IF(R10=\"\",\"\",IF($S10=\"\",\"\",$S10*R10))","v":""}]
[null,"最終排水口における実測データ（当該月に未測定は報告不要）",null,null,null,null,null,null,null,"２日",null,null,null,"",null,"",null,"","","","","","","","",""]
[null,"実測水質","平均",null,"最小",null,"最大",null,null,"３日",null,null,null,"",null,"",null,"","","","","","","","",""]
[null,"ＢＯＤ(mg/L)",null,null,null,null,null,null,null,"４日",null,null,null,"",null,"",null,"","","","","","","","",""]
[null,"ＣＯＤ(mg/L)",null,null,null,null,null,null,null,"５日",null,null,null,"",null,"",null,"","","","","","","","",""]
[null,"窒素(mg/L)",null,null,null,null,null,null,null,"６日",null,null,null,"",null,"",null,"","","","","","","","",""]
[null,"りん(mg/L)",null,null,null,null,null,null,null,"７日",null,null,null,"",null,"",null,"","","","","","","","",""]
[null,null,null,null,null,null,null,null,null,"８日",null,null,null,"",null,"",null,"","","","","","","","",""]
[null,"非特定排出水（冷却水等）",null,null,null,null,null,null,null,"９日",null,null,null,"",null,"",null,"","","","","","","","",""]
[null,"実測水量(m3/日)",null,null,null,null,null,null,null,"１０日",null,null,null,"",null,"",null,"","","","","","","","",""]
[null,"実測水質(mg/L)","COD",null,"Ｔ－Ｎ",null,"Ｔ－Ｐ",null,null,"１１日",null,null,null,"",null,"",null,"","","","","","","","",""]
[null,null,null,null,null,null,null,null,null,"１２日",null,null,null,"",null,"",null,"","","","","","","","",""]
[null,null,null,null,null,null,null,null,null,"１３日",null,null,null,"",null,"",null,"","","","","","","","",""]
[null,null,null,null,null,null,null,null,null,"１４日",null,null,null,"",null,"",null,"","","","","","","","",""]
[null,null,null,null,null,null,null,null,null,"１５日",null,null,null,"",null,"",null,"","","","","","","","",""]
[null,null,null,null,null,null,null,null,null,"１６日",null,null,null,"",null,"",null,"","","","","","","","",""]
[null,null,null,null,null,null,null,null,null,"１７日",null,null,null,"",null,"",null,"","","","","","","","",""]
[null,null,null,null,null,null,null,null,null,"１８日",null,null,null,"",null,"",null,"","","","","","","","",""]
[null,null,null,null,null,null,null,null,null,"１９日",null,null,null,"",null,"",null,"","","","","","","","",""]
[null,null,null,null,null,null,null,null,null,"２０日",null,null,null,"",null,"",null,"","","","","","","","",""]
[null,null,null,null,null,null,null,null,null,"２１日",null,null,null,"",null,"",null,"","","","","","","","",""]
[null,null,null,null,null,null,null,null,null,"２２日",null,null,null,"",null,"",null,"","","","","","","","",""]
[null,null,null,null,null,null,null,null,null,"２３日",null,null,null,"",null,"",null,"","","","","","","","",""]
[null,null,null,null,null,null,null,null,null,"２４日",null,null,null,"",null,"",null,"","","","","","","","",""]
[null,null,null,null,null,null,null,null,null,"２５日",null,null,null,"",null,"",null,"","","","","","","","",""]
[null,null,null,null,null,null,null,null,null,"２６日",null,null,null,"",null,"",null,"","","","","","","","",""]
[null,null,null,null,null,null,null,null,null,"２７日",null,null,null,"",null,"",null,"","","","","","","","",""]
[null,null,null,null,null,null,null,null,null,"２８日",null,null,null,"",null,"",null,"","","","","","","","",""]
[null,null,null,null,null,null,null,null,null,"２９日",null,null,null,"",null,"",null,"","","","","","","","",""]
[null,null,null,null,null,null,null,null,null,"３０日",null,null,null,"",null,"",null,"","","","","","","","",""]
[null,null,null,null,null,null,null,null,null,"３１日",null,null,null,"",null,"",null,"","","","","","","","",""]

{"sheet":"９月分","index":7,"n_rows":39,"n_cols":26,"rows_kept":39,"cut":false,"hidden":false,"merged":[[0,1,0,4],[24,9,24,10],[25,9,25,10],[18,2,18,3],[18,4,18,7],[17,9,17,10],[18,9,18,10],[19,9,19,10],[12,2,12,3],[12,4,12,5],[12,6,12,7],[8,9,8,10],[13,2,13,3],[22,9,22,10],[23,9,23,10],[26,9,26,10],[37,9,37,10],[38,9,38,10],[28,9,28,10],[29,9,29,10],[30,9,30,10],[31,9,31,10],[32,9,32,10],[39,9,39,10],[33,9,33,10],[34,9,34,10],[35,9,35,10],[36,9,36,10],[27,9,27,10],[20,9,20,10],[13,9,13,10],[12,9,12,10],[14,2,14,3],[14,4,14,5],[14,6,14,7],[14,9,14,10],[16,9,16,10],[15,2,15,3],[15,4,15,5],[15,6,15,7],[15,9,15,10],[13,4,13,5],[13,6,13,7],[21,9,21,10],[1,5,1,7],[2,2,2,7],[4,9,4,10],[3,2,3,7],[5,9,7,9],[5,1,5,2],[5,3,5,7],[6,1,6,2],[6,3,6,7],[9,9,9,10],[8,1,8,4],[8,5,8,6],[10,9,10,10],[11,9,11,10],[11,2,11,3],[11,4,11,5],[11,6,11,7],[1,17,3,17],[1,9,3,10],[1,11,3,11],[1,12,3,12],[1,13,3,13],[1,14,3,14],[1,15,3,15],[1,16,3,16]]}
[null,null,null,null,null,null,null,null,null,"汚濁負荷量測定結果報告記入用紙"]
[null,"市町村",{"$f":"IF(事業所!C7=\"\",\"\",事業所!C7)","v":""},"事業所",{"$f":"IF(事業所!E7=\"\",\"\",事業所!E7)","v":""},null,null,null,null,null,null,"特定排水量\n(m3/日)","ＣＯＤ水質\n(mg/L)","ＣＯＤ\n汚濁負荷量\n(kg/日)","窒素水質\n(mg/L)","窒素\n汚濁負荷量\n(kg/日)","りん水質\n(mg/L)","りん\n汚濁負荷量\n(kg/日)"]
[null,"住所",{"$f":"IF(事業所!C8=\"\",\"\",事業所!C8)","v":""},{"$f":"IF(事業所!D8=\"\",\"\",事業所!D8)","v":""},{"$f":"IF(事業所!E8=\"\",\"\",事業所!E8)","v":""},{"$f":"IF(事業所!F8=\"\",\"\",事業所!F8)","v":""},{"$f":"IF(事業所!G8=\"\",\"\",事業所!G8)","v":""},{"$f":"IF(事業所!H8=\"\",\"\",事業所!H8)","v":""}]
[null,"名称",{"$f":"IF(事業所!C9=\"\",\"\",事業所!C9)","v":""},{"$f":"IF(事業所!D9=\"\",\"\",事業所!D9)","v":""},{"$f":"IF(事業所!E9=\"\",\"\",事業所!E9)","v":""},{"$f":"IF(事業所!F9=\"\",\"\",事業所!F9)","v":""},{"$f":"IF(事業所!G9=\"\",\"\",事業所!G9)","v":""},{"$f":"IF(事業所!H9=\"\",\"\",事業所!H9)","v":""}]
[null,null,null,null,null,null,null,null,null,"月平均",null,{"$f":"IF(COUNT(L10:L40)=0,\"\",AVERAGE(L10:L40))","v":""},{"$f":"IF(COUNT($L$5,N5)<2,\"\",N5/$L$5*1000)","v":""},{"$f":"IF(COUNT(N10:N40)=0,\"\",AVERAGE(N10:N40))","v":""},{"$f":"IF(COUNT($L$5,P5)<2,\"\",P5/$L$5*1000)","v":""},{"$f":"IF(COUNT(P10:P40)=0,\"\",AVERAGE(P10:P40))","v":""},{"$f":"IF(COUNT($L$5,R5)<2,\"\",R5/$L$5*1000)","v":""},{"$f":"IF(COUNT(R10:R40)=0,\"\",AVERAGE(R10:R40))","v":""}]
[null,"報告書作成担当者",null,{"$f":"IF(事業所!D11=\"\",\"\",事業所!D11)","v":""},{"$f":"IF(事業所!E11=\"\",\"\",事業所!E11)","v":""},{"$f":"IF(事業所!F11=\"\",\"\",事業所!F11)","v":""},{"$f":"IF(事業所!G11=\"\",\"\",事業所!G11)","v":""},{"$f":"IF(事業所!H11=\"\",\"\",事業所!H11)","v":""},null,"負荷量最大日","ＣＯＤ",{"$f":"IF(COUNT($V10:$V40)=0,\"\",IF(OFFSET(T10,MATCH(MAX($V10:$V40),$V10:$V40,0)-1,0)=\"\",\"\",OFFSET(T10,MATCH(MAX($V10:$V40),$V10:$V40,0)-1,0)))","v":""},"","","","","",""]
[null,"所属・ＴＥＬ",null,{"$f":"IF(事業所!D12=\"\",\"\",事業所!D12)","v":""},{"$f":"IF(事業所!E12=\"\",\"\",事業所!E12)","v":""},{"$f":"IF(事業所!F12=\"\",\"\",事業所!F12)","v":""},{"$f":"IF(事業所!G12=\"\",\"\",事業所!G12)","v":""},{"$f":"IF(事業所!H12=\"\",\"\",事業所!H12)","v":""},null,null,"窒素",{"$f":"IF(COUNT($X10:$X40)=0,\"\",IF(OFFSET(T10,MATCH(MAX($X10:$X40),$X10:$X40,0)-1,0)=\"\",\"\",OFFSET(T10,MATCH(MAX($X10:$X40),$X10:$X40,0)-1,0)))","v":""},"","","","","",""]
[null,null,null,null,null,null,null,null,null,null,"りん",{"$f":"IF(COUNT($Z10:$Z40)=0,\"\",IF(OFFSET(T10,MATCH(MAX($Z10:$Z40),$Z10:$Z40,0)-1,0)=\"\",\"\",OFFSET(T10,MATCH(MAX($Z10:$Z40),$Z10:$Z40,0)-1,0)))","v":""},"","","","","",""]
[null,"９月分汚濁負荷量等測定結果",null,null,null,"稼働（排水）日数",null,null,"日","排水量最大日",null,{"$f":"IF(COUNT($T10:$T40)=0,\"\",IF(OFFSET(T10,MATCH(MAX($T10:$T40),$T10:$T40,0)-1,0)=\"\",\"\",OFFSET(T10,MATCH(MAX($T10:$T40),$T10:$T40,0)-1,0)))","v":""},"","","","","",""]
[null,null,null,null,null,null,null,null,null,"１日",null,null,null,{"$f":"IF(COUNT(L10,M10)<2,\"\",L10*M10*0.001)","v":""},null,{"$f":"IF(COUNT(L10,O10)<2,\"\",L10*O10*0.001)","v":""},null,{"$f":"IF(COUNT(L10,Q10)<2,\"\",L10*Q10*0.001)","v":""},{"$f":"IF(COUNT(N10)=1,1,\"\")","v":""},{"$f":"IF($S10=\"\",\"\",$S10*L10)","v":""},{"$f":"IF($S10=\"\",\"\",$S10*M10)","v":""},{"$f":"IF(N10=\"\",\"\",IF($S10=\"\",\"\",$S10*N10))","v":""},{"$f":"IF(O10=\"\",\"\",IF($S10=\"\",\"\",$S10*O10))","v":""},{"$f":"IF(P10=\"\",\"\",IF($S10=\"\",\"\",$S10*P10))","v":""},{"$f":"IF(Q10=\"\",\"\",IF($S10=\"\",\"\",$S10*Q10))","v":""},{"$f":"IF(R10=\"\",\"\",IF($S10=\"\",\"\",$S10*R10))","v":""}]
[null,"最終排水口における実測データ（当該月に未測定は報告不要）",null,null,null,null,null,null,null,"２日",null,null,null,"",null,"",null,"","","","","","","","",""]
[null,"実測水質","平均",null,"最小",null,"最大",null,null,"３日",null,null,null,"",null,"",null,"","","","","","","","",""]
[null,"ＢＯＤ(mg/L)",null,null,null,null,null,null,null,"４日",null,null,null,"",null,"",null,"","","","","","","","",""]
[null,"ＣＯＤ(mg/L)",null,null,null,null,null,null,null,"５日",null,null,null,"",null,"",null,"","","","","","","","",""]
[null,"窒素(mg/L)",null,null,null,null,null,null,null,"６日",null,null,null,"",null,"",null,"","","","","","","","",""]
[null,"りん(mg/L)",null,null,null,null,null,null,null,"７日",null,null,null,"",null,"",null,"","","","","","","","",""]
[null,null,null,null,null,null,null,null,null,"８日",null,null,null,"",null,"",null,"","","","","","","","",""]
[null,"非特定排出水（冷却水等）",null,null,null,null,null,null,null,"９日",null,null,null,"",null,"",null,"","","","","","","","",""]
[null,"実測水量(m3/日)",null,null,null,null,null,null,null,"１０日",null,null,null,"",null,"",null,"","","","","","","","",""]
[null,"実測水質(mg/L)","COD",null,"Ｔ－Ｎ",null,"Ｔ－Ｐ",null,null,"１１日",null,null,null,"",null,"",null,"","","","","","","","",""]
[null,null,null,null,null,null,null,null,null,"１２日",null,null,null,"",null,"",null,"","","","","","","","",""]
[null,null,null,null,null,null,null,null,null,"１３日",null,null,null,"",null,"",null,"","","","","","","","",""]
[null,null,null,null,null,null,null,null,null,"１４日",null,null,null,"",null,"",null,"","","","","","","","",""]
[null,null,null,null,null,null,null,null,null,"１５日",null,null,null,"",null,"",null,"","","","","","","","",""]
[null,null,null,null,null,null,null,null,null,"１６日",null,null,null,"",null,"",null,"","","","","","","","",""]
[null,null,null,null,null,null,null,null,null,"１７日",null,null,null,"",null,"",null,"","","","","","","","",""]
[null,null,null,null,null,null,null,null,null,"１８日",null,null,null,"",null,"",null,"","","","","","","","",""]
[null,null,null,null,null,null,null,null,null,"１９日",null,null,null,"",null,"",null,"","","","","","","","",""]
[null,null,null,null,null,null,null,null,null,"２０日",null,null,null,"",null,"",null,"","","","","","","","",""]
[null,null,null,null,null,null,null,null,null,"２１日",null,null,null,"",null,"",null,"","","","","","","","",""]
[null,null,null,null,null,null,null,null,null,"２２日",null,null,null,"",null,"",null,"","","","","","","","",""]
[null,null,null,null,null,null,null,null,null,"２３日",null,null,null,"",null,"",null,"","","","","","","","",""]
[null,null,null,null,null,null,null,null,null,"２４日",null,null,null,"",null,"",null,"","","","","","","","",""]
[null,null,null,null,null,null,null,null,null,"２５日",null,null,null,"",null,"",null,"","","","","","","","",""]
[null,null,null,null,null,null,null,null,null,"２６日",null,null,null,"",null,"",null,"","","","","","","","",""]
[null,null,null,null,null,null,null,null,null,"２７日",null,null,null,"",null,"",null,"","","","","","","","",""]
[null,null,null,null,null,null,null,null,null,"２８日",null,null,null,"",null,"",null,"","","","","","","","",""]
[null,null,null,null,null,null,null,null,null,"２９日",null,null,null,"",null,"",null,"","","","","","","","",""]
[null,null,null,null,null,null,null,null,null,"３０日",null,null,null,"",null,"",null,"","","","","","","","",""]

{"sheet":"１０月分","index":8,"n_rows":40,"n_cols":26,"rows_kept":40,"cut":false,"hidden":false,"merged":[[0,1,0,4],[1,5,1,7],[1,9,3,10],[1,11,3,11],[1,12,3,12],[2,2,2,7],[3,2,3,7],[1,13,3,13],[1,14,3,14],[1,15,3,15],[1,16,3,16],[1,17,3,17],[4,9,4,10],[5,1,5,2],[5,3,5,7],[5,9,7,9],[6,1,6,2],[6,3,6,7],[8,1,8,4],[8,5,8,6],[8,9,8,10],[9,9,9,10],[10,9,10,10],[11,2,11,3],[11,4,11,5],[11,6,11,7],[11,9,11,10],[12,2,12,3],[12,4,12,5],[12,6,12,7],[12,9,12,10],[13,2,13,3],[13,4,13,5],[13,6,13,7],[13,9,13,10],[14,2,14,3],[14,4,14,5],[14,6,14,7],[14,9,14,10],[15,2,15,3],[15,4,15,5],[15,6,15,7],[15,9,15,10],[16,9,16,10],[17,9,17,10],[18,2,18,3],[18,4,18,7],[18,9,18,10],[19,9,19,10],[20,9,20,10],[21,9,21,10],[22,9,22,10],[23,9,23,10],[24,9,24,10],[25,9,25,10],[26,9,26,10],[27,9,27,10],[28,9,28,10],[29,9,29,10],[30,9,30,10],[31,9,31,10],[38,9,38,10],[39,9,39,10],[32,9,32,10],[33,9,33,10],[34,9,34,10],[35,9,35,10],[36,9,36,10],[37,9,37,10]]}
[null,null,null,null,null,null,null,null,null,"汚濁負荷量測定結果報告記入用紙"]
[null,"市町村",{"$f":"IF(事業所!C7=\"\",\"\",事業所!C7)","v":""},"事業所",{"$f":"IF(事業所!E7=\"\",\"\",事業所!E7)","v":""},null,null,null,null,null,null,"特定排水量\n(m3/日)","ＣＯＤ水質\n(mg/L)","ＣＯＤ\n汚濁負荷量\n(kg/日)","窒素水質\n(mg/L)","窒素\n汚濁負荷量\n(kg/日)","りん水質\n(mg/L)","りん\n汚濁負荷量\n(kg/日)"]
[null,"住所",{"$f":"IF(事業所!C8=\"\",\"\",事業所!C8)","v":""},{"$f":"IF(事業所!D8=\"\",\"\",事業所!D8)","v":""},{"$f":"IF(事業所!E8=\"\",\"\",事業所!E8)","v":""},{"$f":"IF(事業所!F8=\"\",\"\",事業所!F8)","v":""},{"$f":"IF(事業所!G8=\"\",\"\",事業所!G8)","v":""},{"$f":"IF(事業所!H8=\"\",\"\",事業所!H8)","v":""}]
[null,"名称",{"$f":"IF(事業所!C9=\"\",\"\",事業所!C9)","v":""},{"$f":"IF(事業所!D9=\"\",\"\",事業所!D9)","v":""},{"$f":"IF(事業所!E9=\"\",\"\",事業所!E9)","v":""},{"$f":"IF(事業所!F9=\"\",\"\",事業所!F9)","v":""},{"$f":"IF(事業所!G9=\"\",\"\",事業所!G9)","v":""},{"$f":"IF(事業所!H9=\"\",\"\",事業所!H9)","v":""}]
[null,null,null,null,null,null,null,null,null,"月平均",null,{"$f":"IF(COUNT(L10:L40)=0,\"\",AVERAGE(L10:L40))","v":""},{"$f":"IF(COUNT($L$5,N5)<2,\"\",N5/$L$5*1000)","v":""},{"$f":"IF(COUNT(N10:N40)=0,\"\",AVERAGE(N10:N40))","v":""},{"$f":"IF(COUNT($L$5,P5)<2,\"\",P5/$L$5*1000)","v":""},{"$f":"IF(COUNT(P10:P40)=0,\"\",AVERAGE(P10:P40))","v":""},{"$f":"IF(COUNT($L$5,R5)<2,\"\",R5/$L$5*1000)","v":""},{"$f":"IF(COUNT(R10:R40)=0,\"\",AVERAGE(R10:R40))","v":""}]
[null,"報告書作成担当者",null,{"$f":"IF(事業所!D11=\"\",\"\",事業所!D11)","v":""},{"$f":"IF(事業所!E11=\"\",\"\",事業所!E11)","v":""},{"$f":"IF(事業所!F11=\"\",\"\",事業所!F11)","v":""},{"$f":"IF(事業所!G11=\"\",\"\",事業所!G11)","v":""},{"$f":"IF(事業所!H11=\"\",\"\",事業所!H11)","v":""},null,"負荷量最大日","ＣＯＤ",{"$f":"IF(COUNT($V10:$V40)=0,\"\",IF(OFFSET(T10,MATCH(MAX($V10:$V40),$V10:$V40,0)-1,0)=\"\",\"\",OFFSET(T10,MATCH(MAX($V10:$V40),$V10:$V40,0)-1,0)))","v":""},"","","","","",""]
[null,"所属・ＴＥＬ",null,{"$f":"IF(事業所!D12=\"\",\"\",事業所!D12)","v":""},{"$f":"IF(事業所!E12=\"\",\"\",事業所!E12)","v":""},{"$f":"IF(事業所!F12=\"\",\"\",事業所!F12)","v":""},{"$f":"IF(事業所!G12=\"\",\"\",事業所!G12)","v":""},{"$f":"IF(事業所!H12=\"\",\"\",事業所!H12)","v":""},null,null,"窒素",{"$f":"IF(COUNT($X10:$X40)=0,\"\",IF(OFFSET(T10,MATCH(MAX($X10:$X40),$X10:$X40,0)-1,0)=\"\",\"\",OFFSET(T10,MATCH(MAX($X10:$X40),$X10:$X40,0)-1,0)))","v":""},"","","","","",""]
[null,null,null,null,null,null,null,null,null,null,"りん",{"$f":"IF(COUNT($Z10:$Z40)=0,\"\",IF(OFFSET(T10,MATCH(MAX($Z10:$Z40),$Z10:$Z40,0)-1,0)=\"\",\"\",OFFSET(T10,MATCH(MAX($Z10:$Z40),$Z10:$Z40,0)-1,0)))","v":""},"","","","","",""]
[null,"１０月分汚濁負荷量等測定結果",null,null,null,"稼働（排水）日数",null,null,"日","排水量最大日",null,{"$f":"IF(COUNT($T10:$T40)=0,\"\",IF(OFFSET(T10,MATCH(MAX($T10:$T40),$T10:$T40,0)-1,0)=\"\",\"\",OFFSET(T10,MATCH(MAX($T10:$T40),$T10:$T40,0)-1,0)))","v":""},"","","","","",""]
[null,null,null,null,null,null,null,null,null,"１日",null,null,null,{"$f":"IF(COUNT(L10,M10)<2,\"\",L10*M10*0.001)","v":""},null,{"$f":"IF(COUNT(L10,O10)<2,\"\",L10*O10*0.001)","v":""},null,{"$f":"IF(COUNT(L10,Q10)<2,\"\",L10*Q10*0.001)","v":""},{"$f":"IF(COUNT(N10)=1,1,\"\")","v":""},{"$f":"IF($S10=\"\",\"\",$S10*L10)","v":""},"",{"$f":"IF(N10=\"\",\"\",IF($S10=\"\",\"\",$S10*N10))","v":""},"","","",""]
[null,"最終排水口における実測データ（当該月に未測定は報告不要）",null,null,null,null,null,null,null,"２日",null,null,null,"",null,"",null,"","","","","","","","",""]
[null,"実測水質","平均",null,"最小",null,"最大",null,null,"３日",null,null,null,"",null,"",null,"","","","","","","","",""]
[null,"ＢＯＤ(mg/L)",null,null,null,null,null,null,null,"４日",null,null,null,"",null,"",null,"","","","","","","","",""]
[null,"ＣＯＤ(mg/L)",null,null,null,null,null,null,null,"５日",null,null,null,"",null,"",null,"","","","","","","","",""]
[null,"窒素(mg/L)",null,null,null,null,null,null,null,"６日",null,null,null,"",null,"",null,"","","","","","","","",""]
[null,"りん(mg/L)",null,null,null,null,null,null,null,"７日",null,null,null,"",null,"",null,"","","","","","","","",""]
[null,null,null,null,null,null,null,null,null,"８日",null,null,null,"",null,"",null,"","","","","","","","",""]
[null,"非特定排出水（冷却水等）",null,null,null,null,null,null,null,"９日",null,null,null,"",null,"",null,"","","","","","","","",""]
[null,"実測水量(m3/日)",null,null,null,null,null,null,null,"１０日",null,null,null,"",null,"",null,"","","","","","","","",""]
[null,"実測水質(mg/L)","COD",null,"Ｔ－Ｎ",null,"Ｔ－Ｐ",null,null,"１１日",null,null,null,"",null,"",null,"","","","","","","","",""]
[null,null,null,null,null,null,null,null,null,"１２日",null,null,null,"",null,"",null,"","","","","","","","",""]
[null,null,null,null,null,null,null,null,null,"１３日",null,null,null,"",null,"",null,"","","","","","","","",""]
[null,null,null,null,null,null,null,null,null,"１４日",null,null,null,"",null,"",null,"","","","","","","","",""]
[null,null,null,null,null,null,null,null,null,"１５日",null,null,null,"",null,"",null,"","","","","","","","",""]
[null,null,null,null,null,null,null,null,null,"１６日",null,null,null,"",null,"",null,"","","","","","","","",""]
[null,null,null,null,null,null,null,null,null,"１７日",null,null,null,"",null,"",null,"","","","","","","","",""]
[null,null,null,null,null,null,null,null,null,"１８日",null,null,null,"",null,"",null,"","","","","","","","",""]
[null,null,null,null,null,null,null,null,null,"１９日",null,null,null,"",null,"",null,"","","","","","","","",""]
[null,null,null,null,null,null,null,null,null,"２０日",null,null,null,"",null,"",null,"","","","","","","","",""]
[null,null,null,null,null,null,null,null,null,"２１日",null,null,null,"",null,"",null,"","","","","","","","",""]
[null,null,null,null,null,null,null,null,null,"２２日",null,null,null,"",null,"",null,"","","","","","","","",""]
[null,null,null,null,null,null,null,null,null,"２３日",null,null,null,"",null,"",null,"","","","","","","","",""]
[null,null,null,null,null,null,null,null,null,"２４日",null,null,null,"",null,"",null,"","","","","","","","",""]
[null,null,null,null,null,null,null,null,null,"２５日",null,null,null,"",null,"",null,"","","","","","","","",""]
[null,null,null,null,null,null,null,null,null,"２６日",null,null,null,"",null,"",null,"","","","","","","","",""]
[null,null,null,null,null,null,null,null,null,"２７日",null,null,null,"",null,"",null,"","","","","","","","",""]
[null,null,null,null,null,null,null,null,null,"２８日",null,null,null,"",null,"",null,"","","","","","","","",""]
[null,null,null,null,null,null,null,null,null,"２９日",null,null,null,"",null,"",null,"","","","","","","","",""]
[null,null,null,null,null,null,null,null,null,"３０日",null,null,null,"",null,"",null,"","","","","","","","",""]
[null,null,null,null,null,null,null,null,null,"３１日",null,null,null,"",null,"",null,"","","","","","","","",""]

{"sheet":"１１月分","index":9,"n_rows":40,"n_cols":26,"rows_kept":40,"cut":false,"hidden":false,"merged":[[0,1,0,4],[1,5,1,7],[1,9,3,10],[1,11,3,11],[1,12,3,12],[2,2,2,7],[3,2,3,7],[1,13,3,13],[1,14,3,14],[1,15,3,15],[1,16,3,16],[1,17,3,17],[4,9,4,10],[5,1,5,2],[5,3,5,7],[5,9,7,9],[6,1,6,2],[6,3,6,7],[8,1,8,4],[8,5,8,6],[8,9,8,10],[9,9,9,10],[10,9,10,10],[11,2,11,3],[11,4,11,5],[11,6,11,7],[11,9,11,10],[12,2,12,3],[12,4,12,5],[12,6,12,7],[12,9,12,10],[13,2,13,3],[13,4,13,5],[13,6,13,7],[13,9,13,10],[14,2,14,3],[14,4,14,5],[14,6,14,7],[14,9,14,10],[15,2,15,3],[15,4,15,5],[15,6,15,7],[15,9,15,10],[16,9,16,10],[17,9,17,10],[18,2,18,3],[18,4,18,7],[18,9,18,10],[19,9,19,10],[20,9,20,10],[21,9,21,10],[22,9,22,10],[23,9,23,10],[24,9,24,10],[25,9,25,10],[26,9,26,10],[27,9,27,10],[28,9,28,10],[29,9,29,10],[30,9,30,10],[31,9,31,10],[38,9,38,10],[39,9,39,10],[32,9,32,10],[33,9,33,10],[34,9,34,10],[35,9,35,10],[36,9,36,10],[37,9,37,10]]}
[null,null,null,null,null,null,null,null,null,"汚濁負荷量測定結果報告記入用紙"]
[null,"市町村",{"$f":"IF(事業所!C7=\"\",\"\",事業所!C7)","v":""},"事業所",{"$f":"IF(事業所!E7=\"\",\"\",事業所!E7)","v":""},null,null,null,null,null,null,"特定排水量\n(m3/日)","ＣＯＤ水質\n(mg/L)","ＣＯＤ\n汚濁負荷量\n(kg/日)","窒素水質\n(mg/L)","窒素\n汚濁負荷量\n(kg/日)","りん水質\n(mg/L)","りん\n汚濁負荷量\n(kg/日)"]
[null,"住所",{"$f":"IF(事業所!C8=\"\",\"\",事業所!C8)","v":""},{"$f":"IF(事業所!D8=\"\",\"\",事業所!D8)","v":""},{"$f":"IF(事業所!E8=\"\",\"\",事業所!E8)","v":""},{"$f":"IF(事業所!F8=\"\",\"\",事業所!F8)","v":""},{"$f":"IF(事業所!G8=\"\",\"\",事業所!G8)","v":""},{"$f":"IF(事業所!H8=\"\",\"\",事業所!H8)","v":""}]
[null,"名称",{"$f":"IF(事業所!C9=\"\",\"\",事業所!C9)","v":""},{"$f":"IF(事業所!D9=\"\",\"\",事業所!D9)","v":""},{"$f":"IF(事業所!E9=\"\",\"\",事業所!E9)","v":""},{"$f":"IF(事業所!F9=\"\",\"\",事業所!F9)","v":""},{"$f":"IF(事業所!G9=\"\",\"\",事業所!G9)","v":""},{"$f":"IF(事業所!H9=\"\",\"\",事業所!H9)","v":""}]
[null,null,null,null,null,null,null,null,null,"月平均",null,{"$f":"IF(COUNT(L10:L40)=0,\"\",AVERAGE(L10:L40))","v":""},{"$f":"IF(COUNT($L$5,N5)<2,\"\",N5/$L$5*1000)","v":""},{"$f":"IF(COUNT(N10:N40)=0,\"\",AVERAGE(N10:N40))","v":""},{"$f":"IF(COUNT($L$5,P5)<2,\"\",P5/$L$5*1000)","v":""},{"$f":"IF(COUNT(P10:P40)=0,\"\",AVERAGE(P10:P40))","v":""},{"$f":"IF(COUNT($L$5,R5)<2,\"\",R5/$L$5*1000)","v":""},{"$f":"IF(COUNT(R10:R40)=0,\"\",AVERAGE(R10:R40))","v":""}]
[null,"報告書作成担当者",null,{"$f":"IF(事業所!D11=\"\",\"\",事業所!D11)","v":""},{"$f":"IF(事業所!E11=\"\",\"\",事業所!E11)","v":""},{"$f":"IF(事業所!F11=\"\",\"\",事業所!F11)","v":""},{"$f":"IF(事業所!G11=\"\",\"\",事業所!G11)","v":""},{"$f":"IF(事業所!H11=\"\",\"\",事業所!H11)","v":""},null,"負荷量最大日","ＣＯＤ",{"$f":"IF(COUNT($V10:$V40)=0,\"\",IF(OFFSET(T10,MATCH(MAX($V10:$V40),$V10:$V40,0)-1,0)=\"\",\"\",OFFSET(T10,MATCH(MAX($V10:$V40),$V10:$V40,0)-1,0)))","v":""},"","","","","",""]
[null,"所属・ＴＥＬ",null,{"$f":"IF(事業所!D12=\"\",\"\",事業所!D12)","v":""},{"$f":"IF(事業所!E12=\"\",\"\",事業所!E12)","v":""},{"$f":"IF(事業所!F12=\"\",\"\",事業所!F12)","v":""},{"$f":"IF(事業所!G12=\"\",\"\",事業所!G12)","v":""},{"$f":"IF(事業所!H12=\"\",\"\",事業所!H12)","v":""},null,null,"窒素",{"$f":"IF(COUNT($X10:$X40)=0,\"\",IF(OFFSET(T10,MATCH(MAX($X10:$X40),$X10:$X40,0)-1,0)=\"\",\"\",OFFSET(T10,MATCH(MAX($X10:$X40),$X10:$X40,0)-1,0)))","v":""},"","","","","",""]
[null,null,null,null,null,null,null,null,null,null,"りん",{"$f":"IF(COUNT($Z10:$Z40)=0,\"\",IF(OFFSET(T10,MATCH(MAX($Z10:$Z40),$Z10:$Z40,0)-1,0)=\"\",\"\",OFFSET(T10,MATCH(MAX($Z10:$Z40),$Z10:$Z40,0)-1,0)))","v":""},"","","","","",""]
[null,"１１月分汚濁負荷量等測定結果",null,null,null,"稼働（排水）日数",null,null,"日","排水量最大日",null,{"$f":"IF(COUNT($T10:$T40)=0,\"\",IF(OFFSET(T10,MATCH(MAX($T10:$T40),$T10:$T40,0)-1,0)=\"\",\"\",OFFSET(T10,MATCH(MAX($T10:$T40),$T10:$T40,0)-1,0)))","v":""},"","","","","",""]
[null,null,null,null,null,null,null,null,null,"１日",null,null,null,{"$f":"IF(COUNT(L10,M10)<2,\"\",L10*M10*0.001)","v":""},null,{"$f":"IF(COUNT(L10,O10)<2,\"\",L10*O10*0.001)","v":""},null,{"$f":"IF(COUNT(L10,Q10)<2,\"\",L10*Q10*0.001)","v":""},{"$f":"IF(COUNT(N10)=1,1,\"\")","v":""},{"$f":"IF($S10=\"\",\"\",$S10*L10)","v":""},"",{"$f":"IF(N10=\"\",\"\",IF($S10=\"\",\"\",$S10*N10))","v":""},"","","",""]
[null,"最終排水口における実測データ（当該月に未測定は報告不要）",null,null,null,null,null,null,null,"２日",null,null,null,"",null,"",null,"","","","","","","","",""]
[null,"実測水質","平均",null,"最小",null,"最大",null,null,"３日",null,null,null,"",null,"",null,"","","","","","","","",""]
[null,"ＢＯＤ(mg/L)",null,null,null,null,null,null,null,"４日",null,null,null,"",null,"",null,"","","","","","","","",""]
[null,"ＣＯＤ(mg/L)",null,null,null,null,null,null,null,"５日",null,null,null,"",null,"",null,"","","","","","","","",""]
[null,"窒素(mg/L)",null,null,null,null,null,null,null,"６日",null,null,null,"",null,"",null,"","","","","","","","",""]
[null,"りん(mg/L)",null,null,null,null,null,null,null,"７日",null,null,null,"",null,"",null,"","","","","","","","",""]
[null,null,null,null,null,null,null,null,null,"８日",null,null,null,"",null,"",null,"","","","","","","","",""]
[null,"非特定排出水（冷却水等）",null,null,null,null,null,null,null,"９日",null,null,null,"",null,"",null,"","","","","","","","",""]
[null,"実測水量(m3/日)",null,null,null,null,null,null,null,"１０日",null,null,null,"",null,"",null,"","","","","","","","",""]
[null,"実測水質(mg/L)","COD",null,"Ｔ－Ｎ",null,"Ｔ－Ｐ",null,null,"１１日",null,null,null,"",null,"",null,"","","","","","","","",""]
[null,null,null,null,null,null,null,null,null,"１２日",null,null,null,"",null,"",null,"","","","","","","","",""]
[null,null,null,null,null,null,null,null,null,"１３日",null,null,null,"",null,"",null,"","","","","","","","",""]
[null,null,null,null,null,null,null,null,null,"１４日",null,null,null,"",null,"",null,"","","","","","","","",""]
[null,null,null,null,null,null,null,null,null,"１５日",null,null,null,"",null,"",null,"","","","","","","","",""]
[null,null,null,null,null,null,null,null,null,"１６日",null,null,null,"",null,"",null,"","","","","","","","",""]
[null,null,null,null,null,null,null,null,null,"１７日",null,null,null,"",null,"",null,"","","","","","","","",""]
[null,null,null,null,null,null,null,null,null,"１８日",null,null,null,"",null,"",null,"","","","","","","","",""]
[null,null,null,null,null,null,null,null,null,"１９日",null,null,null,"",null,"",null,"","","","","","","","",""]
[null,null,null,null,null,null,null,null,null,"２０日",null,null,null,"",null,"",null,"","","","","","","","",""]
[null,null,null,null,null,null,null,null,null,"２１日",null,null,null,"",null,"",null,"","","","","","","","",""]
[null,null,null,null,null,null,null,null,null,"２２日",null,null,null,"",null,"",null,"","","","","","","","",""]
[null,null,null,null,null,null,null,null,null,"２３日",null,null,null,"",null,"",null,"","","","","","","","",""]
[null,null,null,null,null,null,null,null,null,"２４日",null,null,null,"",null,"",null,"","","","","","","","",""]
[null,null,null,null,null,null,null,null,null,"２５日",null,null,null,"",null,"",null,"","","","","","","","",""]
[null,null,null,null,null,null,null,null,null,"２６日",null,null,null,"",null,"",null,"","","","","","","","",""]
[null,null,null,null,null,null,null,null,null,"２７日",null,null,null,"",null,"",null,"","","","","","","","",""]
[null,null,null,null,null,null,null,null,null,"２８日",null,null,null,"",null,"",null,"","","","","","","","",""]
[null,null,null,null,null,null,null,null,null,"２９日",null,null,null,"",null,"",null,"","","","","","","","",""]
[null,null,null,null,null,null,null,null,null,"３０日",null,null,null,"",null,"",null,"","","","","","","","",""]
[null,null,null,null,null,null,null,null,null,null,null,null,null,"",null,"",null,"","","","","","","","",""]

{"sheet":"１２月分","index":10,"n_rows":40,"n_cols":26,"rows_kept":40,"cut":false,"hidden":false,"merged":[[0,1,0,4],[1,5,1,7],[1,9,3,10],[1,11,3,11],[1,12,3,12],[2,2,2,7],[3,2,3,7],[1,13,3,13],[1,14,3,14],[1,15,3,15],[1,16,3,16],[1,17,3,17],[4,9,4,10],[5,1,5,2],[5,3,5,7],[5,9,7,9],[6,1,6,2],[6,3,6,7],[8,1,8,4],[8,5,8,6],[8,9,8,10],[9,9,9,10],[10,9,10,10],[11,2,11,3],[11,4,11,5],[11,6,11,7],[11,9,11,10],[12,2,12,3],[12,4,12,5],[12,6,12,7],[12,9,12,10],[13,2,13,3],[13,4,13,5],[13,6,13,7],[13,9,13,10],[14,2,14,3],[14,4,14,5],[14,6,14,7],[14,9,14,10],[15,2,15,3],[15,4,15,5],[15,6,15,7],[15,9,15,10],[16,9,16,10],[17,9,17,10],[18,2,18,3],[18,4,18,7],[18,9,18,10],[19,9,19,10],[20,9,20,10],[21,9,21,10],[22,9,22,10],[23,9,23,10],[24,9,24,10],[25,9,25,10],[26,9,26,10],[27,9,27,10],[28,9,28,10],[29,9,29,10],[30,9,30,10],[31,9,31,10],[38,9,38,10],[39,9,39,10],[32,9,32,10],[33,9,33,10],[34,9,34,10],[35,9,35,10],[36,9,36,10],[37,9,37,10]]}
[null,null,null,null,null,null,null,null,null,"汚濁負荷量測定結果報告記入用紙"]
[null,"市町村",{"$f":"IF(事業所!C7=\"\",\"\",事業所!C7)","v":""},"事業所",{"$f":"IF(事業所!E7=\"\",\"\",事業所!E7)","v":""},null,null,null,null,null,null,"特定排水量\n(m3/日)","ＣＯＤ水質\n(mg/L)","ＣＯＤ\n汚濁負荷量\n(kg/日)","窒素水質\n(mg/L)","窒素\n汚濁負荷量\n(kg/日)","りん水質\n(mg/L)","りん\n汚濁負荷量\n(kg/日)"]
[null,"住所",{"$f":"IF(事業所!C8=\"\",\"\",事業所!C8)","v":""},{"$f":"IF(事業所!D8=\"\",\"\",事業所!D8)","v":""},{"$f":"IF(事業所!E8=\"\",\"\",事業所!E8)","v":""},{"$f":"IF(事業所!F8=\"\",\"\",事業所!F8)","v":""},{"$f":"IF(事業所!G8=\"\",\"\",事業所!G8)","v":""},{"$f":"IF(事業所!H8=\"\",\"\",事業所!H8)","v":""}]
[null,"名称",{"$f":"IF(事業所!C9=\"\",\"\",事業所!C9)","v":""},{"$f":"IF(事業所!D9=\"\",\"\",事業所!D9)","v":""},{"$f":"IF(事業所!E9=\"\",\"\",事業所!E9)","v":""},{"$f":"IF(事業所!F9=\"\",\"\",事業所!F9)","v":""},{"$f":"IF(事業所!G9=\"\",\"\",事業所!G9)","v":""},{"$f":"IF(事業所!H9=\"\",\"\",事業所!H9)","v":""}]
[null,null,null,null,null,null,null,null,null,"月平均",null,{"$f":"IF(COUNT(L10:L40)=0,\"\",AVERAGE(L10:L40))","v":""},{"$f":"IF(COUNT($L$5,N5)<2,\"\",N5/$L$5*1000)","v":""},{"$f":"IF(COUNT(N10:N40)=0,\"\",AVERAGE(N10:N40))","v":""},{"$f":"IF(COUNT($L$5,P5)<2,\"\",P5/$L$5*1000)","v":""},{"$f":"IF(COUNT(P10:P40)=0,\"\",AVERAGE(P10:P40))","v":""},{"$f":"IF(COUNT($L$5,R5)<2,\"\",R5/$L$5*1000)","v":""},{"$f":"IF(COUNT(R10:R40)=0,\"\",AVERAGE(R10:R40))","v":""}]
[null,"報告書作成担当者",null,{"$f":"IF(事業所!D11=\"\",\"\",事業所!D11)","v":""},{"$f":"IF(事業所!E11=\"\",\"\",事業所!E11)","v":""},{"$f":"IF(事業所!F11=\"\",\"\",事業所!F11)","v":""},{"$f":"IF(事業所!G11=\"\",\"\",事業所!G11)","v":""},{"$f":"IF(事業所!H11=\"\",\"\",事業所!H11)","v":""},null,"負荷量最大日","ＣＯＤ",{"$f":"IF(COUNT($V10:$V40)=0,\"\",IF(OFFSET(T10,MATCH(MAX($V10:$V40),$V10:$V40,0)-1,0)=\"\",\"\",OFFSET(T10,MATCH(MAX($V10:$V40),$V10:$V40,0)-1,0)))","v":""},"","","","","",""]
[null,"所属・ＴＥＬ",null,{"$f":"IF(事業所!D12=\"\",\"\",事業所!D12)","v":""},{"$f":"IF(事業所!E12=\"\",\"\",事業所!E12)","v":""},{"$f":"IF(事業所!F12=\"\",\"\",事業所!F12)","v":""},{"$f":"IF(事業所!G12=\"\",\"\",事業所!G12)","v":""},{"$f":"IF(事業所!H12=\"\",\"\",事業所!H12)","v":""},null,null,"窒素",{"$f":"IF(COUNT($X10:$X40)=0,\"\",IF(OFFSET(T10,MATCH(MAX($X10:$X40),$X10:$X40,0)-1,0)=\"\",\"\",OFFSET(T10,MATCH(MAX($X10:$X40),$X10:$X40,0)-1,0)))","v":""},"","","","","",""]
[null,null,null,null,null,null,null,null,null,null,"りん",{"$f":"IF(COUNT($Z10:$Z40)=0,\"\",IF(OFFSET(T10,MATCH(MAX($Z10:$Z40),$Z10:$Z40,0)-1,0)=\"\",\"\",OFFSET(T10,MATCH(MAX($Z10:$Z40),$Z10:$Z40,0)-1,0)))","v":""},"","","","","",""]
[null,"１２月分汚濁負荷量等測定結果",null,null,null,"稼働（排水）日数",null,null,"日","排水量最大日",null,{"$f":"IF(COUNT($T10:$T40)=0,\"\",IF(OFFSET(T10,MATCH(MAX($T10:$T40),$T10:$T40,0)-1,0)=\"\",\"\",OFFSET(T10,MATCH(MAX($T10:$T40),$T10:$T40,0)-1,0)))","v":""},"","","","","",""]
[null,null,null,null,null,null,null,null,null,"１日",null,null,null,{"$f":"IF(COUNT(L10,M10)<2,\"\",L10*M10*0.001)","v":""},null,{"$f":"IF(COUNT(L10,O10)<2,\"\",L10*O10*0.001)","v":""},null,{"$f":"IF(COUNT(L10,Q10)<2,\"\",L10*Q10*0.001)","v":""},{"$f":"IF(COUNT(N10)=1,1,\"\")","v":""},{"$f":"IF($S10=\"\",\"\",$S10*L10)","v":""},"",{"$f":"IF(N10=\"\",\"\",IF($S10=\"\",\"\",$S10*N10))","v":""},"","","",""]
[null,"最終排水口における実測データ（当該月に未測定は報告不要）",null,null,null,null,null,null,null,"２日",null,null,null,"",null,"",null,"","","","","","","","",""]
[null,"実測水質","平均",null,"最小",null,"最大",null,null,"３日",null,null,null,"",null,"",null,"","","","","","","","",""]
[null,"ＢＯＤ(mg/L)",null,null,null,null,null,null,null,"４日",null,null,null,"",null,"",null,"","","","","","","","",""]
[null,"ＣＯＤ(mg/L)",null,null,null,null,null,null,null,"５日",null,null,null,"",null,"",null,"","","","","","","","",""]
[null,"窒素(mg/L)",null,null,null,null,null,null,null,"６日",null,null,null,"",null,"",null,"","","","","","","","",""]
[null,"りん(mg/L)",null,null,null,null,null,null,null,"７日",null,null,null,"",null,"",null,"","","","","","","","",""]
[null,null,null,null,null,null,null,null,null,"８日",null,null,null,"",null,"",null,"","","","","","","","",""]
[null,"非特定排出水（冷却水等）",null,null,null,null,null,null,null,"９日",null,null,null,"",null,"",null,"","","","","","","","",""]
[null,"実測水量(m3/日)",null,null,null,null,null,null,null,"１０日",null,null,null,"",null,"",null,"","","","","","","","",""]
[null,"実測水質(mg/L)","COD",null,"Ｔ－Ｎ",null,"Ｔ－Ｐ",null,null,"１１日",null,null,null,"",null,"",null,"","","","","","","","",""]
[null,null,null,null,null,null,null,null,null,"１２日",null,null,null,"",null,"",null,"","","","","","","","",""]
[null,null,null,null,null,null,null,null,null,"１３日",null,null,null,"",null,"",null,"","","","","","","","",""]
[null,null,null,null,null,null,null,null,null,"１４日",null,null,null,"",null,"",null,"","","","","","","","",""]
[null,null,null,null,null,null,null,null,null,"１５日",null,null,null,"",null,"",null,"","","","","","","","",""]
[null,null,null,null,null,null,null,null,null,"１６日",null,null,null,"",null,"",null,"","","","","","","","",""]
[null,null,null,null,null,null,null,null,null,"１７日",null,null,null,"",null,"",null,"","","","","","","","",""]
[null,null,null,null,null,null,null,null,null,"１８日",null,null,null,"",null,"",null,"","","","","","","","",""]
[null,null,null,null,null,null,null,null,null,"１９日",null,null,null,"",null,"",null,"","","","","","","","",""]
[null,null,null,null,null,null,null,null,null,"２０日",null,null,null,"",null,"",null,"","","","","","","","",""]
[null,null,null,null,null,null,null,null,null,"２１日",null,null,null,"",null,"",null,"","","","","","","","",""]
[null,null,null,null,null,null,null,null,null,"２２日",null,null,null,"",null,"",null,"","","","","","","","",""]
[null,null,null,null,null,null,null,null,null,"２３日",null,null,null,"",null,"",null,"","","","","","","","",""]
[null,null,null,null,null,null,null,null,null,"２４日",null,null,null,"",null,"",null,"","","","","","","","",""]
[null,null,null,null,null,null,null,null,null,"２５日",null,null,null,"",null,"",null,"","","","","","","","",""]
[null,null,null,null,null,null,null,null,null,"２６日",null,null,null,"",null,"",null,"","","","","","","","",""]
[null,null,null,null,null,null,null,null,null,"２７日",null,null,null,"",null,"",null,"","","","","","","","",""]
[null,null,null,null,null,null,null,null,null,"２８日",null,null,null,"",null,"",null,"","","","","","","","",""]
[null,null,null,null,null,null,null,null,null,"２９日",null,null,null,"",null,"",null,"","","","","","","","",""]
[null,null,null,null,null,null,null,null,null,"３０日",null,null,null,"",null,"",null,"","","","","","","","",""]
[null,null,null,null,null,null,null,null,null,"３１日",null,null,null,"",null,"",null,"","","","","","","","",""]

{"sheet":"１月分","index":11,"n_rows":40,"n_cols":26,"rows_kept":40,"cut":false,"hidden":false,"merged":[[0,1,0,4],[1,5,1,7],[1,9,3,10],[1,11,3,11],[1,12,3,12],[2,2,2,7],[3,2,3,7],[1,13,3,13],[1,14,3,14],[1,15,3,15],[1,16,3,16],[1,17,3,17],[4,9,4,10],[5,1,5,2],[5,3,5,7],[5,9,7,9],[6,1,6,2],[6,3,6,7],[8,1,8,4],[8,5,8,6],[8,9,8,10],[9,9,9,10],[10,9,10,10],[11,2,11,3],[11,4,11,5],[11,6,11,7],[11,9,11,10],[12,2,12,3],[12,4,12,5],[12,6,12,7],[12,9,12,10],[13,2,13,3],[13,4,13,5],[13,6,13,7],[13,9,13,10],[14,2,14,3],[14,4,14,5],[14,6,14,7],[14,9,14,10],[15,2,15,3],[15,4,15,5],[15,6,15,7],[15,9,15,10],[16,9,16,10],[17,9,17,10],[18,2,18,3],[18,4,18,7],[18,9,18,10],[19,9,19,10],[20,9,20,10],[21,9,21,10],[22,9,22,10],[23,9,23,10],[24,9,24,10],[25,9,25,10],[26,9,26,10],[27,9,27,10],[28,9,28,10],[29,9,29,10],[30,9,30,10],[31,9,31,10],[38,9,38,10],[39,9,39,10],[32,9,32,10],[33,9,33,10],[34,9,34,10],[35,9,35,10],[36,9,36,10],[37,9,37,10]]}
[null,null,null,null,null,null,null,null,null,"汚濁負荷量測定結果報告記入用紙"]
[null,"市町村",{"$f":"IF(事業所!C7=\"\",\"\",事業所!C7)","v":""},"事業所",{"$f":"IF(事業所!E7=\"\",\"\",事業所!E7)","v":""},null,null,null,null,null,null,"特定排水量\n(m3/日)","ＣＯＤ水質\n(mg/L)","ＣＯＤ\n汚濁負荷量\n(kg/日)","窒素水質\n(mg/L)","窒素\n汚濁負荷量\n(kg/日)","りん水質\n(mg/L)","りん\n汚濁負荷量\n(kg/日)"]
[null,"住所",{"$f":"IF(事業所!C8=\"\",\"\",事業所!C8)","v":""},{"$f":"IF(事業所!D8=\"\",\"\",事業所!D8)","v":""},{"$f":"IF(事業所!E8=\"\",\"\",事業所!E8)","v":""},{"$f":"IF(事業所!F8=\"\",\"\",事業所!F8)","v":""},{"$f":"IF(事業所!G8=\"\",\"\",事業所!G8)","v":""},{"$f":"IF(事業所!H8=\"\",\"\",事業所!H8)","v":""}]
[null,"名称",{"$f":"IF(事業所!C9=\"\",\"\",事業所!C9)","v":""},{"$f":"IF(事業所!D9=\"\",\"\",事業所!D9)","v":""},{"$f":"IF(事業所!E9=\"\",\"\",事業所!E9)","v":""},{"$f":"IF(事業所!F9=\"\",\"\",事業所!F9)","v":""},{"$f":"IF(事業所!G9=\"\",\"\",事業所!G9)","v":""},{"$f":"IF(事業所!H9=\"\",\"\",事業所!H9)","v":""}]
[null,null,null,null,null,null,null,null,null,"月平均",null,{"$f":"IF(COUNT(L10:L40)=0,\"\",AVERAGE(L10:L40))","v":""},{"$f":"IF(COUNT($L$5,N5)<2,\"\",N5/$L$5*1000)","v":""},{"$f":"IF(COUNT(N10:N40)=0,\"\",AVERAGE(N10:N40))","v":""},{"$f":"IF(COUNT($L$5,P5)<2,\"\",P5/$L$5*1000)","v":""},{"$f":"IF(COUNT(P10:P40)=0,\"\",AVERAGE(P10:P40))","v":""},{"$f":"IF(COUNT($L$5,R5)<2,\"\",R5/$L$5*1000)","v":""},{"$f":"IF(COUNT(R10:R40)=0,\"\",AVERAGE(R10:R40))","v":""}]
[null,"報告書作成担当者",null,{"$f":"IF(事業所!D11=\"\",\"\",事業所!D11)","v":""},{"$f":"IF(事業所!E11=\"\",\"\",事業所!E11)","v":""},{"$f":"IF(事業所!F11=\"\",\"\",事業所!F11)","v":""},{"$f":"IF(事業所!G11=\"\",\"\",事業所!G11)","v":""},{"$f":"IF(事業所!H11=\"\",\"\",事業所!H11)","v":""},null,"負荷量最大日","ＣＯＤ",{"$f":"IF(COUNT($V10:$V40)=0,\"\",IF(OFFSET(T10,MATCH(MAX($V10:$V40),$V10:$V40,0)-1,0)=\"\",\"\",OFFSET(T10,MATCH(MAX($V10:$V40),$V10:$V40,0)-1,0)))","v":""},"","","","","",""]
[null,"所属・ＴＥＬ",null,{"$f":"IF(事業所!D12=\"\",\"\",事業所!D12)","v":""},{"$f":"IF(事業所!E12=\"\",\"\",事業所!E12)","v":""},{"$f":"IF(事業所!F12=\"\",\"\",事業所!F12)","v":""},{"$f":"IF(事業所!G12=\"\",\"\",事業所!G12)","v":""},{"$f":"IF(事業所!H12=\"\",\"\",事業所!H12)","v":""},null,null,"窒素",{"$f":"IF(COUNT($X10:$X40)=0,\"\",IF(OFFSET(T10,MATCH(MAX($X10:$X40),$X10:$X40,0)-1,0)=\"\",\"\",OFFSET(T10,MATCH(MAX($X10:$X40),$X10:$X40,0)-1,0)))","v":""},"","","","","",""]
[null,null,null,null,null,null,null,null,null,null,"りん",{"$f":"IF(COUNT($Z10:$Z40)=0,\"\",IF(OFFSET(T10,MATCH(MAX($Z10:$Z40),$Z10:$Z40,0)-1,0)=\"\",\"\",OFFSET(T10,MATCH(MAX($Z10:$Z40),$Z10:$Z40,0)-1,0)))","v":""},"","","","","",""]
[null,"１月分汚濁負荷量等測定結果",null,null,null,"稼働（排水）日数",null,null,"日","排水量最大日",null,{"$f":"IF(COUNT($T10:$T40)=0,\"\",IF(OFFSET(T10,MATCH(MAX($T10:$T40),$T10:$T40,0)-1,0)=\"\",\"\",OFFSET(T10,MATCH(MAX($T10:$T40),$T10:$T40,0)-1,0)))","v":""},"","","","","",""]
[null,null,null,null,null,null,null,null,null,"１日",null,null,null,{"$f":"IF(COUNT(L10,M10)<2,\"\",L10*M10*0.001)","v":""},null,{"$f":"IF(COUNT(L10,O10)<2,\"\",L10*O10*0.001)","v":""},null,{"$f":"IF(COUNT(L10,Q10)<2,\"\",L10*Q10*0.001)","v":""},{"$f":"IF(COUNT(N10)=1,1,\"\")","v":""},{"$f":"IF($S10=\"\",\"\",$S10*L10)","v":""},"",{"$f":"IF(N10=\"\",\"\",IF($S10=\"\",\"\",$S10*N10))","v":""},"","","",""]
[null,"最終排水口における実測データ（当該月に未測定は報告不要）",null,null,null,null,null,null,null,"２日",null,null,null,"",null,"",null,"","","","","","","","",""]
[null,"実測水質","平均",null,"最小",null,"最大",null,null,"３日",null,null,null,"",null,"",null,"","","","","","","","",""]
[null,"ＢＯＤ(mg/L)",null,null,null,null,null,null,null,"４日",null,null,null,"",null,"",null,"","","","","","","","",""]
[null,"ＣＯＤ(mg/L)",null,null,null,null,null,null,null,"５日",null,null,null,"",null,"",null,"","","","","","","","",""]
[null,"窒素(mg/L)",null,null,null,null,null,null,null,"６日",null,null,null,"",null,"",null,"","","","","","","","",""]
[null,"りん(mg/L)",null,null,null,null,null,null,null,"７日",null,null,null,"",null,"",null,"","","","","","","","",""]
[null,null,null,null,null,null,null,null,null,"８日",null,null,null,"",null,"",null,"","","","","","","","",""]
[null,"非特定排出水（冷却水等）",null,null,null,null,null,null,null,"９日",null,null,null,"",null,"",null,"","","","","","","","",""]
[null,"実測水量(m3/日)",null,null,null,null,null,null,null,"１０日",null,null,null,"",null,"",null,"","","","","","","","",""]
[null,"実測水質(mg/L)","COD",null,"Ｔ－Ｎ",null,"Ｔ－Ｐ",null,null,"１１日",null,null,null,"",null,"",null,"","","","","","","","",""]
[null,null,null,null,null,null,null,null,null,"１２日",null,null,null,"",null,"",null,"","","","","","","","",""]
[null,null,null,null,null,null,null,null,null,"１３日",null,null,null,"",null,"",null,"","","","","","","","",""]
[null,null,null,null,null,null,null,null,null,"１４日",null,null,null,"",null,"",null,"","","","","","","","",""]
[null,null,null,null,null,null,null,null,null,"１５日",null,null,null,"",null,"",null,"","","","","","","","",""]
[null,null,null,null,null,null,null,null,null,"１６日",null,null,null,"",null,"",null,"","","","","","","","",""]
[null,null,null,null,null,null,null,null,null,"１７日",null,null,null,"",null,"",null,"","","","","","","","",""]
[null,null,null,null,null,null,null,null,null,"１８日",null,null,null,"",null,"",null,"","","","","","","","",""]
[null,null,null,null,null,null,null,null,null,"１９日",null,null,null,"",null,"",null,"","","","","","","","",""]
[null,null,null,null,null,null,null,null,null,"２０日",null,null,null,"",null,"",null,"","","","","","","","",""]
[null,null,null,null,null,null,null,null,null,"２１日",null,null,null,"",null,"",null,"","","","","","","","",""]
[null,null,null,null,null,null,null,null,null,"２２日",null,null,null,"",null,"",null,"","","","","","","","",""]
[null,null,null,null,null,null,null,null,null,"２３日",null,null,null,"",null,"",null,"","","","","","","","",""]
[null,null,null,null,null,null,null,null,null,"２４日",null,null,null,"",null,"",null,"","","","","","","","",""]
[null,null,null,null,null,null,null,null,null,"２５日",null,null,null,"",null,"",null,"","","","","","","","",""]
[null,null,null,null,null,null,null,null,null,"２６日",null,null,null,"",null,"",null,"","","","","","","","",""]
[null,null,null,null,null,null,null,null,null,"２７日",null,null,null,"",null,"",null,"","","","","","","","",""]
[null,null,null,null,null,null,null,null,null,"２８日",null,null,null,"",null,"",null,"","","","","","","","",""]
[null,null,null,null,null,null,null,null,null,"２９日",null,null,null,"",null,"",null,"","","","","","","","",""]
[null,null,null,null,null,null,null,null,null,"３０日",null,null,null,"",null,"",null,"","","","","","","","",""]
[null,null,null,null,null,null,null,null,null,"３１日",null,null,null,"",null,"",null,"","","","","","","","",""]

{"sheet":"２月分","index":12,"n_rows":40,"n_cols":26,"rows_kept":40,"cut":false,"hidden":false,"merged":[[0,1,0,4],[1,5,1,7],[1,9,3,10],[1,11,3,11],[1,12,3,12],[2,2,2,7],[3,2,3,7],[1,13,3,13],[1,14,3,14],[1,15,3,15],[1,16,3,16],[1,17,3,17],[4,9,4,10],[5,1,5,2],[5,3,5,7],[5,9,7,9],[6,1,6,2],[6,3,6,7],[8,1,8,4],[8,5,8,6],[8,9,8,10],[9,9,9,10],[10,9,10,10],[11,2,11,3],[11,4,11,5],[11,6,11,7],[11,9,11,10],[12,2,12,3],[12,4,12,5],[12,6,12,7],[12,9,12,10],[13,2,13,3],[13,4,13,5],[13,6,13,7],[13,9,13,10],[14,2,14,3],[14,4,14,5],[14,6,14,7],[14,9,14,10],[15,2,15,3],[15,4,15,5],[15,6,15,7],[15,9,15,10],[16,9,16,10],[17,9,17,10],[18,2,18,3],[18,4,18,7],[18,9,18,10],[19,9,19,10],[20,9,20,10],[21,9,21,10],[22,9,22,10],[23,9,23,10],[24,9,24,10],[25,9,25,10],[26,9,26,10],[27,9,27,10],[28,9,28,10],[29,9,29,10],[30,9,30,10],[31,9,31,10],[38,9,38,10],[39,9,39,10],[32,9,32,10],[33,9,33,10],[34,9,34,10],[35,9,35,10],[36,9,36,10],[37,9,37,10]]}
[null,null,null,null,null,null,null,null,null,"汚濁負荷量測定結果報告記入用紙"]
[null,"市町村",{"$f":"IF(事業所!C7=\"\",\"\",事業所!C7)","v":""},"事業所",{"$f":"IF(事業所!E7=\"\",\"\",事業所!E7)","v":""},null,null,null,null,null,null,"特定排水量\n(m3/日)","ＣＯＤ水質\n(mg/L)","ＣＯＤ\n汚濁負荷量\n(kg/日)","窒素水質\n(mg/L)","窒素\n汚濁負荷量\n(kg/日)","りん水質\n(mg/L)","りん\n汚濁負荷量\n(kg/日)"]
[null,"住所",{"$f":"IF(事業所!C8=\"\",\"\",事業所!C8)","v":""},{"$f":"IF(事業所!D8=\"\",\"\",事業所!D8)","v":""},{"$f":"IF(事業所!E8=\"\",\"\",事業所!E8)","v":""},{"$f":"IF(事業所!F8=\"\",\"\",事業所!F8)","v":""},{"$f":"IF(事業所!G8=\"\",\"\",事業所!G8)","v":""},{"$f":"IF(事業所!H8=\"\",\"\",事業所!H8)","v":""}]
[null,"名称",{"$f":"IF(事業所!C9=\"\",\"\",事業所!C9)","v":""},{"$f":"IF(事業所!D9=\"\",\"\",事業所!D9)","v":""},{"$f":"IF(事業所!E9=\"\",\"\",事業所!E9)","v":""},{"$f":"IF(事業所!F9=\"\",\"\",事業所!F9)","v":""},{"$f":"IF(事業所!G9=\"\",\"\",事業所!G9)","v":""},{"$f":"IF(事業所!H9=\"\",\"\",事業所!H9)","v":""}]
[null,null,null,null,null,null,null,null,null,"月平均",null,{"$f":"IF(COUNT(L10:L40)=0,\"\",AVERAGE(L10:L40))","v":""},{"$f":"IF(COUNT($L$5,N5)<2,\"\",N5/$L$5*1000)","v":""},{"$f":"IF(COUNT(N10:N40)=0,\"\",AVERAGE(N10:N40))","v":""},{"$f":"IF(COUNT($L$5,P5)<2,\"\",P5/$L$5*1000)","v":""},{"$f":"IF(COUNT(P10:P40)=0,\"\",AVERAGE(P10:P40))","v":""},{"$f":"IF(COUNT($L$5,R5)<2,\"\",R5/$L$5*1000)","v":""},{"$f":"IF(COUNT(R10:R40)=0,\"\",AVERAGE(R10:R40))","v":""}]
[null,"報告書作成担当者",null,{"$f":"IF(事業所!D11=\"\",\"\",事業所!D11)","v":""},{"$f":"IF(事業所!E11=\"\",\"\",事業所!E11)","v":""},{"$f":"IF(事業所!F11=\"\",\"\",事業所!F11)","v":""},{"$f":"IF(事業所!G11=\"\",\"\",事業所!G11)","v":""},{"$f":"IF(事業所!H11=\"\",\"\",事業所!H11)","v":""},null,"負荷量最大日","ＣＯＤ",{"$f":"IF(COUNT($V10:$V40)=0,\"\",IF(OFFSET(T10,MATCH(MAX($V10:$V40),$V10:$V40,0)-1,0)=\"\",\"\",OFFSET(T10,MATCH(MAX($V10:$V40),$V10:$V40,0)-1,0)))","v":""},"","","","","",""]
[null,"所属・ＴＥＬ",null,{"$f":"IF(事業所!D12=\"\",\"\",事業所!D12)","v":""},{"$f":"IF(事業所!E12=\"\",\"\",事業所!E12)","v":""},{"$f":"IF(事業所!F12=\"\",\"\",事業所!F12)","v":""},{"$f":"IF(事業所!G12=\"\",\"\",事業所!G12)","v":""},{"$f":"IF(事業所!H12=\"\",\"\",事業所!H12)","v":""},null,null,"窒素",{"$f":"IF(COUNT($X10:$X40)=0,\"\",IF(OFFSET(T10,MATCH(MAX($X10:$X40),$X10:$X40,0)-1,0)=\"\",\"\",OFFSET(T10,MATCH(MAX($X10:$X40),$X10:$X40,0)-1,0)))","v":""},"","","","","",""]
[null,null,null,null,null,null,null,null,null,null,"りん",{"$f":"IF(COUNT($Z10:$Z40)=0,\"\",IF(OFFSET(T10,MATCH(MAX($Z10:$Z40),$Z10:$Z40,0)-1,0)=\"\",\"\",OFFSET(T10,MATCH(MAX($Z10:$Z40),$Z10:$Z40,0)-1,0)))","v":""},"","","","","",""]
[null,"２月分汚濁負荷量等測定結果",null,null,null,"稼働（排水）日数",null,null,"日","排水量最大日",null,{"$f":"IF(COUNT($T10:$T40)=0,\"\",IF(OFFSET(T10,MATCH(MAX($T10:$T40),$T10:$T40,0)-1,0)=\"\",\"\",OFFSET(T10,MATCH(MAX($T10:$T40),$T10:$T40,0)-1,0)))","v":""},"","","","","",""]
[null,null,null,null,null,null,null,null,null,"１日",null,null,null,{"$f":"IF(COUNT(L10,M10)<2,\"\",L10*M10*0.001)","v":""},null,{"$f":"IF(COUNT(L10,O10)<2,\"\",L10*O10*0.001)","v":""},null,{"$f":"IF(COUNT(L10,Q10)<2,\"\",L10*Q10*0.001)","v":""},{"$f":"IF(COUNT(N10)=1,1,\"\")","v":""},{"$f":"IF($S10=\"\",\"\",$S10*L10)","v":""},"",{"$f":"IF(N10=\"\",\"\",IF($S10=\"\",\"\",$S10*N10))","v":""},"","","",""]
[null,"最終排水口における実測データ（当該月に未測定は報告不要）",null,null,null,null,null,null,null,"２日",null,null,null,"",null,"",null,"","","","","","","","",""]
[null,"実測水質","平均",null,"最小",null,"最大",null,null,"３日",null,null,null,"",null,"",null,"","","","","","","","",""]
[null,"ＢＯＤ(mg/L)",null,null,null,null,null,null,null,"４日",null,null,null,"",null,"",null,"","","","","","","","",""]
[null,"ＣＯＤ(mg/L)",null,null,null,null,null,null,null,"５日",null,null,null,"",null,"",null,"","","","","","","","",""]
[null,"窒素(mg/L)",null,null,null,null,null,null,null,"６日",null,null,null,"",null,"",null,"","","","","","","","",""]
[null,"りん(mg/L)",null,null,null,null,null,null,null,"７日",null,null,null,"",null,"",null,"","","","","","","","",""]
[null,null,null,null,null,null,null,null,null,"８日",null,null,null,"",null,"",null,"","","","","","","","",""]
[null,"非特定排出水（冷却水等）",null,null,null,null,null,null,null,"９日",null,null,null,"",null,"",null,"","","","","","","","",""]
[null,"実測水量(m3/日)",null,null,null,null,null,null,null,"１０日",null,null,null,"",null,"",null,"","","","","","","","",""]
[null,"実測水質(mg/L)","COD",null,"Ｔ－Ｎ",null,"Ｔ－Ｐ",null,null,"１１日",null,null,null,"",null,"",null,"","","","","","","","",""]
[null,null,null,null,null,null,null,null,null,"１２日",null,null,null,"",null,"",null,"","","","","","","","",""]
[null,null,null,null,null,null,null,null,null,"１３日",null,null,null,"",null,"",null,"","","","","","","","",""]
[null,null,null,null,null,null,null,null,null,"１４日",null,null,null,"",null,"",null,"","","","","","","","",""]
[null,null,null,null,null,null,null,null,null,"１５日",null,null,null,"",null,"",null,"","","","","","","","",""]
[null,null,null,null,null,null,null,null,null,"１６日",null,null,null,"",null,"",null,"","","","","","","","",""]
[null,null,null,null,null,null,null,null,null,"１７日",null,null,null,"",null,"",null,"","","","","","","","",""]
[null,null,null,null,null,null,null,null,null,"１８日",null,null,null,"",null,"",null,"","","","","","","","",""]
[null,null,null,null,null,null,null,null,null,"１９日",null,null,null,"",null,"",null,"","","","","","","","",""]
[null,null,null,null,null,null,null,null,null,"２０日",null,null,null,"",null,"",null,"","","","","","","","",""]
[null,null,null,null,null,null,null,null,null,"２１日",null,null,null,"",null,"",null,"","","","","","","","",""]
[null,null,null,null,null,null,null,null,null,"２２日",null,null,null,"",null,"",null,"","","","","","","","",""]
[null,null,null,null,null,null,null,null,null,"２３日",null,null,null,"",null,"",null,"","","","","","","","",""]
[null,null,null,null,null,null,null,null,null,"２４日",null,null,null,"",null,"",null,"","","","","","","","",""]
[null,null,null,null,null,null,null,null,null,"２５日",null,null,null,"",null,"",null,"","","","","","","","",""]
[null,null,null,null,null,null,null,null,null,"２６日",null,null,null,"",null,"",null,"","","","","","","","",""]
[null,null,null,null,null,null,null,null,null,"２７日",null,null,null,"",null,"",null,"","","","","","","","",""]
[null,null,null,null,null,null,null,null,null,"２８日",null,null,null,"",null,"",null,"","","","","","","","",""]
[null,null,null,null,null,null,null,null,null,null,null,null,null,"",null,"",null,"","","","","","","","",""]
[null,null,null,null,null,null,null,null,null,null,null,null,null,"",null,"",null,"","","","","","","","",""]
[null,null,null,null,null,null,null,null,null,null,null,null,null,"",null,"",null,"","","","","","","","",""]

{"sheet":"３月分","index":13,"n_rows":40,"n_cols":26,"rows_kept":40,"cut":false,"hidden":false,"merged":[[0,1,0,4],[1,5,1,7],[1,9,3,10],[1,11,3,11],[1,12,3,12],[2,2,2,7],[3,2,3,7],[1,13,3,13],[1,14,3,14],[1,15,3,15],[1,16,3,16],[1,17,3,17],[4,9,4,10],[5,1,5,2],[5,3,5,7],[5,9,7,9],[6,1,6,2],[6,3,6,7],[8,1,8,4],[8,5,8,6],[8,9,8,10],[9,9,9,10],[10,9,10,10],[11,2,11,3],[11,4,11,5],[11,6,11,7],[11,9,11,10],[12,2,12,3],[12,4,12,5],[12,6,12,7],[12,9,12,10],[13,2,13,3],[13,4,13,5],[13,6,13,7],[13,9,13,10],[14,2,14,3],[14,4,14,5],[14,6,14,7],[14,9,14,10],[15,2,15,3],[15,4,15,5],[15,6,15,7],[15,9,15,10],[16,9,16,10],[17,9,17,10],[18,2,18,3],[18,4,18,7],[18,9,18,10],[19,9,19,10],[20,9,20,10],[21,9,21,10],[22,9,22,10],[23,9,23,10],[24,9,24,10],[25,9,25,10],[26,9,26,10],[27,9,27,10],[28,9,28,10],[29,9,29,10],[30,9,30,10],[31,9,31,10],[38,9,38,10],[39,9,39,10],[32,9,32,10],[33,9,33,10],[34,9,34,10],[35,9,35,10],[36,9,36,10],[37,9,37,10]]}
[null,null,null,null,null,null,null,null,null,"汚濁負荷量測定結果報告記入用紙"]
[null,"市町村",{"$f":"IF(事業所!C7=\"\",\"\",事業所!C7)","v":""},"事業所",{"$f":"IF(事業所!E7=\"\",\"\",事業所!E7)","v":""},null,null,null,null,null,null,"特定排水量\n(m3/日)","ＣＯＤ水質\n(mg/L)","ＣＯＤ\n汚濁負荷量\n(kg/日)","窒素水質\n(mg/L)","窒素\n汚濁負荷量\n(kg/日)","りん水質\n(mg/L)","りん\n汚濁負荷量\n(kg/日)"]
[null,"住所",{"$f":"IF(事業所!C8=\"\",\"\",事業所!C8)","v":""},{"$f":"IF(事業所!D8=\"\",\"\",事業所!D8)","v":""},{"$f":"IF(事業所!E8=\"\",\"\",事業所!E8)","v":""},{"$f":"IF(事業所!F8=\"\",\"\",事業所!F8)","v":""},{"$f":"IF(事業所!G8=\"\",\"\",事業所!G8)","v":""},{"$f":"IF(事業所!H8=\"\",\"\",事業所!H8)","v":""}]
[null,"名称",{"$f":"IF(事業所!C9=\"\",\"\",事業所!C9)","v":""},{"$f":"IF(事業所!D9=\"\",\"\",事業所!D9)","v":""},{"$f":"IF(事業所!E9=\"\",\"\",事業所!E9)","v":""},{"$f":"IF(事業所!F9=\"\",\"\",事業所!F9)","v":""},{"$f":"IF(事業所!G9=\"\",\"\",事業所!G9)","v":""},{"$f":"IF(事業所!H9=\"\",\"\",事業所!H9)","v":""}]
[null,null,null,null,null,null,null,null,null,"月平均",null,{"$f":"IF(COUNT(L10:L40)=0,\"\",AVERAGE(L10:L40))","v":""},{"$f":"IF(COUNT($L$5,N5)<2,\"\",N5/$L$5*1000)","v":""},{"$f":"IF(COUNT(N10:N40)=0,\"\",AVERAGE(N10:N40))","v":""},{"$f":"IF(COUNT($L$5,P5)<2,\"\",P5/$L$5*1000)","v":""},{"$f":"IF(COUNT(P10:P40)=0,\"\",AVERAGE(P10:P40))","v":""},{"$f":"IF(COUNT($L$5,R5)<2,\"\",R5/$L$5*1000)","v":""},{"$f":"IF(COUNT(R10:R40)=0,\"\",AVERAGE(R10:R40))","v":""}]
[null,"報告書作成担当者",null,{"$f":"IF(事業所!D11=\"\",\"\",事業所!D11)","v":""},{"$f":"IF(事業所!E11=\"\",\"\",事業所!E11)","v":""},{"$f":"IF(事業所!F11=\"\",\"\",事業所!F11)","v":""},{"$f":"IF(事業所!G11=\"\",\"\",事業所!G11)","v":""},{"$f":"IF(事業所!H11=\"\",\"\",事業所!H11)","v":""},null,"負荷量最大日","ＣＯＤ",{"$f":"IF(COUNT($V10:$V40)=0,\"\",IF(OFFSET(T10,MATCH(MAX($V10:$V40),$V10:$V40,0)-1,0)=\"\",\"\",OFFSET(T10,MATCH(MAX($V10:$V40),$V10:$V40,0)-1,0)))","v":""},"","","","","",""]
[null,"所属・ＴＥＬ",null,{"$f":"IF(事業所!D12=\"\",\"\",事業所!D12)","v":""},{"$f":"IF(事業所!E12=\"\",\"\",事業所!E12)","v":""},{"$f":"IF(事業所!F12=\"\",\"\",事業所!F12)","v":""},{"$f":"IF(事業所!G12=\"\",\"\",事業所!G12)","v":""},{"$f":"IF(事業所!H12=\"\",\"\",事業所!H12)","v":""},null,null,"窒素",{"$f":"IF(COUNT($X10:$X40)=0,\"\",IF(OFFSET(T10,MATCH(MAX($X10:$X40),$X10:$X40,0)-1,0)=\"\",\"\",OFFSET(T10,MATCH(MAX($X10:$X40),$X10:$X40,0)-1,0)))","v":""},"","","","","",""]
[null,null,null,null,null,null,null,null,null,null,"りん",{"$f":"IF(COUNT($Z10:$Z40)=0,\"\",IF(OFFSET(T10,MATCH(MAX($Z10:$Z40),$Z10:$Z40,0)-1,0)=\"\",\"\",OFFSET(T10,MATCH(MAX($Z10:$Z40),$Z10:$Z40,0)-1,0)))","v":""},"","","","","",""]
[null,"３月分汚濁負荷量等測定結果",null,null,null,"稼働（排水）日数",null,null,"日","排水量最大日",null,{"$f":"IF(COUNT($T10:$T40)=0,\"\",IF(OFFSET(T10,MATCH(MAX($T10:$T40),$T10:$T40,0)-1,0)=\"\",\"\",OFFSET(T10,MATCH(MAX($T10:$T40),$T10:$T40,0)-1,0)))","v":""},"","","","","",""]
[null,null,null,null,null,null,null,null,null,"１日",null,null,null,{"$f":"IF(COUNT(L10,M10)<2,\"\",L10*M10*0.001)","v":""},null,{"$f":"IF(COUNT(L10,O10)<2,\"\",L10*O10*0.001)","v":""},null,{"$f":"IF(COUNT(L10,Q10)<2,\"\",L10*Q10*0.001)","v":""},{"$f":"IF(COUNT(N10)=1,1,\"\")","v":""},{"$f":"IF($S10=\"\",\"\",$S10*L10)","v":""},"",{"$f":"IF(N10=\"\",\"\",IF($S10=\"\",\"\",$S10*N10))","v":""},"","","",""]
[null,"最終排水口における実測データ（当該月に未測定は報告不要）",null,null,null,null,null,null,null,"２日",null,null,null,"",null,"",null,"","","","","","","","",""]
[null,"実測水質","平均",null,"最小",null,"最大",null,null,"３日",null,null,null,"",null,"",null,"","","","","","","","",""]
[null,"ＢＯＤ(mg/L)",null,null,null,null,null,null,null,"４日",null,null,null,"",null,"",null,"","","","","","","","",""]
[null,"ＣＯＤ(mg/L)",null,null,null,null,null,null,null,"５日",null,null,null,"",null,"",null,"","","","","","","","",""]
[null,"窒素(mg/L)",null,null,null,null,null,null,null,"６日",null,null,null,"",null,"",null,"","","","","","","","",""]
[null,"りん(mg/L)",null,null,null,null,null,null,null,"７日",null,null,null,"",null,"",null,"","","","","","","","",""]
[null,null,null,null,null,null,null,null,null,"８日",null,null,null,"",null,"",null,"","","","","","","","",""]
[null,"非特定排出水（冷却水等）",null,null,null,null,null,null,null,"９日",null,null,null,"",null,"",null,"","","","","","","","",""]
[null,"実測水量(m3/日)",null,null,null,null,null,null,null,"１０日",null,null,null,"",null,"",null,"","","","","","","","",""]
[null,"実測水質(mg/L)","COD",null,"Ｔ－Ｎ",null,"Ｔ－Ｐ",null,null,"１１日",null,null,null,"",null,"",null,"","","","","","","","",""]
[null,null,null,null,null,null,null,null,null,"１２日",null,null,null,"",null,"",null,"","","","","","","","",""]
[null,null,null,null,null,null,null,null,null,"１３日",null,null,null,"",null,"",null,"","","","","","","","",""]
[null,null,null,null,null,null,null,null,null,"１４日",null,null,null,"",null,"",null,"","","","","","","","",""]
[null,null,null,null,null,null,null,null,null,"１５日",null,null,null,"",null,"",null,"","","","","","","","",""]
[null,null,null,null,null,null,null,null,null,"１６日",null,null,null,"",null,"",null,"","","","","","","","",""]
[null,null,null,null,null,null,null,null,null,"１７日",null,null,null,"",null,"",null,"","","","","","","","",""]
[null,null,null,null,null,null,null,null,null,"１８日",null,null,null,"",null,"",null,"","","","","","","","",""]
[null,null,null,null,null,null,null,null,null,"１９日",null,null,null,"",null,"",null,"","","","","","","","",""]
[null,null,null,null,null,null,null,null,null,"２０日",null,null,null,"",null,"",null,"","","","","","","","",""]
[null,null,null,null,null,null,null,null,null,"２１日",null,null,null,"",null,"",null,"","","","","","","","",""]
[null,null,null,null,null,null,null,null,null,"２２日",null,null,null,"",null,"",null,"","","","","","","","",""]
[null,null,null,null,null,null,null,null,null,"２３日",null,null,null,"",null,"",null,"","","","","","","","",""]
[null,null,null,null,null,null,null,null,null,"２４日",null,null,null,"",null,"",null,"","","","","","","","",""]
[null,null,null,null,null,null,null,null,null,"２５日",null,null,null,"",null,"",null,"","","","","","","","",""]
[null,null,null,null,null,null,null,null,null,"２６日",null,null,null,"",null,"",null,"","","","","","","","",""]
[null,null,null,null,null,null,null,null,null,"２７日",null,null,null,"",null,"",null,"","","","","","","","",""]
[null,null,null,null,null,null,null,null,null,"２８日",null,null,null,"",null,"",null,"","","","","","","","",""]
[null,null,null,null,null,null,null,null,null,"２９日",null,null,null,"",null,"",null,"","","","","","","","",""]
[null,null,null,null,null,null,null,null,null,"３０日",null,null,null,"",null,"",null,"","","","","","","","",""]
[null,null,null,null,null,null,null,null,null,"３１日",null,null,null,"",null,"",null,"","","","","","","","",""]